{"text_format":"1","workbook":"xlsx","n_sheets":9,"sheets":["Instructions","Feuille de route","Profil","Transmission et conformité","Feuil3","Feuil1","Conformité_Moyenne","Schéma des eaux","Feuil2"],"not_rendered":{"charts":0,"images":1,"macros":1,"external_links":0,"defined_names":23,"comments":0,"pivot_tables":0},"unopened":[],"bounds":{"document_bytes":16777216,"sheet_cells":100000,"rows_first":2000,"rows_last":500,"rows_between":2000,"halvings":0,"cell_chars":16384,"cell_head_chars":4096},"cells_cut":0,"cells_raw":0,"read":"whole","date_system":"1900"}

{"sheet":"Instructions","index":0,"n_rows":40,"n_cols":2,"rows_kept":40,"cut":false,"hidden":false,"merged":[[0,1,0,4],[1,1,1,4],[2,1,2,4],[3,1,3,4],[9,1,9,4]]}
[]
[null,"Instructions pour une utilisation adéquate du fichier Excel"]
[]
[null,"Instructions générales"]
[null,"Une fois que le fichier a été transmis officiellement au responsable de l'entreprise (ci-après, \"l'exploitant\"), l'exploitant doit utiliser ce fichier pour transmettre ses données de suivi."]
[null,"Les données doivent être compilées pour chaque mois dans le même fichier Excel, et celui-ci doit être transmis au responsable contrôle du MDDELCC à la fréquence fixée dans l'autorisation."]
[null,"Au début de chaque année civile, l'exploitant a la responsabilité de créer une copie du chiffrier sous un nouveau nom (Suivi_Nom de l'entreprise_2018.xlsm) avec l'extension xlsm. "]
[null,"Dans cette nouvelle copie du chiffrier, il doit également supprimer les données de l'année précédente."]
[]
[null,"Onglet - Feuille de route"]
[null,"Toute information pertinente relative à la transmission, à la modification ou à l'utilisation du fichier Excel peut y être inscrite."]
[]
[]
[null,"Onglet - Profil"]
[null,"Cet onglet regroupe l'information administrative relative à l'exploitation industrielle et les exigences applicables au suivi régulier des eaux usées."]
[null,"Cet onglet est fourni à l'exploitant à titre informatif; il ne s'agit pas d'une interface pour saisir les données de suivi."]
[null,"L'exploitant peut inscrire un commentaire dans la section prévue à cette fin."]
[]
[null,"Onglet - Transmission et conformité"]
[null,"Cet onglet permet la saisie des données relatives au suivi régulier des eaux usées et effectue partiellement la vérification automatique de la conformité."]
[null,"L'exploitant doit inscrire la date d'échantillonnage, les résultats d'analyse et les autres données exigées selon son programme d'autosurveillance à l'endroit approprié dans les tableaux. "]
[null,"Lorsqu'un résultat d'analyse est inférieur à la limite de détection, l'exploitant doit inscrire la valeur de la limite de détection précédée du symbole \"<\". "]
[null,"L'exploitant peut inscrire une valeur dans chaque cellule blanche; le reste du tableau est verrouillé."]
[null,"Les fonctions copier-coller et couper-coller sont désactivées dans cette feuille pour empêcher des modifications non souhaitées."]
[null,"Les données non conformes apparaissent automatiquement en rouge-gras-souligné."]
[null,"Le même format est appliqué au nombre de données transmises tant que le nombre exigé pour l'année civile en cours n'est pas atteint (voir le bas du tableau)."]
[null,"Des sections \"commentaires\" sont prévues à droite et en bas du tableau pour communiquer toute information pertinente au MDDELCC. "]
[null,"Tout dépassement devrait faire l'objet d'une explication de la part de l'exploitant."]
[]
[]
[]
[null,"Onglet - Conformité moyenne"]
[null,"Cet onglet effectue automatiquement les calculs de moyennes applicables et vérifie leur conformité."]
[null,"Les données non conformes apparaissent automatiquement en rouge-gras-souligné."]
[null,"Des sections \"commentaires\" sont prévues à droite et en bas du tableau pour communiquer toute information pertinente au MDDELCC. "]
[null,"Tout dépassement devrait faire l'objet d'une explication de la part de l'exploitant."]
[]
[]
[null,"Onglet - Schéma des eaux"]
[null,"Cet onglet contient un schéma du traitement des eaux ou toute autre information pertinente concernant la gestion des eaux usées."]

{"sheet":"Feuille de route","index":1,"n_rows":9,"n_cols":5,"rows_kept":9,"cut":false,"hidden":false,"merged":[[0,1,0,4],[1,1,1,4],[2,1,2,4]]}
[]
[null,"Feuille de route"]
[]
[null,"Événement","Date","Responsable","Commentaires"]
[null,"Demande de production du fichier de suivi"]
[null,"Première version du fichier transférée à l'analyste pour validation"]
[null,"Transmission à l'inspecteur pour validation "]
[null,"Production de la version finale et transmission à l'analyste et à l'inspecteur"]
[null,"Transmission à l'exploitant"]

{"sheet":"Profil","index":2,"n_rows":108,"n_cols":29,"rows_kept":108,"cut":false,"hidden":false,"merged":[[72,21,73,21],[72,25,73,25],[72,27,73,27],[72,28,73,28],[72,0,73,0],[72,4,73,4],[72,6,73,6],[72,7,73,7],[72,11,73,11],[72,13,73,13],[72,14,73,14],[72,18,73,18],[72,20,73,20],[68,21,69,21],[68,25,69,25],[68,27,69,27],[68,28,69,28],[70,0,71,0],[70,4,71,4],[70,6,71,6],[70,7,71,7],[70,11,71,11],[70,13,71,13],[70,14,71,14],[70,18,71,18],[70,20,71,20],[70,21,71,21],[70,25,71,25],[70,27,71,27],[70,28,71,28],[68,0,69,0],[68,4,69,4],[68,6,69,6],[68,7,69,7],[68,11,69,11],[68,13,69,13],[68,14,69,14],[68,18,69,18],[68,20,69,20],[64,21,65,21],[64,25,65,25],[64,27,65,27],[64,28,65,28],[66,0,67,0],[66,4,67,4],[66,6,67,6],[66,7,67,7],[66,11,67,11],[66,13,67,13],[66,14,67,14],[66,18,67,18],[66,20,67,20],[66,21,67,21],[66,25,67,25],[66,27,67,27],[66,28,67,28],[64,0,65,0],[64,4,65,4],[64,6,65,6],[64,7,65,7],[64,11,65,11],[64,13,65,13],[64,14,65,14],[64,18,65,18],[64,20,65,20],[60,21,61,21],[60,25,61,25],[60,27,61,27],[60,28,61,28],[62,0,63,0],[62,4,63,4],[62,6,63,6],[62,7,63,7],[62,11,63,11],[62,13,63,13],[62,14,63,14],[62,18,63,18],[62,20,63,20],[62,21,63,21],[62,25,63,25],[62,27,63,27],[62,28,63,28],[60,0,61,0],[60,4,61,4],[60,6,61,6],[60,7,61,7],[60,11,61,11],[60,13,61,13],[60,14,61,14],[60,18,61,18],[60,20,61,20],[56,21,57,21],[56,25,57,25],[56,27,57,27],[56,28,57,28],[58,0,59,0],[58,4,59,4],[58,6,59,6],[58,7,59,7],[58,11,59,11],[58,13,59,13],[58,14,59,14],[58,18,59,18],[58,20,59,20],[58,21,59,21],[58,25,59,25],[58,27,59,27],[58,28,59,28],[56,0,57,0],[56,4,57,4],[56,6,57,6],[56,7,57,7],[56,11,57,11],[56,13,57,13],[56,14,57,14],[56,18,57,18],[56,20,57,20],[48,27,49,27],[48,28,49,28],[50,25,51,25],[50,27,51,27],[50,28,51,28],[52,25,53,25],[52,27,53,27],[52,28,53,28],[54,25,55,25],[54,27,55,27],[54,28,55,28],[42,25,43,25],[42,27,43,27],[42,28,43,28],[44,25,45,25],[44,27,45,27],[44,28,45,28],[46,25,47,25],[46,27,47,27],[46,28,47,28],[36,25,37,25],[36,27,37,27],[36,28,37,28],[38,25,39,25],[38,27,39,27],[38,28,39,28],[40,25,41,25],[40,27,41,27],[40,28,41,28],[30,25,31,25],[30,27,31,27],[30,28,31,28],[32,25,33,25],[32,27,33,27],[32,28,33,28],[34,25,35,25],[34,27,35,27],[34,28,35,28],[24,25,25,25],[24,27,25,27],[24,28,25,28],[26,25,27,25],[26,27,27,27],[26,28,27,28],[28,25,29,25],[28,27,29,27],[28,28,29,28],[18,25,18,28],[19,23,19,28],[20,24,20,25],[20,27,20,28],[21,23,21,26],[21,27,21,28],[22,23,23,23],[22,24,22,25],[22,27,23,27],[22,28,23,28],[18,4,18,7],[18,11,18,14],[38,18,39,18],[46,20,47,20],[12,2,12,3],[13,2,17,3],[8,16,8,19],[9,16,9,19],[8,13,8,15],[17,11,17,13],[19,9,19,14],[9,13,9,15],[22,9,23,9],[30,13,31,13],[32,20,33,20],[16,11,16,13],[36,6,37,6],[19,16,19,21],[19,2,19,7],[46,14,47,14],[36,14,37,14],[38,14,39,14],[40,14,41,14],[42,14,43,14],[21,13,21,14],[22,13,23,13],[22,14,23,14],[22,10,22,11],[28,11,29,11],[21,20,21,21],[22,20,23,20],[22,16,23,16],[22,17,22,18],[52,21,53,21],[54,21,55,21],[38,20,39,20],[40,20,41,20],[50,13,51,13],[52,13,53,13],[50,20,51,20],[52,20,53,20],[54,20,55,20],[46,21,47,21],[40,18,41,18],[40,21,41,21],[42,18,43,18],[54,13,55,13],[54,18,55,18],[46,18,47,18],[42,21,43,21],[44,21,45,21],[48,21,49,21],[50,21,51,21],[52,18,53,18],[46,13,47,13],[48,13,49,13],[48,20,49,20],[34,11,35,11],[34,13,35,13],[36,21,37,21],[34,20,35,20],[36,20,37,20],[30,20,31,20],[38,21,39,21],[34,18,35,18],[34,21,35,21],[36,13,37,13],[30,14,31,14],[30,18,31,18],[32,18,33,18],[34,14,35,14],[38,11,39,11],[38,13,39,13],[36,11,37,11],[36,18,37,18],[50,18,51,18],[50,11,51,11],[42,11,43,11],[44,20,45,20],[44,18,45,18],[42,20,43,20],[42,13,43,13],[44,13,45,13],[44,14,45,14],[46,11,47,11],[2,0,2,21],[3,0,3,21],[5,1,5,4],[4,0,4,21],[5,16,5,19],[15,11,15,13],[6,1,6,4],[9,1,9,4],[7,1,7,4],[13,11,13,13],[14,11,14,13],[6,16,6,19],[7,8,7,12],[9,8,9,12],[8,1,8,4],[8,8,8,12],[7,13,7,15],[7,16,7,19],[5,14,5,15],[6,14,6,15],[6,8,6,12],[5,8,5,12],[18,18,18,21],[28,13,29,13],[28,14,29,14],[22,21,23,21],[24,6,25,6],[24,7,25,7],[28,20,29,20],[28,21,29,21],[32,11,33,11],[32,13,33,13],[30,11,31,11],[30,7,31,7],[32,7,33,7],[30,21,31,21],[32,21,33,21],[24,21,25,21],[28,18,29,18],[26,11,27,11],[26,13,27,13],[26,14,27,14],[32,14,33,14],[26,18,27,18],[26,20,27,20],[26,21,27,21],[36,0,37,0],[30,4,31,4],[30,6,31,6],[22,3,22,4],[21,2,21,5],[46,4,47,4],[28,4,29,4],[32,6,33,6],[26,0,27,0],[26,4,27,4],[26,6,27,6],[32,0,33,0],[28,6,29,6],[42,0,43,0],[34,0,35,0],[34,4,35,4],[28,0,29,0],[32,4,33,4],[30,0,31,0],[38,0,39,0],[40,0,41,0],[40,4,41,4],[22,6,23,6],[36,7,37,7],[36,4,37,4],[34,6,35,6],[42,6,43,6],[52,7,53,7],[50,6,51,6],[52,6,53,6],[24,4,25,4],[38,6,39,6],[40,6,41,6],[44,4,45,4],[44,7,45,7],[42,7,43,7],[38,4,39,4],[44,6,45,6],[46,6,47,6],[48,6,49,6],[26,7,27,7],[28,7,29,7],[34,7,35,7],[38,7,39,7],[40,7,41,7],[0,0,0,21],[21,16,21,19],[24,0,25,0],[22,2,23,2],[21,9,21,12],[21,6,21,7],[22,7,23,7],[24,13,25,13],[24,11,25,11],[24,14,25,14],[24,18,25,18],[24,20,25,20],[13,9,13,10],[14,9,14,10],[15,9,16,10],[17,9,17,10],[20,0,20,1],[20,3,20,4],[20,6,20,7],[20,10,20,11],[20,13,20,14],[20,17,20,18],[20,20,20,21],[1,0,1,21],[40,11,41,11],[40,13,41,13],[52,14,53,14],[54,14,55,14],[54,0,55,0],[50,4,51,4],[52,4,53,4],[46,0,47,0],[48,0,49,0],[50,0,51,0],[54,4,55,4],[52,0,53,0],[50,14,51,14],[48,14,49,14],[54,7,55,7],[46,7,47,7],[42,4,43,4],[48,7,49,7],[54,11,55,11],[52,11,53,11],[54,6,55,6],[50,7,51,7],[44,0,45,0],[44,11,45,11]]}
["Suivi des eaux industrielles"]
["PROFIL D'ENTREPRISE"]
[]
[]
["Information administrative"]
["Nom :",null,null,null,null,null,null,"Responsable contrôle:",null,null,null,null,null,null,"Secteur :"]
["NEQ :",null,null,null,null,null,null,"Responsable analyse:",null,null,null,null,null,null,"Sous-secteur :"]
["Adresse :",null,null,null,null,null,null,"Responsable exploitant 1 :",null,null,null,null,null,"No SAGO de l'autorisation "]
["No LIEU SAGO :",null,null,null,null,null,null,"Responsable exploitant 2 :",null,null,null,null,null,"Date d'émission de l'autorisation"]
["No de dossier (MDDELCC) :",null,null,null,null,null,null,"Responsable exploitant 3 :"]
[]
["Programme d'autosurveillance",null,"Système de traitement",null,null,"Rejets types à l'environnement",null,null,null,"Milieu récepteur",null,null,null,null,null,"Autres risques environnementaux"]
["Nbre de point de suivi",null,"Description",null,null,null,null,null,null,null,null,null,null,null,null,"Matières dangereuses"]
[null,null,null,null,null,"Débit",null,null,null,"OER :",null,null,null,null,null,"Demandes d'enquête depuis 5 ans"]
["Suivi depuis",null,null,null,null,"DBO5",null,null,null,"Bassin versant",null,null,null,null,null,"Plaintes depuis 2 ans"]
[null,null,null,null,null,"MES",null,null,null,"Vulnérabilité",null,null,null,null,null,"Avis de non-conformités depuis 2 ans"]
["Transmission",null,null,null,null,"Ptot",null,null,null,null,null,null,null,null,null,"Inspection suivi d'urgence depuis 2 ans"]
[null,null,null,null,null,"Toxicité",null,null,null,"Autres",null,null,null,null,null,"SAP imposée depuis 2 ans"]
["Exigences",null,"Point de suivi no 1",null,null,null,null,null,null,"Point de suivi no 2",null,null,null,null,null,null,"Point de suivi no 3",null,null,null,null,null,null,"Point de suivi no 4"]
[]
["Point de rejet dans l'environnement\n (NAD 83 décimal) :",null,"Lat. :",null,null,"Long. :",null,null,null,"Lat. :",null,null,"Long. :",null,null,null,"Lat. :",null,null,"Long. :",null,null,null,"Lat. :",null,null,"Long. :"]
[null,null,"Norme de rejet",null,null,null,"Exigences de suivi",null,null,"Norme de rejet",null,null,null,"Exigences de suivi",null,null,"Norme de rejet",null,null,null,"Exigences de suivi",null,null,"Norme de rejet",null,null,null,"Exigences de suivi"]
["Paramètre",null,"Type","Concentration et autre",null,"Charge","Fréquence","Nbre de données / an",null,"Type","Concentration et autre",null,"Charge","Fréquence","Nbre de données / an",null,"Type","Concentration et autre",null,"Charge","Fréquence","Nbre de données / an",null,"Type","Concentration et autre",null,"Charge","Fréquence","Nbre de données / an"]
[null,null,null,"Valeur","Unité","Valeur (kg/j)",null,null,null,null,"Valeur","Unité","Valeur (kg/j)",null,null,null,null,"Valeur","Unité","Valeur (kg/j)",null,null,null,null,"Valeur","Unité","Valeur (kg/j)"]
["Débit"]
[]
["Volume"]
[]
["pH"]
[]
["Coliformes fécaux"]
[]
[]
[]
[]
[]
[]
[]
[]
[]
[]
[]
[]
[]
[]
[]
[]
[]
[]
[]
[]
[]
[]
[]
[]
[]
[]
[]
[]
[]
[]
[]
[]
[]
[]
[]
[]
[]
[]
[]
[]
[]
[]
[]
[]
["Commentaires :"]
[]
[]
[]
[]
["Moy. : Moyenne"]
["Min. : Limite minimale"]
["Max. : Limite maximale"]
["Mens. : Mensuelle"]
["Trim. : Trimestrielle"]
["Sem. : Semestrielle"]
[]
[]
[]
[]
[]
[]
[]
["Secteurs",null,"Agroalimentaire","Chimie","Mines","Pétrole et gaz","Pétrochimie","Carrières et sablières","Ciment, chaux et asphalte","Matières résiduelles","Métallurgie","Transformation du bois","Pâtes et papiers","Textile","Centrale","Autres"]
["Agroalimentaire",null,"Abattoir","Analyses laboratoire","Métaux précieux","Exploration","Raffinerie","Carrières ","Cimenterie","Lieu d'enfouissement technique","Aluminerie","Scierie","Carton","Manufacture","Hydroélectrique","Buanderie"]
["Chimie",null,"Lait","Pharmaceutique","Métaux usuels","Exploitation","Fabrication de pneu","Sablières","Usine de chaux","Lieu d'enfouissement en tranchée","Ferro-alliage","Panneaux","Non blanchies",null,"Thermique","Machinerie"]
["Mines",null,"Alimentaire lavage","Produits chimiques - Synthèse ou autres ","Fer et ilménite",null,"Terminal pétrolier",null,"Usine de béton bitumineux","Lieu d'enfouissement de matériaux et de débris de construction","Boulettage","Tertiare (meubles, portes et fenêtres)","Blanchies",null,null,"Imprimerie"]
["Pétrole et gaz",null,"Alimentaire transformation","Engrais et pesticides","Niobium",null,"Pétrochimie - Autres",null,null,"Lieux d'enfouissement de pâtes et papiers","Aciérie","Bois traités","Panneaux de fibres de bois",null,null,"Peinture"]
["Pétrochimie",null,"Pisciculture","Entreposage produits chimiques","Amiante",null,null,null,null,"Sols contaminés","Briques réfractaires","Bioraffinage (produits chimiques)","Autres"]
["Carrières et sablières",null,"Produits marins","Verre","Sel",null,null,null,null,"Matières dangereuses résiduelles","Affinerie","Production d'énergie (cogénération)"]
["Ciment, chaux et asphalte",null,"Brasserie","Explosifs","Autres",null,null,null,null,"Compostage","Tertiaire"]
["Matières résiduelles",null,null,null,null,null,null,null,null,"Biométhanisation"]
["Métallurgie",null,null,null,null,null,null,null,null,"Recyclage"]
["Transformation du bois"]
["Pâtes et papiers"]
["Textile"]
["Centrale"]
["Autres"]

{"sheet":"Transmission et conformité","index":3,"n_rows":399,"n_cols":131,"rows_kept":399,"cut":false,"hidden":false,"merged":[[7,81,7,82],[384,81,384,82],[385,81,385,82],[386,81,386,82],[7,83,7,84],[384,83,384,84],[385,83,385,84],[386,83,386,84],[7,85,7,86],[384,85,384,86],[385,85,385,86],[386,85,386,86],[385,75,385,76],[386,75,386,76],[7,77,7,78],[384,77,384,78],[385,77,385,78],[386,77,386,78],[7,79,7,80],[384,79,384,80],[385,79,385,80],[386,79,386,80],[386,114,386,115],[385,61,385,62],[385,63,385,64],[385,73,385,74],[7,32,7,33],[384,32,384,33],[385,32,385,33],[386,32,386,33],[7,34,7,35],[384,34,384,35],[385,34,385,35],[386,34,386,35],[7,36,7,37],[384,36,384,37],[385,36,385,37],[386,36,386,37],[7,38,7,39],[384,38,384,39],[385,38,385,39],[386,38,386,39],[7,40,7,41],[384,40,384,41],[385,40,385,41],[386,40,386,41],[385,116,385,117],[385,108,385,109],[385,110,385,111],[385,112,385,113],[385,114,385,115],[0,1,2,2],[395,3,397,7],[398,3,401,7],[402,3,405,7],[386,116,386,117],[386,61,386,62],[384,94,384,95],[384,59,384,60],[386,67,386,68],[386,69,386,70],[386,71,386,72],[384,114,384,115],[7,114,7,115],[386,94,386,95],[386,96,386,97],[386,98,386,99],[386,100,386,101],[386,102,386,103],[386,104,386,105],[7,112,7,113],[7,63,7,64],[7,106,7,107],[7,71,7,72],[7,69,7,70],[385,65,385,66],[385,67,385,68],[384,65,384,66],[384,67,384,68],[385,69,385,70],[384,73,384,74],[385,94,385,95],[385,96,385,97],[385,98,385,99],[385,100,385,101],[385,102,385,103],[385,104,385,105],[385,106,385,107],[384,104,384,105],[384,106,384,107],[384,69,384,70],[384,71,384,72],[7,75,7,76],[384,75,384,76],[386,8,386,9],[384,28,384,29],[384,108,384,109],[384,110,384,111],[384,112,384,113],[385,57,385,58],[385,55,385,56],[385,53,385,54],[385,51,385,52],[386,63,386,64],[386,108,386,109],[386,110,386,111],[386,112,386,113],[384,57,384,58],[384,55,384,56],[384,53,384,54],[384,51,384,52],[386,51,386,52],[386,53,386,54],[386,55,386,56],[386,57,386,58],[386,59,386,60],[385,71,385,72],[386,73,386,74],[7,108,7,109],[7,110,7,111],[385,10,385,11],[386,10,386,11],[385,14,385,15],[386,14,386,15],[385,12,385,13],[386,12,386,13],[385,22,385,23],[386,22,386,23],[385,20,385,21],[386,20,386,21],[7,28,7,29],[7,30,7,31],[7,16,7,17],[7,14,7,15],[7,94,7,95],[7,96,7,97],[7,98,7,99],[7,100,7,101],[7,102,7,103],[7,104,7,105],[385,59,385,60],[386,106,386,107],[7,22,7,23],[7,20,7,21],[7,10,7,11],[7,2,8,2],[7,8,7,9],[385,8,385,9],[7,12,7,13],[7,18,7,19],[7,44,9,44],[7,26,7,27],[384,8,384,9],[9,1,9,2],[7,1,8,1],[384,10,384,11],[384,12,384,13],[384,18,384,19],[384,26,384,27],[384,14,384,15],[384,16,384,17],[384,20,384,21],[384,22,384,23],[7,42,7,43],[384,42,384,43],[385,42,385,43],[386,65,386,66],[7,73,7,74],[387,48,387,87],[387,91,387,130],[388,89,390,130],[384,24,384,25],[7,24,7,25],[7,49,7,50],[8,49,8,50],[8,92,8,93],[7,92,7,93],[7,130,9,130],[7,87,9,87],[7,57,7,58],[7,51,7,52],[7,55,7,56],[7,53,7,54],[384,116,384,117],[384,61,384,62],[384,63,384,64],[7,67,7,68],[7,116,7,117],[386,26,386,27],[386,30,386,31],[385,30,385,31],[385,24,385,25],[386,24,386,25],[386,28,386,29],[385,28,385,29],[385,26,385,27],[384,30,384,31],[7,59,7,60],[386,42,386,43],[7,61,7,62],[7,65,7,66],[384,102,384,103],[384,100,384,101],[384,98,384,99],[384,96,384,97],[393,3,393,5],[3,1,3,2],[10,1,10,2],[11,1,11,2],[12,1,12,2],[13,1,13,2],[7,6,7,7],[8,6,8,7],[9,6,9,7],[388,3,390,44],[387,1,387,2],[384,1,384,2],[385,1,385,2],[386,1,386,2],[385,18,385,19],[386,18,386,19],[385,16,385,17],[386,16,386,17],[7,118,7,119],[384,118,384,119],[385,118,385,119],[386,118,386,119],[7,120,7,121],[384,120,384,121],[385,120,385,121],[386,120,386,121],[7,122,7,123],[384,122,384,123],[385,122,385,123],[386,122,386,123],[7,124,7,125],[384,124,384,125],[385,124,385,125],[386,124,386,125],[7,126,7,127],[384,126,384,127],[385,126,385,127],[386,126,386,127],[7,128,7,129],[384,128,384,129],[385,128,385,129],[386,128,386,129]]}
[null,"Si le résultat d'analyse est inférieur à la limite de détection, inscrire la valeur de la limite de détection précédée du symbole <. "]
[]
[]
[null,"Transmission et conformité ",null,{"$f":"Profil!$C$19","v":"Point de suivi no 1"},null,null,null,null,null,null,null,null,null,null,null,null,null,null,null,null,null,null,null,null,null,null,null,null,null,null,null,null,null,null,null,null,null,null,null,null,null,null,null,null,null,null,{"$f":"Profil!$J$19","v":"Point de suivi no 2"},null,null,null,null,null,null,null,null,null,null,null,null,null,null,null,null,null,null,null,null,null,null,null,null,null,null,null,null,null,null,null,null,null,null,null,null,null,null,null,null,null,null,{"$f":"Profil!$Q$19","v":"Point de suivi no 3"}]
[null,"Suivi des eaux usées",null,{"$f":"IF(ISBLANK(Profil!$E$19),\"---\",Profil!$E$19)","v":"---"},null,null,null,null,null,null,null,null,null,null,null,null,null,null,null,null,null,null,null,null,null,null,null,null,null,null,null,null,null,null,null,null,null,null,null,null,null,null,null,null,null,null,{"$f":"IF(ISBLANK(Profil!$L$19),\"---\",Profil!$L$19)","v":"---"},null,null,null,null,null,null,null,null,null,null,null,null,null,null,null,null,null,null,null,null,null,null,null,null,null,null,null,null,null,null,null,null,null,null,null,null,null,null,null,null,null,null,{"$f":"IF(ISBLANK(Profil!$Q$20),\"---\",Profil!$Q$20)","v":"---"}]
[null,null,null,{"$f":"IF(ISBLANK(Profil!$C$20),\"---\",Profil!$C$20)","v":"---"},null,null,null,null,null,null,null,null,null,null,null,null,null,null,null,null,null,null,null,null,null,null,null,null,null,null,null,null,null,null,null,null,null,null,null,null,null,null,null,null,null,null,{"$f":"IF(ISBLANK(Profil!$J$20),\"---\",Profil!$J$20)","v":"---"},null,null,null,null,null,null,null,null,null,null,null,null,null,null,null,null,null,null,null,null,null,null,null,null,null,null,null,null,null,null,null,null,null,null,null,null,null,null,null,null,null,null,{"$f":"IF(ISBLANK(Profil!$S$19),\"---\",Profil!$S$19)","v":"---"}]
[]
[null,"Mois","Date",{"$f":"IF(ISBLANK(Profil!$A$25),\"---\",Profil!$A$25)","v":"Débit"},{"$f":"IF(ISBLANK(Profil!$A$27),\"---\",Profil!$A$27)","v":"Volume"},{"$f":"IF(ISBLANK(Profil!$A$29),\"---\",Profil!$A$29)","v":"pH"},{"$f":"IF(ISBLANK(Profil!$A$31),\"---\",Profil!$A$31)","v":"Coliformes fécaux"},null,{"$f":"IF(ISBLANK(Profil!$A$33),\"---\",Profil!$A$33)","v":"---"},null,{"$f":"IF(ISBLANK(Profil!$A$35),\"---\",Profil!$A$35)","v":"---"},{"$f":"IF(ISBLANK(Profil!#REF!),\"---\",Profil!#REF!)","v":{"$error":"#REF!"}},{"$f":"IF(ISBLANK(Profil!$A$37),\"---\",Profil!$A$37)","v":"---"},{"$f":"IF(ISBLANK(Profil!#REF!),\"---\",Profil!#REF!)","v":{"$error":"#REF!"}},{"$f":"IF(ISBLANK(Profil!$A$39),\"---\",Profil!$A$39)","v":"---"},{"$f":"IF(ISBLANK(Profil!#REF!),\"---\",Profil!#REF!)","v":{"$error":"#REF!"}},{"$f":"IF(ISBLANK(Profil!$A$41),\"---\",Profil!$A$41)","v":"---"},null,{"$f":"IF(ISBLANK(Profil!$A$43),\"---\",Profil!$A$43)","v":"---"},null,{"$f":"IF(ISBLANK(Profil!$A$45),\"---\",Profil!$A$45)","v":"---"},null,{"$f":"IF(ISBLANK(Profil!$A$47),\"---\",Profil!$A$47)","v":"---"},null,{"$f":"IF(ISBLANK(Profil!$A$49),\"---\",Profil!$A$49)","v":"---"},null,{"$f":"IF(ISBLANK(Profil!$A$51),\"---\",Profil!$A$51)","v":"---"},null,{"$f":"IF(ISBLANK(Profil!$A$53),\"---\",Profil!$A$53)","v":"---"},null,{"$f":"IF(ISBLANK(Profil!$A$55),\"---\",Profil!$A$55)","v":"---"},null,{"$f":"IF(ISBLANK(Profil!$A$57),\"---\",Profil!$A$57)","v":"---"},null,{"$f":"IF(ISBLANK(Profil!$A$59),\"---\",Profil!$A$59)","v":"---"},null,{"$f":"IF(ISBLANK(Profil!$A$61),\"---\",Profil!$A$61)","v":"---"},null,{"$f":"IF(ISBLANK(Profil!$A$63),\"---\",Profil!$A$63)","v":"---"},null,{"$f":"IF(ISBLANK(Profil!$A$65),\"---\",Profil!$A$65)","v":"---"},null,{"$f":"IF(ISBLANK(Profil!$A$67),\"---\",Profil!$A$67)","v":"---"},null,"Commentaires",null,{"$f":"IF(ISBLANK(Profil!$A$25),\"---\",Profil!$A$25)","v":"Débit"},{"$f":"IF(ISBLANK(Profil!$A$27),\"---\",Profil!$A$27)","v":"Volume"},{"$f":"IF(ISBLANK(Profil!$A$29),\"---\",Profil!$A$29)","v":"pH"},{"$f":"IF(ISBLANK(Profil!$A$31),\"---\",Profil!$A$31)","v":"Coliformes fécaux"},null,{"$f":"IF(ISBLANK(Profil!$A$33),\"---\",Profil!$A$33)","v":"---"},null,{"$f":"IF(ISBLANK(Profil!$A$35),\"---\",Profil!$A$35)","v":"---"},null,{"$f":"IF(ISBLANK(Profil!$A$37),\"---\",Profil!$A$37)","v":"---"},{"$f":"IF(ISBLANK(Profil!#REF!),\"---\",Profil!#REF!)","v":{"$error":"#REF!"}},{"$f":"IF(ISBLANK(Profil!$A$39),\"---\",Profil!$A$39)","v":"---"},{"$f":"IF(ISBLANK(Profil!#REF!),\"---\",Profil!#REF!)","v":{"$error":"#REF!"}},{"$f":"IF(ISBLANK(Profil!$A$41),\"---\",Profil!$A$41)","v":"---"},null,{"$f":"IF(ISBLANK(Profil!$A$43),\"---\",Profil!$A$43)","v":"---"},null,{"$f":"IF(ISBLANK(Profil!$A$45),\"---\",Profil!$A$45)","v":"---"},null,{"$f":"IF(ISBLANK(Profil!$A$47),\"---\",Profil!$A$47)","v":"---"},null,{"$f":"IF(ISBLANK(Profil!$A$49),\"---\",Profil!$A$49)","v":"---"},null,{"$f":"IF(ISBLANK(Profil!$A$51),\"---\",Profil!$A$51)","v":"---"},null,{"$f":"IF(ISBLANK(Profil!$A$53),\"---\",Profil!$A$53)","v":"---"},null,{"$f":"IF(ISBLANK(Profil!$A$55),\"---\",Profil!$A$55)","v":"---"},null,{"$f":"IF(ISBLANK(Profil!$A$57),\"---\",Profil!$A$57)","v":"---"},null,{"$f":"IF(ISBLANK(Profil!$A$59),\"---\",Profil!$A$59)","v":"---"},null,{"$f":"IF(ISBLANK(Profil!$A$61),\"---\",Profil!$A$61)","v":"---"},null,{"$f":"IF(ISBLANK(Profil!$A$63),\"---\",Profil!$A$63)","v":"---"},null,{"$f":"IF(ISBLANK(Profil!$A$65),\"---\",Profil!$A$65)","v":"---"},null,{"$f":"IF(ISBLANK(Profil!$A$67),\"---\",Profil!$A$67)","v":"---"},null,"Commentaires",null,{"$f":"IF(ISBLANK(Profil!$A$25),\"---\",Profil!$A$25)","v":"Débit"},{"$f":"IF(ISBLANK(Profil!$A$27),\"---\",Profil!$A$27)","v":"Volume"},{"$f":"IF(ISBLANK(Profil!$A$29),\"---\",Profil!$A$29)","v":"pH"},{"$f":"IF(ISBLANK(Profil!$A$31),\"---\",Profil!$A$31)","v":"Coliformes fécaux"},null,{"$f":"IF(ISBLANK(Profil!$A$33),\"---\",Profil!$A$33)","v":"---"},null,{"$f":"IF(ISBLANK(Profil!$A$35),\"---\",Profil!$A$35)","v":"---"},{"$f":"IF(ISBLANK(Profil!#REF!),\"---\",Profil!#REF!)","v":{"$error":"#REF!"}},{"$f":"IF(ISBLANK(Profil!$A$37),\"---\",Profil!$A$37)","v":"---"},{"$f":"IF(ISBLANK(Profil!#REF!),\"---\",Profil!#REF!)","v":{"$error":"#REF!"}},{"$f":"IF(ISBLANK(Profil!$A$39),\"---\",Profil!$A$39)","v":"---"},{"$f":"IF(ISBLANK(Profil!#REF!),\"---\",Profil!#REF!)","v":{"$error":"#REF!"}},{"$f":"IF(ISBLANK(Profil!$A$41),\"---\",Profil!$A$41)","v":"---"},null,{"$f":"IF(ISBLANK(Profil!$A$43),\"---\",Profil!$A$43)","v":"---"},null,{"$f":"IF(ISBLANK(Profil!$A$45),\"---\",Profil!$A$45)","v":"---"},null,{"$f":"IF(ISBLANK(Profil!$A$47),\"---\",Profil!$A$47)","v":"---"},null,{"$f":"IF(ISBLANK(Profil!$A$49),\"---\",Profil!$A$49)","v":"---"},null,{"$f":"IF(ISBLANK(Profil!$A$51),\"---\",Profil!$A$51)","v":"---"},null,{"$f":"IF(ISBLANK(Profil!$A$53),\"---\",Profil!$A$53)","v":"---"},null,{"$f":"IF(ISBLANK(Profil!$A$55),\"---\",Profil!$A$55)","v":"---"},null,{"$f":"IF(ISBLANK(Profil!$A$57),\"---\",Profil!$A$57)","v":"---"},null,{"$f":"IF(ISBLANK(Profil!$A$59),\"---\",Profil!$A$59)","v":"---"},null,{"$f":"IF(ISBLANK(Profil!$A$61),\"---\",Profil!$A$61)","v":"---"},null,{"$f":"IF(ISBLANK(Profil!$A$63),\"---\",Profil!$A$63)","v":"---"},null,{"$f":"IF(ISBLANK(Profil!$A$65),\"---\",Profil!$A$65)","v":"---"},null,{"$f":"IF(ISBLANK(Profil!$A$67),\"---\",Profil!$A$67)","v":"---"},null,"Commentaires"]
[null,null,null,{"$f":"IF(ISBLANK(Profil!E25),\"---\",Profil!E25)","v":"---"},{"$f":"IF(ISBLANK(Profil!E27),\"---\",Profil!E27)","v":"---"},"Unité pH","UFC / 100mL",null,{"$f":"IF(ISBLANK(Profil!E33),\"---\",Profil!E33)","v":"---"},"kg/j",{"$f":"IF(ISBLANK(Profil!E35),\"---\",Profil!E35)","v":"---"},"kg/j",{"$f":"IF(ISBLANK(Profil!E37),\"---\",Profil!E37)","v":"---"},"kg/j",{"$f":"IF(ISBLANK(Profil!E39),\"---\",Profil!E39)","v":"---"},"kg/j",{"$f":"IF(ISBLANK(Profil!E41),\"---\",Profil!E41)","v":"---"},"kg/j",{"$f":"IF(ISBLANK(Profil!E43),\"---\",Profil!E43)","v":"---"},"kg/j",{"$f":"IF(ISBLANK(Profil!E45),\"---\",Profil!E45)","v":"---"},"kg/j",{"$f":"IF(ISBLANK(Profil!E47),\"---\",Profil!E47)","v":"---"},"kg/j",{"$f":"IF(ISBLANK(Profil!E49),\"---\",Profil!E49)","v":"---"},"kg/j",{"$f":"IF(ISBLANK(Profil!E51),\"---\",Profil!E51)","v":"---"},"kg/j",{"$f":"IF(ISBLANK(Profil!E53),\"---\",Profil!E53)","v":"---"},"kg/j",{"$f":"IF(ISBLANK(Profil!E55),\"---\",Profil!E55)","v":"---"},"kg/j",{"$f":"IF(ISBLANK(Profil!E57),\"---\",Profil!E57)","v":"---"},"kg/j",{"$f":"IF(ISBLANK(Profil!E59),\"---\",Profil!E59)","v":"---"},"kg/j",{"$f":"IF(ISBLANK(Profil!E61),\"---\",Profil!E61)","v":"---"},"kg/j",{"$f":"IF(ISBLANK(Profil!E63),\"---\",Profil!E63)","v":"---"},"kg/j",{"$f":"IF(ISBLANK(Profil!E65),\"---\",Profil!E65)","v":"---"},"kg/j",{"$f":"IF(ISBLANK(Profil!E67),\"---\",Profil!E67)","v":"---"},"kg/j",null,null,{"$f":"IF(ISBLANK(Profil!L25),\"---\",Profil!L25)","v":"---"},{"$f":"IF(ISBLANK(Profil!L27),\"---\",Profil!L27)","v":"---"},"Unité pH","UFC / 100mL",null,{"$f":"IF(ISBLANK(Profil!L33),\"---\",Profil!L33)","v":"---"},"kg/j",{"$f":"IF(ISBLANK(Profil!L35),\"---\",Profil!L35)","v":"---"},"kg/j",{"$f":"IF(ISBLANK(Profil!L37),\"---\",Profil!L37)","v":"---"},"kg/j",{"$f":"IF(ISBLANK(Profil!L39),\"---\",Profil!L39)","v":"---"},"kg/j",{"$f":"IF(ISBLANK(Profil!L41),\"---\",Profil!L41)","v":"---"},"kg/j",{"$f":"IF(ISBLANK(Profil!L43),\"---\",Profil!L43)","v":"---"},"kg/j",{"$f":"IF(ISBLANK(Profil!L45),\"---\",Profil!L45)","v":"---"},"kg/j",{"$f":"IF(ISBLANK(Profil!L47),\"---\",Profil!L47)","v":"---"},"kg/j",{"$f":"IF(ISBLANK(Profil!L49),\"---\",Profil!L49)","v":"---"},"kg/j",{"$f":"IF(ISBLANK(Profil!L51),\"---\",Profil!L51)","v":"---"},"kg/j",{"$f":"IF(ISBLANK(Profil!L53),\"---\",Profil!L53)","v":"---"},"kg/j",{"$f":"IF(ISBLANK(Profil!L55),\"---\",Profil!L55)","v":"---"},"kg/j",{"$f":"IF(ISBLANK(Profil!L57),\"---\",Profil!L57)","v":"---"},"kg/j",{"$f":"IF(ISBLANK(Profil!L59),\"---\",Profil!L59)","v":"---"},"kg/j",{"$f":"IF(ISBLANK(Profil!L61),\"---\",Profil!L61)","v":"---"},"kg/j",{"$f":"IF(ISBLANK(Profil!L63),\"---\",Profil!L63)","v":"---"},"kg/j",{"$f":"IF(ISBLANK(Profil!L65),\"---\",Profil!L65)","v":"---"},"kg/j",{"$f":"IF(ISBLANK(Profil!L67),\"---\",Profil!L67)","v":"---"},"kg/j",null,null,{"$f":"IF(ISBLANK(Profil!S25),\"---\",Profil!S25)","v":"---"},{"$f":"IF(ISBLANK(Profil!S27),\"---\",Profil!S27)","v":"---"},"Unité pH","UFC / 100mL",null,{"$f":"IF(ISBLANK(Profil!S33),\"---\",Profil!S33)","v":"---"},"kg/j",{"$f":"IF(ISBLANK(Profil!S35),\"---\",Profil!S35)","v":"---"},"kg/j",{"$f":"IF(ISBLANK(Profil!S37),\"---\",Profil!S37)","v":"---"},"kg/j",{"$f":"IF(ISBLANK(Profil!S39),\"---\",Profil!S39)","v":"---"},"kg/j",{"$f":"IF(ISBLANK(Profil!S41),\"---\",Profil!S41)","v":"---"},"kg/j",{"$f":"IF(ISBLANK(Profil!S43),\"---\",Profil!S43)","v":"---"},"kg/j",{"$f":"IF(ISBLANK(Profil!S45),\"---\",Profil!S45)","v":"---"},"kg/j",{"$f":"IF(ISBLANK(Profil!S47),\"---\",Profil!S47)","v":"---"},"kg/j",{"$f":"IF(ISBLANK(Profil!S49),\"---\",Profil!S49)","v":"---"},"kg/j",{"$f":"IF(ISBLANK(Profil!S51),\"---\",Profil!S51)","v":"---"},"kg/j",{"$f":"IF(ISBLANK(Profil!S53),\"---\",Profil!S53)","v":"---"},"kg/j",{"$f":"IF(ISBLANK(Profil!S55),\"---\",Profil!S55)","v":"---"},"kg/j",{"$f":"IF(ISBLANK(Profil!S57),\"---\",Profil!S57)","v":"---"},"kg/j",{"$f":"IF(ISBLANK(Profil!S59),\"---\",Profil!S59)","v":"---"},"kg/j",{"$f":"IF(ISBLANK(Profil!S61),\"---\",Profil!S61)","v":"---"},"kg/j",{"$f":"IF(ISBLANK(Profil!S63),\"---\",Profil!S63)","v":"---"},"kg/j",{"$f":"IF(ISBLANK(Profil!S65),\"---\",Profil!S65)","v":"---"},"kg/j",{"$f":"IF(ISBLANK(Profil!S67),\"---\",Profil!S67)","v":"---"},"kg/j"]
[null,"Normes ►",null,{"$f":"IF(ISBLANK(Profil!D25),\"---\",Profil!D25)","v":"---"},{"$f":"IF(ISBLANK(Profil!D27),\"---\",Profil!D27)","v":"---"},"6 à 9,5",{"$f":"IF(ISBLANK(Profil!D31),\"---\",Profil!D31)","v":"---"},null,{"$f":"IF(ISBLANK(Profil!D33),\"---\",Profil!D33)","v":"---"},{"$f":"IF(ISBLANK(Profil!F33),\"---\",Profil!F33)","v":"---"},{"$f":"IF(ISBLANK(Profil!D35),\"---\",Profil!D35)","v":"---"},{"$f":"IF(ISBLANK(Profil!F35),\"---\",Profil!F35)","v":"---"},{"$f":"IF(ISBLANK(Profil!D37),\"---\",Profil!D37)","v":"---"},{"$f":"IF(ISBLANK(Profil!F37),\"---\",Profil!F37)","v":"---"},{"$f":"IF(ISBLANK(Profil!D39),\"---\",Profil!D39)","v":"---"},{"$f":"IF(ISBLANK(Profil!F39),\"---\",Profil!F39)","v":"---"},{"$f":"IF(ISBLANK(Profil!D41),\"---\",Profil!D41)","v":"---"},{"$f":"IF(ISBLANK(Profil!F41),\"---\",Profil!F41)","v":"---"},{"$f":"IF(ISBLANK(Profil!D43),\"---\",Profil!D43)","v":"---"},{"$f":"IF(ISBLANK(Profil!F43),\"---\",Profil!F43)","v":"---"},{"$f":"IF(ISBLANK(Profil!D45),\"---\",Profil!D45)","v":"---"},{"$f":"IF(ISBLANK(Profil!F45),\"---\",Profil!F45)","v":"---"},{"$f":"IF(ISBLANK(Profil!D47),\"---\",Profil!D47)","v":"---"},{"$f":"IF(ISBLANK(Profil!F47),\"---\",Profil!F47)","v":"---"},{"$f":"IF(ISBLANK(Profil!D49),\"---\",Profil!D49)","v":"---"},{"$f":"IF(ISBLANK(Profil!F49),\"---\",Profil!F49)","v":"---"},{"$f":"IF(ISBLANK(Profil!D51),\"---\",Profil!D51)","v":"---"},{"$f":"IF(ISBLANK(Profil!F51),\"---\",Profil!F51)","v":"---"},{"$f":"IF(ISBLANK(Profil!D53),\"---\",Profil!D53)","v":"---"},{"$f":"IF(ISBLANK(Profil!F53),\"---\",Profil!F53)","v":"---"},{"$f":"IF(ISBLANK(Profil!D55),\"---\",Profil!D55)","v":"---"},{"$f":"IF(ISBLANK(Profil!F55),\"---\",Profil!F55)","v":"---"},{"$f":"IF(ISBLANK(Profil!D57),\"---\",Profil!D57)","v":"---"},{"$f":"IF(ISBLANK(Profil!F57),\"---\",Profil!F57)","v":"---"},{"$f":"IF(ISBLANK(Profil!D59),\"---\",Profil!D59)","v":"---"},{"$f":"IF(ISBLANK(Profil!F59),\"---\",Profil!F59)","v":"---"},{"$f":"IF(ISBLANK(Profil!D61),\"---\",Profil!D61)","v":"---"},{"$f":"IF(ISBLANK(Profil!F61),\"---\",Profil!F61)","v":"---"},{"$f":"IF(ISBLANK(Profil!D63),\"---\",Profil!D63)","v":"---"},{"$f":"IF(ISBLANK(Profil!F63),\"---\",Profil!F63)","v":"---"},{"$f":"IF(ISBLANK(Profil!D65),\"---\",Profil!D65)","v":"---"},{"$f":"IF(ISBLANK(Profil!F65),\"---\",Profil!F65)","v":"---"},{"$f":"IF(ISBLANK(Profil!D67),\"---\",Profil!D67)","v":"---"},{"$f":"IF(ISBLANK(Profil!F65),\"---\",Profil!F65)","v":"---"},null,null,{"$f":"IF(ISBLANK(Profil!K25),\"---\",Profil!K25)","v":"---"},{"$f":"IF(ISBLANK(Profil!K27),\"---\",Profil!K27)","v":"---"},"---",{"$f":"IF(ISBLANK(Profil!K31),\"---\",Profil!K31)","v":"---"},null,{"$f":"IF(ISBLANK(Profil!K33),\"---\",Profil!K33)","v":"---"},{"$f":"IF(ISBLANK(Profil!M33),\"---\",Profil!M33)","v":"---"},{"$f":"IF(ISBLANK(Profil!K35),\"---\",Profil!K35)","v":"---"},{"$f":"IF(ISBLANK(Profil!M35),\"---\",Profil!M35)","v":"---"},{"$f":"IF(ISBLANK(Profil!K37),\"---\",Profil!K37)","v":"---"},{"$f":"IF(ISBLANK(Profil!M37),\"---\",Profil!M37)","v":"---"},{"$f":"IF(ISBLANK(Profil!K39),\"---\",Profil!K39)","v":"---"},{"$f":"IF(ISBLANK(Profil!M39),\"---\",Profil!M39)","v":"---"},{"$f":"IF(ISBLANK(Profil!K41),\"---\",Profil!K41)","v":"---"},{"$f":"IF(ISBLANK(Profil!M41),\"---\",Profil!M41)","v":"---"},{"$f":"IF(ISBLANK(Profil!K43),\"---\",Profil!K43)","v":"---"},{"$f":"IF(ISBLANK(Profil!M43),\"---\",Profil!M43)","v":"---"},{"$f":"IF(ISBLANK(Profil!K45),\"---\",Profil!K45)","v":"---"},{"$f":"IF(ISBLANK(Profil!M45),\"---\",Profil!M45)","v":"---"},{"$f":"IF(ISBLANK(Profil!K47),\"---\",Profil!K47)","v":"---"},{"$f":"IF(ISBLANK(Profil!M47),\"---\",Profil!M47)","v":"---"},{"$f":"IF(ISBLANK(Profil!K49),\"---\",Profil!K49)","v":"---"},{"$f":"IF(ISBLANK(Profil!M49),\"---\",Profil!M49)","v":"---"},{"$f":"IF(ISBLANK(Profil!K51),\"---\",Profil!K51)","v":"---"},{"$f":"IF(ISBLANK(Profil!M51),\"---\",Profil!M51)","v":"---"},{"$f":"IF(ISBLANK(Profil!K53),\"---\",Profil!K53)","v":"---"},{"$f":"IF(ISBLANK(Profil!M53),\"---\",Profil!M53)","v":"---"},{"$f":"IF(ISBLANK(Profil!K55),\"---\",Profil!K55)","v":"---"},{"$f":"IF(ISBLANK(Profil!M55),\"---\",Profil!M55)","v":"---"},{"$f":"IF(ISBLANK(Profil!K57),\"---\",Profil!K57)","v":"---"},{"$f":"IF(ISBLANK(Profil!M57),\"---\",Profil!M57)","v":"---"},{"$f":"IF(ISBLANK(Profil!K59),\"---\",Profil!K59)","v":"---"},{"$f":"IF(ISBLANK(Profil!M59),\"---\",Profil!M59)","v":"---"},{"$f":"IF(ISBLANK(Profil!K61),\"---\",Profil!K61)","v":"---"},{"$f":"IF(ISBLANK(Profil!M61),\"---\",Profil!M61)","v":"---"},{"$f":"IF(ISBLANK(Profil!K63),\"---\",Profil!K63)","v":"---"},{"$f":"IF(ISBLANK(Profil!M63),\"---\",Profil!M63)","v":"---"},{"$f":"IF(ISBLANK(Profil!K65),\"---\",Profil!K65)","v":"---"},{"$f":"IF(ISBLANK(Profil!M65),\"---\",Profil!M65)","v":"---"},{"$f":"IF(ISBLANK(Profil!K67),\"---\",Profil!K67)","v":"---"},{"$f":"IF(ISBLANK(Profil!M67),\"---\",Profil!M67)","v":"---"},null,null,{"$f":"IF(ISBLANK(Profil!R25),\"---\",Profil!R25)","v":"---"},{"$f":"IF(ISBLANK(Profil!R27),\"---\",Profil!R27)","v":"---"},"---",{"$f":"IF(ISBLANK(Profil!R31),\"---\",Profil!R31)","v":"---"},null,{"$f":"IF(ISBLANK(Profil!R33),\"---\",Profil!ER33)","v":"---"},{"$f":"IF(ISBLANK(Profil!T33),\"---\",Profil!T33)","v":"---"},{"$f":"IF(ISBLANK(Profil!R35),\"---\",Profil!R35)","v":"---"},{"$f":"IF(ISBLANK(Profil!T35),\"---\",Profil!T35)","v":"---"},{"$f":"IF(ISBLANK(Profil!R37),\"---\",Profil!R37)","v":"---"},{"$f":"IF(ISBLANK(Profil!T37),\"---\",Profil!T37)","v":"---"},{"$f":"IF(ISBLANK(Profil!R39),\"---\",Profil!R39)","v":"---"},{"$f":"IF(ISBLANK(Profil!T39),\"---\",Profil!T39)","v":"---"},{"$f":"IF(ISBLANK(Profil!R41),\"---\",Profil!R41)","v":"---"},{"$f":"IF(ISBLANK(Profil!T41),\"---\",Profil!T41)","v":"---"},{"$f":"IF(ISBLANK(Profil!R43),\"---\",Profil!R43)","v":"---"},{"$f":"IF(ISBLANK(Profil!T43),\"---\",Profil!T43)","v":"---"},{"$f":"IF(ISBLANK(Profil!R45),\"---\",Profil!R45)","v":"---"},{"$f":"IF(ISBLANK(Profil!T45),\"---\",Profil!T45)","v":"---"},{"$f":"IF(ISBLANK(Profil!R47),\"---\",Profil!R47)","v":"---"},{"$f":"IF(ISBLANK(Profil!T47),\"---\",Profil!T47)","v":"---"},{"$f":"IF(ISBLANK(Profil!R49),\"---\",Profil!R49)","v":"---"},{"$f":"IF(ISBLANK(Profil!T49),\"---\",Profil!T49)","v":"---"},{"$f":"IF(ISBLANK(Profil!R51),\"---\",Profil!R51)","v":"---"},{"$f":"IF(ISBLANK(Profil!T51),\"---\",Profil!T51)","v":"---"},{"$f":"IF(ISBLANK(Profil!R53),\"---\",Profil!R53)","v":"---"},{"$f":"IF(ISBLANK(Profil!T53),\"---\",Profil!T53)","v":"---"},{"$f":"IF(ISBLANK(Profil!R55),\"---\",Profil!R55)","v":"---"},{"$f":"IF(ISBLANK(Profil!T55),\"---\",Profil!T55)","v":"---"},{"$f":"IF(ISBLANK(Profil!R57),\"---\",Profil!R57)","v":"---"},{"$f":"IF(ISBLANK(Profil!T57),\"---\",Profil!T57)","v":"---"},{"$f":"IF(ISBLANK(Profil!R59),\"---\",Profil!R59)","v":"---"},{"$f":"IF(ISBLANK(Profil!T59),\"---\",Profil!T59)","v":"---"},{"$f":"IF(ISBLANK(Profil!R61),\"---\",Profil!R61)","v":"---"},{"$f":"IF(ISBLANK(Profil!T61),\"---\",Profil!T61)","v":"---"},{"$f":"IF(ISBLANK(Profil!R63),\"---\",Profil!R63)","v":"---"},{"$f":"IF(ISBLANK(Profil!T63),\"---\",Profil!T63)","v":"---"},{"$f":"IF(ISBLANK(Profil!R65),\"---\",Profil!R65)","v":"---"},{"$f":"IF(ISBLANK(Profil!T65),\"---\",Profil!T65)","v":"---"},{"$f":"IF(ISBLANK(Profil!R67),\"---\",Profil!R67)","v":"---"},{"$f":"IF(ISBLANK(Profil!T67),\"---\",Profil!T67)","v":"---"}]
[null,"NO_SEQ_POINT_COLLC"]
[null,"CODE_TYPE_PARM"]
[null,"CODE_DEF_MESR\nCODE_PARM_ANALS\nCODE_TYPE_ESSAI_BIO\nCODE_PROD"]
[null,"NO_SEQ_CONDT"]
[null,"Janvier",null,null,null,null,null,{"$f":"IF(ISTEXT(G15),1,IF(ISBLANK(G15),\"\",IF(ISNONTEXT(G15),G15)))","v":""},null,{"$f":"IF(ISERROR(I15*$D15/1000),0,I15*$D15/1000)","v":0},null,{"$f":"IF(ISERROR(K15*$D15/1000),0,K15*$D15/1000)","v":0},null,{"$f":"IF(ISERROR(M15*$D15/1000),0,M15*$D15/1000)","v":0},null,{"$f":"IF(ISERROR(O15*$D15/1000),0,O15*$D15/1000)","v":0},null,{"$f":"IF(ISERROR(Q15*$D15/1000),0,Q15*$D15/1000)","v":0},null,{"$f":"IF(ISERROR(S15*$D15/1000),0,S15*$D15/1000)","v":0},null,{"$f":"IF(ISERROR(U15*$D15/1000),0,U15*$D15/1000)","v":0},null,{"$f":"IF(ISERROR(W15*$D15/1000),0,W15*$D15/1000)","v":0},null,{"$f":"IF(ISERROR(Y15*$D15/1000),0,Y15*$D15/1000)","v":0},null,{"$f":"IF(ISERROR(AA15*$D15/1000),0,AA15*$D15/1000)","v":0},null,{"$f":"IF(ISERROR(AC15*$D15/1000),0,AC15*$D15/1000)","v":0},null,{"$f":"IF(ISERROR(AE15*$D15/1000),0,AE15*$D15/1000)","v":0},null,{"$f":"IF(ISERROR(AG15*$D15/1000),0,AG15*$D15/1000)","v":0},null,{"$f":"IF(ISERROR(AI15*$D15/1000),0,AI15*$D15/1000)","v":0},null,{"$f":"IF(ISERROR(AK15*$D15/1000),0,AK15*$D15/1000)","v":0},null,{"$f":"IF(ISERROR(AM15*$D15/1000),0,AM15*$D15/1000)","v":0},null,{"$f":"IF(ISERROR(AO15*$D15/1000),0,AO15*$D15/1000)","v":0},null,{"$f":"IF(ISERROR(AQ15*$D15/1000),0,AQ15*$D15/1000)","v":0},null,null,null,null,null,null,{"$f":"IF(ISTEXT(AX15),1,IF(ISBLANK(AX15),\"\",IF(ISNONTEXT(AX15),AX15)))","v":""},null,{"$f":"IF(ISERROR(AZ15*$AU15/1000),0,AZ15*$AU15/1000)","v":0},null,{"$f":"IF(ISERROR(BB15*$AU15/1000),0,BB15*$AU15/1000)","v":0},null,{"$f":"IF(ISERROR(BD15*$AU15/1000),0,BD15*$AU15/1000)","v":0},null,{"$f":"IF(ISERROR(BF15*$AU15/1000),0,BF15*$AU15/1000)","v":0},null,{"$f":"IF(ISERROR(BH15*$AU15/1000),0,BH15*$AU15/1000)","v":0},null,{"$f":"IF(ISERROR(BJ15*$AU15/1000),0,BJ15*$AU15/1000)","v":0},null,{"$f":"IF(ISERROR(BL15*$AU15/1000),0,BL15*$AU15/1000)","v":0},null,{"$f":"IF(ISERROR(BN15*$AU15/1000),0,BN15*$AU15/1000)","v":0},null,{"$f":"IF(ISERROR(BP15*$AU15/1000),0,BP15*$AU15/1000)","v":0},null,{"$f":"IF(ISERROR(BR15*$AU15/1000),0,BR15*$AU15/1000)","v":0},null,{"$f":"IF(ISERROR(BT15*$AU15/1000),0,BT15*$AU15/1000)","v":0},null,{"$f":"IF(ISERROR(BV15*$AU15/1000),0,BV15*$AU15/1000)","v":0},null,{"$f":"IF(ISERROR(BX15*$AU15/1000),0,BX15*$AU15/1000)","v":0},null,{"$f":"IF(ISERROR(BZ15*$AU15/1000),0,BZ15*$AU15/1000)","v":0},null,{"$f":"IF(ISERROR(CB15*$AU15/1000),0,CB15*$AU15/1000)","v":0},null,{"$f":"IF(ISERROR(CD15*$AU15/1000),0,CD15*$AU15/1000)","v":0},null,{"$f":"IF(ISERROR(CF15*$AU15/1000),0,CF15*$AU15/1000)","v":0},null,{"$f":"IF(ISERROR(CH15*$AU15/1000),0,CH15*$AU15/1000)","v":0},null,null,null,null,null,null,{"$f":"IF(ISTEXT(CO15),1,IF(ISBLANK(CO15),\"\",IF(ISNONTEXT(CO15),CO15)))","v":""},null,{"$f":"IF(ISERROR(CQ15*$CL15/1000),0,CQ15*$CL15/1000)","v":0},null,{"$f":"IF(ISERROR(CS15*$CL15/1000),0,CS15*$CL15/1000)","v":0},null,{"$f":"IF(ISERROR(CU15*$CL15/1000),0,CU15*$CL15/1000)","v":0},null,{"$f":"IF(ISERROR(CW15*$CL15/1000),0,CW15*$CL15/1000)","v":0},null,{"$f":"IF(ISERROR(CY15*$CL15/1000),0,CY15*$CL15/1000)","v":0},null,{"$f":"IF(ISERROR(DA15*$CL15/1000),0,DA15*$CL15/1000)","v":0},null,{"$f":"IF(ISERROR(DC15*$CL15/1000),0,DC15*$CL15/1000)","v":0},null,{"$f":"IF(ISERROR(DE15*$CL15/1000),0,DE15*$CL15/1000)","v":0},null,{"$f":"IF(ISERROR(DG15*$CL15/1000),0,DG15*$CL15/1000)","v":0},null,{"$f":"IF(ISERROR(DI15*$CL15/1000),0,DI15*$CL15/1000)","v":0},null,{"$f":"IF(ISERROR(DK15*$CL15/1000),0,DK15*$CL15/1000)","v":0},null,{"$f":"IF(ISERROR(DM15*$CL15/1000),0,DM15*$CL15/1000)","v":0},null,{"$f":"IF(ISERROR(DO15*$CL15/1000),0,DO15*$CL15/1000)","v":0},null,{"$f":"IF(ISERROR(DQ15*$CL15/1000),0,DQ15*$CL15/1000)","v":0},null,{"$f":"IF(ISERROR(DS15*$CL15/1000),0,DS15*$CL15/1000)","v":0},null,{"$f":"IF(ISERROR(DU15*$CL15/1000),0,DU15*$CL15/1000)","v":0},null,{"$f":"IF(ISERROR(DW15*$CL15/1000),0,DW15*$CL15/1000)","v":0},null,{"$f":"IF(ISERROR(DY15*$CL15/1000),0,DY15*$CL15/1000)","v":0}]
[null,null,null,null,null,null,null,{"$f":"IF(ISTEXT(G16),1,IF(ISBLANK(G16),\"\",IF(ISNONTEXT(G16),G16)))","v":""},null,{"$f":"IF(ISERROR(I16*$D16/1000),0,I16*$D16/1000)","v":0},null,0,null,{"$f":"IF(ISERROR(M16*$D16/1000),0,M16*$D16/1000)","v":0},null,{"$f":"IF(ISERROR(O16*$D16/1000),0,O16*$D16/1000)","v":0},null,{"$f":"IF(ISERROR(Q16*$D16/1000),0,Q16*$D16/1000)","v":0},null,{"$f":"IF(ISERROR(S16*$D16/1000),0,S16*$D16/1000)","v":0},null,{"$f":"IF(ISERROR(U16*$D16/1000),0,U16*$D16/1000)","v":0},null,{"$f":"IF(ISERROR(W16*$D16/1000),0,W16*$D16/1000)","v":0},null,{"$f":"IF(ISERROR(Y16*$D16/1000),0,Y16*$D16/1000)","v":0},null,{"$f":"IF(ISERROR(AA16*$D16/1000),0,AA16*$D16/1000)","v":0},null,{"$f":"IF(ISERROR(AC16*$D16/1000),0,AC16*$D16/1000)","v":0},null,{"$f":"IF(ISERROR(AE16*$D16/1000),0,AE16*$D16/1000)","v":0},null,{"$f":"IF(ISERROR(AG16*$D16/1000),0,AG16*$D16/1000)","v":0},null,{"$f":"IF(ISERROR(AI16*$D16/1000),0,AI16*$D16/1000)","v":0},null,{"$f":"IF(ISERROR(AK16*$D16/1000),0,AK16*$D16/1000)","v":0},null,{"$f":"IF(ISERROR(AM16*$D16/1000),0,AM16*$D16/1000)","v":0},null,{"$f":"IF(ISERROR(AO16*$D16/1000),0,AO16*$D16/1000)","v":0},null,{"$f":"IF(ISERROR(AQ16*$D16/1000),0,AQ16*$D16/1000)","v":0},null,null,null,null,null,null,{"$f":"IF(ISTEXT(AX16),1,IF(ISBLANK(AX16),\"\",IF(ISNONTEXT(AX16),AX16)))","v":""},null,0,null,0,null,0,null,0,null,0,null,0,null,0,null,0,null,0,null,0,null,0,null,0,null,0,null,0,null,0,null,0,null,0,null,0,null,null,null,null,null,null,{"$f":"IF(ISTEXT(CO16),1,IF(ISBLANK(CO16),\"\",IF(ISNONTEXT(CO16),CO16)))","v":""},null,{"$f":"IF(ISERROR(CQ16*$CL16/1000),0,CQ16*$CL16/1000)","v":0},null,0,null,{"$f":"IF(ISERROR(CU16*$CL16/1000),0,CU16*$CL16/1000)","v":0},null,{"$f":"IF(ISERROR(CW16*$CL16/1000),0,CW16*$CL16/1000)","v":0},null,{"$f":"IF(ISERROR(CY16*$CL16/1000),0,CY16*$CL16/1000)","v":0},null,{"$f":"IF(ISERROR(DA16*$CL16/1000),0,DA16*$CL16/1000)","v":0},null,{"$f":"IF(ISERROR(DC16*$CL16/1000),0,DC16*$CL16/1000)","v":0},null,{"$f":"IF(ISERROR(DE16*$CL16/1000),0,DE16*$CL16/1000)","v":0},null,{"$f":"IF(ISERROR(DG16*$CL16/1000),0,DG16*$CL16/1000)","v":0},null,{"$f":"IF(ISERROR(DI16*$CL16/1000),0,DI16*$CL16/1000)","v":0},null,{"$f":"IF(ISERROR(DK16*$CL16/1000),0,DK16*$CL16/1000)","v":0},null,{"$f":"IF(ISERROR(DM16*$CL16/1000),0,DM16*$CL16/1000)","v":0},null,{"$f":"IF(ISERROR(DO16*$CL16/1000),0,DO16*$CL16/1000)","v":0},null,{"$f":"IF(ISERROR(DQ16*$CL16/1000),0,DQ16*$CL16/1000)","v":0},null,{"$f":"IF(ISERROR(DS16*$CL16/1000),0,DS16*$CL16/1000)","v":0},null,{"$f":"IF(ISERROR(DU16*$CL16/1000),0,DU16*$CL16/1000)","v":0},null,{"$f":"IF(ISERROR(DW16*$CL16/1000),0,DW16*$CL16/1000)","v":0},null,{"$f":"IF(ISERROR(DY16*$CL16/1000),0,DY16*$CL16/1000)","v":0}]
[null,null,null,null,null,null,null,"",null,0,null,0,null,{"$f":"IF(ISERROR(M17*$D17/1000),0,M17*$D17/1000)","v":0},null,{"$f":"IF(ISERROR(O17*$D17/1000),0,O17*$D17/1000)","v":0},null,{"$f":"IF(ISERROR(Q17*$D17/1000),0,Q17*$D17/1000)","v":0},null,{"$f":"IF(ISERROR(S17*$D17/1000),0,S17*$D17/1000)","v":0},null,{"$f":"IF(ISERROR(U17*$D17/1000),0,U17*$D17/1000)","v":0},null,{"$f":"IF(ISERROR(W17*$D17/1000),0,W17*$D17/1000)","v":0},null,{"$f":"IF(ISERROR(Y17*$D17/1000),0,Y17*$D17/1000)","v":0},null,{"$f":"IF(ISERROR(AA17*$D17/1000),0,AA17*$D17/1000)","v":0},null,{"$f":"IF(ISERROR(AC17*$D17/1000),0,AC17*$D17/1000)","v":0},null,{"$f":"IF(ISERROR(AE17*$D17/1000),0,AE17*$D17/1000)","v":0},null,0,null,0,null,0,null,0,null,0,null,0,null,null,null,null,null,null,"",null,0,null,0,null,0,null,0,null,0,null,0,null,0,null,0,null,0,null,0,null,0,null,0,null,0,null,0,null,0,null,0,null,0,null,0,null,null,null,null,null,null,"",null,0,null,0,null,{"$f":"IF(ISERROR(CU17*$CL17/1000),0,CU17*$CL17/1000)","v":0},null,{"$f":"IF(ISERROR(CW17*$CL17/1000),0,CW17*$CL17/1000)","v":0},null,{"$f":"IF(ISERROR(CY17*$CL17/1000),0,CY17*$CL17/1000)","v":0},null,{"$f":"IF(ISERROR(DA17*$CL17/1000),0,DA17*$CL17/1000)","v":0},null,{"$f":"IF(ISERROR(DC17*$CL17/1000),0,DC17*$CL17/1000)","v":0},null,{"$f":"IF(ISERROR(DE17*$CL17/1000),0,DE17*$CL17/1000)","v":0},null,{"$f":"IF(ISERROR(DG17*$CL17/1000),0,DG17*$CL17/1000)","v":0},null,{"$f":"IF(ISERROR(DI17*$CL17/1000),0,DI17*$CL17/1000)","v":0},null,{"$f":"IF(ISERROR(DK17*$CL17/1000),0,DK17*$CL17/1000)","v":0},null,{"$f":"IF(ISERROR(DM17*$CL17/1000),0,DM17*$CL17/1000)","v":0},null,0,null,0,null,0,null,0,null,0,null,{"$f":"IF(ISERROR(DY17*$CL17/1000),0,DY17*$CL17/1000)","v":0}]
[null,null,null,null,null,null,null,"",null,0,null,0,null,{"$f":"IF(ISERROR(M18*$D18/1000),0,M18*$D18/1000)","v":0},null,{"$f":"IF(ISERROR(O18*$D18/1000),0,O18*$D18/1000)","v":0},null,{"$f":"IF(ISERROR(Q18*$D18/1000),0,Q18*$D18/1000)","v":0},null,{"$f":"IF(ISERROR(S18*$D18/1000),0,S18*$D18/1000)","v":0},null,{"$f":"IF(ISERROR(U18*$D18/1000),0,U18*$D18/1000)","v":0},null,{"$f":"IF(ISERROR(W18*$D18/1000),0,W18*$D18/1000)","v":0},null,{"$f":"IF(ISERROR(Y18*$D18/1000),0,Y18*$D18/1000)","v":0},null,{"$f":"IF(ISERROR(AA18*$D18/1000),0,AA18*$D18/1000)","v":0},null,{"$f":"IF(ISERROR(AC18*$D18/1000),0,AC18*$D18/1000)","v":0},null,{"$f":"IF(ISERROR(AE18*$D18/1000),0,AE18*$D18/1000)","v":0},null,0,null,0,null,0,null,0,null,0,null,0,null,null,null,null,null,null,"",null,0,null,0,null,0,null,0,null,0,null,0,null,0,null,0,null,0,null,0,null,0,null,0,null,0,null,0,null,0,null,0,null,0,null,0,null,null,null,null,null,null,"",null,0,null,0,null,{"$f":"IF(ISERROR(CU18*$CL18/1000),0,CU18*$CL18/1000)","v":0},null,{"$f":"IF(ISERROR(CW18*$CL18/1000),0,CW18*$CL18/1000)","v":0},null,{"$f":"IF(ISERROR(CY18*$CL18/1000),0,CY18*$CL18/1000)","v":0},null,{"$f":"IF(ISERROR(DA18*$CL18/1000),0,DA18*$CL18/1000)","v":0},null,{"$f":"IF(ISERROR(DC18*$CL18/1000),0,DC18*$CL18/1000)","v":0},null,{"$f":"IF(ISERROR(DE18*$CL18/1000),0,DE18*$CL18/1000)","v":0},null,{"$f":"IF(ISERROR(DG18*$CL18/1000),0,DG18*$CL18/1000)","v":0},null,{"$f":"IF(ISERROR(DI18*$CL18/1000),0,DI18*$CL18/1000)","v":0},null,{"$f":"IF(ISERROR(DK18*$CL18/1000),0,DK18*$CL18/1000)","v":0},null,{"$f":"IF(ISERROR(DM18*$CL18/1000),0,DM18*$CL18/1000)","v":0},null,0,null,0,null,0,null,0,null,0,null,{"$f":"IF(ISERROR(DY18*$CL18/1000),0,DY18*$CL18/1000)","v":0}]
[null,null,null,null,null,null,null,"",null,0,null,0,null,{"$f":"IF(ISERROR(M19*$D19/1000),0,M19*$D19/1000)","v":0},null,{"$f":"IF(ISERROR(O19*$D19/1000),0,O19*$D19/1000)","v":0},null,{"$f":"IF(ISERROR(Q19*$D19/1000),0,Q19*$D19/1000)","v":0},null,{"$f":"IF(ISERROR(S19*$D19/1000),0,S19*$D19/1000)","v":0},null,{"$f":"IF(ISERROR(U19*$D19/1000),0,U19*$D19/1000)","v":0},null,{"$f":"IF(ISERROR(W19*$D19/1000),0,W19*$D19/1000)","v":0},null,{"$f":"IF(ISERROR(Y19*$D19/1000),0,Y19*$D19/1000)","v":0},null,{"$f":"IF(ISERROR(AA19*$D19/1000),0,AA19*$D19/1000)","v":0},null,{"$f":"IF(ISERROR(AC19*$D19/1000),0,AC19*$D19/1000)","v":0},null,{"$f":"IF(ISERROR(AE19*$D19/1000),0,AE19*$D19/1000)","v":0},null,0,null,0,null,0,null,0,null,0,null,0,null,null,null,null,null,null,"",null,0,null,0,null,0,null,0,null,0,null,0,null,0,null,0,null,0,null,0,null,0,null,0,null,0,null,0,null,0,null,0,null,0,null,0,null,null,null,null,null,null,"",null,0,null,0,null,{"$f":"IF(ISERROR(CU19*$CL19/1000),0,CU19*$CL19/1000)","v":0},null,{"$f":"IF(ISERROR(CW19*$CL19/1000),0,CW19*$CL19/1000)","v":0},null,{"$f":"IF(ISERROR(CY19*$CL19/1000),0,CY19*$CL19/1000)","v":0},null,{"$f":"IF(ISERROR(DA19*$CL19/1000),0,DA19*$CL19/1000)","v":0},null,{"$f":"IF(ISERROR(DC19*$CL19/1000),0,DC19*$CL19/1000)","v":0},null,{"$f":"IF(ISERROR(DE19*$CL19/1000),0,DE19*$CL19/1000)","v":0},null,{"$f":"IF(ISERROR(DG19*$CL19/1000),0,DG19*$CL19/1000)","v":0},null,{"$f":"IF(ISERROR(DI19*$CL19/1000),0,DI19*$CL19/1000)","v":0},null,{"$f":"IF(ISERROR(DK19*$CL19/1000),0,DK19*$CL19/1000)","v":0},null,{"$f":"IF(ISERROR(DM19*$CL19/1000),0,DM19*$CL19/1000)","v":0},null,0,null,0,null,0,null,0,null,0,null,{"$f":"IF(ISERROR(DY19*$CL19/1000),0,DY19*$CL19/1000)","v":0}]
[null,null,null,null,null,null,null,"",null,0,null,0,null,{"$f":"IF(ISERROR(M20*$D20/1000),0,M20*$D20/1000)","v":0},null,{"$f":"IF(ISERROR(O20*$D20/1000),0,O20*$D20/1000)","v":0},null,{"$f":"IF(ISERROR(Q20*$D20/1000),0,Q20*$D20/1000)","v":0},null,{"$f":"IF(ISERROR(S20*$D20/1000),0,S20*$D20/1000)","v":0},null,{"$f":"IF(ISERROR(U20*$D20/1000),0,U20*$D20/1000)","v":0},null,{"$f":"IF(ISERROR(W20*$D20/1000),0,W20*$D20/1000)","v":0},null,{"$f":"IF(ISERROR(Y20*$D20/1000),0,Y20*$D20/1000)","v":0},null,{"$f":"IF(ISERROR(AA20*$D20/1000),0,AA20*$D20/1000)","v":0},null,{"$f":"IF(ISERROR(AC20*$D20/1000),0,AC20*$D20/1000)","v":0},null,{"$f":"IF(ISERROR(AE20*$D20/1000),0,AE20*$D20/1000)","v":0},null,0,null,0,null,0,null,0,null,0,null,0,null,null,null,null,null,null,"",null,0,null,0,null,0,null,0,null,0,null,0,null,0,null,0,null,0,null,0,null,0,null,0,null,0,null,0,null,0,null,0,null,0,null,0,null,null,null,null,null,null,"",null,0,null,0,null,{"$f":"IF(ISERROR(CU20*$CL20/1000),0,CU20*$CL20/1000)","v":0},null,{"$f":"IF(ISERROR(CW20*$CL20/1000),0,CW20*$CL20/1000)","v":0},null,{"$f":"IF(ISERROR(CY20*$CL20/1000),0,CY20*$CL20/1000)","v":0},null,{"$f":"IF(ISERROR(DA20*$CL20/1000),0,DA20*$CL20/1000)","v":0},null,{"$f":"IF(ISERROR(DC20*$CL20/1000),0,DC20*$CL20/1000)","v":0},null,{"$f":"IF(ISERROR(DE20*$CL20/1000),0,DE20*$CL20/1000)","v":0},null,{"$f":"IF(ISERROR(DG20*$CL20/1000),0,DG20*$CL20/1000)","v":0},null,{"$f":"IF(ISERROR(DI20*$CL20/1000),0,DI20*$CL20/1000)","v":0},null,{"$f":"IF(ISERROR(DK20*$CL20/1000),0,DK20*$CL20/1000)","v":0},null,{"$f":"IF(ISERROR(DM20*$CL20/1000),0,DM20*$CL20/1000)","v":0},null,0,null,0,null,0,null,0,null,0,null,{"$f":"IF(ISERROR(DY20*$CL20/1000),0,DY20*$CL20/1000)","v":0}]
[null,null,null,null,null,null,null,"",null,0,null,0,null,{"$f":"IF(ISERROR(M21*$D21/1000),0,M21*$D21/1000)","v":0},null,{"$f":"IF(ISERROR(O21*$D21/1000),0,O21*$D21/1000)","v":0},null,{"$f":"IF(ISERROR(Q21*$D21/1000),0,Q21*$D21/1000)","v":0},null,{"$f":"IF(ISERROR(S21*$D21/1000),0,S21*$D21/1000)","v":0},null,{"$f":"IF(ISERROR(U21*$D21/1000),0,U21*$D21/1000)","v":0},null,{"$f":"IF(ISERROR(W21*$D21/1000),0,W21*$D21/1000)","v":0},null,{"$f":"IF(ISERROR(Y21*$D21/1000),0,Y21*$D21/1000)","v":0},null,{"$f":"IF(ISERROR(AA21*$D21/1000),0,AA21*$D21/1000)","v":0},null,{"$f":"IF(ISERROR(AC21*$D21/1000),0,AC21*$D21/1000)","v":0},null,{"$f":"IF(ISERROR(AE21*$D21/1000),0,AE21*$D21/1000)","v":0},null,0,null,0,null,0,null,0,null,0,null,0,null,null,null,null,null,null,"",null,0,null,0,null,0,null,0,null,0,null,0,null,0,null,0,null,0,null,0,null,0,null,0,null,0,null,0,null,0,null,0,null,0,null,0,null,null,null,null,null,null,"",null,0,null,0,null,{"$f":"IF(ISERROR(CU21*$CL21/1000),0,CU21*$CL21/1000)","v":0},null,{"$f":"IF(ISERROR(CW21*$CL21/1000),0,CW21*$CL21/1000)","v":0},null,{"$f":"IF(ISERROR(CY21*$CL21/1000),0,CY21*$CL21/1000)","v":0},null,{"$f":"IF(ISERROR(DA21*$CL21/1000),0,DA21*$CL21/1000)","v":0},null,{"$f":"IF(ISERROR(DC21*$CL21/1000),0,DC21*$CL21/1000)","v":0},null,{"$f":"IF(ISERROR(DE21*$CL21/1000),0,DE21*$CL21/1000)","v":0},null,{"$f":"IF(ISERROR(DG21*$CL21/1000),0,DG21*$CL21/1000)","v":0},null,{"$f":"IF(ISERROR(DI21*$CL21/1000),0,DI21*$CL21/1000)","v":0},null,{"$f":"IF(ISERROR(DK21*$CL21/1000),0,DK21*$CL21/1000)","v":0},null,{"$f":"IF(ISERROR(DM21*$CL21/1000),0,DM21*$CL21/1000)","v":0},null,0,null,0,null,0,null,0,null,0,null,{"$f":"IF(ISERROR(DY21*$CL21/1000),0,DY21*$CL21/1000)","v":0}]
[null,null,null,null,null,null,null,"",null,0,null,0,null,{"$f":"IF(ISERROR(M22*$D22/1000),0,M22*$D22/1000)","v":0},null,{"$f":"IF(ISERROR(O22*$D22/1000),0,O22*$D22/1000)","v":0},null,{"$f":"IF(ISERROR(Q22*$D22/1000),0,Q22*$D22/1000)","v":0},null,{"$f":"IF(ISERROR(S22*$D22/1000),0,S22*$D22/1000)","v":0},null,{"$f":"IF(ISERROR(U22*$D22/1000),0,U22*$D22/1000)","v":0},null,{"$f":"IF(ISERROR(W22*$D22/1000),0,W22*$D22/1000)","v":0},null,{"$f":"IF(ISERROR(Y22*$D22/1000),0,Y22*$D22/1000)","v":0},null,{"$f":"IF(ISERROR(AA22*$D22/1000),0,AA22*$D22/1000)","v":0},null,{"$f":"IF(ISERROR(AC22*$D22/1000),0,AC22*$D22/1000)","v":0},null,{"$f":"IF(ISERROR(AE22*$D22/1000),0,AE22*$D22/1000)","v":0},null,0,null,0,null,0,null,0,null,0,null,0,null,null,null,null,null,null,"",null,0,null,0,null,0,null,0,null,0,null,0,null,0,null,0,null,0,null,0,null,0,null,0,null,0,null,0,null,0,null,0,null,0,null,0,null,null,null,null,null,null,"",null,0,null,0,null,{"$f":"IF(ISERROR(CU22*$CL22/1000),0,CU22*$CL22/1000)","v":0},null,{"$f":"IF(ISERROR(CW22*$CL22/1000),0,CW22*$CL22/1000)","v":0},null,{"$f":"IF(ISERROR(CY22*$CL22/1000),0,CY22*$CL22/1000)","v":0},null,{"$f":"IF(ISERROR(DA22*$CL22/1000),0,DA22*$CL22/1000)","v":0},null,{"$f":"IF(ISERROR(DC22*$CL22/1000),0,DC22*$CL22/1000)","v":0},null,{"$f":"IF(ISERROR(DE22*$CL22/1000),0,DE22*$CL22/1000)","v":0},null,{"$f":"IF(ISERROR(DG22*$CL22/1000),0,DG22*$CL22/1000)","v":0},null,{"$f":"IF(ISERROR(DI22*$CL22/1000),0,DI22*$CL22/1000)","v":0},null,{"$f":"IF(ISERROR(DK22*$CL22/1000),0,DK22*$CL22/1000)","v":0},null,{"$f":"IF(ISERROR(DM22*$CL22/1000),0,DM22*$CL22/1000)","v":0},null,0,null,0,null,0,null,0,null,0,null,{"$f":"IF(ISERROR(DY22*$CL22/1000),0,DY22*$CL22/1000)","v":0}]
[null,null,null,null,null,null,null,"",null,0,null,0,null,{"$f":"IF(ISERROR(M23*$D23/1000),0,M23*$D23/1000)","v":0},null,{"$f":"IF(ISERROR(O23*$D23/1000),0,O23*$D23/1000)","v":0},null,{"$f":"IF(ISERROR(Q23*$D23/1000),0,Q23*$D23/1000)","v":0},null,{"$f":"IF(ISERROR(S23*$D23/1000),0,S23*$D23/1000)","v":0},null,{"$f":"IF(ISERROR(U23*$D23/1000),0,U23*$D23/1000)","v":0},null,{"$f":"IF(ISERROR(W23*$D23/1000),0,W23*$D23/1000)","v":0},null,{"$f":"IF(ISERROR(Y23*$D23/1000),0,Y23*$D23/1000)","v":0},null,{"$f":"IF(ISERROR(AA23*$D23/1000),0,AA23*$D23/1000)","v":0},null,{"$f":"IF(ISERROR(AC23*$D23/1000),0,AC23*$D23/1000)","v":0},null,{"$f":"IF(ISERROR(AE23*$D23/1000),0,AE23*$D23/1000)","v":0},null,0,null,0,null,0,null,0,null,0,null,0,null,null,null,null,null,null,"",null,0,null,0,null,0,null,0,null,0,null,0,null,0,null,0,null,0,null,0,null,0,null,0,null,0,null,0,null,0,null,0,null,0,null,0,null,null,null,null,null,null,"",null,0,null,0,null,{"$f":"IF(ISERROR(CU23*$CL23/1000),0,CU23*$CL23/1000)","v":0},null,{"$f":"IF(ISERROR(CW23*$CL23/1000),0,CW23*$CL23/1000)","v":0},null,{"$f":"IF(ISERROR(CY23*$CL23/1000),0,CY23*$CL23/1000)","v":0},null,{"$f":"IF(ISERROR(DA23*$CL23/1000),0,DA23*$CL23/1000)","v":0},null,{"$f":"IF(ISERROR(DC23*$CL23/1000),0,DC23*$CL23/1000)","v":0},null,{"$f":"IF(ISERROR(DE23*$CL23/1000),0,DE23*$CL23/1000)","v":0},null,{"$f":"IF(ISERROR(DG23*$CL23/1000),0,DG23*$CL23/1000)","v":0},null,{"$f":"IF(ISERROR(DI23*$CL23/1000),0,DI23*$CL23/1000)","v":0},null,{"$f":"IF(ISERROR(DK23*$CL23/1000),0,DK23*$CL23/1000)","v":0},null,{"$f":"IF(ISERROR(DM23*$CL23/1000),0,DM23*$CL23/1000)","v":0},null,0,null,0,null,0,null,0,null,0,null,{"$f":"IF(ISERROR(DY23*$CL23/1000),0,DY23*$CL23/1000)","v":0}]
[null,null,null,null,null,null,null,"",null,0,null,0,null,{"$f":"IF(ISERROR(M24*$D24/1000),0,M24*$D24/1000)","v":0},null,{"$f":"IF(ISERROR(O24*$D24/1000),0,O24*$D24/1000)","v":0},null,{"$f":"IF(ISERROR(Q24*$D24/1000),0,Q24*$D24/1000)","v":0},null,{"$f":"IF(ISERROR(S24*$D24/1000),0,S24*$D24/1000)","v":0},null,{"$f":"IF(ISERROR(U24*$D24/1000),0,U24*$D24/1000)","v":0},null,{"$f":"IF(ISERROR(W24*$D24/1000),0,W24*$D24/1000)","v":0},null,{"$f":"IF(ISERROR(Y24*$D24/1000),0,Y24*$D24/1000)","v":0},null,{"$f":"IF(ISERROR(AA24*$D24/1000),0,AA24*$D24/1000)","v":0},null,{"$f":"IF(ISERROR(AC24*$D24/1000),0,AC24*$D24/1000)","v":0},null,{"$f":"IF(ISERROR(AE24*$D24/1000),0,AE24*$D24/1000)","v":0},null,0,null,0,null,0,null,0,null,0,null,0,null,null,null,null,null,null,"",null,0,null,0,null,0,null,0,null,0,null,0,null,0,null,0,null,0,null,0,null,0,null,0,null,0,null,0,null,0,null,0,null,0,null,0,null,null,null,null,null,null,"",null,0,null,0,null,{"$f":"IF(ISERROR(CU24*$CL24/1000),0,CU24*$CL24/1000)","v":0},null,{"$f":"IF(ISERROR(CW24*$CL24/1000),0,CW24*$CL24/1000)","v":0},null,{"$f":"IF(ISERROR(CY24*$CL24/1000),0,CY24*$CL24/1000)","v":0},null,{"$f":"IF(ISERROR(DA24*$CL24/1000),0,DA24*$CL24/1000)","v":0},null,{"$f":"IF(ISERROR(DC24*$CL24/1000),0,DC24*$CL24/1000)","v":0},null,{"$f":"IF(ISERROR(DE24*$CL24/1000),0,DE24*$CL24/1000)","v":0},null,{"$f":"IF(ISERROR(DG24*$CL24/1000),0,DG24*$CL24/1000)","v":0},null,{"$f":"IF(ISERROR(DI24*$CL24/1000),0,DI24*$CL24/1000)","v":0},null,{"$f":"IF(ISERROR(DK24*$CL24/1000),0,DK24*$CL24/1000)","v":0},null,{"$f":"IF(ISERROR(DM24*$CL24/1000),0,DM24*$CL24/1000)","v":0},null,0,null,0,null,0,null,0,null,0,null,{"$f":"IF(ISERROR(DY24*$CL24/1000),0,DY24*$CL24/1000)","v":0}]
[null,null,null,null,null,null,null,"",null,0,null,0,null,{"$f":"IF(ISERROR(M25*$D25/1000),0,M25*$D25/1000)","v":0},null,{"$f":"IF(ISERROR(O25*$D25/1000),0,O25*$D25/1000)","v":0},null,{"$f":"IF(ISERROR(Q25*$D25/1000),0,Q25*$D25/1000)","v":0},null,{"$f":"IF(ISERROR(S25*$D25/1000),0,S25*$D25/1000)","v":0},null,{"$f":"IF(ISERROR(U25*$D25/1000),0,U25*$D25/1000)","v":0},null,{"$f":"IF(ISERROR(W25*$D25/1000),0,W25*$D25/1000)","v":0},null,{"$f":"IF(ISERROR(Y25*$D25/1000),0,Y25*$D25/1000)","v":0},null,{"$f":"IF(ISERROR(AA25*$D25/1000),0,AA25*$D25/1000)","v":0},null,{"$f":"IF(ISERROR(AC25*$D25/1000),0,AC25*$D25/1000)","v":0},null,{"$f":"IF(ISERROR(AE25*$D25/1000),0,AE25*$D25/1000)","v":0},null,0,null,0,null,0,null,0,null,0,null,0,null,null,null,null,null,null,"",null,0,null,0,null,0,null,0,null,0,null,0,null,0,null,0,null,0,null,0,null,0,null,0,null,0,null,0,null,0,null,0,null,0,null,0,null,null,null,null,null,null,"",null,0,null,0,null,{"$f":"IF(ISERROR(CU25*$CL25/1000),0,CU25*$CL25/1000)","v":0},null,{"$f":"IF(ISERROR(CW25*$CL25/1000),0,CW25*$CL25/1000)","v":0},null,{"$f":"IF(ISERROR(CY25*$CL25/1000),0,CY25*$CL25/1000)","v":0},null,{"$f":"IF(ISERROR(DA25*$CL25/1000),0,DA25*$CL25/1000)","v":0},null,{"$f":"IF(ISERROR(DC25*$CL25/1000),0,DC25*$CL25/1000)","v":0},null,{"$f":"IF(ISERROR(DE25*$CL25/1000),0,DE25*$CL25/1000)","v":0},null,{"$f":"IF(ISERROR(DG25*$CL25/1000),0,DG25*$CL25/1000)","v":0},null,{"$f":"IF(ISERROR(DI25*$CL25/1000),0,DI25*$CL25/1000)","v":0},null,{"$f":"IF(ISERROR(DK25*$CL25/1000),0,DK25*$CL25/1000)","v":0},null,{"$f":"IF(ISERROR(DM25*$CL25/1000),0,DM25*$CL25/1000)","v":0},null,0,null,0,null,0,null,0,null,0,null,{"$f":"IF(ISERROR(DY25*$CL25/1000),0,DY25*$CL25/1000)","v":0}]
[null,null,null,null,null,null,null,"",null,0,null,0,null,{"$f":"IF(ISERROR(M26*$D26/1000),0,M26*$D26/1000)","v":0},null,{"$f":"IF(ISERROR(O26*$D26/1000),0,O26*$D26/1000)","v":0},null,{"$f":"IF(ISERROR(Q26*$D26/1000),0,Q26*$D26/1000)","v":0},null,{"$f":"IF(ISERROR(S26*$D26/1000),0,S26*$D26/1000)","v":0},null,{"$f":"IF(ISERROR(U26*$D26/1000),0,U26*$D26/1000)","v":0},null,{"$f":"IF(ISERROR(W26*$D26/1000),0,W26*$D26/1000)","v":0},null,{"$f":"IF(ISERROR(Y26*$D26/1000),0,Y26*$D26/1000)","v":0},null,{"$f":"IF(ISERROR(AA26*$D26/1000),0,AA26*$D26/1000)","v":0},null,{"$f":"IF(ISERROR(AC26*$D26/1000),0,AC26*$D26/1000)","v":0},null,{"$f":"IF(ISERROR(AE26*$D26/1000),0,AE26*$D26/1000)","v":0},null,0,null,0,null,0,null,0,null,0,null,0,null,null,null,null,null,null,"",null,0,null,0,null,0,null,0,null,0,null,0,null,0,null,0,null,0,null,0,null,0,null,0,null,0,null,0,null,0,null,0,null,0,null,0,null,null,null,null,null,null,"",null,0,null,0,null,{"$f":"IF(ISERROR(CU26*$CL26/1000),0,CU26*$CL26/1000)","v":0},null,{"$f":"IF(ISERROR(CW26*$CL26/1000),0,CW26*$CL26/1000)","v":0},null,{"$f":"IF(ISERROR(CY26*$CL26/1000),0,CY26*$CL26/1000)","v":0},null,{"$f":"IF(ISERROR(DA26*$CL26/1000),0,DA26*$CL26/1000)","v":0},null,{"$f":"IF(ISERROR(DC26*$CL26/1000),0,DC26*$CL26/1000)","v":0},null,{"$f":"IF(ISERROR(DE26*$CL26/1000),0,DE26*$CL26/1000)","v":0},null,{"$f":"IF(ISERROR(DG26*$CL26/1000),0,DG26*$CL26/1000)","v":0},null,{"$f":"IF(ISERROR(DI26*$CL26/1000),0,DI26*$CL26/1000)","v":0},null,{"$f":"IF(ISERROR(DK26*$CL26/1000),0,DK26*$CL26/1000)","v":0},null,{"$f":"IF(ISERROR(DM26*$CL26/1000),0,DM26*$CL26/1000)","v":0},null,0,null,0,null,0,null,0,null,0,null,{"$f":"IF(ISERROR(DY26*$CL26/1000),0,DY26*$CL26/1000)","v":0}]
[null,null,null,null,null,null,null,"",null,0,null,0,null,{"$f":"IF(ISERROR(M27*$D27/1000),0,M27*$D27/1000)","v":0},null,{"$f":"IF(ISERROR(O27*$D27/1000),0,O27*$D27/1000)","v":0},null,{"$f":"IF(ISERROR(Q27*$D27/1000),0,Q27*$D27/1000)","v":0},null,{"$f":"IF(ISERROR(S27*$D27/1000),0,S27*$D27/1000)","v":0},null,{"$f":"IF(ISERROR(U27*$D27/1000),0,U27*$D27/1000)","v":0},null,{"$f":"IF(ISERROR(W27*$D27/1000),0,W27*$D27/1000)","v":0},null,{"$f":"IF(ISERROR(Y27*$D27/1000),0,Y27*$D27/1000)","v":0},null,{"$f":"IF(ISERROR(AA27*$D27/1000),0,AA27*$D27/1000)","v":0},null,{"$f":"IF(ISERROR(AC27*$D27/1000),0,AC27*$D27/1000)","v":0},null,{"$f":"IF(ISERROR(AE27*$D27/1000),0,AE27*$D27/1000)","v":0},null,0,null,0,null,0,null,0,null,0,null,0,null,null,null,null,null,null,"",null,0,null,0,null,0,null,0,null,0,null,0,null,0,null,0,null,0,null,0,null,0,null,0,null,0,null,0,null,0,null,0,null,0,null,0,null,null,null,null,null,null,"",null,0,null,0,null,{"$f":"IF(ISERROR(CU27*$CL27/1000),0,CU27*$CL27/1000)","v":0},null,{"$f":"IF(ISERROR(CW27*$CL27/1000),0,CW27*$CL27/1000)","v":0},null,{"$f":"IF(ISERROR(CY27*$CL27/1000),0,CY27*$CL27/1000)","v":0},null,{"$f":"IF(ISERROR(DA27*$CL27/1000),0,DA27*$CL27/1000)","v":0},null,{"$f":"IF(ISERROR(DC27*$CL27/1000),0,DC27*$CL27/1000)","v":0},null,{"$f":"IF(ISERROR(DE27*$CL27/1000),0,DE27*$CL27/1000)","v":0},null,{"$f":"IF(ISERROR(DG27*$CL27/1000),0,DG27*$CL27/1000)","v":0},null,{"$f":"IF(ISERROR(DI27*$CL27/1000),0,DI27*$CL27/1000)","v":0},null,{"$f":"IF(ISERROR(DK27*$CL27/1000),0,DK27*$CL27/1000)","v":0},null,{"$f":"IF(ISERROR(DM27*$CL27/1000),0,DM27*$CL27/1000)","v":0},null,0,null,0,null,0,null,0,null,0,null,{"$f":"IF(ISERROR(DY27*$CL27/1000),0,DY27*$CL27/1000)","v":0}]
[null,null,null,null,null,null,null,"",null,0,null,0,null,{"$f":"IF(ISERROR(M28*$D28/1000),0,M28*$D28/1000)","v":0},null,{"$f":"IF(ISERROR(O28*$D28/1000),0,O28*$D28/1000)","v":0},null,{"$f":"IF(ISERROR(Q28*$D28/1000),0,Q28*$D28/1000)","v":0},null,{"$f":"IF(ISERROR(S28*$D28/1000),0,S28*$D28/1000)","v":0},null,{"$f":"IF(ISERROR(U28*$D28/1000),0,U28*$D28/1000)","v":0},null,{"$f":"IF(ISERROR(W28*$D28/1000),0,W28*$D28/1000)","v":0},null,{"$f":"IF(ISERROR(Y28*$D28/1000),0,Y28*$D28/1000)","v":0},null,{"$f":"IF(ISERROR(AA28*$D28/1000),0,AA28*$D28/1000)","v":0},null,{"$f":"IF(ISERROR(AC28*$D28/1000),0,AC28*$D28/1000)","v":0},null,{"$f":"IF(ISERROR(AE28*$D28/1000),0,AE28*$D28/1000)","v":0},null,0,null,0,null,0,null,0,null,0,null,0,null,null,null,null,null,null,"",null,0,null,0,null,0,null,0,null,0,null,0,null,0,null,0,null,0,null,0,null,0,null,0,null,0,null,0,null,0,null,0,null,0,null,0,null,null,null,null,null,null,"",null,0,null,0,null,{"$f":"IF(ISERROR(CU28*$CL28/1000),0,CU28*$CL28/1000)","v":0},null,{"$f":"IF(ISERROR(CW28*$CL28/1000),0,CW28*$CL28/1000)","v":0},null,{"$f":"IF(ISERROR(CY28*$CL28/1000),0,CY28*$CL28/1000)","v":0},null,{"$f":"IF(ISERROR(DA28*$CL28/1000),0,DA28*$CL28/1000)","v":0},null,{"$f":"IF(ISERROR(DC28*$CL28/1000),0,DC28*$CL28/1000)","v":0},null,{"$f":"IF(ISERROR(DE28*$CL28/1000),0,DE28*$CL28/1000)","v":0},null,{"$f":"IF(ISERROR(DG28*$CL28/1000),0,DG28*$CL28/1000)","v":0},null,{"$f":"IF(ISERROR(DI28*$CL28/1000),0,DI28*$CL28/1000)","v":0},null,{"$f":"IF(ISERROR(DK28*$CL28/1000),0,DK28*$CL28/1000)","v":0},null,{"$f":"IF(ISERROR(DM28*$CL28/1000),0,DM28*$CL28/1000)","v":0},null,0,null,0,null,0,null,0,null,0,null,{"$f":"IF(ISERROR(DY28*$CL28/1000),0,DY28*$CL28/1000)","v":0}]
[null,null,null,null,null,null,null,"",null,0,null,0,null,{"$f":"IF(ISERROR(M29*$D29/1000),0,M29*$D29/1000)","v":0},null,{"$f":"IF(ISERROR(O29*$D29/1000),0,O29*$D29/1000)","v":0},null,{"$f":"IF(ISERROR(Q29*$D29/1000),0,Q29*$D29/1000)","v":0},null,{"$f":"IF(ISERROR(S29*$D29/1000),0,S29*$D29/1000)","v":0},null,{"$f":"IF(ISERROR(U29*$D29/1000),0,U29*$D29/1000)","v":0},null,{"$f":"IF(ISERROR(W29*$D29/1000),0,W29*$D29/1000)","v":0},null,{"$f":"IF(ISERROR(Y29*$D29/1000),0,Y29*$D29/1000)","v":0},null,{"$f":"IF(ISERROR(AA29*$D29/1000),0,AA29*$D29/1000)","v":0},null,{"$f":"IF(ISERROR(AC29*$D29/1000),0,AC29*$D29/1000)","v":0},null,{"$f":"IF(ISERROR(AE29*$D29/1000),0,AE29*$D29/1000)","v":0},null,0,null,0,null,0,null,0,null,0,null,0,null,null,null,null,null,null,"",null,0,null,0,null,0,null,0,null,0,null,0,null,0,null,0,null,0,null,0,null,0,null,0,null,0,null,0,null,0,null,0,null,0,null,0,null,null,null,null,null,null,"",null,0,null,0,null,{"$f":"IF(ISERROR(CU29*$CL29/1000),0,CU29*$CL29/1000)","v":0},null,{"$f":"IF(ISERROR(CW29*$CL29/1000),0,CW29*$CL29/1000)","v":0},null,{"$f":"IF(ISERROR(CY29*$CL29/1000),0,CY29*$CL29/1000)","v":0},null,{"$f":"IF(ISERROR(DA29*$CL29/1000),0,DA29*$CL29/1000)","v":0},null,{"$f":"IF(ISERROR(DC29*$CL29/1000),0,DC29*$CL29/1000)","v":0},null,{"$f":"IF(ISERROR(DE29*$CL29/1000),0,DE29*$CL29/1000)","v":0},null,{"$f":"IF(ISERROR(DG29*$CL29/1000),0,DG29*$CL29/1000)","v":0},null,{"$f":"IF(ISERROR(DI29*$CL29/1000),0,DI29*$CL29/1000)","v":0},null,{"$f":"IF(ISERROR(DK29*$CL29/1000),0,DK29*$CL29/1000)","v":0},null,{"$f":"IF(ISERROR(DM29*$CL29/1000),0,DM29*$CL29/1000)","v":0},null,0,null,0,null,0,null,0,null,0,null,{"$f":"IF(ISERROR(DY29*$CL29/1000),0,DY29*$CL29/1000)","v":0}]
[null,null,null,null,null,null,null,"",null,0,null,0,null,{"$f":"IF(ISERROR(M30*$D30/1000),0,M30*$D30/1000)","v":0},null,{"$f":"IF(ISERROR(O30*$D30/1000),0,O30*$D30/1000)","v":0},null,{"$f":"IF(ISERROR(Q30*$D30/1000),0,Q30*$D30/1000)","v":0},null,{"$f":"IF(ISERROR(S30*$D30/1000),0,S30*$D30/1000)","v":0},null,{"$f":"IF(ISERROR(U30*$D30/1000),0,U30*$D30/1000)","v":0},null,{"$f":"IF(ISERROR(W30*$D30/1000),0,W30*$D30/1000)","v":0},null,{"$f":"IF(ISERROR(Y30*$D30/1000),0,Y30*$D30/1000)","v":0},null,{"$f":"IF(ISERROR(AA30*$D30/1000),0,AA30*$D30/1000)","v":0},null,{"$f":"IF(ISERROR(AC30*$D30/1000),0,AC30*$D30/1000)","v":0},null,{"$f":"IF(ISERROR(AE30*$D30/1000),0,AE30*$D30/1000)","v":0},null,0,null,0,null,0,null,0,null,0,null,0,null,null,null,null,null,null,"",null,0,null,0,null,0,null,0,null,0,null,0,null,0,null,0,null,0,null,0,null,0,null,0,null,0,null,0,null,0,null,0,null,0,null,0,null,null,null,null,null,null,"",null,0,null,0,null,{"$f":"IF(ISERROR(CU30*$CL30/1000),0,CU30*$CL30/1000)","v":0},null,{"$f":"IF(ISERROR(CW30*$CL30/1000),0,CW30*$CL30/1000)","v":0},null,{"$f":"IF(ISERROR(CY30*$CL30/1000),0,CY30*$CL30/1000)","v":0},null,{"$f":"IF(ISERROR(DA30*$CL30/1000),0,DA30*$CL30/1000)","v":0},null,{"$f":"IF(ISERROR(DC30*$CL30/1000),0,DC30*$CL30/1000)","v":0},null,{"$f":"IF(ISERROR(DE30*$CL30/1000),0,DE30*$CL30/1000)","v":0},null,{"$f":"IF(ISERROR(DG30*$CL30/1000),0,DG30*$CL30/1000)","v":0},null,{"$f":"IF(ISERROR(DI30*$CL30/1000),0,DI30*$CL30/1000)","v":0},null,{"$f":"IF(ISERROR(DK30*$CL30/1000),0,DK30*$CL30/1000)","v":0},null,{"$f":"IF(ISERROR(DM30*$CL30/1000),0,DM30*$CL30/1000)","v":0},null,0,null,0,null,0,null,0,null,0,null,{"$f":"IF(ISERROR(DY30*$CL30/1000),0,DY30*$CL30/1000)","v":0}]
[null,null,null,null,null,null,null,"",null,0,null,0,null,{"$f":"IF(ISERROR(M31*$D31/1000),0,M31*$D31/1000)","v":0},null,{"$f":"IF(ISERROR(O31*$D31/1000),0,O31*$D31/1000)","v":0},null,{"$f":"IF(ISERROR(Q31*$D31/1000),0,Q31*$D31/1000)","v":0},null,{"$f":"IF(ISERROR(S31*$D31/1000),0,S31*$D31/1000)","v":0},null,{"$f":"IF(ISERROR(U31*$D31/1000),0,U31*$D31/1000)","v":0},null,{"$f":"IF(ISERROR(W31*$D31/1000),0,W31*$D31/1000)","v":0},null,{"$f":"IF(ISERROR(Y31*$D31/1000),0,Y31*$D31/1000)","v":0},null,{"$f":"IF(ISERROR(AA31*$D31/1000),0,AA31*$D31/1000)","v":0},null,{"$f":"IF(ISERROR(AC31*$D31/1000),0,AC31*$D31/1000)","v":0},null,{"$f":"IF(ISERROR(AE31*$D31/1000),0,AE31*$D31/1000)","v":0},null,0,null,0,null,0,null,0,null,0,null,0,null,null,null,null,null,null,"",null,0,null,0,null,0,null,0,null,0,null,0,null,0,null,0,null,0,null,0,null,0,null,0,null,0,null,0,null,0,null,0,null,0,null,0,null,null,null,null,null,null,"",null,0,null,0,null,{"$f":"IF(ISERROR(CU31*$CL31/1000),0,CU31*$CL31/1000)","v":0},null,{"$f":"IF(ISERROR(CW31*$CL31/1000),0,CW31*$CL31/1000)","v":0},null,{"$f":"IF(ISERROR(CY31*$CL31/1000),0,CY31*$CL31/1000)","v":0},null,{"$f":"IF(ISERROR(DA31*$CL31/1000),0,DA31*$CL31/1000)","v":0},null,{"$f":"IF(ISERROR(DC31*$CL31/1000),0,DC31*$CL31/1000)","v":0},null,{"$f":"IF(ISERROR(DE31*$CL31/1000),0,DE31*$CL31/1000)","v":0},null,{"$f":"IF(ISERROR(DG31*$CL31/1000),0,DG31*$CL31/1000)","v":0},null,{"$f":"IF(ISERROR(DI31*$CL31/1000),0,DI31*$CL31/1000)","v":0},null,{"$f":"IF(ISERROR(DK31*$CL31/1000),0,DK31*$CL31/1000)","v":0},null,{"$f":"IF(ISERROR(DM31*$CL31/1000),0,DM31*$CL31/1000)","v":0},null,0,null,0,null,0,null,0,null,0,null,{"$f":"IF(ISERROR(DY31*$CL31/1000),0,DY31*$CL31/1000)","v":0}]
[null,null,null,null,null,null,null,"",null,0,null,0,null,{"$f":"IF(ISERROR(M32*$D32/1000),0,M32*$D32/1000)","v":0},null,{"$f":"IF(ISERROR(O32*$D32/1000),0,O32*$D32/1000)","v":0},null,{"$f":"IF(ISERROR(Q32*$D32/1000),0,Q32*$D32/1000)","v":0},null,{"$f":"IF(ISERROR(S32*$D32/1000),0,S32*$D32/1000)","v":0},null,{"$f":"IF(ISERROR(U32*$D32/1000),0,U32*$D32/1000)","v":0},null,{"$f":"IF(ISERROR(W32*$D32/1000),0,W32*$D32/1000)","v":0},null,{"$f":"IF(ISERROR(Y32*$D32/1000),0,Y32*$D32/1000)","v":0},null,{"$f":"IF(ISERROR(AA32*$D32/1000),0,AA32*$D32/1000)","v":0},null,{"$f":"IF(ISERROR(AC32*$D32/1000),0,AC32*$D32/1000)","v":0},null,{"$f":"IF(ISERROR(AE32*$D32/1000),0,AE32*$D32/1000)","v":0},null,0,null,0,null,0,null,0,null,0,null,0,null,null,null,null,null,null,"",null,0,null,0,null,0,null,0,null,0,null,0,null,0,null,0,null,0,null,0,null,0,null,0,null,0,null,0,null,0,null,0,null,0,null,0,null,null,null,null,null,null,"",null,0,null,0,null,{"$f":"IF(ISERROR(CU32*$CL32/1000),0,CU32*$CL32/1000)","v":0},null,{"$f":"IF(ISERROR(CW32*$CL32/1000),0,CW32*$CL32/1000)","v":0},null,{"$f":"IF(ISERROR(CY32*$CL32/1000),0,CY32*$CL32/1000)","v":0},null,{"$f":"IF(ISERROR(DA32*$CL32/1000),0,DA32*$CL32/1000)","v":0},null,{"$f":"IF(ISERROR(DC32*$CL32/1000),0,DC32*$CL32/1000)","v":0},null,{"$f":"IF(ISERROR(DE32*$CL32/1000),0,DE32*$CL32/1000)","v":0},null,{"$f":"IF(ISERROR(DG32*$CL32/1000),0,DG32*$CL32/1000)","v":0},null,{"$f":"IF(ISERROR(DI32*$CL32/1000),0,DI32*$CL32/1000)","v":0},null,{"$f":"IF(ISERROR(DK32*$CL32/1000),0,DK32*$CL32/1000)","v":0},null,{"$f":"IF(ISERROR(DM32*$CL32/1000),0,DM32*$CL32/1000)","v":0},null,0,null,0,null,0,null,0,null,0,null,{"$f":"IF(ISERROR(DY32*$CL32/1000),0,DY32*$CL32/1000)","v":0}]
[null,null,null,null,null,null,null,"",null,0,null,0,null,{"$f":"IF(ISERROR(M33*$D33/1000),0,M33*$D33/1000)","v":0},null,{"$f":"IF(ISERROR(O33*$D33/1000),0,O33*$D33/1000)","v":0},null,{"$f":"IF(ISERROR(Q33*$D33/1000),0,Q33*$D33/1000)","v":0},null,{"$f":"IF(ISERROR(S33*$D33/1000),0,S33*$D33/1000)","v":0},null,{"$f":"IF(ISERROR(U33*$D33/1000),0,U33*$D33/1000)","v":0},null,{"$f":"IF(ISERROR(W33*$D33/1000),0,W33*$D33/1000)","v":0},null,{"$f":"IF(ISERROR(Y33*$D33/1000),0,Y33*$D33/1000)","v":0},null,{"$f":"IF(ISERROR(AA33*$D33/1000),0,AA33*$D33/1000)","v":0},null,{"$f":"IF(ISERROR(AC33*$D33/1000),0,AC33*$D33/1000)","v":0},null,{"$f":"IF(ISERROR(AE33*$D33/1000),0,AE33*$D33/1000)","v":0},null,0,null,0,null,0,null,0,null,0,null,0,null,null,null,null,null,null,"",null,0,null,0,null,0,null,0,null,0,null,0,null,0,null,0,null,0,null,0,null,0,null,0,null,0,null,0,null,0,null,0,null,0,null,0,null,null,null,null,null,null,"",null,0,null,0,null,{"$f":"IF(ISERROR(CU33*$CL33/1000),0,CU33*$CL33/1000)","v":0},null,{"$f":"IF(ISERROR(CW33*$CL33/1000),0,CW33*$CL33/1000)","v":0},null,{"$f":"IF(ISERROR(CY33*$CL33/1000),0,CY33*$CL33/1000)","v":0},null,{"$f":"IF(ISERROR(DA33*$CL33/1000),0,DA33*$CL33/1000)","v":0},null,{"$f":"IF(ISERROR(DC33*$CL33/1000),0,DC33*$CL33/1000)","v":0},null,{"$f":"IF(ISERROR(DE33*$CL33/1000),0,DE33*$CL33/1000)","v":0},null,{"$f":"IF(ISERROR(DG33*$CL33/1000),0,DG33*$CL33/1000)","v":0},null,{"$f":"IF(ISERROR(DI33*$CL33/1000),0,DI33*$CL33/1000)","v":0},null,{"$f":"IF(ISERROR(DK33*$CL33/1000),0,DK33*$CL33/1000)","v":0},null,{"$f":"IF(ISERROR(DM33*$CL33/1000),0,DM33*$CL33/1000)","v":0},null,0,null,0,null,0,null,0,null,0,null,{"$f":"IF(ISERROR(DY33*$CL33/1000),0,DY33*$CL33/1000)","v":0}]
[null,null,null,null,null,null,null,"",null,0,null,0,null,{"$f":"IF(ISERROR(M34*$D34/1000),0,M34*$D34/1000)","v":0},null,{"$f":"IF(ISERROR(O34*$D34/1000),0,O34*$D34/1000)","v":0},null,{"$f":"IF(ISERROR(Q34*$D34/1000),0,Q34*$D34/1000)","v":0},null,{"$f":"IF(ISERROR(S34*$D34/1000),0,S34*$D34/1000)","v":0},null,{"$f":"IF(ISERROR(U34*$D34/1000),0,U34*$D34/1000)","v":0},null,{"$f":"IF(ISERROR(W34*$D34/1000),0,W34*$D34/1000)","v":0},null,{"$f":"IF(ISERROR(Y34*$D34/1000),0,Y34*$D34/1000)","v":0},null,{"$f":"IF(ISERROR(AA34*$D34/1000),0,AA34*$D34/1000)","v":0},null,{"$f":"IF(ISERROR(AC34*$D34/1000),0,AC34*$D34/1000)","v":0},null,{"$f":"IF(ISERROR(AE34*$D34/1000),0,AE34*$D34/1000)","v":0},null,0,null,0,null,0,null,0,null,0,null,0,null,null,null,null,null,null,"",null,0,null,0,null,0,null,0,null,0,null,0,null,0,null,0,null,0,null,0,null,0,null,0,null,0,null,0,null,0,null,0,null,0,null,0,null,null,null,null,null,null,"",null,0,null,0,null,{"$f":"IF(ISERROR(CU34*$CL34/1000),0,CU34*$CL34/1000)","v":0},null,{"$f":"IF(ISERROR(CW34*$CL34/1000),0,CW34*$CL34/1000)","v":0},null,{"$f":"IF(ISERROR(CY34*$CL34/1000),0,CY34*$CL34/1000)","v":0},null,{"$f":"IF(ISERROR(DA34*$CL34/1000),0,DA34*$CL34/1000)","v":0},null,{"$f":"IF(ISERROR(DC34*$CL34/1000),0,DC34*$CL34/1000)","v":0},null,{"$f":"IF(ISERROR(DE34*$CL34/1000),0,DE34*$CL34/1000)","v":0},null,{"$f":"IF(ISERROR(DG34*$CL34/1000),0,DG34*$CL34/1000)","v":0},null,{"$f":"IF(ISERROR(DI34*$CL34/1000),0,DI34*$CL34/1000)","v":0},null,{"$f":"IF(ISERROR(DK34*$CL34/1000),0,DK34*$CL34/1000)","v":0},null,{"$f":"IF(ISERROR(DM34*$CL34/1000),0,DM34*$CL34/1000)","v":0},null,0,null,0,null,0,null,0,null,0,null,{"$f":"IF(ISERROR(DY34*$CL34/1000),0,DY34*$CL34/1000)","v":0}]
[null,null,null,null,null,null,null,"",null,0,null,0,null,{"$f":"IF(ISERROR(M35*$D35/1000),0,M35*$D35/1000)","v":0},null,{"$f":"IF(ISERROR(O35*$D35/1000),0,O35*$D35/1000)","v":0},null,{"$f":"IF(ISERROR(Q35*$D35/1000),0,Q35*$D35/1000)","v":0},null,{"$f":"IF(ISERROR(S35*$D35/1000),0,S35*$D35/1000)","v":0},null,{"$f":"IF(ISERROR(U35*$D35/1000),0,U35*$D35/1000)","v":0},null,{"$f":"IF(ISERROR(W35*$D35/1000),0,W35*$D35/1000)","v":0},null,{"$f":"IF(ISERROR(Y35*$D35/1000),0,Y35*$D35/1000)","v":0},null,{"$f":"IF(ISERROR(AA35*$D35/1000),0,AA35*$D35/1000)","v":0},null,{"$f":"IF(ISERROR(AC35*$D35/1000),0,AC35*$D35/1000)","v":0},null,{"$f":"IF(ISERROR(AE35*$D35/1000),0,AE35*$D35/1000)","v":0},null,0,null,0,null,0,null,0,null,0,null,0,null,null,null,null,null,null,"",null,0,null,0,null,0,null,0,null,0,null,0,null,0,null,0,null,0,null,0,null,0,null,0,null,0,null,0,null,0,null,0,null,0,null,0,null,null,null,null,null,null,"",null,0,null,0,null,{"$f":"IF(ISERROR(CU35*$CL35/1000),0,CU35*$CL35/1000)","v":0},null,{"$f":"IF(ISERROR(CW35*$CL35/1000),0,CW35*$CL35/1000)","v":0},null,{"$f":"IF(ISERROR(CY35*$CL35/1000),0,CY35*$CL35/1000)","v":0},null,{"$f":"IF(ISERROR(DA35*$CL35/1000),0,DA35*$CL35/1000)","v":0},null,{"$f":"IF(ISERROR(DC35*$CL35/1000),0,DC35*$CL35/1000)","v":0},null,{"$f":"IF(ISERROR(DE35*$CL35/1000),0,DE35*$CL35/1000)","v":0},null,{"$f":"IF(ISERROR(DG35*$CL35/1000),0,DG35*$CL35/1000)","v":0},null,{"$f":"IF(ISERROR(DI35*$CL35/1000),0,DI35*$CL35/1000)","v":0},null,{"$f":"IF(ISERROR(DK35*$CL35/1000),0,DK35*$CL35/1000)","v":0},null,{"$f":"IF(ISERROR(DM35*$CL35/1000),0,DM35*$CL35/1000)","v":0},null,0,null,0,null,0,null,0,null,0,null,{"$f":"IF(ISERROR(DY35*$CL35/1000),0,DY35*$CL35/1000)","v":0}]
[null,null,null,null,null,null,null,"",null,0,null,0,null,{"$f":"IF(ISERROR(M36*$D36/1000),0,M36*$D36/1000)","v":0},null,{"$f":"IF(ISERROR(O36*$D36/1000),0,O36*$D36/1000)","v":0},null,{"$f":"IF(ISERROR(Q36*$D36/1000),0,Q36*$D36/1000)","v":0},null,{"$f":"IF(ISERROR(S36*$D36/1000),0,S36*$D36/1000)","v":0},null,{"$f":"IF(ISERROR(U36*$D36/1000),0,U36*$D36/1000)","v":0},null,{"$f":"IF(ISERROR(W36*$D36/1000),0,W36*$D36/1000)","v":0},null,{"$f":"IF(ISERROR(Y36*$D36/1000),0,Y36*$D36/1000)","v":0},null,{"$f":"IF(ISERROR(AA36*$D36/1000),0,AA36*$D36/1000)","v":0},null,{"$f":"IF(ISERROR(AC36*$D36/1000),0,AC36*$D36/1000)","v":0},null,{"$f":"IF(ISERROR(AE36*$D36/1000),0,AE36*$D36/1000)","v":0},null,0,null,0,null,0,null,0,null,0,null,0,null,null,null,null,null,null,"",null,0,null,0,null,0,null,0,null,0,null,0,null,0,null,0,null,0,null,0,null,0,null,0,null,0,null,0,null,0,null,0,null,0,null,0,null,null,null,null,null,null,"",null,0,null,0,null,{"$f":"IF(ISERROR(CU36*$CL36/1000),0,CU36*$CL36/1000)","v":0},null,{"$f":"IF(ISERROR(CW36*$CL36/1000),0,CW36*$CL36/1000)","v":0},null,{"$f":"IF(ISERROR(CY36*$CL36/1000),0,CY36*$CL36/1000)","v":0},null,{"$f":"IF(ISERROR(DA36*$CL36/1000),0,DA36*$CL36/1000)","v":0},null,{"$f":"IF(ISERROR(DC36*$CL36/1000),0,DC36*$CL36/1000)","v":0},null,{"$f":"IF(ISERROR(DE36*$CL36/1000),0,DE36*$CL36/1000)","v":0},null,{"$f":"IF(ISERROR(DG36*$CL36/1000),0,DG36*$CL36/1000)","v":0},null,{"$f":"IF(ISERROR(DI36*$CL36/1000),0,DI36*$CL36/1000)","v":0},null,{"$f":"IF(ISERROR(DK36*$CL36/1000),0,DK36*$CL36/1000)","v":0},null,{"$f":"IF(ISERROR(DM36*$CL36/1000),0,DM36*$CL36/1000)","v":0},null,0,null,0,null,0,null,0,null,0,null,{"$f":"IF(ISERROR(DY36*$CL36/1000),0,DY36*$CL36/1000)","v":0}]
[null,null,null,null,null,null,null,"",null,0,null,0,null,{"$f":"IF(ISERROR(M37*$D37/1000),0,M37*$D37/1000)","v":0},null,{"$f":"IF(ISERROR(O37*$D37/1000),0,O37*$D37/1000)","v":0},null,{"$f":"IF(ISERROR(Q37*$D37/1000),0,Q37*$D37/1000)","v":0},null,{"$f":"IF(ISERROR(S37*$D37/1000),0,S37*$D37/1000)","v":0},null,{"$f":"IF(ISERROR(U37*$D37/1000),0,U37*$D37/1000)","v":0},null,{"$f":"IF(ISERROR(W37*$D37/1000),0,W37*$D37/1000)","v":0},null,{"$f":"IF(ISERROR(Y37*$D37/1000),0,Y37*$D37/1000)","v":0},null,{"$f":"IF(ISERROR(AA37*$D37/1000),0,AA37*$D37/1000)","v":0},null,{"$f":"IF(ISERROR(AC37*$D37/1000),0,AC37*$D37/1000)","v":0},null,{"$f":"IF(ISERROR(AE37*$D37/1000),0,AE37*$D37/1000)","v":0},null,0,null,0,null,0,null,0,null,0,null,0,null,null,null,null,null,null,"",null,0,null,0,null,0,null,0,null,0,null,0,null,0,null,0,null,0,null,0,null,0,null,0,null,0,null,0,null,0,null,0,null,0,null,0,null,null,null,null,null,null,"",null,0,null,0,null,{"$f":"IF(ISERROR(CU37*$CL37/1000),0,CU37*$CL37/1000)","v":0},null,{"$f":"IF(ISERROR(CW37*$CL37/1000),0,CW37*$CL37/1000)","v":0},null,{"$f":"IF(ISERROR(CY37*$CL37/1000),0,CY37*$CL37/1000)","v":0},null,{"$f":"IF(ISERROR(DA37*$CL37/1000),0,DA37*$CL37/1000)","v":0},null,{"$f":"IF(ISERROR(DC37*$CL37/1000),0,DC37*$CL37/1000)","v":0},null,{"$f":"IF(ISERROR(DE37*$CL37/1000),0,DE37*$CL37/1000)","v":0},null,{"$f":"IF(ISERROR(DG37*$CL37/1000),0,DG37*$CL37/1000)","v":0},null,{"$f":"IF(ISERROR(DI37*$CL37/1000),0,DI37*$CL37/1000)","v":0},null,{"$f":"IF(ISERROR(DK37*$CL37/1000),0,DK37*$CL37/1000)","v":0},null,{"$f":"IF(ISERROR(DM37*$CL37/1000),0,DM37*$CL37/1000)","v":0},null,0,null,0,null,0,null,0,null,0,null,{"$f":"IF(ISERROR(DY37*$CL37/1000),0,DY37*$CL37/1000)","v":0}]
[null,null,null,null,null,null,null,"",null,0,null,0,null,{"$f":"IF(ISERROR(M38*$D38/1000),0,M38*$D38/1000)","v":0},null,{"$f":"IF(ISERROR(O38*$D38/1000),0,O38*$D38/1000)","v":0},null,{"$f":"IF(ISERROR(Q38*$D38/1000),0,Q38*$D38/1000)","v":0},null,{"$f":"IF(ISERROR(S38*$D38/1000),0,S38*$D38/1000)","v":0},null,{"$f":"IF(ISERROR(U38*$D38/1000),0,U38*$D38/1000)","v":0},null,{"$f":"IF(ISERROR(W38*$D38/1000),0,W38*$D38/1000)","v":0},null,{"$f":"IF(ISERROR(Y38*$D38/1000),0,Y38*$D38/1000)","v":0},null,{"$f":"IF(ISERROR(AA38*$D38/1000),0,AA38*$D38/1000)","v":0},null,{"$f":"IF(ISERROR(AC38*$D38/1000),0,AC38*$D38/1000)","v":0},null,{"$f":"IF(ISERROR(AE38*$D38/1000),0,AE38*$D38/1000)","v":0},null,0,null,0,null,0,null,0,null,0,null,0,null,null,null,null,null,null,"",null,0,null,0,null,0,null,0,null,0,null,0,null,0,null,0,null,0,null,0,null,0,null,0,null,0,null,0,null,0,null,0,null,0,null,0,null,null,null,null,null,null,"",null,0,null,0,null,{"$f":"IF(ISERROR(CU38*$CL38/1000),0,CU38*$CL38/1000)","v":0},null,{"$f":"IF(ISERROR(CW38*$CL38/1000),0,CW38*$CL38/1000)","v":0},null,{"$f":"IF(ISERROR(CY38*$CL38/1000),0,CY38*$CL38/1000)","v":0},null,{"$f":"IF(ISERROR(DA38*$CL38/1000),0,DA38*$CL38/1000)","v":0},null,{"$f":"IF(ISERROR(DC38*$CL38/1000),0,DC38*$CL38/1000)","v":0},null,{"$f":"IF(ISERROR(DE38*$CL38/1000),0,DE38*$CL38/1000)","v":0},null,{"$f":"IF(ISERROR(DG38*$CL38/1000),0,DG38*$CL38/1000)","v":0},null,{"$f":"IF(ISERROR(DI38*$CL38/1000),0,DI38*$CL38/1000)","v":0},null,{"$f":"IF(ISERROR(DK38*$CL38/1000),0,DK38*$CL38/1000)","v":0},null,{"$f":"IF(ISERROR(DM38*$CL38/1000),0,DM38*$CL38/1000)","v":0},null,0,null,0,null,0,null,0,null,0,null,{"$f":"IF(ISERROR(DY38*$CL38/1000),0,DY38*$CL38/1000)","v":0}]
[null,null,null,null,null,null,null,"",null,0,null,0,null,{"$f":"IF(ISERROR(M39*$D39/1000),0,M39*$D39/1000)","v":0},null,{"$f":"IF(ISERROR(O39*$D39/1000),0,O39*$D39/1000)","v":0},null,{"$f":"IF(ISERROR(Q39*$D39/1000),0,Q39*$D39/1000)","v":0},null,{"$f":"IF(ISERROR(S39*$D39/1000),0,S39*$D39/1000)","v":0},null,{"$f":"IF(ISERROR(U39*$D39/1000),0,U39*$D39/1000)","v":0},null,{"$f":"IF(ISERROR(W39*$D39/1000),0,W39*$D39/1000)","v":0},null,{"$f":"IF(ISERROR(Y39*$D39/1000),0,Y39*$D39/1000)","v":0},null,{"$f":"IF(ISERROR(AA39*$D39/1000),0,AA39*$D39/1000)","v":0},null,{"$f":"IF(ISERROR(AC39*$D39/1000),0,AC39*$D39/1000)","v":0},null,{"$f":"IF(ISERROR(AE39*$D39/1000),0,AE39*$D39/1000)","v":0},null,0,null,0,null,0,null,0,null,0,null,0,null,null,null,null,null,null,"",null,0,null,0,null,0,null,0,null,0,null,0,null,0,null,0,null,0,null,0,null,0,null,0,null,0,null,0,null,0,null,0,null,0,null,0,null,null,null,null,null,null,"",null,0,null,0,null,{"$f":"IF(ISERROR(CU39*$CL39/1000),0,CU39*$CL39/1000)","v":0},null,{"$f":"IF(ISERROR(CW39*$CL39/1000),0,CW39*$CL39/1000)","v":0},null,{"$f":"IF(ISERROR(CY39*$CL39/1000),0,CY39*$CL39/1000)","v":0},null,{"$f":"IF(ISERROR(DA39*$CL39/1000),0,DA39*$CL39/1000)","v":0},null,{"$f":"IF(ISERROR(DC39*$CL39/1000),0,DC39*$CL39/1000)","v":0},null,{"$f":"IF(ISERROR(DE39*$CL39/1000),0,DE39*$CL39/1000)","v":0},null,{"$f":"IF(ISERROR(DG39*$CL39/1000),0,DG39*$CL39/1000)","v":0},null,{"$f":"IF(ISERROR(DI39*$CL39/1000),0,DI39*$CL39/1000)","v":0},null,{"$f":"IF(ISERROR(DK39*$CL39/1000),0,DK39*$CL39/1000)","v":0},null,{"$f":"IF(ISERROR(DM39*$CL39/1000),0,DM39*$CL39/1000)","v":0},null,0,null,0,null,0,null,0,null,0,null,{"$f":"IF(ISERROR(DY39*$CL39/1000),0,DY39*$CL39/1000)","v":0}]
[null,null,null,null,null,null,null,"",null,0,null,0,null,{"$f":"IF(ISERROR(M40*$D40/1000),0,M40*$D40/1000)","v":0},null,{"$f":"IF(ISERROR(O40*$D40/1000),0,O40*$D40/1000)","v":0},null,{"$f":"IF(ISERROR(Q40*$D40/1000),0,Q40*$D40/1000)","v":0},null,{"$f":"IF(ISERROR(S40*$D40/1000),0,S40*$D40/1000)","v":0},null,{"$f":"IF(ISERROR(U40*$D40/1000),0,U40*$D40/1000)","v":0},null,{"$f":"IF(ISERROR(W40*$D40/1000),0,W40*$D40/1000)","v":0},null,{"$f":"IF(ISERROR(Y40*$D40/1000),0,Y40*$D40/1000)","v":0},null,{"$f":"IF(ISERROR(AA40*$D40/1000),0,AA40*$D40/1000)","v":0},null,{"$f":"IF(ISERROR(AC40*$D40/1000),0,AC40*$D40/1000)","v":0},null,{"$f":"IF(ISERROR(AE40*$D40/1000),0,AE40*$D40/1000)","v":0},null,0,null,0,null,0,null,0,null,0,null,0,null,null,null,null,null,null,"",null,0,null,0,null,0,null,0,null,0,null,0,null,0,null,0,null,0,null,0,null,0,null,0,null,0,null,0,null,0,null,0,null,0,null,0,null,null,null,null,null,null,"",null,0,null,0,null,{"$f":"IF(ISERROR(CU40*$CL40/1000),0,CU40*$CL40/1000)","v":0},null,{"$f":"IF(ISERROR(CW40*$CL40/1000),0,CW40*$CL40/1000)","v":0},null,{"$f":"IF(ISERROR(CY40*$CL40/1000),0,CY40*$CL40/1000)","v":0},null,{"$f":"IF(ISERROR(DA40*$CL40/1000),0,DA40*$CL40/1000)","v":0},null,{"$f":"IF(ISERROR(DC40*$CL40/1000),0,DC40*$CL40/1000)","v":0},null,{"$f":"IF(ISERROR(DE40*$CL40/1000),0,DE40*$CL40/1000)","v":0},null,{"$f":"IF(ISERROR(DG40*$CL40/1000),0,DG40*$CL40/1000)","v":0},null,{"$f":"IF(ISERROR(DI40*$CL40/1000),0,DI40*$CL40/1000)","v":0},null,{"$f":"IF(ISERROR(DK40*$CL40/1000),0,DK40*$CL40/1000)","v":0},null,{"$f":"IF(ISERROR(DM40*$CL40/1000),0,DM40*$CL40/1000)","v":0},null,0,null,0,null,0,null,0,null,0,null,{"$f":"IF(ISERROR(DY40*$CL40/1000),0,DY40*$CL40/1000)","v":0}]
[null,null,null,null,null,null,null,"",null,0,null,0,null,{"$f":"IF(ISERROR(M41*$D41/1000),0,M41*$D41/1000)","v":0},null,{"$f":"IF(ISERROR(O41*$D41/1000),0,O41*$D41/1000)","v":0},null,{"$f":"IF(ISERROR(Q41*$D41/1000),0,Q41*$D41/1000)","v":0},null,{"$f":"IF(ISERROR(S41*$D41/1000),0,S41*$D41/1000)","v":0},null,{"$f":"IF(ISERROR(U41*$D41/1000),0,U41*$D41/1000)","v":0},null,{"$f":"IF(ISERROR(W41*$D41/1000),0,W41*$D41/1000)","v":0},null,{"$f":"IF(ISERROR(Y41*$D41/1000),0,Y41*$D41/1000)","v":0},null,{"$f":"IF(ISERROR(AA41*$D41/1000),0,AA41*$D41/1000)","v":0},null,{"$f":"IF(ISERROR(AC41*$D41/1000),0,AC41*$D41/1000)","v":0},null,{"$f":"IF(ISERROR(AE41*$D41/1000),0,AE41*$D41/1000)","v":0},null,0,null,0,null,0,null,0,null,0,null,0,null,null,null,null,null,null,"",null,0,null,0,null,0,null,0,null,0,null,0,null,0,null,0,null,0,null,0,null,0,null,0,null,0,null,0,null,0,null,0,null,0,null,0,null,null,null,null,null,null,"",null,0,null,0,null,{"$f":"IF(ISERROR(CU41*$CL41/1000),0,CU41*$CL41/1000)","v":0},null,{"$f":"IF(ISERROR(CW41*$CL41/1000),0,CW41*$CL41/1000)","v":0},null,{"$f":"IF(ISERROR(CY41*$CL41/1000),0,CY41*$CL41/1000)","v":0},null,{"$f":"IF(ISERROR(DA41*$CL41/1000),0,DA41*$CL41/1000)","v":0},null,{"$f":"IF(ISERROR(DC41*$CL41/1000),0,DC41*$CL41/1000)","v":0},null,{"$f":"IF(ISERROR(DE41*$CL41/1000),0,DE41*$CL41/1000)","v":0},null,{"$f":"IF(ISERROR(DG41*$CL41/1000),0,DG41*$CL41/1000)","v":0},null,{"$f":"IF(ISERROR(DI41*$CL41/1000),0,DI41*$CL41/1000)","v":0},null,{"$f":"IF(ISERROR(DK41*$CL41/1000),0,DK41*$CL41/1000)","v":0},null,{"$f":"IF(ISERROR(DM41*$CL41/1000),0,DM41*$CL41/1000)","v":0},null,0,null,0,null,0,null,0,null,0,null,{"$f":"IF(ISERROR(DY41*$CL41/1000),0,DY41*$CL41/1000)","v":0}]
[null,null,null,null,null,null,null,"",null,0,null,0,null,{"$f":"IF(ISERROR(M42*$D42/1000),0,M42*$D42/1000)","v":0},null,{"$f":"IF(ISERROR(O42*$D42/1000),0,O42*$D42/1000)","v":0},null,{"$f":"IF(ISERROR(Q42*$D42/1000),0,Q42*$D42/1000)","v":0},null,{"$f":"IF(ISERROR(S42*$D42/1000),0,S42*$D42/1000)","v":0},null,{"$f":"IF(ISERROR(U42*$D42/1000),0,U42*$D42/1000)","v":0},null,{"$f":"IF(ISERROR(W42*$D42/1000),0,W42*$D42/1000)","v":0},null,{"$f":"IF(ISERROR(Y42*$D42/1000),0,Y42*$D42/1000)","v":0},null,{"$f":"IF(ISERROR(AA42*$D42/1000),0,AA42*$D42/1000)","v":0},null,{"$f":"IF(ISERROR(AC42*$D42/1000),0,AC42*$D42/1000)","v":0},null,{"$f":"IF(ISERROR(AE42*$D42/1000),0,AE42*$D42/1000)","v":0},null,0,null,0,null,0,null,0,null,0,null,0,null,null,null,null,null,null,"",null,0,null,0,null,0,null,0,null,0,null,0,null,0,null,0,null,0,null,0,null,0,null,0,null,0,null,0,null,0,null,0,null,0,null,0,null,null,null,null,null,null,"",null,0,null,0,null,{"$f":"IF(ISERROR(CU42*$CL42/1000),0,CU42*$CL42/1000)","v":0},null,{"$f":"IF(ISERROR(CW42*$CL42/1000),0,CW42*$CL42/1000)","v":0},null,{"$f":"IF(ISERROR(CY42*$CL42/1000),0,CY42*$CL42/1000)","v":0},null,{"$f":"IF(ISERROR(DA42*$CL42/1000),0,DA42*$CL42/1000)","v":0},null,{"$f":"IF(ISERROR(DC42*$CL42/1000),0,DC42*$CL42/1000)","v":0},null,{"$f":"IF(ISERROR(DE42*$CL42/1000),0,DE42*$CL42/1000)","v":0},null,{"$f":"IF(ISERROR(DG42*$CL42/1000),0,DG42*$CL42/1000)","v":0},null,{"$f":"IF(ISERROR(DI42*$CL42/1000),0,DI42*$CL42/1000)","v":0},null,{"$f":"IF(ISERROR(DK42*$CL42/1000),0,DK42*$CL42/1000)","v":0},null,{"$f":"IF(ISERROR(DM42*$CL42/1000),0,DM42*$CL42/1000)","v":0},null,0,null,0,null,0,null,0,null,0,null,{"$f":"IF(ISERROR(DY42*$CL42/1000),0,DY42*$CL42/1000)","v":0}]
[null,null,null,null,null,null,null,"",null,0,null,0,null,{"$f":"IF(ISERROR(M43*$D43/1000),0,M43*$D43/1000)","v":0},null,{"$f":"IF(ISERROR(O43*$D43/1000),0,O43*$D43/1000)","v":0},null,{"$f":"IF(ISERROR(Q43*$D43/1000),0,Q43*$D43/1000)","v":0},null,{"$f":"IF(ISERROR(S43*$D43/1000),0,S43*$D43/1000)","v":0},null,{"$f":"IF(ISERROR(U43*$D43/1000),0,U43*$D43/1000)","v":0},null,{"$f":"IF(ISERROR(W43*$D43/1000),0,W43*$D43/1000)","v":0},null,{"$f":"IF(ISERROR(Y43*$D43/1000),0,Y43*$D43/1000)","v":0},null,{"$f":"IF(ISERROR(AA43*$D43/1000),0,AA43*$D43/1000)","v":0},null,{"$f":"IF(ISERROR(AC43*$D43/1000),0,AC43*$D43/1000)","v":0},null,{"$f":"IF(ISERROR(AE43*$D43/1000),0,AE43*$D43/1000)","v":0},null,0,null,0,null,0,null,0,null,0,null,0,null,null,null,null,null,null,"",null,0,null,0,null,0,null,0,null,0,null,0,null,0,null,0,null,0,null,0,null,0,null,0,null,0,null,0,null,0,null,0,null,0,null,0,null,null,null,null,null,null,"",null,0,null,0,null,{"$f":"IF(ISERROR(CU43*$CL43/1000),0,CU43*$CL43/1000)","v":0},null,{"$f":"IF(ISERROR(CW43*$CL43/1000),0,CW43*$CL43/1000)","v":0},null,{"$f":"IF(ISERROR(CY43*$CL43/1000),0,CY43*$CL43/1000)","v":0},null,{"$f":"IF(ISERROR(DA43*$CL43/1000),0,DA43*$CL43/1000)","v":0},null,{"$f":"IF(ISERROR(DC43*$CL43/1000),0,DC43*$CL43/1000)","v":0},null,{"$f":"IF(ISERROR(DE43*$CL43/1000),0,DE43*$CL43/1000)","v":0},null,{"$f":"IF(ISERROR(DG43*$CL43/1000),0,DG43*$CL43/1000)","v":0},null,{"$f":"IF(ISERROR(DI43*$CL43/1000),0,DI43*$CL43/1000)","v":0},null,{"$f":"IF(ISERROR(DK43*$CL43/1000),0,DK43*$CL43/1000)","v":0},null,{"$f":"IF(ISERROR(DM43*$CL43/1000),0,DM43*$CL43/1000)","v":0},null,0,null,0,null,0,null,0,null,0,null,{"$f":"IF(ISERROR(DY43*$CL43/1000),0,DY43*$CL43/1000)","v":0}]
[null,null,null,null,null,null,null,"",null,0,null,0,null,{"$f":"IF(ISERROR(M44*$D44/1000),0,M44*$D44/1000)","v":0},null,{"$f":"IF(ISERROR(O44*$D44/1000),0,O44*$D44/1000)","v":0},null,{"$f":"IF(ISERROR(Q44*$D44/1000),0,Q44*$D44/1000)","v":0},null,{"$f":"IF(ISERROR(S44*$D44/1000),0,S44*$D44/1000)","v":0},null,{"$f":"IF(ISERROR(U44*$D44/1000),0,U44*$D44/1000)","v":0},null,{"$f":"IF(ISERROR(W44*$D44/1000),0,W44*$D44/1000)","v":0},null,{"$f":"IF(ISERROR(Y44*$D44/1000),0,Y44*$D44/1000)","v":0},null,{"$f":"IF(ISERROR(AA44*$D44/1000),0,AA44*$D44/1000)","v":0},null,{"$f":"IF(ISERROR(AC44*$D44/1000),0,AC44*$D44/1000)","v":0},null,{"$f":"IF(ISERROR(AE44*$D44/1000),0,AE44*$D44/1000)","v":0},null,0,null,0,null,0,null,0,null,0,null,0,null,null,null,null,null,null,"",null,0,null,0,null,0,null,0,null,0,null,0,null,0,null,0,null,0,null,0,null,0,null,0,null,0,null,0,null,0,null,0,null,0,null,0,null,null,null,null,null,null,"",null,0,null,0,null,{"$f":"IF(ISERROR(CU44*$CL44/1000),0,CU44*$CL44/1000)","v":0},null,{"$f":"IF(ISERROR(CW44*$CL44/1000),0,CW44*$CL44/1000)","v":0},null,{"$f":"IF(ISERROR(CY44*$CL44/1000),0,CY44*$CL44/1000)","v":0},null,{"$f":"IF(ISERROR(DA44*$CL44/1000),0,DA44*$CL44/1000)","v":0},null,{"$f":"IF(ISERROR(DC44*$CL44/1000),0,DC44*$CL44/1000)","v":0},null,{"$f":"IF(ISERROR(DE44*$CL44/1000),0,DE44*$CL44/1000)","v":0},null,{"$f":"IF(ISERROR(DG44*$CL44/1000),0,DG44*$CL44/1000)","v":0},null,{"$f":"IF(ISERROR(DI44*$CL44/1000),0,DI44*$CL44/1000)","v":0},null,{"$f":"IF(ISERROR(DK44*$CL44/1000),0,DK44*$CL44/1000)","v":0},null,{"$f":"IF(ISERROR(DM44*$CL44/1000),0,DM44*$CL44/1000)","v":0},null,0,null,0,null,0,null,0,null,0,null,{"$f":"IF(ISERROR(DY44*$CL44/1000),0,DY44*$CL44/1000)","v":0}]
[null,null,null,null,null,null,null,"",null,0,null,0,null,{"$f":"IF(ISERROR(M45*$D45/1000),0,M45*$D45/1000)","v":0},null,{"$f":"IF(ISERROR(O45*$D45/1000),0,O45*$D45/1000)","v":0},null,{"$f":"IF(ISERROR(Q45*$D45/1000),0,Q45*$D45/1000)","v":0},null,{"$f":"IF(ISERROR(S45*$D45/1000),0,S45*$D45/1000)","v":0},null,{"$f":"IF(ISERROR(U45*$D45/1000),0,U45*$D45/1000)","v":0},null,{"$f":"IF(ISERROR(W45*$D45/1000),0,W45*$D45/1000)","v":0},null,{"$f":"IF(ISERROR(Y45*$D45/1000),0,Y45*$D45/1000)","v":0},null,{"$f":"IF(ISERROR(AA45*$D45/1000),0,AA45*$D45/1000)","v":0},null,{"$f":"IF(ISERROR(AC45*$D45/1000),0,AC45*$D45/1000)","v":0},null,{"$f":"IF(ISERROR(AE45*$D45/1000),0,AE45*$D45/1000)","v":0},null,0,null,0,null,0,null,0,null,0,null,0,null,null,null,null,null,null,"",null,0,null,0,null,0,null,0,null,0,null,0,null,0,null,0,null,0,null,0,null,0,null,0,null,0,null,0,null,0,null,0,null,0,null,0,null,null,null,null,null,null,"",null,0,null,0,null,{"$f":"IF(ISERROR(CU45*$CL45/1000),0,CU45*$CL45/1000)","v":0},null,{"$f":"IF(ISERROR(CW45*$CL45/1000),0,CW45*$CL45/1000)","v":0},null,{"$f":"IF(ISERROR(CY45*$CL45/1000),0,CY45*$CL45/1000)","v":0},null,{"$f":"IF(ISERROR(DA45*$CL45/1000),0,DA45*$CL45/1000)","v":0},null,{"$f":"IF(ISERROR(DC45*$CL45/1000),0,DC45*$CL45/1000)","v":0},null,{"$f":"IF(ISERROR(DE45*$CL45/1000),0,DE45*$CL45/1000)","v":0},null,{"$f":"IF(ISERROR(DG45*$CL45/1000),0,DG45*$CL45/1000)","v":0},null,{"$f":"IF(ISERROR(DI45*$CL45/1000),0,DI45*$CL45/1000)","v":0},null,{"$f":"IF(ISERROR(DK45*$CL45/1000),0,DK45*$CL45/1000)","v":0},null,{"$f":"IF(ISERROR(DM45*$CL45/1000),0,DM45*$CL45/1000)","v":0},null,0,null,0,null,0,null,0,null,0,null,{"$f":"IF(ISERROR(DY45*$CL45/1000),0,DY45*$CL45/1000)","v":0}]
[null,"Février",null,null,null,null,null,"",null,0,null,0,null,{"$f":"IF(ISERROR(M46*$D46/1000),0,M46*$D46/1000)","v":0},null,{"$f":"IF(ISERROR(O46*$D46/1000),0,O46*$D46/1000)","v":0},null,{"$f":"IF(ISERROR(Q46*$D46/1000),0,Q46*$D46/1000)","v":0},null,{"$f":"IF(ISERROR(S46*$D46/1000),0,S46*$D46/1000)","v":0},null,{"$f":"IF(ISERROR(U46*$D46/1000),0,U46*$D46/1000)","v":0},null,{"$f":"IF(ISERROR(W46*$D46/1000),0,W46*$D46/1000)","v":0},null,{"$f":"IF(ISERROR(Y46*$D46/1000),0,Y46*$D46/1000)","v":0},null,{"$f":"IF(ISERROR(AA46*$D46/1000),0,AA46*$D46/1000)","v":0},null,{"$f":"IF(ISERROR(AC46*$D46/1000),0,AC46*$D46/1000)","v":0},null,{"$f":"IF(ISERROR(AE46*$D46/1000),0,AE46*$D46/1000)","v":0},null,0,null,0,null,0,null,0,null,0,null,0,null,null,null,null,null,null,"",null,0,null,0,null,0,null,0,null,0,null,0,null,0,null,0,null,0,null,0,null,0,null,0,null,0,null,0,null,0,null,0,null,0,null,0,null,null,null,null,null,null,"",null,0,null,0,null,{"$f":"IF(ISERROR(CU46*$CL46/1000),0,CU46*$CL46/1000)","v":0},null,{"$f":"IF(ISERROR(CW46*$CL46/1000),0,CW46*$CL46/1000)","v":0},null,{"$f":"IF(ISERROR(CY46*$CL46/1000),0,CY46*$CL46/1000)","v":0},null,{"$f":"IF(ISERROR(DA46*$CL46/1000),0,DA46*$CL46/1000)","v":0},null,{"$f":"IF(ISERROR(DC46*$CL46/1000),0,DC46*$CL46/1000)","v":0},null,{"$f":"IF(ISERROR(DE46*$CL46/1000),0,DE46*$CL46/1000)","v":0},null,{"$f":"IF(ISERROR(DG46*$CL46/1000),0,DG46*$CL46/1000)","v":0},null,{"$f":"IF(ISERROR(DI46*$CL46/1000),0,DI46*$CL46/1000)","v":0},null,{"$f":"IF(ISERROR(DK46*$CL46/1000),0,DK46*$CL46/1000)","v":0},null,{"$f":"IF(ISERROR(DM46*$CL46/1000),0,DM46*$CL46/1000)","v":0},null,0,null,0,null,0,null,0,null,0,null,{"$f":"IF(ISERROR(DY46*$CL46/1000),0,DY46*$CL46/1000)","v":0}]
[null,null,null,null,null,null,null,"",null,0,null,0,null,{"$f":"IF(ISERROR(M47*$D47/1000),0,M47*$D47/1000)","v":0},null,{"$f":"IF(ISERROR(O47*$D47/1000),0,O47*$D47/1000)","v":0},null,{"$f":"IF(ISERROR(Q47*$D47/1000),0,Q47*$D47/1000)","v":0},null,{"$f":"IF(ISERROR(S47*$D47/1000),0,S47*$D47/1000)","v":0},null,{"$f":"IF(ISERROR(U47*$D47/1000),0,U47*$D47/1000)","v":0},null,{"$f":"IF(ISERROR(W47*$D47/1000),0,W47*$D47/1000)","v":0},null,{"$f":"IF(ISERROR(Y47*$D47/1000),0,Y47*$D47/1000)","v":0},null,{"$f":"IF(ISERROR(AA47*$D47/1000),0,AA47*$D47/1000)","v":0},null,{"$f":"IF(ISERROR(AC47*$D47/1000),0,AC47*$D47/1000)","v":0},null,{"$f":"IF(ISERROR(AE47*$D47/1000),0,AE47*$D47/1000)","v":0},null,0,null,0,null,0,null,0,null,0,null,0,null,null,null,null,null,null,"",null,0,null,0,null,0,null,0,null,0,null,0,null,0,null,0,null,0,null,0,null,0,null,0,null,0,null,0,null,0,null,0,null,0,null,0,null,null,null,null,null,null,"",null,0,null,0,null,{"$f":"IF(ISERROR(CU47*$CL47/1000),0,CU47*$CL47/1000)","v":0},null,{"$f":"IF(ISERROR(CW47*$CL47/1000),0,CW47*$CL47/1000)","v":0},null,{"$f":"IF(ISERROR(CY47*$CL47/1000),0,CY47*$CL47/1000)","v":0},null,{"$f":"IF(ISERROR(DA47*$CL47/1000),0,DA47*$CL47/1000)","v":0},null,{"$f":"IF(ISERROR(DC47*$CL47/1000),0,DC47*$CL47/1000)","v":0},null,{"$f":"IF(ISERROR(DE47*$CL47/1000),0,DE47*$CL47/1000)","v":0},null,{"$f":"IF(ISERROR(DG47*$CL47/1000),0,DG47*$CL47/1000)","v":0},null,{"$f":"IF(ISERROR(DI47*$CL47/1000),0,DI47*$CL47/1000)","v":0},null,{"$f":"IF(ISERROR(DK47*$CL47/1000),0,DK47*$CL47/1000)","v":0},null,{"$f":"IF(ISERROR(DM47*$CL47/1000),0,DM47*$CL47/1000)","v":0},null,0,null,0,null,0,null,0,null,0,null,{"$f":"IF(ISERROR(DY47*$CL47/1000),0,DY47*$CL47/1000)","v":0}]
[null,null,null,null,null,null,null,"",null,0,null,0,null,{"$f":"IF(ISERROR(M48*$D48/1000),0,M48*$D48/1000)","v":0},null,{"$f":"IF(ISERROR(O48*$D48/1000),0,O48*$D48/1000)","v":0},null,{"$f":"IF(ISERROR(Q48*$D48/1000),0,Q48*$D48/1000)","v":0},null,{"$f":"IF(ISERROR(S48*$D48/1000),0,S48*$D48/1000)","v":0},null,{"$f":"IF(ISERROR(U48*$D48/1000),0,U48*$D48/1000)","v":0},null,{"$f":"IF(ISERROR(W48*$D48/1000),0,W48*$D48/1000)","v":0},null,{"$f":"IF(ISERROR(Y48*$D48/1000),0,Y48*$D48/1000)","v":0},null,{"$f":"IF(ISERROR(AA48*$D48/1000),0,AA48*$D48/1000)","v":0},null,{"$f":"IF(ISERROR(AC48*$D48/1000),0,AC48*$D48/1000)","v":0},null,{"$f":"IF(ISERROR(AE48*$D48/1000),0,AE48*$D48/1000)","v":0},null,0,null,0,null,0,null,0,null,0,null,0,null,null,null,null,null,null,"",null,0,null,0,null,0,null,0,null,0,null,0,null,0,null,0,null,0,null,0,null,0,null,0,null,0,null,0,null,0,null,0,null,0,null,0,null,null,null,null,null,null,"",null,0,null,0,null,{"$f":"IF(ISERROR(CU48*$CL48/1000),0,CU48*$CL48/1000)","v":0},null,{"$f":"IF(ISERROR(CW48*$CL48/1000),0,CW48*$CL48/1000)","v":0},null,{"$f":"IF(ISERROR(CY48*$CL48/1000),0,CY48*$CL48/1000)","v":0},null,{"$f":"IF(ISERROR(DA48*$CL48/1000),0,DA48*$CL48/1000)","v":0},null,{"$f":"IF(ISERROR(DC48*$CL48/1000),0,DC48*$CL48/1000)","v":0},null,{"$f":"IF(ISERROR(DE48*$CL48/1000),0,DE48*$CL48/1000)","v":0},null,{"$f":"IF(ISERROR(DG48*$CL48/1000),0,DG48*$CL48/1000)","v":0},null,{"$f":"IF(ISERROR(DI48*$CL48/1000),0,DI48*$CL48/1000)","v":0},null,{"$f":"IF(ISERROR(DK48*$CL48/1000),0,DK48*$CL48/1000)","v":0},null,{"$f":"IF(ISERROR(DM48*$CL48/1000),0,DM48*$CL48/1000)","v":0},null,0,null,0,null,0,null,0,null,0,null,{"$f":"IF(ISERROR(DY48*$CL48/1000),0,DY48*$CL48/1000)","v":0}]
[null,null,null,null,null,null,null,"",null,0,null,0,null,{"$f":"IF(ISERROR(M49*$D49/1000),0,M49*$D49/1000)","v":0},null,{"$f":"IF(ISERROR(O49*$D49/1000),0,O49*$D49/1000)","v":0},null,{"$f":"IF(ISERROR(Q49*$D49/1000),0,Q49*$D49/1000)","v":0},null,{"$f":"IF(ISERROR(S49*$D49/1000),0,S49*$D49/1000)","v":0},null,{"$f":"IF(ISERROR(U49*$D49/1000),0,U49*$D49/1000)","v":0},null,{"$f":"IF(ISERROR(W49*$D49/1000),0,W49*$D49/1000)","v":0},null,{"$f":"IF(ISERROR(Y49*$D49/1000),0,Y49*$D49/1000)","v":0},null,{"$f":"IF(ISERROR(AA49*$D49/1000),0,AA49*$D49/1000)","v":0},null,{"$f":"IF(ISERROR(AC49*$D49/1000),0,AC49*$D49/1000)","v":0},null,{"$f":"IF(ISERROR(AE49*$D49/1000),0,AE49*$D49/1000)","v":0},null,0,null,0,null,0,null,0,null,0,null,0,null,null,null,null,null,null,"",null,0,null,0,null,0,null,0,null,0,null,0,null,0,null,0,null,0,null,0,null,0,null,0,null,0,null,0,null,0,null,0,null,0,null,0,null,null,null,null,null,null,"",null,0,null,0,null,{"$f":"IF(ISERROR(CU49*$CL49/1000),0,CU49*$CL49/1000)","v":0},null,{"$f":"IF(ISERROR(CW49*$CL49/1000),0,CW49*$CL49/1000)","v":0},null,{"$f":"IF(ISERROR(CY49*$CL49/1000),0,CY49*$CL49/1000)","v":0},null,{"$f":"IF(ISERROR(DA49*$CL49/1000),0,DA49*$CL49/1000)","v":0},null,{"$f":"IF(ISERROR(DC49*$CL49/1000),0,DC49*$CL49/1000)","v":0},null,{"$f":"IF(ISERROR(DE49*$CL49/1000),0,DE49*$CL49/1000)","v":0},null,{"$f":"IF(ISERROR(DG49*$CL49/1000),0,DG49*$CL49/1000)","v":0},null,{"$f":"IF(ISERROR(DI49*$CL49/1000),0,DI49*$CL49/1000)","v":0},null,{"$f":"IF(ISERROR(DK49*$CL49/1000),0,DK49*$CL49/1000)","v":0},null,{"$f":"IF(ISERROR(DM49*$CL49/1000),0,DM49*$CL49/1000)","v":0},null,0,null,0,null,0,null,0,null,0,null,{"$f":"IF(ISERROR(DY49*$CL49/1000),0,DY49*$CL49/1000)","v":0}]
[null,null,null,null,null,null,null,"",null,0,null,0,null,{"$f":"IF(ISERROR(M50*$D50/1000),0,M50*$D50/1000)","v":0},null,{"$f":"IF(ISERROR(O50*$D50/1000),0,O50*$D50/1000)","v":0},null,{"$f":"IF(ISERROR(Q50*$D50/1000),0,Q50*$D50/1000)","v":0},null,{"$f":"IF(ISERROR(S50*$D50/1000),0,S50*$D50/1000)","v":0},null,{"$f":"IF(ISERROR(U50*$D50/1000),0,U50*$D50/1000)","v":0},null,{"$f":"IF(ISERROR(W50*$D50/1000),0,W50*$D50/1000)","v":0},null,{"$f":"IF(ISERROR(Y50*$D50/1000),0,Y50*$D50/1000)","v":0},null,{"$f":"IF(ISERROR(AA50*$D50/1000),0,AA50*$D50/1000)","v":0},null,{"$f":"IF(ISERROR(AC50*$D50/1000),0,AC50*$D50/1000)","v":0},null,{"$f":"IF(ISERROR(AE50*$D50/1000),0,AE50*$D50/1000)","v":0},null,0,null,0,null,0,null,0,null,0,null,0,null,null,null,null,null,null,"",null,0,null,0,null,0,null,0,null,0,null,0,null,0,null,0,null,0,null,0,null,0,null,0,null,0,null,0,null,0,null,0,null,0,null,0,null,null,null,null,null,null,"",null,0,null,0,null,{"$f":"IF(ISERROR(CU50*$CL50/1000),0,CU50*$CL50/1000)","v":0},null,{"$f":"IF(ISERROR(CW50*$CL50/1000),0,CW50*$CL50/1000)","v":0},null,{"$f":"IF(ISERROR(CY50*$CL50/1000),0,CY50*$CL50/1000)","v":0},null,{"$f":"IF(ISERROR(DA50*$CL50/1000),0,DA50*$CL50/1000)","v":0},null,{"$f":"IF(ISERROR(DC50*$CL50/1000),0,DC50*$CL50/1000)","v":0},null,{"$f":"IF(ISERROR(DE50*$CL50/1000),0,DE50*$CL50/1000)","v":0},null,{"$f":"IF(ISERROR(DG50*$CL50/1000),0,DG50*$CL50/1000)","v":0},null,{"$f":"IF(ISERROR(DI50*$CL50/1000),0,DI50*$CL50/1000)","v":0},null,{"$f":"IF(ISERROR(DK50*$CL50/1000),0,DK50*$CL50/1000)","v":0},null,{"$f":"IF(ISERROR(DM50*$CL50/1000),0,DM50*$CL50/1000)","v":0},null,0,null,0,null,0,null,0,null,0,null,{"$f":"IF(ISERROR(DY50*$CL50/1000),0,DY50*$CL50/1000)","v":0}]
[null,null,null,null,null,null,null,"",null,0,null,0,null,{"$f":"IF(ISERROR(M51*$D51/1000),0,M51*$D51/1000)","v":0},null,{"$f":"IF(ISERROR(O51*$D51/1000),0,O51*$D51/1000)","v":0},null,{"$f":"IF(ISERROR(Q51*$D51/1000),0,Q51*$D51/1000)","v":0},null,{"$f":"IF(ISERROR(S51*$D51/1000),0,S51*$D51/1000)","v":0},null,{"$f":"IF(ISERROR(U51*$D51/1000),0,U51*$D51/1000)","v":0},null,{"$f":"IF(ISERROR(W51*$D51/1000),0,W51*$D51/1000)","v":0},null,{"$f":"IF(ISERROR(Y51*$D51/1000),0,Y51*$D51/1000)","v":0},null,{"$f":"IF(ISERROR(AA51*$D51/1000),0,AA51*$D51/1000)","v":0},null,{"$f":"IF(ISERROR(AC51*$D51/1000),0,AC51*$D51/1000)","v":0},null,{"$f":"IF(ISERROR(AE51*$D51/1000),0,AE51*$D51/1000)","v":0},null,0,null,0,null,0,null,0,null,0,null,0,null,null,null,null,null,null,"",null,0,null,0,null,0,null,0,null,0,null,0,null,0,null,0,null,0,null,0,null,0,null,0,null,0,null,0,null,0,null,0,null,0,null,0,null,null,null,null,null,null,"",null,0,null,0,null,{"$f":"IF(ISERROR(CU51*$CL51/1000),0,CU51*$CL51/1000)","v":0},null,{"$f":"IF(ISERROR(CW51*$CL51/1000),0,CW51*$CL51/1000)","v":0},null,{"$f":"IF(ISERROR(CY51*$CL51/1000),0,CY51*$CL51/1000)","v":0},null,{"$f":"IF(ISERROR(DA51*$CL51/1000),0,DA51*$CL51/1000)","v":0},null,{"$f":"IF(ISERROR(DC51*$CL51/1000),0,DC51*$CL51/1000)","v":0},null,{"$f":"IF(ISERROR(DE51*$CL51/1000),0,DE51*$CL51/1000)","v":0},null,{"$f":"IF(ISERROR(DG51*$CL51/1000),0,DG51*$CL51/1000)","v":0},null,{"$f":"IF(ISERROR(DI51*$CL51/1000),0,DI51*$CL51/1000)","v":0},null,{"$f":"IF(ISERROR(DK51*$CL51/1000),0,DK51*$CL51/1000)","v":0},null,{"$f":"IF(ISERROR(DM51*$CL51/1000),0,DM51*$CL51/1000)","v":0},null,0,null,0,null,0,null,0,null,0,null,{"$f":"IF(ISERROR(DY51*$CL51/1000),0,DY51*$CL51/1000)","v":0}]
[null,null,null,null,null,null,null,"",null,0,null,0,null,{"$f":"IF(ISERROR(M52*$D52/1000),0,M52*$D52/1000)","v":0},null,{"$f":"IF(ISERROR(O52*$D52/1000),0,O52*$D52/1000)","v":0},null,{"$f":"IF(ISERROR(Q52*$D52/1000),0,Q52*$D52/1000)","v":0},null,{"$f":"IF(ISERROR(S52*$D52/1000),0,S52*$D52/1000)","v":0},null,{"$f":"IF(ISERROR(U52*$D52/1000),0,U52*$D52/1000)","v":0},null,{"$f":"IF(ISERROR(W52*$D52/1000),0,W52*$D52/1000)","v":0},null,{"$f":"IF(ISERROR(Y52*$D52/1000),0,Y52*$D52/1000)","v":0},null,{"$f":"IF(ISERROR(AA52*$D52/1000),0,AA52*$D52/1000)","v":0},null,{"$f":"IF(ISERROR(AC52*$D52/1000),0,AC52*$D52/1000)","v":0},null,{"$f":"IF(ISERROR(AE52*$D52/1000),0,AE52*$D52/1000)","v":0},null,0,null,0,null,0,null,0,null,0,null,0,null,null,null,null,null,null,"",null,0,null,0,null,0,null,0,null,0,null,0,null,0,null,0,null,0,null,0,null,0,null,0,null,0,null,0,null,0,null,0,null,0,null,0,null,null,null,null,null,null,"",null,0,null,0,null,{"$f":"IF(ISERROR(CU52*$CL52/1000),0,CU52*$CL52/1000)","v":0},null,{"$f":"IF(ISERROR(CW52*$CL52/1000),0,CW52*$CL52/1000)","v":0},null,{"$f":"IF(ISERROR(CY52*$CL52/1000),0,CY52*$CL52/1000)","v":0},null,{"$f":"IF(ISERROR(DA52*$CL52/1000),0,DA52*$CL52/1000)","v":0},null,{"$f":"IF(ISERROR(DC52*$CL52/1000),0,DC52*$CL52/1000)","v":0},null,{"$f":"IF(ISERROR(DE52*$CL52/1000),0,DE52*$CL52/1000)","v":0},null,{"$f":"IF(ISERROR(DG52*$CL52/1000),0,DG52*$CL52/1000)","v":0},null,{"$f":"IF(ISERROR(DI52*$CL52/1000),0,DI52*$CL52/1000)","v":0},null,{"$f":"IF(ISERROR(DK52*$CL52/1000),0,DK52*$CL52/1000)","v":0},null,{"$f":"IF(ISERROR(DM52*$CL52/1000),0,DM52*$CL52/1000)","v":0},null,0,null,0,null,0,null,0,null,0,null,{"$f":"IF(ISERROR(DY52*$CL52/1000),0,DY52*$CL52/1000)","v":0}]
[null,null,null,null,null,null,null,"",null,0,null,0,null,{"$f":"IF(ISERROR(M53*$D53/1000),0,M53*$D53/1000)","v":0},null,{"$f":"IF(ISERROR(O53*$D53/1000),0,O53*$D53/1000)","v":0},null,{"$f":"IF(ISERROR(Q53*$D53/1000),0,Q53*$D53/1000)","v":0},null,{"$f":"IF(ISERROR(S53*$D53/1000),0,S53*$D53/1000)","v":0},null,{"$f":"IF(ISERROR(U53*$D53/1000),0,U53*$D53/1000)","v":0},null,{"$f":"IF(ISERROR(W53*$D53/1000),0,W53*$D53/1000)","v":0},null,{"$f":"IF(ISERROR(Y53*$D53/1000),0,Y53*$D53/1000)","v":0},null,{"$f":"IF(ISERROR(AA53*$D53/1000),0,AA53*$D53/1000)","v":0},null,{"$f":"IF(ISERROR(AC53*$D53/1000),0,AC53*$D53/1000)","v":0},null,{"$f":"IF(ISERROR(AE53*$D53/1000),0,AE53*$D53/1000)","v":0},null,0,null,0,null,0,null,0,null,0,null,0,null,null,null,null,null,null,"",null,0,null,0,null,0,null,0,null,0,null,0,null,0,null,0,null,0,null,0,null,0,null,0,null,0,null,0,null,0,null,0,null,0,null,0,null,null,null,null,null,null,"",null,0,null,0,null,{"$f":"IF(ISERROR(CU53*$CL53/1000),0,CU53*$CL53/1000)","v":0},null,{"$f":"IF(ISERROR(CW53*$CL53/1000),0,CW53*$CL53/1000)","v":0},null,{"$f":"IF(ISERROR(CY53*$CL53/1000),0,CY53*$CL53/1000)","v":0},null,{"$f":"IF(ISERROR(DA53*$CL53/1000),0,DA53*$CL53/1000)","v":0},null,{"$f":"IF(ISERROR(DC53*$CL53/1000),0,DC53*$CL53/1000)","v":0},null,{"$f":"IF(ISERROR(DE53*$CL53/1000),0,DE53*$CL53/1000)","v":0},null,{"$f":"IF(ISERROR(DG53*$CL53/1000),0,DG53*$CL53/1000)","v":0},null,{"$f":"IF(ISERROR(DI53*$CL53/1000),0,DI53*$CL53/1000)","v":0},null,{"$f":"IF(ISERROR(DK53*$CL53/1000),0,DK53*$CL53/1000)","v":0},null,{"$f":"IF(ISERROR(DM53*$CL53/1000),0,DM53*$CL53/1000)","v":0},null,0,null,0,null,0,null,0,null,0,null,{"$f":"IF(ISERROR(DY53*$CL53/1000),0,DY53*$CL53/1000)","v":0}]
[null,null,null,null,null,null,null,"",null,0,null,0,null,{"$f":"IF(ISERROR(M54*$D54/1000),0,M54*$D54/1000)","v":0},null,{"$f":"IF(ISERROR(O54*$D54/1000),0,O54*$D54/1000)","v":0},null,{"$f":"IF(ISERROR(Q54*$D54/1000),0,Q54*$D54/1000)","v":0},null,{"$f":"IF(ISERROR(S54*$D54/1000),0,S54*$D54/1000)","v":0},null,{"$f":"IF(ISERROR(U54*$D54/1000),0,U54*$D54/1000)","v":0},null,{"$f":"IF(ISERROR(W54*$D54/1000),0,W54*$D54/1000)","v":0},null,{"$f":"IF(ISERROR(Y54*$D54/1000),0,Y54*$D54/1000)","v":0},null,{"$f":"IF(ISERROR(AA54*$D54/1000),0,AA54*$D54/1000)","v":0},null,{"$f":"IF(ISERROR(AC54*$D54/1000),0,AC54*$D54/1000)","v":0},null,{"$f":"IF(ISERROR(AE54*$D54/1000),0,AE54*$D54/1000)","v":0},null,0,null,0,null,0,null,0,null,0,null,0,null,null,null,null,null,null,"",null,0,null,0,null,0,null,0,null,0,null,0,null,0,null,0,null,0,null,0,null,0,null,0,null,0,null,0,null,0,null,0,null,0,null,0,null,null,null,null,null,null,"",null,0,null,0,null,{"$f":"IF(ISERROR(CU54*$CL54/1000),0,CU54*$CL54/1000)","v":0},null,{"$f":"IF(ISERROR(CW54*$CL54/1000),0,CW54*$CL54/1000)","v":0},null,{"$f":"IF(ISERROR(CY54*$CL54/1000),0,CY54*$CL54/1000)","v":0},null,{"$f":"IF(ISERROR(DA54*$CL54/1000),0,DA54*$CL54/1000)","v":0},null,{"$f":"IF(ISERROR(DC54*$CL54/1000),0,DC54*$CL54/1000)","v":0},null,{"$f":"IF(ISERROR(DE54*$CL54/1000),0,DE54*$CL54/1000)","v":0},null,{"$f":"IF(ISERROR(DG54*$CL54/1000),0,DG54*$CL54/1000)","v":0},null,{"$f":"IF(ISERROR(DI54*$CL54/1000),0,DI54*$CL54/1000)","v":0},null,{"$f":"IF(ISERROR(DK54*$CL54/1000),0,DK54*$CL54/1000)","v":0},null,{"$f":"IF(ISERROR(DM54*$CL54/1000),0,DM54*$CL54/1000)","v":0},null,0,null,0,null,0,null,0,null,0,null,{"$f":"IF(ISERROR(DY54*$CL54/1000),0,DY54*$CL54/1000)","v":0}]
[null,null,null,null,null,null,null,"",null,0,null,0,null,{"$f":"IF(ISERROR(M55*$D55/1000),0,M55*$D55/1000)","v":0},null,{"$f":"IF(ISERROR(O55*$D55/1000),0,O55*$D55/1000)","v":0},null,{"$f":"IF(ISERROR(Q55*$D55/1000),0,Q55*$D55/1000)","v":0},null,{"$f":"IF(ISERROR(S55*$D55/1000),0,S55*$D55/1000)","v":0},null,{"$f":"IF(ISERROR(U55*$D55/1000),0,U55*$D55/1000)","v":0},null,{"$f":"IF(ISERROR(W55*$D55/1000),0,W55*$D55/1000)","v":0},null,{"$f":"IF(ISERROR(Y55*$D55/1000),0,Y55*$D55/1000)","v":0},null,{"$f":"IF(ISERROR(AA55*$D55/1000),0,AA55*$D55/1000)","v":0},null,{"$f":"IF(ISERROR(AC55*$D55/1000),0,AC55*$D55/1000)","v":0},null,{"$f":"IF(ISERROR(AE55*$D55/1000),0,AE55*$D55/1000)","v":0},null,0,null,0,null,0,null,0,null,0,null,0,null,null,null,null,null,null,"",null,0,null,0,null,0,null,0,null,0,null,0,null,0,null,0,null,0,null,0,null,0,null,0,null,0,null,0,null,0,null,0,null,0,null,0,null,null,null,null,null,null,"",null,0,null,0,null,{"$f":"IF(ISERROR(CU55*$CL55/1000),0,CU55*$CL55/1000)","v":0},null,{"$f":"IF(ISERROR(CW55*$CL55/1000),0,CW55*$CL55/1000)","v":0},null,{"$f":"IF(ISERROR(CY55*$CL55/1000),0,CY55*$CL55/1000)","v":0},null,{"$f":"IF(ISERROR(DA55*$CL55/1000),0,DA55*$CL55/1000)","v":0},null,{"$f":"IF(ISERROR(DC55*$CL55/1000),0,DC55*$CL55/1000)","v":0},null,{"$f":"IF(ISERROR(DE55*$CL55/1000),0,DE55*$CL55/1000)","v":0},null,{"$f":"IF(ISERROR(DG55*$CL55/1000),0,DG55*$CL55/1000)","v":0},null,{"$f":"IF(ISERROR(DI55*$CL55/1000),0,DI55*$CL55/1000)","v":0},null,{"$f":"IF(ISERROR(DK55*$CL55/1000),0,DK55*$CL55/1000)","v":0},null,{"$f":"IF(ISERROR(DM55*$CL55/1000),0,DM55*$CL55/1000)","v":0},null,0,null,0,null,0,null,0,null,0,null,{"$f":"IF(ISERROR(DY55*$CL55/1000),0,DY55*$CL55/1000)","v":0}]
[null,null,null,null,null,null,null,"",null,0,null,0,null,{"$f":"IF(ISERROR(M56*$D56/1000),0,M56*$D56/1000)","v":0},null,{"$f":"IF(ISERROR(O56*$D56/1000),0,O56*$D56/1000)","v":0},null,{"$f":"IF(ISERROR(Q56*$D56/1000),0,Q56*$D56/1000)","v":0},null,{"$f":"IF(ISERROR(S56*$D56/1000),0,S56*$D56/1000)","v":0},null,{"$f":"IF(ISERROR(U56*$D56/1000),0,U56*$D56/1000)","v":0},null,{"$f":"IF(ISERROR(W56*$D56/1000),0,W56*$D56/1000)","v":0},null,{"$f":"IF(ISERROR(Y56*$D56/1000),0,Y56*$D56/1000)","v":0},null,{"$f":"IF(ISERROR(AA56*$D56/1000),0,AA56*$D56/1000)","v":0},null,{"$f":"IF(ISERROR(AC56*$D56/1000),0,AC56*$D56/1000)","v":0},null,{"$f":"IF(ISERROR(AE56*$D56/1000),0,AE56*$D56/1000)","v":0},null,0,null,0,null,0,null,0,null,0,null,0,null,null,null,null,null,null,"",null,0,null,0,null,0,null,0,null,0,null,0,null,0,null,0,null,0,null,0,null,0,null,0,null,0,null,0,null,0,null,0,null,0,null,0,null,null,null,null,null,null,"",null,0,null,0,null,{"$f":"IF(ISERROR(CU56*$CL56/1000),0,CU56*$CL56/1000)","v":0},null,{"$f":"IF(ISERROR(CW56*$CL56/1000),0,CW56*$CL56/1000)","v":0},null,{"$f":"IF(ISERROR(CY56*$CL56/1000),0,CY56*$CL56/1000)","v":0},null,{"$f":"IF(ISERROR(DA56*$CL56/1000),0,DA56*$CL56/1000)","v":0},null,{"$f":"IF(ISERROR(DC56*$CL56/1000),0,DC56*$CL56/1000)","v":0},null,{"$f":"IF(ISERROR(DE56*$CL56/1000),0,DE56*$CL56/1000)","v":0},null,{"$f":"IF(ISERROR(DG56*$CL56/1000),0,DG56*$CL56/1000)","v":0},null,{"$f":"IF(ISERROR(DI56*$CL56/1000),0,DI56*$CL56/1000)","v":0},null,{"$f":"IF(ISERROR(DK56*$CL56/1000),0,DK56*$CL56/1000)","v":0},null,{"$f":"IF(ISERROR(DM56*$CL56/1000),0,DM56*$CL56/1000)","v":0},null,0,null,0,null,0,null,0,null,0,null,{"$f":"IF(ISERROR(DY56*$CL56/1000),0,DY56*$CL56/1000)","v":0}]
[null,null,null,null,null,null,null,"",null,0,null,0,null,{"$f":"IF(ISERROR(M57*$D57/1000),0,M57*$D57/1000)","v":0},null,{"$f":"IF(ISERROR(O57*$D57/1000),0,O57*$D57/1000)","v":0},null,{"$f":"IF(ISERROR(Q57*$D57/1000),0,Q57*$D57/1000)","v":0},null,{"$f":"IF(ISERROR(S57*$D57/1000),0,S57*$D57/1000)","v":0},null,{"$f":"IF(ISERROR(U57*$D57/1000),0,U57*$D57/1000)","v":0},null,{"$f":"IF(ISERROR(W57*$D57/1000),0,W57*$D57/1000)","v":0},null,{"$f":"IF(ISERROR(Y57*$D57/1000),0,Y57*$D57/1000)","v":0},null,{"$f":"IF(ISERROR(AA57*$D57/1000),0,AA57*$D57/1000)","v":0},null,{"$f":"IF(ISERROR(AC57*$D57/1000),0,AC57*$D57/1000)","v":0},null,{"$f":"IF(ISERROR(AE57*$D57/1000),0,AE57*$D57/1000)","v":0},null,0,null,0,null,0,null,0,null,0,null,0,null,null,null,null,null,null,"",null,0,null,0,null,0,null,0,null,0,null,0,null,0,null,0,null,0,null,0,null,0,null,0,null,0,null,0,null,0,null,0,null,0,null,0,null,null,null,null,null,null,"",null,0,null,0,null,{"$f":"IF(ISERROR(CU57*$CL57/1000),0,CU57*$CL57/1000)","v":0},null,{"$f":"IF(ISERROR(CW57*$CL57/1000),0,CW57*$CL57/1000)","v":0},null,{"$f":"IF(ISERROR(CY57*$CL57/1000),0,CY57*$CL57/1000)","v":0},null,{"$f":"IF(ISERROR(DA57*$CL57/1000),0,DA57*$CL57/1000)","v":0},null,{"$f":"IF(ISERROR(DC57*$CL57/1000),0,DC57*$CL57/1000)","v":0},null,{"$f":"IF(ISERROR(DE57*$CL57/1000),0,DE57*$CL57/1000)","v":0},null,{"$f":"IF(ISERROR(DG57*$CL57/1000),0,DG57*$CL57/1000)","v":0},null,{"$f":"IF(ISERROR(DI57*$CL57/1000),0,DI57*$CL57/1000)","v":0},null,{"$f":"IF(ISERROR(DK57*$CL57/1000),0,DK57*$CL57/1000)","v":0},null,{"$f":"IF(ISERROR(DM57*$CL57/1000),0,DM57*$CL57/1000)","v":0},null,0,null,0,null,0,null,0,null,0,null,{"$f":"IF(ISERROR(DY57*$CL57/1000),0,DY57*$CL57/1000)","v":0}]
[null,null,null,null,null,null,null,"",null,0,null,0,null,{"$f":"IF(ISERROR(M58*$D58/1000),0,M58*$D58/1000)","v":0},null,{"$f":"IF(ISERROR(O58*$D58/1000),0,O58*$D58/1000)","v":0},null,{"$f":"IF(ISERROR(Q58*$D58/1000),0,Q58*$D58/1000)","v":0},null,{"$f":"IF(ISERROR(S58*$D58/1000),0,S58*$D58/1000)","v":0},null,{"$f":"IF(ISERROR(U58*$D58/1000),0,U58*$D58/1000)","v":0},null,{"$f":"IF(ISERROR(W58*$D58/1000),0,W58*$D58/1000)","v":0},null,{"$f":"IF(ISERROR(Y58*$D58/1000),0,Y58*$D58/1000)","v":0},null,{"$f":"IF(ISERROR(AA58*$D58/1000),0,AA58*$D58/1000)","v":0},null,{"$f":"IF(ISERROR(AC58*$D58/1000),0,AC58*$D58/1000)","v":0},null,{"$f":"IF(ISERROR(AE58*$D58/1000),0,AE58*$D58/1000)","v":0},null,0,null,0,null,0,null,0,null,0,null,0,null,null,null,null,null,null,"",null,0,null,0,null,0,null,0,null,0,null,0,null,0,null,0,null,0,null,0,null,0,null,0,null,0,null,0,null,0,null,0,null,0,null,0,null,null,null,null,null,null,"",null,0,null,0,null,{"$f":"IF(ISERROR(CU58*$CL58/1000),0,CU58*$CL58/1000)","v":0},null,{"$f":"IF(ISERROR(CW58*$CL58/1000),0,CW58*$CL58/1000)","v":0},null,{"$f":"IF(ISERROR(CY58*$CL58/1000),0,CY58*$CL58/1000)","v":0},null,{"$f":"IF(ISERROR(DA58*$CL58/1000),0,DA58*$CL58/1000)","v":0},null,{"$f":"IF(ISERROR(DC58*$CL58/1000),0,DC58*$CL58/1000)","v":0},null,{"$f":"IF(ISERROR(DE58*$CL58/1000),0,DE58*$CL58/1000)","v":0},null,{"$f":"IF(ISERROR(DG58*$CL58/1000),0,DG58*$CL58/1000)","v":0},null,{"$f":"IF(ISERROR(DI58*$CL58/1000),0,DI58*$CL58/1000)","v":0},null,{"$f":"IF(ISERROR(DK58*$CL58/1000),0,DK58*$CL58/1000)","v":0},null,{"$f":"IF(ISERROR(DM58*$CL58/1000),0,DM58*$CL58/1000)","v":0},null,0,null,0,null,0,null,0,null,0,null,{"$f":"IF(ISERROR(DY58*$CL58/1000),0,DY58*$CL58/1000)","v":0}]
[null,null,null,null,null,null,null,"",null,0,null,0,null,{"$f":"IF(ISERROR(M59*$D59/1000),0,M59*$D59/1000)","v":0},null,{"$f":"IF(ISERROR(O59*$D59/1000),0,O59*$D59/1000)","v":0},null,{"$f":"IF(ISERROR(Q59*$D59/1000),0,Q59*$D59/1000)","v":0},null,{"$f":"IF(ISERROR(S59*$D59/1000),0,S59*$D59/1000)","v":0},null,{"$f":"IF(ISERROR(U59*$D59/1000),0,U59*$D59/1000)","v":0},null,{"$f":"IF(ISERROR(W59*$D59/1000),0,W59*$D59/1000)","v":0},null,{"$f":"IF(ISERROR(Y59*$D59/1000),0,Y59*$D59/1000)","v":0},null,{"$f":"IF(ISERROR(AA59*$D59/1000),0,AA59*$D59/1000)","v":0},null,{"$f":"IF(ISERROR(AC59*$D59/1000),0,AC59*$D59/1000)","v":0},null,{"$f":"IF(ISERROR(AE59*$D59/1000),0,AE59*$D59/1000)","v":0},null,0,null,0,null,0,null,0,null,0,null,0,null,null,null,null,null,null,"",null,0,null,0,null,0,null,0,null,0,null,0,null,0,null,0,null,0,null,0,null,0,null,0,null,0,null,0,null,0,null,0,null,0,null,0,null,null,null,null,null,null,"",null,0,null,0,null,{"$f":"IF(ISERROR(CU59*$CL59/1000),0,CU59*$CL59/1000)","v":0},null,{"$f":"IF(ISERROR(CW59*$CL59/1000),0,CW59*$CL59/1000)","v":0},null,{"$f":"IF(ISERROR(CY59*$CL59/1000),0,CY59*$CL59/1000)","v":0},null,{"$f":"IF(ISERROR(DA59*$CL59/1000),0,DA59*$CL59/1000)","v":0},null,{"$f":"IF(ISERROR(DC59*$CL59/1000),0,DC59*$CL59/1000)","v":0},null,{"$f":"IF(ISERROR(DE59*$CL59/1000),0,DE59*$CL59/1000)","v":0},null,{"$f":"IF(ISERROR(DG59*$CL59/1000),0,DG59*$CL59/1000)","v":0},null,{"$f":"IF(ISERROR(DI59*$CL59/1000),0,DI59*$CL59/1000)","v":0},null,{"$f":"IF(ISERROR(DK59*$CL59/1000),0,DK59*$CL59/1000)","v":0},null,{"$f":"IF(ISERROR(DM59*$CL59/1000),0,DM59*$CL59/1000)","v":0},null,0,null,0,null,0,null,0,null,0,null,{"$f":"IF(ISERROR(DY59*$CL59/1000),0,DY59*$CL59/1000)","v":0}]
[null,null,null,null,null,null,null,"",null,0,null,0,null,{"$f":"IF(ISERROR(M60*$D60/1000),0,M60*$D60/1000)","v":0},null,{"$f":"IF(ISERROR(O60*$D60/1000),0,O60*$D60/1000)","v":0},null,{"$f":"IF(ISERROR(Q60*$D60/1000),0,Q60*$D60/1000)","v":0},null,{"$f":"IF(ISERROR(S60*$D60/1000),0,S60*$D60/1000)","v":0},null,{"$f":"IF(ISERROR(U60*$D60/1000),0,U60*$D60/1000)","v":0},null,{"$f":"IF(ISERROR(W60*$D60/1000),0,W60*$D60/1000)","v":0},null,{"$f":"IF(ISERROR(Y60*$D60/1000),0,Y60*$D60/1000)","v":0},null,{"$f":"IF(ISERROR(AA60*$D60/1000),0,AA60*$D60/1000)","v":0},null,{"$f":"IF(ISERROR(AC60*$D60/1000),0,AC60*$D60/1000)","v":0},null,{"$f":"IF(ISERROR(AE60*$D60/1000),0,AE60*$D60/1000)","v":0},null,0,null,0,null,0,null,0,null,0,null,0,null,null,null,null,null,null,"",null,0,null,0,null,0,null,0,null,0,null,0,null,0,null,0,null,0,null,0,null,0,null,0,null,0,null,0,null,0,null,0,null,0,null,0,null,null,null,null,null,null,"",null,0,null,0,null,{"$f":"IF(ISERROR(CU60*$CL60/1000),0,CU60*$CL60/1000)","v":0},null,{"$f":"IF(ISERROR(CW60*$CL60/1000),0,CW60*$CL60/1000)","v":0},null,{"$f":"IF(ISERROR(CY60*$CL60/1000),0,CY60*$CL60/1000)","v":0},null,{"$f":"IF(ISERROR(DA60*$CL60/1000),0,DA60*$CL60/1000)","v":0},null,{"$f":"IF(ISERROR(DC60*$CL60/1000),0,DC60*$CL60/1000)","v":0},null,{"$f":"IF(ISERROR(DE60*$CL60/1000),0,DE60*$CL60/1000)","v":0},null,{"$f":"IF(ISERROR(DG60*$CL60/1000),0,DG60*$CL60/1000)","v":0},null,{"$f":"IF(ISERROR(DI60*$CL60/1000),0,DI60*$CL60/1000)","v":0},null,{"$f":"IF(ISERROR(DK60*$CL60/1000),0,DK60*$CL60/1000)","v":0},null,{"$f":"IF(ISERROR(DM60*$CL60/1000),0,DM60*$CL60/1000)","v":0},null,0,null,0,null,0,null,0,null,0,null,{"$f":"IF(ISERROR(DY60*$CL60/1000),0,DY60*$CL60/1000)","v":0}]
[null,null,null,null,null,null,null,"",null,0,null,0,null,{"$f":"IF(ISERROR(M61*$D61/1000),0,M61*$D61/1000)","v":0},null,{"$f":"IF(ISERROR(O61*$D61/1000),0,O61*$D61/1000)","v":0},null,{"$f":"IF(ISERROR(Q61*$D61/1000),0,Q61*$D61/1000)","v":0},null,{"$f":"IF(ISERROR(S61*$D61/1000),0,S61*$D61/1000)","v":0},null,{"$f":"IF(ISERROR(U61*$D61/1000),0,U61*$D61/1000)","v":0},null,{"$f":"IF(ISERROR(W61*$D61/1000),0,W61*$D61/1000)","v":0},null,{"$f":"IF(ISERROR(Y61*$D61/1000),0,Y61*$D61/1000)","v":0},null,{"$f":"IF(ISERROR(AA61*$D61/1000),0,AA61*$D61/1000)","v":0},null,{"$f":"IF(ISERROR(AC61*$D61/1000),0,AC61*$D61/1000)","v":0},null,{"$f":"IF(ISERROR(AE61*$D61/1000),0,AE61*$D61/1000)","v":0},null,0,null,0,null,0,null,0,null,0,null,0,null,null,null,null,null,null,"",null,0,null,0,null,0,null,0,null,0,null,0,null,0,null,0,null,0,null,0,null,0,null,0,null,0,null,0,null,0,null,0,null,0,null,0,null,null,null,null,null,null,"",null,0,null,0,null,{"$f":"IF(ISERROR(CU61*$CL61/1000),0,CU61*$CL61/1000)","v":0},null,{"$f":"IF(ISERROR(CW61*$CL61/1000),0,CW61*$CL61/1000)","v":0},null,{"$f":"IF(ISERROR(CY61*$CL61/1000),0,CY61*$CL61/1000)","v":0},null,{"$f":"IF(ISERROR(DA61*$CL61/1000),0,DA61*$CL61/1000)","v":0},null,{"$f":"IF(ISERROR(DC61*$CL61/1000),0,DC61*$CL61/1000)","v":0},null,{"$f":"IF(ISERROR(DE61*$CL61/1000),0,DE61*$CL61/1000)","v":0},null,{"$f":"IF(ISERROR(DG61*$CL61/1000),0,DG61*$CL61/1000)","v":0},null,{"$f":"IF(ISERROR(DI61*$CL61/1000),0,DI61*$CL61/1000)","v":0},null,{"$f":"IF(ISERROR(DK61*$CL61/1000),0,DK61*$CL61/1000)","v":0},null,{"$f":"IF(ISERROR(DM61*$CL61/1000),0,DM61*$CL61/1000)","v":0},null,0,null,0,null,0,null,0,null,0,null,{"$f":"IF(ISERROR(DY61*$CL61/1000),0,DY61*$CL61/1000)","v":0}]
[null,null,null,null,null,null,null,"",null,0,null,0,null,{"$f":"IF(ISERROR(M62*$D62/1000),0,M62*$D62/1000)","v":0},null,{"$f":"IF(ISERROR(O62*$D62/1000),0,O62*$D62/1000)","v":0},null,{"$f":"IF(ISERROR(Q62*$D62/1000),0,Q62*$D62/1000)","v":0},null,{"$f":"IF(ISERROR(S62*$D62/1000),0,S62*$D62/1000)","v":0},null,{"$f":"IF(ISERROR(U62*$D62/1000),0,U62*$D62/1000)","v":0},null,{"$f":"IF(ISERROR(W62*$D62/1000),0,W62*$D62/1000)","v":0},null,{"$f":"IF(ISERROR(Y62*$D62/1000),0,Y62*$D62/1000)","v":0},null,{"$f":"IF(ISERROR(AA62*$D62/1000),0,AA62*$D62/1000)","v":0},null,{"$f":"IF(ISERROR(AC62*$D62/1000),0,AC62*$D62/1000)","v":0},null,{"$f":"IF(ISERROR(AE62*$D62/1000),0,AE62*$D62/1000)","v":0},null,0,null,0,null,0,null,0,null,0,null,0,null,null,null,null,null,null,"",null,0,null,0,null,0,null,0,null,0,null,0,null,0,null,0,null,0,null,0,null,0,null,0,null,0,null,0,null,0,null,0,null,0,null,0,null,null,null,null,null,null,"",null,0,null,0,null,{"$f":"IF(ISERROR(CU62*$CL62/1000),0,CU62*$CL62/1000)","v":0},null,{"$f":"IF(ISERROR(CW62*$CL62/1000),0,CW62*$CL62/1000)","v":0},null,{"$f":"IF(ISERROR(CY62*$CL62/1000),0,CY62*$CL62/1000)","v":0},null,{"$f":"IF(ISERROR(DA62*$CL62/1000),0,DA62*$CL62/1000)","v":0},null,{"$f":"IF(ISERROR(DC62*$CL62/1000),0,DC62*$CL62/1000)","v":0},null,{"$f":"IF(ISERROR(DE62*$CL62/1000),0,DE62*$CL62/1000)","v":0},null,{"$f":"IF(ISERROR(DG62*$CL62/1000),0,DG62*$CL62/1000)","v":0},null,{"$f":"IF(ISERROR(DI62*$CL62/1000),0,DI62*$CL62/1000)","v":0},null,{"$f":"IF(ISERROR(DK62*$CL62/1000),0,DK62*$CL62/1000)","v":0},null,{"$f":"IF(ISERROR(DM62*$CL62/1000),0,DM62*$CL62/1000)","v":0},null,0,null,0,null,0,null,0,null,0,null,{"$f":"IF(ISERROR(DY62*$CL62/1000),0,DY62*$CL62/1000)","v":0}]
[null,null,null,null,null,null,null,"",null,0,null,0,null,{"$f":"IF(ISERROR(M63*$D63/1000),0,M63*$D63/1000)","v":0},null,{"$f":"IF(ISERROR(O63*$D63/1000),0,O63*$D63/1000)","v":0},null,{"$f":"IF(ISERROR(Q63*$D63/1000),0,Q63*$D63/1000)","v":0},null,{"$f":"IF(ISERROR(S63*$D63/1000),0,S63*$D63/1000)","v":0},null,{"$f":"IF(ISERROR(U63*$D63/1000),0,U63*$D63/1000)","v":0},null,{"$f":"IF(ISERROR(W63*$D63/1000),0,W63*$D63/1000)","v":0},null,{"$f":"IF(ISERROR(Y63*$D63/1000),0,Y63*$D63/1000)","v":0},null,{"$f":"IF(ISERROR(AA63*$D63/1000),0,AA63*$D63/1000)","v":0},null,{"$f":"IF(ISERROR(AC63*$D63/1000),0,AC63*$D63/1000)","v":0},null,{"$f":"IF(ISERROR(AE63*$D63/1000),0,AE63*$D63/1000)","v":0},null,0,null,0,null,0,null,0,null,0,null,0,null,null,null,null,null,null,"",null,0,null,0,null,0,null,0,null,0,null,0,null,0,null,0,null,0,null,0,null,0,null,0,null,0,null,0,null,0,null,0,null,0,null,0,null,null,null,null,null,null,"",null,0,null,0,null,{"$f":"IF(ISERROR(CU63*$CL63/1000),0,CU63*$CL63/1000)","v":0},null,{"$f":"IF(ISERROR(CW63*$CL63/1000),0,CW63*$CL63/1000)","v":0},null,{"$f":"IF(ISERROR(CY63*$CL63/1000),0,CY63*$CL63/1000)","v":0},null,{"$f":"IF(ISERROR(DA63*$CL63/1000),0,DA63*$CL63/1000)","v":0},null,{"$f":"IF(ISERROR(DC63*$CL63/1000),0,DC63*$CL63/1000)","v":0},null,{"$f":"IF(ISERROR(DE63*$CL63/1000),0,DE63*$CL63/1000)","v":0},null,{"$f":"IF(ISERROR(DG63*$CL63/1000),0,DG63*$CL63/1000)","v":0},null,{"$f":"IF(ISERROR(DI63*$CL63/1000),0,DI63*$CL63/1000)","v":0},null,{"$f":"IF(ISERROR(DK63*$CL63/1000),0,DK63*$CL63/1000)","v":0},null,{"$f":"IF(ISERROR(DM63*$CL63/1000),0,DM63*$CL63/1000)","v":0},null,0,null,0,null,0,null,0,null,0,null,{"$f":"IF(ISERROR(DY63*$CL63/1000),0,DY63*$CL63/1000)","v":0}]
[null,null,null,null,null,null,null,"",null,0,null,0,null,{"$f":"IF(ISERROR(M64*$D64/1000),0,M64*$D64/1000)","v":0},null,{"$f":"IF(ISERROR(O64*$D64/1000),0,O64*$D64/1000)","v":0},null,{"$f":"IF(ISERROR(Q64*$D64/1000),0,Q64*$D64/1000)","v":0},null,{"$f":"IF(ISERROR(S64*$D64/1000),0,S64*$D64/1000)","v":0},null,{"$f":"IF(ISERROR(U64*$D64/1000),0,U64*$D64/1000)","v":0},null,{"$f":"IF(ISERROR(W64*$D64/1000),0,W64*$D64/1000)","v":0},null,{"$f":"IF(ISERROR(Y64*$D64/1000),0,Y64*$D64/1000)","v":0},null,{"$f":"IF(ISERROR(AA64*$D64/1000),0,AA64*$D64/1000)","v":0},null,{"$f":"IF(ISERROR(AC64*$D64/1000),0,AC64*$D64/1000)","v":0},null,{"$f":"IF(ISERROR(AE64*$D64/1000),0,AE64*$D64/1000)","v":0},null,0,null,0,null,0,null,0,null,0,null,0,null,null,null,null,null,null,"",null,0,null,0,null,0,null,0,null,0,null,0,null,0,null,0,null,0,null,0,null,0,null,0,null,0,null,0,null,0,null,0,null,0,null,0,null,null,null,null,null,null,"",null,0,null,0,null,{"$f":"IF(ISERROR(CU64*$CL64/1000),0,CU64*$CL64/1000)","v":0},null,{"$f":"IF(ISERROR(CW64*$CL64/1000),0,CW64*$CL64/1000)","v":0},null,{"$f":"IF(ISERROR(CY64*$CL64/1000),0,CY64*$CL64/1000)","v":0},null,{"$f":"IF(ISERROR(DA64*$CL64/1000),0,DA64*$CL64/1000)","v":0},null,{"$f":"IF(ISERROR(DC64*$CL64/1000),0,DC64*$CL64/1000)","v":0},null,{"$f":"IF(ISERROR(DE64*$CL64/1000),0,DE64*$CL64/1000)","v":0},null,{"$f":"IF(ISERROR(DG64*$CL64/1000),0,DG64*$CL64/1000)","v":0},null,{"$f":"IF(ISERROR(DI64*$CL64/1000),0,DI64*$CL64/1000)","v":0},null,{"$f":"IF(ISERROR(DK64*$CL64/1000),0,DK64*$CL64/1000)","v":0},null,{"$f":"IF(ISERROR(DM64*$CL64/1000),0,DM64*$CL64/1000)","v":0},null,0,null,0,null,0,null,0,null,0,null,{"$f":"IF(ISERROR(DY64*$CL64/1000),0,DY64*$CL64/1000)","v":0}]
[null,null,null,null,null,null,null,"",null,0,null,0,null,{"$f":"IF(ISERROR(M65*$D65/1000),0,M65*$D65/1000)","v":0},null,{"$f":"IF(ISERROR(O65*$D65/1000),0,O65*$D65/1000)","v":0},null,{"$f":"IF(ISERROR(Q65*$D65/1000),0,Q65*$D65/1000)","v":0},null,{"$f":"IF(ISERROR(S65*$D65/1000),0,S65*$D65/1000)","v":0},null,{"$f":"IF(ISERROR(U65*$D65/1000),0,U65*$D65/1000)","v":0},null,{"$f":"IF(ISERROR(W65*$D65/1000),0,W65*$D65/1000)","v":0},null,{"$f":"IF(ISERROR(Y65*$D65/1000),0,Y65*$D65/1000)","v":0},null,{"$f":"IF(ISERROR(AA65*$D65/1000),0,AA65*$D65/1000)","v":0},null,{"$f":"IF(ISERROR(AC65*$D65/1000),0,AC65*$D65/1000)","v":0},null,{"$f":"IF(ISERROR(AE65*$D65/1000),0,AE65*$D65/1000)","v":0},null,0,null,0,null,0,null,0,null,0,null,0,null,null,null,null,null,null,"",null,0,null,0,null,0,null,0,null,0,null,0,null,0,null,0,null,0,null,0,null,0,null,0,null,0,null,0,null,0,null,0,null,0,null,0,null,null,null,null,null,null,"",null,0,null,0,null,{"$f":"IF(ISERROR(CU65*$CL65/1000),0,CU65*$CL65/1000)","v":0},null,{"$f":"IF(ISERROR(CW65*$CL65/1000),0,CW65*$CL65/1000)","v":0},null,{"$f":"IF(ISERROR(CY65*$CL65/1000),0,CY65*$CL65/1000)","v":0},null,{"$f":"IF(ISERROR(DA65*$CL65/1000),0,DA65*$CL65/1000)","v":0},null,{"$f":"IF(ISERROR(DC65*$CL65/1000),0,DC65*$CL65/1000)","v":0},null,{"$f":"IF(ISERROR(DE65*$CL65/1000),0,DE65*$CL65/1000)","v":0},null,{"$f":"IF(ISERROR(DG65*$CL65/1000),0,DG65*$CL65/1000)","v":0},null,{"$f":"IF(ISERROR(DI65*$CL65/1000),0,DI65*$CL65/1000)","v":0},null,{"$f":"IF(ISERROR(DK65*$CL65/1000),0,DK65*$CL65/1000)","v":0},null,{"$f":"IF(ISERROR(DM65*$CL65/1000),0,DM65*$CL65/1000)","v":0},null,0,null,0,null,0,null,0,null,0,null,{"$f":"IF(ISERROR(DY65*$CL65/1000),0,DY65*$CL65/1000)","v":0}]
[null,null,null,null,null,null,null,"",null,0,null,0,null,{"$f":"IF(ISERROR(M66*$D66/1000),0,M66*$D66/1000)","v":0},null,{"$f":"IF(ISERROR(O66*$D66/1000),0,O66*$D66/1000)","v":0},null,{"$f":"IF(ISERROR(Q66*$D66/1000),0,Q66*$D66/1000)","v":0},null,{"$f":"IF(ISERROR(S66*$D66/1000),0,S66*$D66/1000)","v":0},null,{"$f":"IF(ISERROR(U66*$D66/1000),0,U66*$D66/1000)","v":0},null,{"$f":"IF(ISERROR(W66*$D66/1000),0,W66*$D66/1000)","v":0},null,{"$f":"IF(ISERROR(Y66*$D66/1000),0,Y66*$D66/1000)","v":0},null,{"$f":"IF(ISERROR(AA66*$D66/1000),0,AA66*$D66/1000)","v":0},null,{"$f":"IF(ISERROR(AC66*$D66/1000),0,AC66*$D66/1000)","v":0},null,{"$f":"IF(ISERROR(AE66*$D66/1000),0,AE66*$D66/1000)","v":0},null,0,null,0,null,0,null,0,null,0,null,0,null,null,null,null,null,null,"",null,0,null,0,null,0,null,0,null,0,null,0,null,0,null,0,null,0,null,0,null,0,null,0,null,0,null,0,null,0,null,0,null,0,null,0,null,null,null,null,null,null,"",null,0,null,0,null,{"$f":"IF(ISERROR(CU66*$CL66/1000),0,CU66*$CL66/1000)","v":0},null,{"$f":"IF(ISERROR(CW66*$CL66/1000),0,CW66*$CL66/1000)","v":0},null,{"$f":"IF(ISERROR(CY66*$CL66/1000),0,CY66*$CL66/1000)","v":0},null,{"$f":"IF(ISERROR(DA66*$CL66/1000),0,DA66*$CL66/1000)","v":0},null,{"$f":"IF(ISERROR(DC66*$CL66/1000),0,DC66*$CL66/1000)","v":0},null,{"$f":"IF(ISERROR(DE66*$CL66/1000),0,DE66*$CL66/1000)","v":0},null,{"$f":"IF(ISERROR(DG66*$CL66/1000),0,DG66*$CL66/1000)","v":0},null,{"$f":"IF(ISERROR(DI66*$CL66/1000),0,DI66*$CL66/1000)","v":0},null,{"$f":"IF(ISERROR(DK66*$CL66/1000),0,DK66*$CL66/1000)","v":0},null,{"$f":"IF(ISERROR(DM66*$CL66/1000),0,DM66*$CL66/1000)","v":0},null,0,null,0,null,0,null,0,null,0,null,{"$f":"IF(ISERROR(DY66*$CL66/1000),0,DY66*$CL66/1000)","v":0}]
[null,null,null,null,null,null,null,"",null,0,null,0,null,{"$f":"IF(ISERROR(M67*$D67/1000),0,M67*$D67/1000)","v":0},null,{"$f":"IF(ISERROR(O67*$D67/1000),0,O67*$D67/1000)","v":0},null,{"$f":"IF(ISERROR(Q67*$D67/1000),0,Q67*$D67/1000)","v":0},null,{"$f":"IF(ISERROR(S67*$D67/1000),0,S67*$D67/1000)","v":0},null,{"$f":"IF(ISERROR(U67*$D67/1000),0,U67*$D67/1000)","v":0},null,{"$f":"IF(ISERROR(W67*$D67/1000),0,W67*$D67/1000)","v":0},null,{"$f":"IF(ISERROR(Y67*$D67/1000),0,Y67*$D67/1000)","v":0},null,{"$f":"IF(ISERROR(AA67*$D67/1000),0,AA67*$D67/1000)","v":0},null,{"$f":"IF(ISERROR(AC67*$D67/1000),0,AC67*$D67/1000)","v":0},null,{"$f":"IF(ISERROR(AE67*$D67/1000),0,AE67*$D67/1000)","v":0},null,0,null,0,null,0,null,0,null,0,null,0,null,null,null,null,null,null,"",null,0,null,0,null,0,null,0,null,0,null,0,null,0,null,0,null,0,null,0,null,0,null,0,null,0,null,0,null,0,null,0,null,0,null,0,null,null,null,null,null,null,"",null,0,null,0,null,{"$f":"IF(ISERROR(CU67*$CL67/1000),0,CU67*$CL67/1000)","v":0},null,{"$f":"IF(ISERROR(CW67*$CL67/1000),0,CW67*$CL67/1000)","v":0},null,{"$f":"IF(ISERROR(CY67*$CL67/1000),0,CY67*$CL67/1000)","v":0},null,{"$f":"IF(ISERROR(DA67*$CL67/1000),0,DA67*$CL67/1000)","v":0},null,{"$f":"IF(ISERROR(DC67*$CL67/1000),0,DC67*$CL67/1000)","v":0},null,{"$f":"IF(ISERROR(DE67*$CL67/1000),0,DE67*$CL67/1000)","v":0},null,{"$f":"IF(ISERROR(DG67*$CL67/1000),0,DG67*$CL67/1000)","v":0},null,{"$f":"IF(ISERROR(DI67*$CL67/1000),0,DI67*$CL67/1000)","v":0},null,{"$f":"IF(ISERROR(DK67*$CL67/1000),0,DK67*$CL67/1000)","v":0},null,{"$f":"IF(ISERROR(DM67*$CL67/1000),0,DM67*$CL67/1000)","v":0},null,0,null,0,null,0,null,0,null,0,null,{"$f":"IF(ISERROR(DY67*$CL67/1000),0,DY67*$CL67/1000)","v":0}]
[null,null,null,null,null,null,null,"",null,0,null,0,null,{"$f":"IF(ISERROR(M68*$D68/1000),0,M68*$D68/1000)","v":0},null,{"$f":"IF(ISERROR(O68*$D68/1000),0,O68*$D68/1000)","v":0},null,{"$f":"IF(ISERROR(Q68*$D68/1000),0,Q68*$D68/1000)","v":0},null,{"$f":"IF(ISERROR(S68*$D68/1000),0,S68*$D68/1000)","v":0},null,{"$f":"IF(ISERROR(U68*$D68/1000),0,U68*$D68/1000)","v":0},null,{"$f":"IF(ISERROR(W68*$D68/1000),0,W68*$D68/1000)","v":0},null,{"$f":"IF(ISERROR(Y68*$D68/1000),0,Y68*$D68/1000)","v":0},null,{"$f":"IF(ISERROR(AA68*$D68/1000),0,AA68*$D68/1000)","v":0},null,{"$f":"IF(ISERROR(AC68*$D68/1000),0,AC68*$D68/1000)","v":0},null,{"$f":"IF(ISERROR(AE68*$D68/1000),0,AE68*$D68/1000)","v":0},null,0,null,0,null,0,null,0,null,0,null,0,null,null,null,null,null,null,"",null,0,null,0,null,0,null,0,null,0,null,0,null,0,null,0,null,0,null,0,null,0,null,0,null,0,null,0,null,0,null,0,null,0,null,0,null,null,null,null,null,null,"",null,0,null,0,null,{"$f":"IF(ISERROR(CU68*$CL68/1000),0,CU68*$CL68/1000)","v":0},null,{"$f":"IF(ISERROR(CW68*$CL68/1000),0,CW68*$CL68/1000)","v":0},null,{"$f":"IF(ISERROR(CY68*$CL68/1000),0,CY68*$CL68/1000)","v":0},null,{"$f":"IF(ISERROR(DA68*$CL68/1000),0,DA68*$CL68/1000)","v":0},null,{"$f":"IF(ISERROR(DC68*$CL68/1000),0,DC68*$CL68/1000)","v":0},null,{"$f":"IF(ISERROR(DE68*$CL68/1000),0,DE68*$CL68/1000)","v":0},null,{"$f":"IF(ISERROR(DG68*$CL68/1000),0,DG68*$CL68/1000)","v":0},null,{"$f":"IF(ISERROR(DI68*$CL68/1000),0,DI68*$CL68/1000)","v":0},null,{"$f":"IF(ISERROR(DK68*$CL68/1000),0,DK68*$CL68/1000)","v":0},null,{"$f":"IF(ISERROR(DM68*$CL68/1000),0,DM68*$CL68/1000)","v":0},null,0,null,0,null,0,null,0,null,0,null,{"$f":"IF(ISERROR(DY68*$CL68/1000),0,DY68*$CL68/1000)","v":0}]
[null,null,null,null,null,null,null,"",null,0,null,0,null,{"$f":"IF(ISERROR(M69*$D69/1000),0,M69*$D69/1000)","v":0},null,{"$f":"IF(ISERROR(O69*$D69/1000),0,O69*$D69/1000)","v":0},null,{"$f":"IF(ISERROR(Q69*$D69/1000),0,Q69*$D69/1000)","v":0},null,{"$f":"IF(ISERROR(S69*$D69/1000),0,S69*$D69/1000)","v":0},null,{"$f":"IF(ISERROR(U69*$D69/1000),0,U69*$D69/1000)","v":0},null,{"$f":"IF(ISERROR(W69*$D69/1000),0,W69*$D69/1000)","v":0},null,{"$f":"IF(ISERROR(Y69*$D69/1000),0,Y69*$D69/1000)","v":0},null,{"$f":"IF(ISERROR(AA69*$D69/1000),0,AA69*$D69/1000)","v":0},null,{"$f":"IF(ISERROR(AC69*$D69/1000),0,AC69*$D69/1000)","v":0},null,{"$f":"IF(ISERROR(AE69*$D69/1000),0,AE69*$D69/1000)","v":0},null,0,null,0,null,0,null,0,null,0,null,0,null,null,null,null,null,null,"",null,0,null,0,null,0,null,0,null,0,null,0,null,0,null,0,null,0,null,0,null,0,null,0,null,0,null,0,null,0,null,0,null,0,null,0,null,null,null,null,null,null,"",null,0,null,0,null,{"$f":"IF(ISERROR(CU69*$CL69/1000),0,CU69*$CL69/1000)","v":0},null,{"$f":"IF(ISERROR(CW69*$CL69/1000),0,CW69*$CL69/1000)","v":0},null,{"$f":"IF(ISERROR(CY69*$CL69/1000),0,CY69*$CL69/1000)","v":0},null,{"$f":"IF(ISERROR(DA69*$CL69/1000),0,DA69*$CL69/1000)","v":0},null,{"$f":"IF(ISERROR(DC69*$CL69/1000),0,DC69*$CL69/1000)","v":0},null,{"$f":"IF(ISERROR(DE69*$CL69/1000),0,DE69*$CL69/1000)","v":0},null,{"$f":"IF(ISERROR(DG69*$CL69/1000),0,DG69*$CL69/1000)","v":0},null,{"$f":"IF(ISERROR(DI69*$CL69/1000),0,DI69*$CL69/1000)","v":0},null,{"$f":"IF(ISERROR(DK69*$CL69/1000),0,DK69*$CL69/1000)","v":0},null,{"$f":"IF(ISERROR(DM69*$CL69/1000),0,DM69*$CL69/1000)","v":0},null,0,null,0,null,0,null,0,null,0,null,{"$f":"IF(ISERROR(DY69*$CL69/1000),0,DY69*$CL69/1000)","v":0}]
[null,null,null,null,null,null,null,"",null,0,null,0,null,{"$f":"IF(ISERROR(M70*$D70/1000),0,M70*$D70/1000)","v":0},null,{"$f":"IF(ISERROR(O70*$D70/1000),0,O70*$D70/1000)","v":0},null,{"$f":"IF(ISERROR(Q70*$D70/1000),0,Q70*$D70/1000)","v":0},null,{"$f":"IF(ISERROR(S70*$D70/1000),0,S70*$D70/1000)","v":0},null,{"$f":"IF(ISERROR(U70*$D70/1000),0,U70*$D70/1000)","v":0},null,{"$f":"IF(ISERROR(W70*$D70/1000),0,W70*$D70/1000)","v":0},null,{"$f":"IF(ISERROR(Y70*$D70/1000),0,Y70*$D70/1000)","v":0},null,{"$f":"IF(ISERROR(AA70*$D70/1000),0,AA70*$D70/1000)","v":0},null,{"$f":"IF(ISERROR(AC70*$D70/1000),0,AC70*$D70/1000)","v":0},null,{"$f":"IF(ISERROR(AE70*$D70/1000),0,AE70*$D70/1000)","v":0},null,0,null,0,null,0,null,0,null,0,null,0,null,null,null,null,null,null,"",null,0,null,0,null,0,null,0,null,0,null,0,null,0,null,0,null,0,null,0,null,0,null,0,null,0,null,0,null,0,null,0,null,0,null,0,null,null,null,null,null,null,"",null,0,null,0,null,{"$f":"IF(ISERROR(CU70*$CL70/1000),0,CU70*$CL70/1000)","v":0},null,{"$f":"IF(ISERROR(CW70*$CL70/1000),0,CW70*$CL70/1000)","v":0},null,{"$f":"IF(ISERROR(CY70*$CL70/1000),0,CY70*$CL70/1000)","v":0},null,{"$f":"IF(ISERROR(DA70*$CL70/1000),0,DA70*$CL70/1000)","v":0},null,{"$f":"IF(ISERROR(DC70*$CL70/1000),0,DC70*$CL70/1000)","v":0},null,{"$f":"IF(ISERROR(DE70*$CL70/1000),0,DE70*$CL70/1000)","v":0},null,{"$f":"IF(ISERROR(DG70*$CL70/1000),0,DG70*$CL70/1000)","v":0},null,{"$f":"IF(ISERROR(DI70*$CL70/1000),0,DI70*$CL70/1000)","v":0},null,{"$f":"IF(ISERROR(DK70*$CL70/1000),0,DK70*$CL70/1000)","v":0},null,{"$f":"IF(ISERROR(DM70*$CL70/1000),0,DM70*$CL70/1000)","v":0},null,0,null,0,null,0,null,0,null,0,null,{"$f":"IF(ISERROR(DY70*$CL70/1000),0,DY70*$CL70/1000)","v":0}]
[null,null,null,null,null,null,null,"",null,0,null,0,null,{"$f":"IF(ISERROR(M71*$D71/1000),0,M71*$D71/1000)","v":0},null,{"$f":"IF(ISERROR(O71*$D71/1000),0,O71*$D71/1000)","v":0},null,{"$f":"IF(ISERROR(Q71*$D71/1000),0,Q71*$D71/1000)","v":0},null,{"$f":"IF(ISERROR(S71*$D71/1000),0,S71*$D71/1000)","v":0},null,{"$f":"IF(ISERROR(U71*$D71/1000),0,U71*$D71/1000)","v":0},null,{"$f":"IF(ISERROR(W71*$D71/1000),0,W71*$D71/1000)","v":0},null,{"$f":"IF(ISERROR(Y71*$D71/1000),0,Y71*$D71/1000)","v":0},null,{"$f":"IF(ISERROR(AA71*$D71/1000),0,AA71*$D71/1000)","v":0},null,{"$f":"IF(ISERROR(AC71*$D71/1000),0,AC71*$D71/1000)","v":0},null,{"$f":"IF(ISERROR(AE71*$D71/1000),0,AE71*$D71/1000)","v":0},null,0,null,0,null,0,null,0,null,0,null,0,null,null,null,null,null,null,"",null,0,null,0,null,0,null,0,null,0,null,0,null,0,null,0,null,0,null,0,null,0,null,0,null,0,null,0,null,0,null,0,null,0,null,0,null,null,null,null,null,null,"",null,0,null,0,null,{"$f":"IF(ISERROR(CU71*$CL71/1000),0,CU71*$CL71/1000)","v":0},null,{"$f":"IF(ISERROR(CW71*$CL71/1000),0,CW71*$CL71/1000)","v":0},null,{"$f":"IF(ISERROR(CY71*$CL71/1000),0,CY71*$CL71/1000)","v":0},null,{"$f":"IF(ISERROR(DA71*$CL71/1000),0,DA71*$CL71/1000)","v":0},null,{"$f":"IF(ISERROR(DC71*$CL71/1000),0,DC71*$CL71/1000)","v":0},null,{"$f":"IF(ISERROR(DE71*$CL71/1000),0,DE71*$CL71/1000)","v":0},null,{"$f":"IF(ISERROR(DG71*$CL71/1000),0,DG71*$CL71/1000)","v":0},null,{"$f":"IF(ISERROR(DI71*$CL71/1000),0,DI71*$CL71/1000)","v":0},null,{"$f":"IF(ISERROR(DK71*$CL71/1000),0,DK71*$CL71/1000)","v":0},null,{"$f":"IF(ISERROR(DM71*$CL71/1000),0,DM71*$CL71/1000)","v":0},null,0,null,0,null,0,null,0,null,0,null,{"$f":"IF(ISERROR(DY71*$CL71/1000),0,DY71*$CL71/1000)","v":0}]
[null,null,null,null,null,null,null,"",null,0,null,0,null,{"$f":"IF(ISERROR(M72*$D72/1000),0,M72*$D72/1000)","v":0},null,{"$f":"IF(ISERROR(O72*$D72/1000),0,O72*$D72/1000)","v":0},null,{"$f":"IF(ISERROR(Q72*$D72/1000),0,Q72*$D72/1000)","v":0},null,{"$f":"IF(ISERROR(S72*$D72/1000),0,S72*$D72/1000)","v":0},null,{"$f":"IF(ISERROR(U72*$D72/1000),0,U72*$D72/1000)","v":0},null,{"$f":"IF(ISERROR(W72*$D72/1000),0,W72*$D72/1000)","v":0},null,{"$f":"IF(ISERROR(Y72*$D72/1000),0,Y72*$D72/1000)","v":0},null,{"$f":"IF(ISERROR(AA72*$D72/1000),0,AA72*$D72/1000)","v":0},null,{"$f":"IF(ISERROR(AC72*$D72/1000),0,AC72*$D72/1000)","v":0},null,{"$f":"IF(ISERROR(AE72*$D72/1000),0,AE72*$D72/1000)","v":0},null,0,null,0,null,0,null,0,null,0,null,0,null,null,null,null,null,null,"",null,0,null,0,null,0,null,0,null,0,null,0,null,0,null,0,null,0,null,0,null,0,null,0,null,0,null,0,null,0,null,0,null,0,null,0,null,null,null,null,null,null,"",null,0,null,0,null,{"$f":"IF(ISERROR(CU72*$CL72/1000),0,CU72*$CL72/1000)","v":0},null,{"$f":"IF(ISERROR(CW72*$CL72/1000),0,CW72*$CL72/1000)","v":0},null,{"$f":"IF(ISERROR(CY72*$CL72/1000),0,CY72*$CL72/1000)","v":0},null,{"$f":"IF(ISERROR(DA72*$CL72/1000),0,DA72*$CL72/1000)","v":0},null,{"$f":"IF(ISERROR(DC72*$CL72/1000),0,DC72*$CL72/1000)","v":0},null,{"$f":"IF(ISERROR(DE72*$CL72/1000),0,DE72*$CL72/1000)","v":0},null,{"$f":"IF(ISERROR(DG72*$CL72/1000),0,DG72*$CL72/1000)","v":0},null,{"$f":"IF(ISERROR(DI72*$CL72/1000),0,DI72*$CL72/1000)","v":0},null,{"$f":"IF(ISERROR(DK72*$CL72/1000),0,DK72*$CL72/1000)","v":0},null,{"$f":"IF(ISERROR(DM72*$CL72/1000),0,DM72*$CL72/1000)","v":0},null,0,null,0,null,0,null,0,null,0,null,{"$f":"IF(ISERROR(DY72*$CL72/1000),0,DY72*$CL72/1000)","v":0}]
[null,null,null,null,null,null,null,"",null,0,null,0,null,{"$f":"IF(ISERROR(M73*$D73/1000),0,M73*$D73/1000)","v":0},null,{"$f":"IF(ISERROR(O73*$D73/1000),0,O73*$D73/1000)","v":0},null,{"$f":"IF(ISERROR(Q73*$D73/1000),0,Q73*$D73/1000)","v":0},null,{"$f":"IF(ISERROR(S73*$D73/1000),0,S73*$D73/1000)","v":0},null,{"$f":"IF(ISERROR(U73*$D73/1000),0,U73*$D73/1000)","v":0},null,{"$f":"IF(ISERROR(W73*$D73/1000),0,W73*$D73/1000)","v":0},null,{"$f":"IF(ISERROR(Y73*$D73/1000),0,Y73*$D73/1000)","v":0},null,{"$f":"IF(ISERROR(AA73*$D73/1000),0,AA73*$D73/1000)","v":0},null,{"$f":"IF(ISERROR(AC73*$D73/1000),0,AC73*$D73/1000)","v":0},null,{"$f":"IF(ISERROR(AE73*$D73/1000),0,AE73*$D73/1000)","v":0},null,0,null,0,null,0,null,0,null,0,null,0,null,null,null,null,null,null,"",null,0,null,0,null,0,null,0,null,0,null,0,null,0,null,0,null,0,null,0,null,0,null,0,null,0,null,0,null,0,null,0,null,0,null,0,null,null,null,null,null,null,"",null,0,null,0,null,{"$f":"IF(ISERROR(CU73*$CL73/1000),0,CU73*$CL73/1000)","v":0},null,{"$f":"IF(ISERROR(CW73*$CL73/1000),0,CW73*$CL73/1000)","v":0},null,{"$f":"IF(ISERROR(CY73*$CL73/1000),0,CY73*$CL73/1000)","v":0},null,{"$f":"IF(ISERROR(DA73*$CL73/1000),0,DA73*$CL73/1000)","v":0},null,{"$f":"IF(ISERROR(DC73*$CL73/1000),0,DC73*$CL73/1000)","v":0},null,{"$f":"IF(ISERROR(DE73*$CL73/1000),0,DE73*$CL73/1000)","v":0},null,{"$f":"IF(ISERROR(DG73*$CL73/1000),0,DG73*$CL73/1000)","v":0},null,{"$f":"IF(ISERROR(DI73*$CL73/1000),0,DI73*$CL73/1000)","v":0},null,{"$f":"IF(ISERROR(DK73*$CL73/1000),0,DK73*$CL73/1000)","v":0},null,{"$f":"IF(ISERROR(DM73*$CL73/1000),0,DM73*$CL73/1000)","v":0},null,0,null,0,null,0,null,0,null,0,null,{"$f":"IF(ISERROR(DY73*$CL73/1000),0,DY73*$CL73/1000)","v":0}]
[null,null,null,null,null,null,null,"",null,0,null,0,null,{"$f":"IF(ISERROR(M74*$D74/1000),0,M74*$D74/1000)","v":0},null,{"$f":"IF(ISERROR(O74*$D74/1000),0,O74*$D74/1000)","v":0},null,{"$f":"IF(ISERROR(Q74*$D74/1000),0,Q74*$D74/1000)","v":0},null,{"$f":"IF(ISERROR(S74*$D74/1000),0,S74*$D74/1000)","v":0},null,{"$f":"IF(ISERROR(U74*$D74/1000),0,U74*$D74/1000)","v":0},null,{"$f":"IF(ISERROR(W74*$D74/1000),0,W74*$D74/1000)","v":0},null,{"$f":"IF(ISERROR(Y74*$D74/1000),0,Y74*$D74/1000)","v":0},null,{"$f":"IF(ISERROR(AA74*$D74/1000),0,AA74*$D74/1000)","v":0},null,{"$f":"IF(ISERROR(AC74*$D74/1000),0,AC74*$D74/1000)","v":0},null,{"$f":"IF(ISERROR(AE74*$D74/1000),0,AE74*$D74/1000)","v":0},null,0,null,0,null,0,null,0,null,0,null,0,null,null,null,null,null,null,"",null,0,null,0,null,0,null,0,null,0,null,0,null,0,null,0,null,0,null,0,null,0,null,0,null,0,null,0,null,0,null,0,null,0,null,0,null,null,null,null,null,null,"",null,0,null,0,null,{"$f":"IF(ISERROR(CU74*$CL74/1000),0,CU74*$CL74/1000)","v":0},null,{"$f":"IF(ISERROR(CW74*$CL74/1000),0,CW74*$CL74/1000)","v":0},null,{"$f":"IF(ISERROR(CY74*$CL74/1000),0,CY74*$CL74/1000)","v":0},null,{"$f":"IF(ISERROR(DA74*$CL74/1000),0,DA74*$CL74/1000)","v":0},null,{"$f":"IF(ISERROR(DC74*$CL74/1000),0,DC74*$CL74/1000)","v":0},null,{"$f":"IF(ISERROR(DE74*$CL74/1000),0,DE74*$CL74/1000)","v":0},null,{"$f":"IF(ISERROR(DG74*$CL74/1000),0,DG74*$CL74/1000)","v":0},null,{"$f":"IF(ISERROR(DI74*$CL74/1000),0,DI74*$CL74/1000)","v":0},null,{"$f":"IF(ISERROR(DK74*$CL74/1000),0,DK74*$CL74/1000)","v":0},null,{"$f":"IF(ISERROR(DM74*$CL74/1000),0,DM74*$CL74/1000)","v":0},null,0,null,0,null,0,null,0,null,0,null,{"$f":"IF(ISERROR(DY74*$CL74/1000),0,DY74*$CL74/1000)","v":0}]
[null,"Mars",null,null,null,null,null,"",null,0,null,0,null,{"$f":"IF(ISERROR(M75*$D75/1000),0,M75*$D75/1000)","v":0},null,{"$f":"IF(ISERROR(O75*$D75/1000),0,O75*$D75/1000)","v":0},null,{"$f":"IF(ISERROR(Q75*$D75/1000),0,Q75*$D75/1000)","v":0},null,{"$f":"IF(ISERROR(S75*$D75/1000),0,S75*$D75/1000)","v":0},null,{"$f":"IF(ISERROR(U75*$D75/1000),0,U75*$D75/1000)","v":0},null,{"$f":"IF(ISERROR(W75*$D75/1000),0,W75*$D75/1000)","v":0},null,{"$f":"IF(ISERROR(Y75*$D75/1000),0,Y75*$D75/1000)","v":0},null,{"$f":"IF(ISERROR(AA75*$D75/1000),0,AA75*$D75/1000)","v":0},null,{"$f":"IF(ISERROR(AC75*$D75/1000),0,AC75*$D75/1000)","v":0},null,{"$f":"IF(ISERROR(AE75*$D75/1000),0,AE75*$D75/1000)","v":0},null,0,null,0,null,0,null,0,null,0,null,0,null,null,null,null,null,null,"",null,0,null,0,null,0,null,0,null,0,null,0,null,0,null,0,null,0,null,0,null,0,null,0,null,0,null,0,null,0,null,0,null,0,null,0,null,null,null,null,null,null,"",null,0,null,0,null,{"$f":"IF(ISERROR(CU75*$CL75/1000),0,CU75*$CL75/1000)","v":0},null,{"$f":"IF(ISERROR(CW75*$CL75/1000),0,CW75*$CL75/1000)","v":0},null,{"$f":"IF(ISERROR(CY75*$CL75/1000),0,CY75*$CL75/1000)","v":0},null,{"$f":"IF(ISERROR(DA75*$CL75/1000),0,DA75*$CL75/1000)","v":0},null,{"$f":"IF(ISERROR(DC75*$CL75/1000),0,DC75*$CL75/1000)","v":0},null,{"$f":"IF(ISERROR(DE75*$CL75/1000),0,DE75*$CL75/1000)","v":0},null,{"$f":"IF(ISERROR(DG75*$CL75/1000),0,DG75*$CL75/1000)","v":0},null,{"$f":"IF(ISERROR(DI75*$CL75/1000),0,DI75*$CL75/1000)","v":0},null,{"$f":"IF(ISERROR(DK75*$CL75/1000),0,DK75*$CL75/1000)","v":0},null,{"$f":"IF(ISERROR(DM75*$CL75/1000),0,DM75*$CL75/1000)","v":0},null,0,null,0,null,0,null,0,null,0,null,{"$f":"IF(ISERROR(DY75*$CL75/1000),0,DY75*$CL75/1000)","v":0}]
[null,null,null,null,null,null,null,"",null,0,null,0,null,{"$f":"IF(ISERROR(M76*$D76/1000),0,M76*$D76/1000)","v":0},null,{"$f":"IF(ISERROR(O76*$D76/1000),0,O76*$D76/1000)","v":0},null,{"$f":"IF(ISERROR(Q76*$D76/1000),0,Q76*$D76/1000)","v":0},null,{"$f":"IF(ISERROR(S76*$D76/1000),0,S76*$D76/1000)","v":0},null,{"$f":"IF(ISERROR(U76*$D76/1000),0,U76*$D76/1000)","v":0},null,{"$f":"IF(ISERROR(W76*$D76/1000),0,W76*$D76/1000)","v":0},null,{"$f":"IF(ISERROR(Y76*$D76/1000),0,Y76*$D76/1000)","v":0},null,{"$f":"IF(ISERROR(AA76*$D76/1000),0,AA76*$D76/1000)","v":0},null,{"$f":"IF(ISERROR(AC76*$D76/1000),0,AC76*$D76/1000)","v":0},null,{"$f":"IF(ISERROR(AE76*$D76/1000),0,AE76*$D76/1000)","v":0},null,0,null,0,null,0,null,0,null,0,null,0,null,null,null,null,null,null,"",null,0,null,0,null,0,null,0,null,0,null,0,null,0,null,0,null,0,null,0,null,0,null,0,null,0,null,0,null,0,null,0,null,0,null,0,null,null,null,null,null,null,"",null,0,null,0,null,{"$f":"IF(ISERROR(CU76*$CL76/1000),0,CU76*$CL76/1000)","v":0},null,{"$f":"IF(ISERROR(CW76*$CL76/1000),0,CW76*$CL76/1000)","v":0},null,{"$f":"IF(ISERROR(CY76*$CL76/1000),0,CY76*$CL76/1000)","v":0},null,{"$f":"IF(ISERROR(DA76*$CL76/1000),0,DA76*$CL76/1000)","v":0},null,{"$f":"IF(ISERROR(DC76*$CL76/1000),0,DC76*$CL76/1000)","v":0},null,{"$f":"IF(ISERROR(DE76*$CL76/1000),0,DE76*$CL76/1000)","v":0},null,{"$f":"IF(ISERROR(DG76*$CL76/1000),0,DG76*$CL76/1000)","v":0},null,{"$f":"IF(ISERROR(DI76*$CL76/1000),0,DI76*$CL76/1000)","v":0},null,{"$f":"IF(ISERROR(DK76*$CL76/1000),0,DK76*$CL76/1000)","v":0},null,{"$f":"IF(ISERROR(DM76*$CL76/1000),0,DM76*$CL76/1000)","v":0},null,0,null,0,null,0,null,0,null,0,null,{"$f":"IF(ISERROR(DY76*$CL76/1000),0,DY76*$CL76/1000)","v":0}]
[null,null,null,null,null,null,null,"",null,0,null,0,null,{"$f":"IF(ISERROR(M77*$D77/1000),0,M77*$D77/1000)","v":0},null,{"$f":"IF(ISERROR(O77*$D77/1000),0,O77*$D77/1000)","v":0},null,{"$f":"IF(ISERROR(Q77*$D77/1000),0,Q77*$D77/1000)","v":0},null,{"$f":"IF(ISERROR(S77*$D77/1000),0,S77*$D77/1000)","v":0},null,{"$f":"IF(ISERROR(U77*$D77/1000),0,U77*$D77/1000)","v":0},null,{"$f":"IF(ISERROR(W77*$D77/1000),0,W77*$D77/1000)","v":0},null,{"$f":"IF(ISERROR(Y77*$D77/1000),0,Y77*$D77/1000)","v":0},null,{"$f":"IF(ISERROR(AA77*$D77/1000),0,AA77*$D77/1000)","v":0},null,{"$f":"IF(ISERROR(AC77*$D77/1000),0,AC77*$D77/1000)","v":0},null,{"$f":"IF(ISERROR(AE77*$D77/1000),0,AE77*$D77/1000)","v":0},null,0,null,0,null,0,null,0,null,0,null,0,null,null,null,null,null,null,"",null,0,null,0,null,0,null,0,null,0,null,0,null,0,null,0,null,0,null,0,null,0,null,0,null,0,null,0,null,0,null,0,null,0,null,0,null,null,null,null,null,null,"",null,0,null,0,null,{"$f":"IF(ISERROR(CU77*$CL77/1000),0,CU77*$CL77/1000)","v":0},null,{"$f":"IF(ISERROR(CW77*$CL77/1000),0,CW77*$CL77/1000)","v":0},null,{"$f":"IF(ISERROR(CY77*$CL77/1000),0,CY77*$CL77/1000)","v":0},null,{"$f":"IF(ISERROR(DA77*$CL77/1000),0,DA77*$CL77/1000)","v":0},null,{"$f":"IF(ISERROR(DC77*$CL77/1000),0,DC77*$CL77/1000)","v":0},null,{"$f":"IF(ISERROR(DE77*$CL77/1000),0,DE77*$CL77/1000)","v":0},null,{"$f":"IF(ISERROR(DG77*$CL77/1000),0,DG77*$CL77/1000)","v":0},null,{"$f":"IF(ISERROR(DI77*$CL77/1000),0,DI77*$CL77/1000)","v":0},null,{"$f":"IF(ISERROR(DK77*$CL77/1000),0,DK77*$CL77/1000)","v":0},null,{"$f":"IF(ISERROR(DM77*$CL77/1000),0,DM77*$CL77/1000)","v":0},null,0,null,0,null,0,null,0,null,0,null,{"$f":"IF(ISERROR(DY77*$CL77/1000),0,DY77*$CL77/1000)","v":0}]
[null,null,null,null,null,null,null,"",null,0,null,0,null,{"$f":"IF(ISERROR(M78*$D78/1000),0,M78*$D78/1000)","v":0},null,{"$f":"IF(ISERROR(O78*$D78/1000),0,O78*$D78/1000)","v":0},null,{"$f":"IF(ISERROR(Q78*$D78/1000),0,Q78*$D78/1000)","v":0},null,{"$f":"IF(ISERROR(S78*$D78/1000),0,S78*$D78/1000)","v":0},null,{"$f":"IF(ISERROR(U78*$D78/1000),0,U78*$D78/1000)","v":0},null,{"$f":"IF(ISERROR(W78*$D78/1000),0,W78*$D78/1000)","v":0},null,{"$f":"IF(ISERROR(Y78*$D78/1000),0,Y78*$D78/1000)","v":0},null,{"$f":"IF(ISERROR(AA78*$D78/1000),0,AA78*$D78/1000)","v":0},null,{"$f":"IF(ISERROR(AC78*$D78/1000),0,AC78*$D78/1000)","v":0},null,{"$f":"IF(ISERROR(AE78*$D78/1000),0,AE78*$D78/1000)","v":0},null,0,null,0,null,0,null,0,null,0,null,0,null,null,null,null,null,null,"",null,0,null,0,null,0,null,0,null,0,null,0,null,0,null,0,null,0,null,0,null,0,null,0,null,0,null,0,null,0,null,0,null,0,null,0,null,null,null,null,null,null,"",null,0,null,0,null,{"$f":"IF(ISERROR(CU78*$CL78/1000),0,CU78*$CL78/1000)","v":0},null,{"$f":"IF(ISERROR(CW78*$CL78/1000),0,CW78*$CL78/1000)","v":0},null,{"$f":"IF(ISERROR(CY78*$CL78/1000),0,CY78*$CL78/1000)","v":0},null,{"$f":"IF(ISERROR(DA78*$CL78/1000),0,DA78*$CL78/1000)","v":0},null,{"$f":"IF(ISERROR(DC78*$CL78/1000),0,DC78*$CL78/1000)","v":0},null,{"$f":"IF(ISERROR(DE78*$CL78/1000),0,DE78*$CL78/1000)","v":0},null,{"$f":"IF(ISERROR(DG78*$CL78/1000),0,DG78*$CL78/1000)","v":0},null,{"$f":"IF(ISERROR(DI78*$CL78/1000),0,DI78*$CL78/1000)","v":0},null,{"$f":"IF(ISERROR(DK78*$CL78/1000),0,DK78*$CL78/1000)","v":0},null,{"$f":"IF(ISERROR(DM78*$CL78/1000),0,DM78*$CL78/1000)","v":0},null,0,null,0,null,0,null,0,null,0,null,{"$f":"IF(ISERROR(DY78*$CL78/1000),0,DY78*$CL78/1000)","v":0}]
[null,null,null,null,null,null,null,"",null,0,null,0,null,{"$f":"IF(ISERROR(M79*$D79/1000),0,M79*$D79/1000)","v":0},null,{"$f":"IF(ISERROR(O79*$D79/1000),0,O79*$D79/1000)","v":0},null,{"$f":"IF(ISERROR(Q79*$D79/1000),0,Q79*$D79/1000)","v":0},null,{"$f":"IF(ISERROR(S79*$D79/1000),0,S79*$D79/1000)","v":0},null,{"$f":"IF(ISERROR(U79*$D79/1000),0,U79*$D79/1000)","v":0},null,{"$f":"IF(ISERROR(W79*$D79/1000),0,W79*$D79/1000)","v":0},null,{"$f":"IF(ISERROR(Y79*$D79/1000),0,Y79*$D79/1000)","v":0},null,{"$f":"IF(ISERROR(AA79*$D79/1000),0,AA79*$D79/1000)","v":0},null,{"$f":"IF(ISERROR(AC79*$D79/1000),0,AC79*$D79/1000)","v":0},null,{"$f":"IF(ISERROR(AE79*$D79/1000),0,AE79*$D79/1000)","v":0},null,0,null,0,null,0,null,0,null,0,null,0,null,null,null,null,null,null,"",null,{"$f":"IF(ISERROR(AZ79*$AU79/1000),0,AZ79*$AU79/1000)","v":0},null,{"$f":"IF(ISERROR(BB79*$AU79/1000),0,BB79*$AU79/1000)","v":0},null,{"$f":"IF(ISERROR(BD79*$AU79/1000),0,BD79*$AU79/1000)","v":0},null,{"$f":"IF(ISERROR(BF79*$AU79/1000),0,BF79*$AU79/1000)","v":0},null,{"$f":"IF(ISERROR(BH79*$AU79/1000),0,BH79*$AU79/1000)","v":0},null,{"$f":"IF(ISERROR(BJ79*$AU79/1000),0,BJ79*$AU79/1000)","v":0},null,{"$f":"IF(ISERROR(BL79*$AU79/1000),0,BL79*$AU79/1000)","v":0},null,{"$f":"IF(ISERROR(BN79*$AU79/1000),0,BN79*$AU79/1000)","v":0},null,{"$f":"IF(ISERROR(BP79*$AU79/1000),0,BP79*$AU79/1000)","v":0},null,{"$f":"IF(ISERROR(BR79*$AU79/1000),0,BR79*$AU79/1000)","v":0},null,{"$f":"IF(ISERROR(BT79*$AU79/1000),0,BT79*$AU79/1000)","v":0},null,{"$f":"IF(ISERROR(BV79*$AU79/1000),0,BV79*$AU79/1000)","v":0},null,{"$f":"IF(ISERROR(BX79*$AU79/1000),0,BX79*$AU79/1000)","v":0},null,{"$f":"IF(ISERROR(BZ79*$AU79/1000),0,BZ79*$AU79/1000)","v":0},null,{"$f":"IF(ISERROR(CB79*$AU79/1000),0,CB79*$AU79/1000)","v":0},null,{"$f":"IF(ISERROR(CD79*$AU79/1000),0,CD79*$AU79/1000)","v":0},null,{"$f":"IF(ISERROR(CF79*$AU79/1000),0,CF79*$AU79/1000)","v":0},null,{"$f":"IF(ISERROR(CH79*$AU79/1000),0,CH79*$AU79/1000)","v":0},null,null,null,null,null,null,"",null,0,null,0,null,{"$f":"IF(ISERROR(CU79*$CL79/1000),0,CU79*$CL79/1000)","v":0},null,{"$f":"IF(ISERROR(CW79*$CL79/1000),0,CW79*$CL79/1000)","v":0},null,{"$f":"IF(ISERROR(CY79*$CL79/1000),0,CY79*$CL79/1000)","v":0},null,{"$f":"IF(ISERROR(DA79*$CL79/1000),0,DA79*$CL79/1000)","v":0},null,{"$f":"IF(ISERROR(DC79*$CL79/1000),0,DC79*$CL79/1000)","v":0},null,{"$f":"IF(ISERROR(DE79*$CL79/1000),0,DE79*$CL79/1000)","v":0},null,{"$f":"IF(ISERROR(DG79*$CL79/1000),0,DG79*$CL79/1000)","v":0},null,{"$f":"IF(ISERROR(DI79*$CL79/1000),0,DI79*$CL79/1000)","v":0},null,{"$f":"IF(ISERROR(DK79*$CL79/1000),0,DK79*$CL79/1000)","v":0},null,{"$f":"IF(ISERROR(DM79*$CL79/1000),0,DM79*$CL79/1000)","v":0},null,0,null,0,null,0,null,0,null,0,null,{"$f":"IF(ISERROR(DY79*$CL79/1000),0,DY79*$CL79/1000)","v":0}]
[null,null,null,null,null,null,null,{"$f":"IF(ISTEXT(G80),1,IF(ISBLANK(G80),\"\",IF(ISNONTEXT(G80),G80)))","v":""},null,{"$f":"IF(ISERROR(I80*$D80/1000),0,I80*$D80/1000)","v":0},null,0,null,{"$f":"IF(ISERROR(M80*$D80/1000),0,M80*$D80/1000)","v":0},null,{"$f":"IF(ISERROR(O80*$D80/1000),0,O80*$D80/1000)","v":0},null,{"$f":"IF(ISERROR(Q80*$D80/1000),0,Q80*$D80/1000)","v":0},null,{"$f":"IF(ISERROR(S80*$D80/1000),0,S80*$D80/1000)","v":0},null,{"$f":"IF(ISERROR(U80*$D80/1000),0,U80*$D80/1000)","v":0},null,{"$f":"IF(ISERROR(W80*$D80/1000),0,W80*$D80/1000)","v":0},null,{"$f":"IF(ISERROR(Y80*$D80/1000),0,Y80*$D80/1000)","v":0},null,{"$f":"IF(ISERROR(AA80*$D80/1000),0,AA80*$D80/1000)","v":0},null,{"$f":"IF(ISERROR(AC80*$D80/1000),0,AC80*$D80/1000)","v":0},null,{"$f":"IF(ISERROR(AE80*$D80/1000),0,AE80*$D80/1000)","v":0},null,{"$f":"IF(ISERROR(AG80*$D80/1000),0,AG80*$D80/1000)","v":0},null,{"$f":"IF(ISERROR(AI80*$D80/1000),0,AI80*$D80/1000)","v":0},null,{"$f":"IF(ISERROR(AK80*$D80/1000),0,AK80*$D80/1000)","v":0},null,{"$f":"IF(ISERROR(AM80*$D80/1000),0,AM80*$D80/1000)","v":0},null,{"$f":"IF(ISERROR(AO80*$D80/1000),0,AO80*$D80/1000)","v":0},null,{"$f":"IF(ISERROR(AQ80*$D80/1000),0,AQ80*$D80/1000)","v":0},null,null,null,null,null,null,{"$f":"IF(ISTEXT(AX80),1,IF(ISBLANK(AX80),\"\",IF(ISNONTEXT(AX80),AX80)))","v":""},null,0,null,0,null,0,null,0,null,0,null,0,null,0,null,0,null,0,null,0,null,0,null,0,null,0,null,0,null,0,null,0,null,0,null,0,null,null,null,null,null,null,{"$f":"IF(ISTEXT(CO80),1,IF(ISBLANK(CO80),\"\",IF(ISNONTEXT(CO80),CO80)))","v":""},null,{"$f":"IF(ISERROR(CQ80*$CL80/1000),0,CQ80*$CL80/1000)","v":0},null,0,null,{"$f":"IF(ISERROR(CU80*$CL80/1000),0,CU80*$CL80/1000)","v":0},null,{"$f":"IF(ISERROR(CW80*$CL80/1000),0,CW80*$CL80/1000)","v":0},null,{"$f":"IF(ISERROR(CY80*$CL80/1000),0,CY80*$CL80/1000)","v":0},null,{"$f":"IF(ISERROR(DA80*$CL80/1000),0,DA80*$CL80/1000)","v":0},null,{"$f":"IF(ISERROR(DC80*$CL80/1000),0,DC80*$CL80/1000)","v":0},null,{"$f":"IF(ISERROR(DE80*$CL80/1000),0,DE80*$CL80/1000)","v":0},null,{"$f":"IF(ISERROR(DG80*$CL80/1000),0,DG80*$CL80/1000)","v":0},null,{"$f":"IF(ISERROR(DI80*$CL80/1000),0,DI80*$CL80/1000)","v":0},null,{"$f":"IF(ISERROR(DK80*$CL80/1000),0,DK80*$CL80/1000)","v":0},null,{"$f":"IF(ISERROR(DM80*$CL80/1000),0,DM80*$CL80/1000)","v":0},null,{"$f":"IF(ISERROR(DO80*$CL80/1000),0,DO80*$CL80/1000)","v":0},null,{"$f":"IF(ISERROR(DQ80*$CL80/1000),0,DQ80*$CL80/1000)","v":0},null,{"$f":"IF(ISERROR(DS80*$CL80/1000),0,DS80*$CL80/1000)","v":0},null,{"$f":"IF(ISERROR(DU80*$CL80/1000),0,DU80*$CL80/1000)","v":0},null,{"$f":"IF(ISERROR(DW80*$CL80/1000),0,DW80*$CL80/1000)","v":0},null,{"$f":"IF(ISERROR(DY80*$CL80/1000),0,DY80*$CL80/1000)","v":0}]
[null,null,null,null,null,null,null,"",null,0,null,0,null,{"$f":"IF(ISERROR(M81*$D81/1000),0,M81*$D81/1000)","v":0},null,{"$f":"IF(ISERROR(O81*$D81/1000),0,O81*$D81/1000)","v":0},null,{"$f":"IF(ISERROR(Q81*$D81/1000),0,Q81*$D81/1000)","v":0},null,{"$f":"IF(ISERROR(S81*$D81/1000),0,S81*$D81/1000)","v":0},null,{"$f":"IF(ISERROR(U81*$D81/1000),0,U81*$D81/1000)","v":0},null,{"$f":"IF(ISERROR(W81*$D81/1000),0,W81*$D81/1000)","v":0},null,{"$f":"IF(ISERROR(Y81*$D81/1000),0,Y81*$D81/1000)","v":0},null,{"$f":"IF(ISERROR(AA81*$D81/1000),0,AA81*$D81/1000)","v":0},null,{"$f":"IF(ISERROR(AC81*$D81/1000),0,AC81*$D81/1000)","v":0},null,{"$f":"IF(ISERROR(AE81*$D81/1000),0,AE81*$D81/1000)","v":0},null,0,null,0,null,0,null,0,null,0,null,0,null,null,null,null,null,null,"",null,0,null,0,null,0,null,0,null,0,null,0,null,0,null,0,null,0,null,0,null,0,null,0,null,0,null,0,null,0,null,0,null,0,null,0,null,null,null,null,null,null,"",null,0,null,0,null,{"$f":"IF(ISERROR(CU81*$CL81/1000),0,CU81*$CL81/1000)","v":0},null,{"$f":"IF(ISERROR(CW81*$CL81/1000),0,CW81*$CL81/1000)","v":0},null,{"$f":"IF(ISERROR(CY81*$CL81/1000),0,CY81*$CL81/1000)","v":0},null,{"$f":"IF(ISERROR(DA81*$CL81/1000),0,DA81*$CL81/1000)","v":0},null,{"$f":"IF(ISERROR(DC81*$CL81/1000),0,DC81*$CL81/1000)","v":0},null,{"$f":"IF(ISERROR(DE81*$CL81/1000),0,DE81*$CL81/1000)","v":0},null,{"$f":"IF(ISERROR(DG81*$CL81/1000),0,DG81*$CL81/1000)","v":0},null,{"$f":"IF(ISERROR(DI81*$CL81/1000),0,DI81*$CL81/1000)","v":0},null,{"$f":"IF(ISERROR(DK81*$CL81/1000),0,DK81*$CL81/1000)","v":0},null,{"$f":"IF(ISERROR(DM81*$CL81/1000),0,DM81*$CL81/1000)","v":0},null,0,null,0,null,0,null,0,null,0,null,{"$f":"IF(ISERROR(DY81*$CL81/1000),0,DY81*$CL81/1000)","v":0}]
[null,null,null,null,null,null,null,"",null,0,null,0,null,{"$f":"IF(ISERROR(M82*$D82/1000),0,M82*$D82/1000)","v":0},null,{"$f":"IF(ISERROR(O82*$D82/1000),0,O82*$D82/1000)","v":0},null,{"$f":"IF(ISERROR(Q82*$D82/1000),0,Q82*$D82/1000)","v":0},null,{"$f":"IF(ISERROR(S82*$D82/1000),0,S82*$D82/1000)","v":0},null,{"$f":"IF(ISERROR(U82*$D82/1000),0,U82*$D82/1000)","v":0},null,{"$f":"IF(ISERROR(W82*$D82/1000),0,W82*$D82/1000)","v":0},null,{"$f":"IF(ISERROR(Y82*$D82/1000),0,Y82*$D82/1000)","v":0},null,{"$f":"IF(ISERROR(AA82*$D82/1000),0,AA82*$D82/1000)","v":0},null,{"$f":"IF(ISERROR(AC82*$D82/1000),0,AC82*$D82/1000)","v":0},null,{"$f":"IF(ISERROR(AE82*$D82/1000),0,AE82*$D82/1000)","v":0},null,0,null,0,null,0,null,0,null,0,null,0,null,null,null,null,null,null,"",null,0,null,0,null,0,null,0,null,0,null,0,null,0,null,0,null,0,null,0,null,0,null,0,null,0,null,0,null,0,null,0,null,0,null,0,null,null,null,null,null,null,"",null,0,null,0,null,{"$f":"IF(ISERROR(CU82*$CL82/1000),0,CU82*$CL82/1000)","v":0},null,{"$f":"IF(ISERROR(CW82*$CL82/1000),0,CW82*$CL82/1000)","v":0},null,{"$f":"IF(ISERROR(CY82*$CL82/1000),0,CY82*$CL82/1000)","v":0},null,{"$f":"IF(ISERROR(DA82*$CL82/1000),0,DA82*$CL82/1000)","v":0},null,{"$f":"IF(ISERROR(DC82*$CL82/1000),0,DC82*$CL82/1000)","v":0},null,{"$f":"IF(ISERROR(DE82*$CL82/1000),0,DE82*$CL82/1000)","v":0},null,{"$f":"IF(ISERROR(DG82*$CL82/1000),0,DG82*$CL82/1000)","v":0},null,{"$f":"IF(ISERROR(DI82*$CL82/1000),0,DI82*$CL82/1000)","v":0},null,{"$f":"IF(ISERROR(DK82*$CL82/1000),0,DK82*$CL82/1000)","v":0},null,{"$f":"IF(ISERROR(DM82*$CL82/1000),0,DM82*$CL82/1000)","v":0},null,0,null,0,null,0,null,0,null,0,null,{"$f":"IF(ISERROR(DY82*$CL82/1000),0,DY82*$CL82/1000)","v":0}]
[null,null,null,null,null,null,null,"",null,0,null,0,null,{"$f":"IF(ISERROR(M83*$D83/1000),0,M83*$D83/1000)","v":0},null,{"$f":"IF(ISERROR(O83*$D83/1000),0,O83*$D83/1000)","v":0},null,{"$f":"IF(ISERROR(Q83*$D83/1000),0,Q83*$D83/1000)","v":0},null,{"$f":"IF(ISERROR(S83*$D83/1000),0,S83*$D83/1000)","v":0},null,{"$f":"IF(ISERROR(U83*$D83/1000),0,U83*$D83/1000)","v":0},null,{"$f":"IF(ISERROR(W83*$D83/1000),0,W83*$D83/1000)","v":0},null,{"$f":"IF(ISERROR(Y83*$D83/1000),0,Y83*$D83/1000)","v":0},null,{"$f":"IF(ISERROR(AA83*$D83/1000),0,AA83*$D83/1000)","v":0},null,{"$f":"IF(ISERROR(AC83*$D83/1000),0,AC83*$D83/1000)","v":0},null,{"$f":"IF(ISERROR(AE83*$D83/1000),0,AE83*$D83/1000)","v":0},null,0,null,0,null,0,null,0,null,0,null,0,null,null,null,null,null,null,"",null,0,null,0,null,0,null,0,null,0,null,0,null,0,null,0,null,0,null,0,null,0,null,0,null,0,null,0,null,0,null,0,null,0,null,0,null,null,null,null,null,null,"",null,0,null,0,null,{"$f":"IF(ISERROR(CU83*$CL83/1000),0,CU83*$CL83/1000)","v":0},null,{"$f":"IF(ISERROR(CW83*$CL83/1000),0,CW83*$CL83/1000)","v":0},null,{"$f":"IF(ISERROR(CY83*$CL83/1000),0,CY83*$CL83/1000)","v":0},null,{"$f":"IF(ISERROR(DA83*$CL83/1000),0,DA83*$CL83/1000)","v":0},null,{"$f":"IF(ISERROR(DC83*$CL83/1000),0,DC83*$CL83/1000)","v":0},null,{"$f":"IF(ISERROR(DE83*$CL83/1000),0,DE83*$CL83/1000)","v":0},null,{"$f":"IF(ISERROR(DG83*$CL83/1000),0,DG83*$CL83/1000)","v":0},null,{"$f":"IF(ISERROR(DI83*$CL83/1000),0,DI83*$CL83/1000)","v":0},null,{"$f":"IF(ISERROR(DK83*$CL83/1000),0,DK83*$CL83/1000)","v":0},null,{"$f":"IF(ISERROR(DM83*$CL83/1000),0,DM83*$CL83/1000)","v":0},null,0,null,0,null,0,null,0,null,0,null,{"$f":"IF(ISERROR(DY83*$CL83/1000),0,DY83*$CL83/1000)","v":0}]
[null,null,null,null,null,null,null,"",null,0,null,0,null,{"$f":"IF(ISERROR(M84*$D84/1000),0,M84*$D84/1000)","v":0},null,{"$f":"IF(ISERROR(O84*$D84/1000),0,O84*$D84/1000)","v":0},null,{"$f":"IF(ISERROR(Q84*$D84/1000),0,Q84*$D84/1000)","v":0},null,{"$f":"IF(ISERROR(S84*$D84/1000),0,S84*$D84/1000)","v":0},null,{"$f":"IF(ISERROR(U84*$D84/1000),0,U84*$D84/1000)","v":0},null,{"$f":"IF(ISERROR(W84*$D84/1000),0,W84*$D84/1000)","v":0},null,{"$f":"IF(ISERROR(Y84*$D84/1000),0,Y84*$D84/1000)","v":0},null,{"$f":"IF(ISERROR(AA84*$D84/1000),0,AA84*$D84/1000)","v":0},null,{"$f":"IF(ISERROR(AC84*$D84/1000),0,AC84*$D84/1000)","v":0},null,{"$f":"IF(ISERROR(AE84*$D84/1000),0,AE84*$D84/1000)","v":0},null,0,null,0,null,0,null,0,null,0,null,0,null,null,null,null,null,null,"",null,0,null,0,null,0,null,0,null,0,null,0,null,0,null,0,null,0,null,0,null,0,null,0,null,0,null,0,null,0,null,0,null,0,null,0,null,null,null,null,null,null,"",null,0,null,0,null,{"$f":"IF(ISERROR(CU84*$CL84/1000),0,CU84*$CL84/1000)","v":0},null,{"$f":"IF(ISERROR(CW84*$CL84/1000),0,CW84*$CL84/1000)","v":0},null,{"$f":"IF(ISERROR(CY84*$CL84/1000),0,CY84*$CL84/1000)","v":0},null,{"$f":"IF(ISERROR(DA84*$CL84/1000),0,DA84*$CL84/1000)","v":0},null,{"$f":"IF(ISERROR(DC84*$CL84/1000),0,DC84*$CL84/1000)","v":0},null,{"$f":"IF(ISERROR(DE84*$CL84/1000),0,DE84*$CL84/1000)","v":0},null,{"$f":"IF(ISERROR(DG84*$CL84/1000),0,DG84*$CL84/1000)","v":0},null,{"$f":"IF(ISERROR(DI84*$CL84/1000),0,DI84*$CL84/1000)","v":0},null,{"$f":"IF(ISERROR(DK84*$CL84/1000),0,DK84*$CL84/1000)","v":0},null,{"$f":"IF(ISERROR(DM84*$CL84/1000),0,DM84*$CL84/1000)","v":0},null,0,null,0,null,0,null,0,null,0,null,{"$f":"IF(ISERROR(DY84*$CL84/1000),0,DY84*$CL84/1000)","v":0}]
[null,null,null,null,null,null,null,"",null,0,null,0,null,{"$f":"IF(ISERROR(M85*$D85/1000),0,M85*$D85/1000)","v":0},null,{"$f":"IF(ISERROR(O85*$D85/1000),0,O85*$D85/1000)","v":0},null,{"$f":"IF(ISERROR(Q85*$D85/1000),0,Q85*$D85/1000)","v":0},null,{"$f":"IF(ISERROR(S85*$D85/1000),0,S85*$D85/1000)","v":0},null,{"$f":"IF(ISERROR(U85*$D85/1000),0,U85*$D85/1000)","v":0},null,{"$f":"IF(ISERROR(W85*$D85/1000),0,W85*$D85/1000)","v":0},null,{"$f":"IF(ISERROR(Y85*$D85/1000),0,Y85*$D85/1000)","v":0},null,{"$f":"IF(ISERROR(AA85*$D85/1000),0,AA85*$D85/1000)","v":0},null,{"$f":"IF(ISERROR(AC85*$D85/1000),0,AC85*$D85/1000)","v":0},null,{"$f":"IF(ISERROR(AE85*$D85/1000),0,AE85*$D85/1000)","v":0},null,0,null,0,null,0,null,0,null,0,null,0,null,null,null,null,null,null,"",null,0,null,0,null,0,null,0,null,0,null,0,null,0,null,0,null,0,null,0,null,0,null,0,null,0,null,0,null,0,null,0,null,0,null,0,null,null,null,null,null,null,"",null,0,null,0,null,{"$f":"IF(ISERROR(CU85*$CL85/1000),0,CU85*$CL85/1000)","v":0},null,{"$f":"IF(ISERROR(CW85*$CL85/1000),0,CW85*$CL85/1000)","v":0},null,{"$f":"IF(ISERROR(CY85*$CL85/1000),0,CY85*$CL85/1000)","v":0},null,{"$f":"IF(ISERROR(DA85*$CL85/1000),0,DA85*$CL85/1000)","v":0},null,{"$f":"IF(ISERROR(DC85*$CL85/1000),0,DC85*$CL85/1000)","v":0},null,{"$f":"IF(ISERROR(DE85*$CL85/1000),0,DE85*$CL85/1000)","v":0},null,{"$f":"IF(ISERROR(DG85*$CL85/1000),0,DG85*$CL85/1000)","v":0},null,{"$f":"IF(ISERROR(DI85*$CL85/1000),0,DI85*$CL85/1000)","v":0},null,{"$f":"IF(ISERROR(DK85*$CL85/1000),0,DK85*$CL85/1000)","v":0},null,{"$f":"IF(ISERROR(DM85*$CL85/1000),0,DM85*$CL85/1000)","v":0},null,0,null,0,null,0,null,0,null,0,null,{"$f":"IF(ISERROR(DY85*$CL85/1000),0,DY85*$CL85/1000)","v":0}]
[null,null,null,null,null,null,null,"",null,0,null,0,null,{"$f":"IF(ISERROR(M86*$D86/1000),0,M86*$D86/1000)","v":0},null,{"$f":"IF(ISERROR(O86*$D86/1000),0,O86*$D86/1000)","v":0},null,{"$f":"IF(ISERROR(Q86*$D86/1000),0,Q86*$D86/1000)","v":0},null,{"$f":"IF(ISERROR(S86*$D86/1000),0,S86*$D86/1000)","v":0},null,{"$f":"IF(ISERROR(U86*$D86/1000),0,U86*$D86/1000)","v":0},null,{"$f":"IF(ISERROR(W86*$D86/1000),0,W86*$D86/1000)","v":0},null,{"$f":"IF(ISERROR(Y86*$D86/1000),0,Y86*$D86/1000)","v":0},null,{"$f":"IF(ISERROR(AA86*$D86/1000),0,AA86*$D86/1000)","v":0},null,{"$f":"IF(ISERROR(AC86*$D86/1000),0,AC86*$D86/1000)","v":0},null,{"$f":"IF(ISERROR(AE86*$D86/1000),0,AE86*$D86/1000)","v":0},null,0,null,0,null,0,null,0,null,0,null,0,null,null,null,null,null,null,"",null,0,null,0,null,0,null,0,null,0,null,0,null,0,null,0,null,0,null,0,null,0,null,0,null,0,null,0,null,0,null,0,null,0,null,0,null,null,null,null,null,null,"",null,0,null,0,null,{"$f":"IF(ISERROR(CU86*$CL86/1000),0,CU86*$CL86/1000)","v":0},null,{"$f":"IF(ISERROR(CW86*$CL86/1000),0,CW86*$CL86/1000)","v":0},null,{"$f":"IF(ISERROR(CY86*$CL86/1000),0,CY86*$CL86/1000)","v":0},null,{"$f":"IF(ISERROR(DA86*$CL86/1000),0,DA86*$CL86/1000)","v":0},null,{"$f":"IF(ISERROR(DC86*$CL86/1000),0,DC86*$CL86/1000)","v":0},null,{"$f":"IF(ISERROR(DE86*$CL86/1000),0,DE86*$CL86/1000)","v":0},null,{"$f":"IF(ISERROR(DG86*$CL86/1000),0,DG86*$CL86/1000)","v":0},null,{"$f":"IF(ISERROR(DI86*$CL86/1000),0,DI86*$CL86/1000)","v":0},null,{"$f":"IF(ISERROR(DK86*$CL86/1000),0,DK86*$CL86/1000)","v":0},null,{"$f":"IF(ISERROR(DM86*$CL86/1000),0,DM86*$CL86/1000)","v":0},null,0,null,0,null,0,null,0,null,0,null,{"$f":"IF(ISERROR(DY86*$CL86/1000),0,DY86*$CL86/1000)","v":0}]
[null,null,null,null,null,null,null,"",null,0,null,0,null,{"$f":"IF(ISERROR(M87*$D87/1000),0,M87*$D87/1000)","v":0},null,{"$f":"IF(ISERROR(O87*$D87/1000),0,O87*$D87/1000)","v":0},null,{"$f":"IF(ISERROR(Q87*$D87/1000),0,Q87*$D87/1000)","v":0},null,{"$f":"IF(ISERROR(S87*$D87/1000),0,S87*$D87/1000)","v":0},null,{"$f":"IF(ISERROR(U87*$D87/1000),0,U87*$D87/1000)","v":0},null,{"$f":"IF(ISERROR(W87*$D87/1000),0,W87*$D87/1000)","v":0},null,{"$f":"IF(ISERROR(Y87*$D87/1000),0,Y87*$D87/1000)","v":0},null,{"$f":"IF(ISERROR(AA87*$D87/1000),0,AA87*$D87/1000)","v":0},null,{"$f":"IF(ISERROR(AC87*$D87/1000),0,AC87*$D87/1000)","v":0},null,{"$f":"IF(ISERROR(AE87*$D87/1000),0,AE87*$D87/1000)","v":0},null,0,null,0,null,0,null,0,null,0,null,0,null,null,null,null,null,null,"",null,0,null,0,null,0,null,0,null,0,null,0,null,0,null,0,null,0,null,0,null,0,null,0,null,0,null,0,null,0,null,0,null,0,null,0,null,null,null,null,null,null,"",null,0,null,0,null,{"$f":"IF(ISERROR(CU87*$CL87/1000),0,CU87*$CL87/1000)","v":0},null,{"$f":"IF(ISERROR(CW87*$CL87/1000),0,CW87*$CL87/1000)","v":0},null,{"$f":"IF(ISERROR(CY87*$CL87/1000),0,CY87*$CL87/1000)","v":0},null,{"$f":"IF(ISERROR(DA87*$CL87/1000),0,DA87*$CL87/1000)","v":0},null,{"$f":"IF(ISERROR(DC87*$CL87/1000),0,DC87*$CL87/1000)","v":0},null,{"$f":"IF(ISERROR(DE87*$CL87/1000),0,DE87*$CL87/1000)","v":0},null,{"$f":"IF(ISERROR(DG87*$CL87/1000),0,DG87*$CL87/1000)","v":0},null,{"$f":"IF(ISERROR(DI87*$CL87/1000),0,DI87*$CL87/1000)","v":0},null,{"$f":"IF(ISERROR(DK87*$CL87/1000),0,DK87*$CL87/1000)","v":0},null,{"$f":"IF(ISERROR(DM87*$CL87/1000),0,DM87*$CL87/1000)","v":0},null,0,null,0,null,0,null,0,null,0,null,{"$f":"IF(ISERROR(DY87*$CL87/1000),0,DY87*$CL87/1000)","v":0}]
[null,null,null,null,null,null,null,"",null,0,null,0,null,{"$f":"IF(ISERROR(M88*$D88/1000),0,M88*$D88/1000)","v":0},null,{"$f":"IF(ISERROR(O88*$D88/1000),0,O88*$D88/1000)","v":0},null,{"$f":"IF(ISERROR(Q88*$D88/1000),0,Q88*$D88/1000)","v":0},null,{"$f":"IF(ISERROR(S88*$D88/1000),0,S88*$D88/1000)","v":0},null,{"$f":"IF(ISERROR(U88*$D88/1000),0,U88*$D88/1000)","v":0},null,{"$f":"IF(ISERROR(W88*$D88/1000),0,W88*$D88/1000)","v":0},null,{"$f":"IF(ISERROR(Y88*$D88/1000),0,Y88*$D88/1000)","v":0},null,{"$f":"IF(ISERROR(AA88*$D88/1000),0,AA88*$D88/1000)","v":0},null,{"$f":"IF(ISERROR(AC88*$D88/1000),0,AC88*$D88/1000)","v":0},null,{"$f":"IF(ISERROR(AE88*$D88/1000),0,AE88*$D88/1000)","v":0},null,0,null,0,null,0,null,0,null,0,null,0,null,null,null,null,null,null,"",null,0,null,0,null,0,null,0,null,0,null,0,null,0,null,0,null,0,null,0,null,0,null,0,null,0,null,0,null,0,null,0,null,0,null,0,null,null,null,null,null,null,"",null,0,null,0,null,{"$f":"IF(ISERROR(CU88*$CL88/1000),0,CU88*$CL88/1000)","v":0},null,{"$f":"IF(ISERROR(CW88*$CL88/1000),0,CW88*$CL88/1000)","v":0},null,{"$f":"IF(ISERROR(CY88*$CL88/1000),0,CY88*$CL88/1000)","v":0},null,{"$f":"IF(ISERROR(DA88*$CL88/1000),0,DA88*$CL88/1000)","v":0},null,{"$f":"IF(ISERROR(DC88*$CL88/1000),0,DC88*$CL88/1000)","v":0},null,{"$f":"IF(ISERROR(DE88*$CL88/1000),0,DE88*$CL88/1000)","v":0},null,{"$f":"IF(ISERROR(DG88*$CL88/1000),0,DG88*$CL88/1000)","v":0},null,{"$f":"IF(ISERROR(DI88*$CL88/1000),0,DI88*$CL88/1000)","v":0},null,{"$f":"IF(ISERROR(DK88*$CL88/1000),0,DK88*$CL88/1000)","v":0},null,{"$f":"IF(ISERROR(DM88*$CL88/1000),0,DM88*$CL88/1000)","v":0},null,0,null,0,null,0,null,0,null,0,null,{"$f":"IF(ISERROR(DY88*$CL88/1000),0,DY88*$CL88/1000)","v":0}]
[null,null,null,null,null,null,null,"",null,0,null,0,null,{"$f":"IF(ISERROR(M89*$D89/1000),0,M89*$D89/1000)","v":0},null,{"$f":"IF(ISERROR(O89*$D89/1000),0,O89*$D89/1000)","v":0},null,{"$f":"IF(ISERROR(Q89*$D89/1000),0,Q89*$D89/1000)","v":0},null,{"$f":"IF(ISERROR(S89*$D89/1000),0,S89*$D89/1000)","v":0},null,{"$f":"IF(ISERROR(U89*$D89/1000),0,U89*$D89/1000)","v":0},null,{"$f":"IF(ISERROR(W89*$D89/1000),0,W89*$D89/1000)","v":0},null,{"$f":"IF(ISERROR(Y89*$D89/1000),0,Y89*$D89/1000)","v":0},null,{"$f":"IF(ISERROR(AA89*$D89/1000),0,AA89*$D89/1000)","v":0},null,{"$f":"IF(ISERROR(AC89*$D89/1000),0,AC89*$D89/1000)","v":0},null,{"$f":"IF(ISERROR(AE89*$D89/1000),0,AE89*$D89/1000)","v":0},null,0,null,0,null,0,null,0,null,0,null,0,null,null,null,null,null,null,"",null,0,null,0,null,0,null,0,null,0,null,0,null,0,null,0,null,0,null,0,null,0,null,0,null,0,null,0,null,0,null,0,null,0,null,0,null,null,null,null,null,null,"",null,0,null,0,null,{"$f":"IF(ISERROR(CU89*$CL89/1000),0,CU89*$CL89/1000)","v":0},null,{"$f":"IF(ISERROR(CW89*$CL89/1000),0,CW89*$CL89/1000)","v":0},null,{"$f":"IF(ISERROR(CY89*$CL89/1000),0,CY89*$CL89/1000)","v":0},null,{"$f":"IF(ISERROR(DA89*$CL89/1000),0,DA89*$CL89/1000)","v":0},null,{"$f":"IF(ISERROR(DC89*$CL89/1000),0,DC89*$CL89/1000)","v":0},null,{"$f":"IF(ISERROR(DE89*$CL89/1000),0,DE89*$CL89/1000)","v":0},null,{"$f":"IF(ISERROR(DG89*$CL89/1000),0,DG89*$CL89/1000)","v":0},null,{"$f":"IF(ISERROR(DI89*$CL89/1000),0,DI89*$CL89/1000)","v":0},null,{"$f":"IF(ISERROR(DK89*$CL89/1000),0,DK89*$CL89/1000)","v":0},null,{"$f":"IF(ISERROR(DM89*$CL89/1000),0,DM89*$CL89/1000)","v":0},null,0,null,0,null,0,null,0,null,0,null,{"$f":"IF(ISERROR(DY89*$CL89/1000),0,DY89*$CL89/1000)","v":0}]
[null,null,null,null,null,null,null,"",null,0,null,0,null,{"$f":"IF(ISERROR(M90*$D90/1000),0,M90*$D90/1000)","v":0},null,{"$f":"IF(ISERROR(O90*$D90/1000),0,O90*$D90/1000)","v":0},null,{"$f":"IF(ISERROR(Q90*$D90/1000),0,Q90*$D90/1000)","v":0},null,{"$f":"IF(ISERROR(S90*$D90/1000),0,S90*$D90/1000)","v":0},null,{"$f":"IF(ISERROR(U90*$D90/1000),0,U90*$D90/1000)","v":0},null,{"$f":"IF(ISERROR(W90*$D90/1000),0,W90*$D90/1000)","v":0},null,{"$f":"IF(ISERROR(Y90*$D90/1000),0,Y90*$D90/1000)","v":0},null,{"$f":"IF(ISERROR(AA90*$D90/1000),0,AA90*$D90/1000)","v":0},null,{"$f":"IF(ISERROR(AC90*$D90/1000),0,AC90*$D90/1000)","v":0},null,{"$f":"IF(ISERROR(AE90*$D90/1000),0,AE90*$D90/1000)","v":0},null,0,null,0,null,0,null,0,null,0,null,0,null,null,null,null,null,null,"",null,0,null,0,null,0,null,0,null,0,null,0,null,0,null,0,null,0,null,0,null,0,null,0,null,0,null,0,null,0,null,0,null,0,null,0,null,null,null,null,null,null,"",null,0,null,0,null,{"$f":"IF(ISERROR(CU90*$CL90/1000),0,CU90*$CL90/1000)","v":0},null,{"$f":"IF(ISERROR(CW90*$CL90/1000),0,CW90*$CL90/1000)","v":0},null,{"$f":"IF(ISERROR(CY90*$CL90/1000),0,CY90*$CL90/1000)","v":0},null,{"$f":"IF(ISERROR(DA90*$CL90/1000),0,DA90*$CL90/1000)","v":0},null,{"$f":"IF(ISERROR(DC90*$CL90/1000),0,DC90*$CL90/1000)","v":0},null,{"$f":"IF(ISERROR(DE90*$CL90/1000),0,DE90*$CL90/1000)","v":0},null,{"$f":"IF(ISERROR(DG90*$CL90/1000),0,DG90*$CL90/1000)","v":0},null,{"$f":"IF(ISERROR(DI90*$CL90/1000),0,DI90*$CL90/1000)","v":0},null,{"$f":"IF(ISERROR(DK90*$CL90/1000),0,DK90*$CL90/1000)","v":0},null,{"$f":"IF(ISERROR(DM90*$CL90/1000),0,DM90*$CL90/1000)","v":0},null,0,null,0,null,0,null,0,null,0,null,{"$f":"IF(ISERROR(DY90*$CL90/1000),0,DY90*$CL90/1000)","v":0}]
[null,null,null,null,null,null,null,"",null,0,null,0,null,{"$f":"IF(ISERROR(M91*$D91/1000),0,M91*$D91/1000)","v":0},null,{"$f":"IF(ISERROR(O91*$D91/1000),0,O91*$D91/1000)","v":0},null,{"$f":"IF(ISERROR(Q91*$D91/1000),0,Q91*$D91/1000)","v":0},null,{"$f":"IF(ISERROR(S91*$D91/1000),0,S91*$D91/1000)","v":0},null,{"$f":"IF(ISERROR(U91*$D91/1000),0,U91*$D91/1000)","v":0},null,{"$f":"IF(ISERROR(W91*$D91/1000),0,W91*$D91/1000)","v":0},null,{"$f":"IF(ISERROR(Y91*$D91/1000),0,Y91*$D91/1000)","v":0},null,{"$f":"IF(ISERROR(AA91*$D91/1000),0,AA91*$D91/1000)","v":0},null,{"$f":"IF(ISERROR(AC91*$D91/1000),0,AC91*$D91/1000)","v":0},null,{"$f":"IF(ISERROR(AE91*$D91/1000),0,AE91*$D91/1000)","v":0},null,0,null,0,null,0,null,0,null,0,null,0,null,null,null,null,null,null,"",null,0,null,0,null,0,null,0,null,0,null,0,null,0,null,0,null,0,null,0,null,0,null,0,null,0,null,0,null,0,null,0,null,0,null,0,null,null,null,null,null,null,"",null,0,null,0,null,{"$f":"IF(ISERROR(CU91*$CL91/1000),0,CU91*$CL91/1000)","v":0},null,{"$f":"IF(ISERROR(CW91*$CL91/1000),0,CW91*$CL91/1000)","v":0},null,{"$f":"IF(ISERROR(CY91*$CL91/1000),0,CY91*$CL91/1000)","v":0},null,{"$f":"IF(ISERROR(DA91*$CL91/1000),0,DA91*$CL91/1000)","v":0},null,{"$f":"IF(ISERROR(DC91*$CL91/1000),0,DC91*$CL91/1000)","v":0},null,{"$f":"IF(ISERROR(DE91*$CL91/1000),0,DE91*$CL91/1000)","v":0},null,{"$f":"IF(ISERROR(DG91*$CL91/1000),0,DG91*$CL91/1000)","v":0},null,{"$f":"IF(ISERROR(DI91*$CL91/1000),0,DI91*$CL91/1000)","v":0},null,{"$f":"IF(ISERROR(DK91*$CL91/1000),0,DK91*$CL91/1000)","v":0},null,{"$f":"IF(ISERROR(DM91*$CL91/1000),0,DM91*$CL91/1000)","v":0},null,0,null,0,null,0,null,0,null,0,null,{"$f":"IF(ISERROR(DY91*$CL91/1000),0,DY91*$CL91/1000)","v":0}]
[null,null,null,null,null,null,null,"",null,0,null,0,null,{"$f":"IF(ISERROR(M92*$D92/1000),0,M92*$D92/1000)","v":0},null,{"$f":"IF(ISERROR(O92*$D92/1000),0,O92*$D92/1000)","v":0},null,{"$f":"IF(ISERROR(Q92*$D92/1000),0,Q92*$D92/1000)","v":0},null,{"$f":"IF(ISERROR(S92*$D92/1000),0,S92*$D92/1000)","v":0},null,{"$f":"IF(ISERROR(U92*$D92/1000),0,U92*$D92/1000)","v":0},null,{"$f":"IF(ISERROR(W92*$D92/1000),0,W92*$D92/1000)","v":0},null,{"$f":"IF(ISERROR(Y92*$D92/1000),0,Y92*$D92/1000)","v":0},null,{"$f":"IF(ISERROR(AA92*$D92/1000),0,AA92*$D92/1000)","v":0},null,{"$f":"IF(ISERROR(AC92*$D92/1000),0,AC92*$D92/1000)","v":0},null,{"$f":"IF(ISERROR(AE92*$D92/1000),0,AE92*$D92/1000)","v":0},null,0,null,0,null,0,null,0,null,0,null,0,null,null,null,null,null,null,"",null,0,null,0,null,0,null,0,null,0,null,0,null,0,null,0,null,0,null,0,null,0,null,0,null,0,null,0,null,0,null,0,null,0,null,0,null,null,null,null,null,null,"",null,0,null,0,null,{"$f":"IF(ISERROR(CU92*$CL92/1000),0,CU92*$CL92/1000)","v":0},null,{"$f":"IF(ISERROR(CW92*$CL92/1000),0,CW92*$CL92/1000)","v":0},null,{"$f":"IF(ISERROR(CY92*$CL92/1000),0,CY92*$CL92/1000)","v":0},null,{"$f":"IF(ISERROR(DA92*$CL92/1000),0,DA92*$CL92/1000)","v":0},null,{"$f":"IF(ISERROR(DC92*$CL92/1000),0,DC92*$CL92/1000)","v":0},null,{"$f":"IF(ISERROR(DE92*$CL92/1000),0,DE92*$CL92/1000)","v":0},null,{"$f":"IF(ISERROR(DG92*$CL92/1000),0,DG92*$CL92/1000)","v":0},null,{"$f":"IF(ISERROR(DI92*$CL92/1000),0,DI92*$CL92/1000)","v":0},null,{"$f":"IF(ISERROR(DK92*$CL92/1000),0,DK92*$CL92/1000)","v":0},null,{"$f":"IF(ISERROR(DM92*$CL92/1000),0,DM92*$CL92/1000)","v":0},null,0,null,0,null,0,null,0,null,0,null,{"$f":"IF(ISERROR(DY92*$CL92/1000),0,DY92*$CL92/1000)","v":0}]
[null,null,null,null,null,null,null,"",null,0,null,0,null,{"$f":"IF(ISERROR(M93*$D93/1000),0,M93*$D93/1000)","v":0},null,{"$f":"IF(ISERROR(O93*$D93/1000),0,O93*$D93/1000)","v":0},null,{"$f":"IF(ISERROR(Q93*$D93/1000),0,Q93*$D93/1000)","v":0},null,{"$f":"IF(ISERROR(S93*$D93/1000),0,S93*$D93/1000)","v":0},null,{"$f":"IF(ISERROR(U93*$D93/1000),0,U93*$D93/1000)","v":0},null,{"$f":"IF(ISERROR(W93*$D93/1000),0,W93*$D93/1000)","v":0},null,{"$f":"IF(ISERROR(Y93*$D93/1000),0,Y93*$D93/1000)","v":0},null,{"$f":"IF(ISERROR(AA93*$D93/1000),0,AA93*$D93/1000)","v":0},null,{"$f":"IF(ISERROR(AC93*$D93/1000),0,AC93*$D93/1000)","v":0},null,{"$f":"IF(ISERROR(AE93*$D93/1000),0,AE93*$D93/1000)","v":0},null,0,null,0,null,0,null,0,null,0,null,0,null,null,null,null,null,null,"",null,0,null,0,null,0,null,0,null,0,null,0,null,0,null,0,null,0,null,0,null,0,null,0,null,0,null,0,null,0,null,0,null,0,null,0,null,null,null,null,null,null,"",null,0,null,0,null,{"$f":"IF(ISERROR(CU93*$CL93/1000),0,CU93*$CL93/1000)","v":0},null,{"$f":"IF(ISERROR(CW93*$CL93/1000),0,CW93*$CL93/1000)","v":0},null,{"$f":"IF(ISERROR(CY93*$CL93/1000),0,CY93*$CL93/1000)","v":0},null,{"$f":"IF(ISERROR(DA93*$CL93/1000),0,DA93*$CL93/1000)","v":0},null,{"$f":"IF(ISERROR(DC93*$CL93/1000),0,DC93*$CL93/1000)","v":0},null,{"$f":"IF(ISERROR(DE93*$CL93/1000),0,DE93*$CL93/1000)","v":0},null,{"$f":"IF(ISERROR(DG93*$CL93/1000),0,DG93*$CL93/1000)","v":0},null,{"$f":"IF(ISERROR(DI93*$CL93/1000),0,DI93*$CL93/1000)","v":0},null,{"$f":"IF(ISERROR(DK93*$CL93/1000),0,DK93*$CL93/1000)","v":0},null,{"$f":"IF(ISERROR(DM93*$CL93/1000),0,DM93*$CL93/1000)","v":0},null,0,null,0,null,0,null,0,null,0,null,{"$f":"IF(ISERROR(DY93*$CL93/1000),0,DY93*$CL93/1000)","v":0}]
[null,null,null,null,null,null,null,"",null,0,null,0,null,{"$f":"IF(ISERROR(M94*$D94/1000),0,M94*$D94/1000)","v":0},null,{"$f":"IF(ISERROR(O94*$D94/1000),0,O94*$D94/1000)","v":0},null,{"$f":"IF(ISERROR(Q94*$D94/1000),0,Q94*$D94/1000)","v":0},null,{"$f":"IF(ISERROR(S94*$D94/1000),0,S94*$D94/1000)","v":0},null,{"$f":"IF(ISERROR(U94*$D94/1000),0,U94*$D94/1000)","v":0},null,{"$f":"IF(ISERROR(W94*$D94/1000),0,W94*$D94/1000)","v":0},null,{"$f":"IF(ISERROR(Y94*$D94/1000),0,Y94*$D94/1000)","v":0},null,{"$f":"IF(ISERROR(AA94*$D94/1000),0,AA94*$D94/1000)","v":0},null,{"$f":"IF(ISERROR(AC94*$D94/1000),0,AC94*$D94/1000)","v":0},null,{"$f":"IF(ISERROR(AE94*$D94/1000),0,AE94*$D94/1000)","v":0},null,0,null,0,null,0,null,0,null,0,null,0,null,null,null,null,null,null,"",null,0,null,0,null,0,null,0,null,0,null,0,null,0,null,0,null,0,null,0,null,0,null,0,null,0,null,0,null,0,null,0,null,0,null,0,null,null,null,null,null,null,"",null,0,null,0,null,{"$f":"IF(ISERROR(CU94*$CL94/1000),0,CU94*$CL94/1000)","v":0},null,{"$f":"IF(ISERROR(CW94*$CL94/1000),0,CW94*$CL94/1000)","v":0},null,{"$f":"IF(ISERROR(CY94*$CL94/1000),0,CY94*$CL94/1000)","v":0},null,{"$f":"IF(ISERROR(DA94*$CL94/1000),0,DA94*$CL94/1000)","v":0},null,{"$f":"IF(ISERROR(DC94*$CL94/1000),0,DC94*$CL94/1000)","v":0},null,{"$f":"IF(ISERROR(DE94*$CL94/1000),0,DE94*$CL94/1000)","v":0},null,{"$f":"IF(ISERROR(DG94*$CL94/1000),0,DG94*$CL94/1000)","v":0},null,{"$f":"IF(ISERROR(DI94*$CL94/1000),0,DI94*$CL94/1000)","v":0},null,{"$f":"IF(ISERROR(DK94*$CL94/1000),0,DK94*$CL94/1000)","v":0},null,{"$f":"IF(ISERROR(DM94*$CL94/1000),0,DM94*$CL94/1000)","v":0},null,0,null,0,null,0,null,0,null,0,null,{"$f":"IF(ISERROR(DY94*$CL94/1000),0,DY94*$CL94/1000)","v":0}]
[null,null,null,null,null,null,null,"",null,0,null,0,null,{"$f":"IF(ISERROR(M95*$D95/1000),0,M95*$D95/1000)","v":0},null,{"$f":"IF(ISERROR(O95*$D95/1000),0,O95*$D95/1000)","v":0},null,{"$f":"IF(ISERROR(Q95*$D95/1000),0,Q95*$D95/1000)","v":0},null,{"$f":"IF(ISERROR(S95*$D95/1000),0,S95*$D95/1000)","v":0},null,{"$f":"IF(ISERROR(U95*$D95/1000),0,U95*$D95/1000)","v":0},null,{"$f":"IF(ISERROR(W95*$D95/1000),0,W95*$D95/1000)","v":0},null,{"$f":"IF(ISERROR(Y95*$D95/1000),0,Y95*$D95/1000)","v":0},null,{"$f":"IF(ISERROR(AA95*$D95/1000),0,AA95*$D95/1000)","v":0},null,{"$f":"IF(ISERROR(AC95*$D95/1000),0,AC95*$D95/1000)","v":0},null,{"$f":"IF(ISERROR(AE95*$D95/1000),0,AE95*$D95/1000)","v":0},null,0,null,0,null,0,null,0,null,0,null,0,null,null,null,null,null,null,"",null,0,null,0,null,0,null,0,null,0,null,0,null,0,null,0,null,0,null,0,null,0,null,0,null,0,null,0,null,0,null,0,null,0,null,0,null,null,null,null,null,null,"",null,0,null,0,null,{"$f":"IF(ISERROR(CU95*$CL95/1000),0,CU95*$CL95/1000)","v":0},null,{"$f":"IF(ISERROR(CW95*$CL95/1000),0,CW95*$CL95/1000)","v":0},null,{"$f":"IF(ISERROR(CY95*$CL95/1000),0,CY95*$CL95/1000)","v":0},null,{"$f":"IF(ISERROR(DA95*$CL95/1000),0,DA95*$CL95/1000)","v":0},null,{"$f":"IF(ISERROR(DC95*$CL95/1000),0,DC95*$CL95/1000)","v":0},null,{"$f":"IF(ISERROR(DE95*$CL95/1000),0,DE95*$CL95/1000)","v":0},null,{"$f":"IF(ISERROR(DG95*$CL95/1000),0,DG95*$CL95/1000)","v":0},null,{"$f":"IF(ISERROR(DI95*$CL95/1000),0,DI95*$CL95/1000)","v":0},null,{"$f":"IF(ISERROR(DK95*$CL95/1000),0,DK95*$CL95/1000)","v":0},null,{"$f":"IF(ISERROR(DM95*$CL95/1000),0,DM95*$CL95/1000)","v":0},null,0,null,0,null,0,null,0,null,0,null,{"$f":"IF(ISERROR(DY95*$CL95/1000),0,DY95*$CL95/1000)","v":0}]
[null,null,null,null,null,null,null,"",null,0,null,0,null,{"$f":"IF(ISERROR(M96*$D96/1000),0,M96*$D96/1000)","v":0},null,{"$f":"IF(ISERROR(O96*$D96/1000),0,O96*$D96/1000)","v":0},null,{"$f":"IF(ISERROR(Q96*$D96/1000),0,Q96*$D96/1000)","v":0},null,{"$f":"IF(ISERROR(S96*$D96/1000),0,S96*$D96/1000)","v":0},null,{"$f":"IF(ISERROR(U96*$D96/1000),0,U96*$D96/1000)","v":0},null,{"$f":"IF(ISERROR(W96*$D96/1000),0,W96*$D96/1000)","v":0},null,{"$f":"IF(ISERROR(Y96*$D96/1000),0,Y96*$D96/1000)","v":0},null,{"$f":"IF(ISERROR(AA96*$D96/1000),0,AA96*$D96/1000)","v":0},null,{"$f":"IF(ISERROR(AC96*$D96/1000),0,AC96*$D96/1000)","v":0},null,{"$f":"IF(ISERROR(AE96*$D96/1000),0,AE96*$D96/1000)","v":0},null,0,null,0,null,0,null,0,null,0,null,0,null,null,null,null,null,null,"",null,0,null,0,null,0,null,0,null,0,null,0,null,0,null,0,null,0,null,0,null,0,null,0,null,0,null,0,null,0,null,0,null,0,null,0,null,null,null,null,null,null,"",null,0,null,0,null,{"$f":"IF(ISERROR(CU96*$CL96/1000),0,CU96*$CL96/1000)","v":0},null,{"$f":"IF(ISERROR(CW96*$CL96/1000),0,CW96*$CL96/1000)","v":0},null,{"$f":"IF(ISERROR(CY96*$CL96/1000),0,CY96*$CL96/1000)","v":0},null,{"$f":"IF(ISERROR(DA96*$CL96/1000),0,DA96*$CL96/1000)","v":0},null,{"$f":"IF(ISERROR(DC96*$CL96/1000),0,DC96*$CL96/1000)","v":0},null,{"$f":"IF(ISERROR(DE96*$CL96/1000),0,DE96*$CL96/1000)","v":0},null,{"$f":"IF(ISERROR(DG96*$CL96/1000),0,DG96*$CL96/1000)","v":0},null,{"$f":"IF(ISERROR(DI96*$CL96/1000),0,DI96*$CL96/1000)","v":0},null,{"$f":"IF(ISERROR(DK96*$CL96/1000),0,DK96*$CL96/1000)","v":0},null,{"$f":"IF(ISERROR(DM96*$CL96/1000),0,DM96*$CL96/1000)","v":0},null,0,null,0,null,0,null,0,null,0,null,{"$f":"IF(ISERROR(DY96*$CL96/1000),0,DY96*$CL96/1000)","v":0}]
[null,null,null,null,null,null,null,"",null,0,null,0,null,{"$f":"IF(ISERROR(M97*$D97/1000),0,M97*$D97/1000)","v":0},null,{"$f":"IF(ISERROR(O97*$D97/1000),0,O97*$D97/1000)","v":0},null,{"$f":"IF(ISERROR(Q97*$D97/1000),0,Q97*$D97/1000)","v":0},null,{"$f":"IF(ISERROR(S97*$D97/1000),0,S97*$D97/1000)","v":0},null,{"$f":"IF(ISERROR(U97*$D97/1000),0,U97*$D97/1000)","v":0},null,{"$f":"IF(ISERROR(W97*$D97/1000),0,W97*$D97/1000)","v":0},null,{"$f":"IF(ISERROR(Y97*$D97/1000),0,Y97*$D97/1000)","v":0},null,{"$f":"IF(ISERROR(AA97*$D97/1000),0,AA97*$D97/1000)","v":0},null,{"$f":"IF(ISERROR(AC97*$D97/1000),0,AC97*$D97/1000)","v":0},null,{"$f":"IF(ISERROR(AE97*$D97/1000),0,AE97*$D97/1000)","v":0},null,0,null,0,null,0,null,0,null,0,null,0,null,null,null,null,null,null,"",null,0,null,0,null,0,null,0,null,0,null,0,null,0,null,0,null,0,null,0,null,0,null,0,null,0,null,0,null,0,null,0,null,0,null,0,null,null,null,null,null,null,"",null,0,null,0,null,{"$f":"IF(ISERROR(CU97*$CL97/1000),0,CU97*$CL97/1000)","v":0},null,{"$f":"IF(ISERROR(CW97*$CL97/1000),0,CW97*$CL97/1000)","v":0},null,{"$f":"IF(ISERROR(CY97*$CL97/1000),0,CY97*$CL97/1000)","v":0},null,{"$f":"IF(ISERROR(DA97*$CL97/1000),0,DA97*$CL97/1000)","v":0},null,{"$f":"IF(ISERROR(DC97*$CL97/1000),0,DC97*$CL97/1000)","v":0},null,{"$f":"IF(ISERROR(DE97*$CL97/1000),0,DE97*$CL97/1000)","v":0},null,{"$f":"IF(ISERROR(DG97*$CL97/1000),0,DG97*$CL97/1000)","v":0},null,{"$f":"IF(ISERROR(DI97*$CL97/1000),0,DI97*$CL97/1000)","v":0},null,{"$f":"IF(ISERROR(DK97*$CL97/1000),0,DK97*$CL97/1000)","v":0},null,{"$f":"IF(ISERROR(DM97*$CL97/1000),0,DM97*$CL97/1000)","v":0},null,0,null,0,null,0,null,0,null,0,null,{"$f":"IF(ISERROR(DY97*$CL97/1000),0,DY97*$CL97/1000)","v":0}]
[null,null,null,null,null,null,null,"",null,0,null,0,null,{"$f":"IF(ISERROR(M98*$D98/1000),0,M98*$D98/1000)","v":0},null,{"$f":"IF(ISERROR(O98*$D98/1000),0,O98*$D98/1000)","v":0},null,{"$f":"IF(ISERROR(Q98*$D98/1000),0,Q98*$D98/1000)","v":0},null,{"$f":"IF(ISERROR(S98*$D98/1000),0,S98*$D98/1000)","v":0},null,{"$f":"IF(ISERROR(U98*$D98/1000),0,U98*$D98/1000)","v":0},null,{"$f":"IF(ISERROR(W98*$D98/1000),0,W98*$D98/1000)","v":0},null,{"$f":"IF(ISERROR(Y98*$D98/1000),0,Y98*$D98/1000)","v":0},null,{"$f":"IF(ISERROR(AA98*$D98/1000),0,AA98*$D98/1000)","v":0},null,{"$f":"IF(ISERROR(AC98*$D98/1000),0,AC98*$D98/1000)","v":0},null,{"$f":"IF(ISERROR(AE98*$D98/1000),0,AE98*$D98/1000)","v":0},null,0,null,0,null,0,null,0,null,0,null,0,null,null,null,null,null,null,"",null,0,null,0,null,0,null,0,null,0,null,0,null,0,null,0,null,0,null,0,null,0,null,0,null,0,null,0,null,0,null,0,null,0,null,0,null,null,null,null,null,null,"",null,0,null,0,null,{"$f":"IF(ISERROR(CU98*$CL98/1000),0,CU98*$CL98/1000)","v":0},null,{"$f":"IF(ISERROR(CW98*$CL98/1000),0,CW98*$CL98/1000)","v":0},null,{"$f":"IF(ISERROR(CY98*$CL98/1000),0,CY98*$CL98/1000)","v":0},null,{"$f":"IF(ISERROR(DA98*$CL98/1000),0,DA98*$CL98/1000)","v":0},null,{"$f":"IF(ISERROR(DC98*$CL98/1000),0,DC98*$CL98/1000)","v":0},null,{"$f":"IF(ISERROR(DE98*$CL98/1000),0,DE98*$CL98/1000)","v":0},null,{"$f":"IF(ISERROR(DG98*$CL98/1000),0,DG98*$CL98/1000)","v":0},null,{"$f":"IF(ISERROR(DI98*$CL98/1000),0,DI98*$CL98/1000)","v":0},null,{"$f":"IF(ISERROR(DK98*$CL98/1000),0,DK98*$CL98/1000)","v":0},null,{"$f":"IF(ISERROR(DM98*$CL98/1000),0,DM98*$CL98/1000)","v":0},null,0,null,0,null,0,null,0,null,0,null,{"$f":"IF(ISERROR(DY98*$CL98/1000),0,DY98*$CL98/1000)","v":0}]
[null,null,null,null,null,null,null,"",null,0,null,0,null,{"$f":"IF(ISERROR(M99*$D99/1000),0,M99*$D99/1000)","v":0},null,{"$f":"IF(ISERROR(O99*$D99/1000),0,O99*$D99/1000)","v":0},null,{"$f":"IF(ISERROR(Q99*$D99/1000),0,Q99*$D99/1000)","v":0},null,{"$f":"IF(ISERROR(S99*$D99/1000),0,S99*$D99/1000)","v":0},null,{"$f":"IF(ISERROR(U99*$D99/1000),0,U99*$D99/1000)","v":0},null,{"$f":"IF(ISERROR(W99*$D99/1000),0,W99*$D99/1000)","v":0},null,{"$f":"IF(ISERROR(Y99*$D99/1000),0,Y99*$D99/1000)","v":0},null,{"$f":"IF(ISERROR(AA99*$D99/1000),0,AA99*$D99/1000)","v":0},null,{"$f":"IF(ISERROR(AC99*$D99/1000),0,AC99*$D99/1000)","v":0},null,{"$f":"IF(ISERROR(AE99*$D99/1000),0,AE99*$D99/1000)","v":0},null,0,null,0,null,0,null,0,null,0,null,0,null,null,null,null,null,null,"",null,0,null,0,null,0,null,0,null,0,null,0,null,0,null,0,null,0,null,0,null,0,null,0,null,0,null,0,null,0,null,0,null,0,null,0,null,null,null,null,null,null,"",null,0,null,0,null,{"$f":"IF(ISERROR(CU99*$CL99/1000),0,CU99*$CL99/1000)","v":0},null,{"$f":"IF(ISERROR(CW99*$CL99/1000),0,CW99*$CL99/1000)","v":0},null,{"$f":"IF(ISERROR(CY99*$CL99/1000),0,CY99*$CL99/1000)","v":0},null,{"$f":"IF(ISERROR(DA99*$CL99/1000),0,DA99*$CL99/1000)","v":0},null,{"$f":"IF(ISERROR(DC99*$CL99/1000),0,DC99*$CL99/1000)","v":0},null,{"$f":"IF(ISERROR(DE99*$CL99/1000),0,DE99*$CL99/1000)","v":0},null,{"$f":"IF(ISERROR(DG99*$CL99/1000),0,DG99*$CL99/1000)","v":0},null,{"$f":"IF(ISERROR(DI99*$CL99/1000),0,DI99*$CL99/1000)","v":0},null,{"$f":"IF(ISERROR(DK99*$CL99/1000),0,DK99*$CL99/1000)","v":0},null,{"$f":"IF(ISERROR(DM99*$CL99/1000),0,DM99*$CL99/1000)","v":0},null,0,null,0,null,0,null,0,null,0,null,{"$f":"IF(ISERROR(DY99*$CL99/1000),0,DY99*$CL99/1000)","v":0}]
[null,null,null,null,null,null,null,"",null,0,null,0,null,{"$f":"IF(ISERROR(M100*$D100/1000),0,M100*$D100/1000)","v":0},null,{"$f":"IF(ISERROR(O100*$D100/1000),0,O100*$D100/1000)","v":0},null,{"$f":"IF(ISERROR(Q100*$D100/1000),0,Q100*$D100/1000)","v":0},null,{"$f":"IF(ISERROR(S100*$D100/1000),0,S100*$D100/1000)","v":0},null,{"$f":"IF(ISERROR(U100*$D100/1000),0,U100*$D100/1000)","v":0},null,{"$f":"IF(ISERROR(W100*$D100/1000),0,W100*$D100/1000)","v":0},null,{"$f":"IF(ISERROR(Y100*$D100/1000),0,Y100*$D100/1000)","v":0},null,{"$f":"IF(ISERROR(AA100*$D100/1000),0,AA100*$D100/1000)","v":0},null,{"$f":"IF(ISERROR(AC100*$D100/1000),0,AC100*$D100/1000)","v":0},null,{"$f":"IF(ISERROR(AE100*$D100/1000),0,AE100*$D100/1000)","v":0},null,0,null,0,null,0,null,0,null,0,null,0,null,null,null,null,null,null,"",null,0,null,0,null,0,null,0,null,0,null,0,null,0,null,0,null,0,null,0,null,0,null,0,null,0,null,0,null,0,null,0,null,0,null,0,null,null,null,null,null,null,"",null,0,null,0,null,{"$f":"IF(ISERROR(CU100*$CL100/1000),0,CU100*$CL100/1000)","v":0},null,{"$f":"IF(ISERROR(CW100*$CL100/1000),0,CW100*$CL100/1000)","v":0},null,{"$f":"IF(ISERROR(CY100*$CL100/1000),0,CY100*$CL100/1000)","v":0},null,{"$f":"IF(ISERROR(DA100*$CL100/1000),0,DA100*$CL100/1000)","v":0},null,{"$f":"IF(ISERROR(DC100*$CL100/1000),0,DC100*$CL100/1000)","v":0},null,{"$f":"IF(ISERROR(DE100*$CL100/1000),0,DE100*$CL100/1000)","v":0},null,{"$f":"IF(ISERROR(DG100*$CL100/1000),0,DG100*$CL100/1000)","v":0},null,{"$f":"IF(ISERROR(DI100*$CL100/1000),0,DI100*$CL100/1000)","v":0},null,{"$f":"IF(ISERROR(DK100*$CL100/1000),0,DK100*$CL100/1000)","v":0},null,{"$f":"IF(ISERROR(DM100*$CL100/1000),0,DM100*$CL100/1000)","v":0},null,0,null,0,null,0,null,0,null,0,null,{"$f":"IF(ISERROR(DY100*$CL100/1000),0,DY100*$CL100/1000)","v":0}]
[null,null,null,null,null,null,null,"",null,0,null,0,null,{"$f":"IF(ISERROR(M101*$D101/1000),0,M101*$D101/1000)","v":0},null,{"$f":"IF(ISERROR(O101*$D101/1000),0,O101*$D101/1000)","v":0},null,{"$f":"IF(ISERROR(Q101*$D101/1000),0,Q101*$D101/1000)","v":0},null,{"$f":"IF(ISERROR(S101*$D101/1000),0,S101*$D101/1000)","v":0},null,{"$f":"IF(ISERROR(U101*$D101/1000),0,U101*$D101/1000)","v":0},null,{"$f":"IF(ISERROR(W101*$D101/1000),0,W101*$D101/1000)","v":0},null,{"$f":"IF(ISERROR(Y101*$D101/1000),0,Y101*$D101/1000)","v":0},null,{"$f":"IF(ISERROR(AA101*$D101/1000),0,AA101*$D101/1000)","v":0},null,{"$f":"IF(ISERROR(AC101*$D101/1000),0,AC101*$D101/1000)","v":0},null,{"$f":"IF(ISERROR(AE101*$D101/1000),0,AE101*$D101/1000)","v":0},null,0,null,0,null,0,null,0,null,0,null,0,null,null,null,null,null,null,"",null,0,null,0,null,0,null,0,null,0,null,0,null,0,null,0,null,0,null,0,null,0,null,0,null,0,null,0,null,0,null,0,null,0,null,0,null,null,null,null,null,null,"",null,0,null,0,null,{"$f":"IF(ISERROR(CU101*$CL101/1000),0,CU101*$CL101/1000)","v":0},null,{"$f":"IF(ISERROR(CW101*$CL101/1000),0,CW101*$CL101/1000)","v":0},null,{"$f":"IF(ISERROR(CY101*$CL101/1000),0,CY101*$CL101/1000)","v":0},null,{"$f":"IF(ISERROR(DA101*$CL101/1000),0,DA101*$CL101/1000)","v":0},null,{"$f":"IF(ISERROR(DC101*$CL101/1000),0,DC101*$CL101/1000)","v":0},null,{"$f":"IF(ISERROR(DE101*$CL101/1000),0,DE101*$CL101/1000)","v":0},null,{"$f":"IF(ISERROR(DG101*$CL101/1000),0,DG101*$CL101/1000)","v":0},null,{"$f":"IF(ISERROR(DI101*$CL101/1000),0,DI101*$CL101/1000)","v":0},null,{"$f":"IF(ISERROR(DK101*$CL101/1000),0,DK101*$CL101/1000)","v":0},null,{"$f":"IF(ISERROR(DM101*$CL101/1000),0,DM101*$CL101/1000)","v":0},null,0,null,0,null,0,null,0,null,0,null,{"$f":"IF(ISERROR(DY101*$CL101/1000),0,DY101*$CL101/1000)","v":0}]
[null,null,null,null,null,null,null,"",null,0,null,0,null,{"$f":"IF(ISERROR(M102*$D102/1000),0,M102*$D102/1000)","v":0},null,{"$f":"IF(ISERROR(O102*$D102/1000),0,O102*$D102/1000)","v":0},null,{"$f":"IF(ISERROR(Q102*$D102/1000),0,Q102*$D102/1000)","v":0},null,{"$f":"IF(ISERROR(S102*$D102/1000),0,S102*$D102/1000)","v":0},null,{"$f":"IF(ISERROR(U102*$D102/1000),0,U102*$D102/1000)","v":0},null,{"$f":"IF(ISERROR(W102*$D102/1000),0,W102*$D102/1000)","v":0},null,{"$f":"IF(ISERROR(Y102*$D102/1000),0,Y102*$D102/1000)","v":0},null,{"$f":"IF(ISERROR(AA102*$D102/1000),0,AA102*$D102/1000)","v":0},null,{"$f":"IF(ISERROR(AC102*$D102/1000),0,AC102*$D102/1000)","v":0},null,{"$f":"IF(ISERROR(AE102*$D102/1000),0,AE102*$D102/1000)","v":0},null,0,null,0,null,0,null,0,null,0,null,0,null,null,null,null,null,null,"",null,0,null,0,null,0,null,0,null,0,null,0,null,0,null,0,null,0,null,0,null,0,null,0,null,0,null,0,null,0,null,0,null,0,null,0,null,null,null,null,null,null,"",null,0,null,0,null,{"$f":"IF(ISERROR(CU102*$CL102/1000),0,CU102*$CL102/1000)","v":0},null,{"$f":"IF(ISERROR(CW102*$CL102/1000),0,CW102*$CL102/1000)","v":0},null,{"$f":"IF(ISERROR(CY102*$CL102/1000),0,CY102*$CL102/1000)","v":0},null,{"$f":"IF(ISERROR(DA102*$CL102/1000),0,DA102*$CL102/1000)","v":0},null,{"$f":"IF(ISERROR(DC102*$CL102/1000),0,DC102*$CL102/1000)","v":0},null,{"$f":"IF(ISERROR(DE102*$CL102/1000),0,DE102*$CL102/1000)","v":0},null,{"$f":"IF(ISERROR(DG102*$CL102/1000),0,DG102*$CL102/1000)","v":0},null,{"$f":"IF(ISERROR(DI102*$CL102/1000),0,DI102*$CL102/1000)","v":0},null,{"$f":"IF(ISERROR(DK102*$CL102/1000),0,DK102*$CL102/1000)","v":0},null,{"$f":"IF(ISERROR(DM102*$CL102/1000),0,DM102*$CL102/1000)","v":0},null,0,null,0,null,0,null,0,null,0,null,{"$f":"IF(ISERROR(DY102*$CL102/1000),0,DY102*$CL102/1000)","v":0}]
[null,null,null,null,null,null,null,"",null,0,null,0,null,{"$f":"IF(ISERROR(M103*$D103/1000),0,M103*$D103/1000)","v":0},null,{"$f":"IF(ISERROR(O103*$D103/1000),0,O103*$D103/1000)","v":0},null,{"$f":"IF(ISERROR(Q103*$D103/1000),0,Q103*$D103/1000)","v":0},null,{"$f":"IF(ISERROR(S103*$D103/1000),0,S103*$D103/1000)","v":0},null,{"$f":"IF(ISERROR(U103*$D103/1000),0,U103*$D103/1000)","v":0},null,{"$f":"IF(ISERROR(W103*$D103/1000),0,W103*$D103/1000)","v":0},null,{"$f":"IF(ISERROR(Y103*$D103/1000),0,Y103*$D103/1000)","v":0},null,{"$f":"IF(ISERROR(AA103*$D103/1000),0,AA103*$D103/1000)","v":0},null,{"$f":"IF(ISERROR(AC103*$D103/1000),0,AC103*$D103/1000)","v":0},null,{"$f":"IF(ISERROR(AE103*$D103/1000),0,AE103*$D103/1000)","v":0},null,0,null,0,null,0,null,0,null,0,null,0,null,null,null,null,null,null,"",null,0,null,0,null,0,null,0,null,0,null,0,null,0,null,0,null,0,null,0,null,0,null,0,null,0,null,0,null,0,null,0,null,0,null,0,null,null,null,null,null,null,"",null,0,null,0,null,{"$f":"IF(ISERROR(CU103*$CL103/1000),0,CU103*$CL103/1000)","v":0},null,{"$f":"IF(ISERROR(CW103*$CL103/1000),0,CW103*$CL103/1000)","v":0},null,{"$f":"IF(ISERROR(CY103*$CL103/1000),0,CY103*$CL103/1000)","v":0},null,{"$f":"IF(ISERROR(DA103*$CL103/1000),0,DA103*$CL103/1000)","v":0},null,{"$f":"IF(ISERROR(DC103*$CL103/1000),0,DC103*$CL103/1000)","v":0},null,{"$f":"IF(ISERROR(DE103*$CL103/1000),0,DE103*$CL103/1000)","v":0},null,{"$f":"IF(ISERROR(DG103*$CL103/1000),0,DG103*$CL103/1000)","v":0},null,{"$f":"IF(ISERROR(DI103*$CL103/1000),0,DI103*$CL103/1000)","v":0},null,{"$f":"IF(ISERROR(DK103*$CL103/1000),0,DK103*$CL103/1000)","v":0},null,{"$f":"IF(ISERROR(DM103*$CL103/1000),0,DM103*$CL103/1000)","v":0},null,0,null,0,null,0,null,0,null,0,null,{"$f":"IF(ISERROR(DY103*$CL103/1000),0,DY103*$CL103/1000)","v":0}]
[null,null,null,null,null,null,null,"",null,0,null,0,null,{"$f":"IF(ISERROR(M104*$D104/1000),0,M104*$D104/1000)","v":0},null,{"$f":"IF(ISERROR(O104*$D104/1000),0,O104*$D104/1000)","v":0},null,{"$f":"IF(ISERROR(Q104*$D104/1000),0,Q104*$D104/1000)","v":0},null,{"$f":"IF(ISERROR(S104*$D104/1000),0,S104*$D104/1000)","v":0},null,{"$f":"IF(ISERROR(U104*$D104/1000),0,U104*$D104/1000)","v":0},null,{"$f":"IF(ISERROR(W104*$D104/1000),0,W104*$D104/1000)","v":0},null,{"$f":"IF(ISERROR(Y104*$D104/1000),0,Y104*$D104/1000)","v":0},null,{"$f":"IF(ISERROR(AA104*$D104/1000),0,AA104*$D104/1000)","v":0},null,{"$f":"IF(ISERROR(AC104*$D104/1000),0,AC104*$D104/1000)","v":0},null,{"$f":"IF(ISERROR(AE104*$D104/1000),0,AE104*$D104/1000)","v":0},null,0,null,0,null,0,null,0,null,0,null,0,null,null,null,null,null,null,"",null,0,null,0,null,0,null,0,null,0,null,0,null,0,null,0,null,0,null,0,null,0,null,0,null,0,null,0,null,0,null,0,null,0,null,0,null,null,null,null,null,null,"",null,0,null,0,null,{"$f":"IF(ISERROR(CU104*$CL104/1000),0,CU104*$CL104/1000)","v":0},null,{"$f":"IF(ISERROR(CW104*$CL104/1000),0,CW104*$CL104/1000)","v":0},null,{"$f":"IF(ISERROR(CY104*$CL104/1000),0,CY104*$CL104/1000)","v":0},null,{"$f":"IF(ISERROR(DA104*$CL104/1000),0,DA104*$CL104/1000)","v":0},null,{"$f":"IF(ISERROR(DC104*$CL104/1000),0,DC104*$CL104/1000)","v":0},null,{"$f":"IF(ISERROR(DE104*$CL104/1000),0,DE104*$CL104/1000)","v":0},null,{"$f":"IF(ISERROR(DG104*$CL104/1000),0,DG104*$CL104/1000)","v":0},null,{"$f":"IF(ISERROR(DI104*$CL104/1000),0,DI104*$CL104/1000)","v":0},null,{"$f":"IF(ISERROR(DK104*$CL104/1000),0,DK104*$CL104/1000)","v":0},null,{"$f":"IF(ISERROR(DM104*$CL104/1000),0,DM104*$CL104/1000)","v":0},null,0,null,0,null,0,null,0,null,0,null,{"$f":"IF(ISERROR(DY104*$CL104/1000),0,DY104*$CL104/1000)","v":0}]
[null,null,null,null,null,null,null,"",null,0,null,0,null,{"$f":"IF(ISERROR(M105*$D105/1000),0,M105*$D105/1000)","v":0},null,{"$f":"IF(ISERROR(O105*$D105/1000),0,O105*$D105/1000)","v":0},null,{"$f":"IF(ISERROR(Q105*$D105/1000),0,Q105*$D105/1000)","v":0},null,{"$f":"IF(ISERROR(S105*$D105/1000),0,S105*$D105/1000)","v":0},null,{"$f":"IF(ISERROR(U105*$D105/1000),0,U105*$D105/1000)","v":0},null,{"$f":"IF(ISERROR(W105*$D105/1000),0,W105*$D105/1000)","v":0},null,{"$f":"IF(ISERROR(Y105*$D105/1000),0,Y105*$D105/1000)","v":0},null,{"$f":"IF(ISERROR(AA105*$D105/1000),0,AA105*$D105/1000)","v":0},null,{"$f":"IF(ISERROR(AC105*$D105/1000),0,AC105*$D105/1000)","v":0},null,{"$f":"IF(ISERROR(AE105*$D105/1000),0,AE105*$D105/1000)","v":0},null,0,null,0,null,0,null,0,null,0,null,0,null,null,null,null,null,null,"",null,0,null,0,null,0,null,0,null,0,null,0,null,0,null,0,null,0,null,0,null,0,null,0,null,0,null,0,null,0,null,0,null,0,null,0,null,null,null,null,null,null,"",null,0,null,0,null,{"$f":"IF(ISERROR(CU105*$CL105/1000),0,CU105*$CL105/1000)","v":0},null,{"$f":"IF(ISERROR(CW105*$CL105/1000),0,CW105*$CL105/1000)","v":0},null,{"$f":"IF(ISERROR(CY105*$CL105/1000),0,CY105*$CL105/1000)","v":0},null,{"$f":"IF(ISERROR(DA105*$CL105/1000),0,DA105*$CL105/1000)","v":0},null,{"$f":"IF(ISERROR(DC105*$CL105/1000),0,DC105*$CL105/1000)","v":0},null,{"$f":"IF(ISERROR(DE105*$CL105/1000),0,DE105*$CL105/1000)","v":0},null,{"$f":"IF(ISERROR(DG105*$CL105/1000),0,DG105*$CL105/1000)","v":0},null,{"$f":"IF(ISERROR(DI105*$CL105/1000),0,DI105*$CL105/1000)","v":0},null,{"$f":"IF(ISERROR(DK105*$CL105/1000),0,DK105*$CL105/1000)","v":0},null,{"$f":"IF(ISERROR(DM105*$CL105/1000),0,DM105*$CL105/1000)","v":0},null,0,null,0,null,0,null,0,null,0,null,{"$f":"IF(ISERROR(DY105*$CL105/1000),0,DY105*$CL105/1000)","v":0}]
[null,"Avril",null,null,null,null,null,"",null,0,null,0,null,{"$f":"IF(ISERROR(M106*$D106/1000),0,M106*$D106/1000)","v":0},null,{"$f":"IF(ISERROR(O106*$D106/1000),0,O106*$D106/1000)","v":0},null,{"$f":"IF(ISERROR(Q106*$D106/1000),0,Q106*$D106/1000)","v":0},null,{"$f":"IF(ISERROR(S106*$D106/1000),0,S106*$D106/1000)","v":0},null,{"$f":"IF(ISERROR(U106*$D106/1000),0,U106*$D106/1000)","v":0},null,{"$f":"IF(ISERROR(W106*$D106/1000),0,W106*$D106/1000)","v":0},null,{"$f":"IF(ISERROR(Y106*$D106/1000),0,Y106*$D106/1000)","v":0},null,{"$f":"IF(ISERROR(AA106*$D106/1000),0,AA106*$D106/1000)","v":0},null,{"$f":"IF(ISERROR(AC106*$D106/1000),0,AC106*$D106/1000)","v":0},null,{"$f":"IF(ISERROR(AE106*$D106/1000),0,AE106*$D106/1000)","v":0},null,0,null,0,null,0,null,0,null,0,null,0,null,null,null,null,null,null,"",null,0,null,0,null,0,null,0,null,0,null,0,null,0,null,0,null,0,null,0,null,0,null,0,null,0,null,0,null,0,null,0,null,0,null,0,null,null,null,null,null,null,"",null,0,null,0,null,{"$f":"IF(ISERROR(CU106*$CL106/1000),0,CU106*$CL106/1000)","v":0},null,{"$f":"IF(ISERROR(CW106*$CL106/1000),0,CW106*$CL106/1000)","v":0},null,{"$f":"IF(ISERROR(CY106*$CL106/1000),0,CY106*$CL106/1000)","v":0},null,{"$f":"IF(ISERROR(DA106*$CL106/1000),0,DA106*$CL106/1000)","v":0},null,{"$f":"IF(ISERROR(DC106*$CL106/1000),0,DC106*$CL106/1000)","v":0},null,{"$f":"IF(ISERROR(DE106*$CL106/1000),0,DE106*$CL106/1000)","v":0},null,{"$f":"IF(ISERROR(DG106*$CL106/1000),0,DG106*$CL106/1000)","v":0},null,{"$f":"IF(ISERROR(DI106*$CL106/1000),0,DI106*$CL106/1000)","v":0},null,{"$f":"IF(ISERROR(DK106*$CL106/1000),0,DK106*$CL106/1000)","v":0},null,{"$f":"IF(ISERROR(DM106*$CL106/1000),0,DM106*$CL106/1000)","v":0},null,0,null,0,null,0,null,0,null,0,null,{"$f":"IF(ISERROR(DY106*$CL106/1000),0,DY106*$CL106/1000)","v":0}]
[null,null,null,null,null,null,null,"",null,0,null,0,null,{"$f":"IF(ISERROR(M107*$D107/1000),0,M107*$D107/1000)","v":0},null,{"$f":"IF(ISERROR(O107*$D107/1000),0,O107*$D107/1000)","v":0},null,{"$f":"IF(ISERROR(Q107*$D107/1000),0,Q107*$D107/1000)","v":0},null,{"$f":"IF(ISERROR(S107*$D107/1000),0,S107*$D107/1000)","v":0},null,{"$f":"IF(ISERROR(U107*$D107/1000),0,U107*$D107/1000)","v":0},null,{"$f":"IF(ISERROR(W107*$D107/1000),0,W107*$D107/1000)","v":0},null,{"$f":"IF(ISERROR(Y107*$D107/1000),0,Y107*$D107/1000)","v":0},null,{"$f":"IF(ISERROR(AA107*$D107/1000),0,AA107*$D107/1000)","v":0},null,{"$f":"IF(ISERROR(AC107*$D107/1000),0,AC107*$D107/1000)","v":0},null,{"$f":"IF(ISERROR(AE107*$D107/1000),0,AE107*$D107/1000)","v":0},null,0,null,0,null,0,null,0,null,0,null,0,null,null,null,null,null,null,"",null,0,null,0,null,0,null,0,null,0,null,0,null,0,null,0,null,0,null,0,null,0,null,0,null,0,null,0,null,0,null,0,null,0,null,0,null,null,null,null,null,null,"",null,0,null,0,null,{"$f":"IF(ISERROR(CU107*$CL107/1000),0,CU107*$CL107/1000)","v":0},null,{"$f":"IF(ISERROR(CW107*$CL107/1000),0,CW107*$CL107/1000)","v":0},null,{"$f":"IF(ISERROR(CY107*$CL107/1000),0,CY107*$CL107/1000)","v":0},null,{"$f":"IF(ISERROR(DA107*$CL107/1000),0,DA107*$CL107/1000)","v":0},null,{"$f":"IF(ISERROR(DC107*$CL107/1000),0,DC107*$CL107/1000)","v":0},null,{"$f":"IF(ISERROR(DE107*$CL107/1000),0,DE107*$CL107/1000)","v":0},null,{"$f":"IF(ISERROR(DG107*$CL107/1000),0,DG107*$CL107/1000)","v":0},null,{"$f":"IF(ISERROR(DI107*$CL107/1000),0,DI107*$CL107/1000)","v":0},null,{"$f":"IF(ISERROR(DK107*$CL107/1000),0,DK107*$CL107/1000)","v":0},null,{"$f":"IF(ISERROR(DM107*$CL107/1000),0,DM107*$CL107/1000)","v":0},null,0,null,0,null,0,null,0,null,0,null,{"$f":"IF(ISERROR(DY107*$CL107/1000),0,DY107*$CL107/1000)","v":0}]
[null,null,null,null,null,null,null,"",null,0,null,0,null,{"$f":"IF(ISERROR(M108*$D108/1000),0,M108*$D108/1000)","v":0},null,{"$f":"IF(ISERROR(O108*$D108/1000),0,O108*$D108/1000)","v":0},null,{"$f":"IF(ISERROR(Q108*$D108/1000),0,Q108*$D108/1000)","v":0},null,{"$f":"IF(ISERROR(S108*$D108/1000),0,S108*$D108/1000)","v":0},null,{"$f":"IF(ISERROR(U108*$D108/1000),0,U108*$D108/1000)","v":0},null,{"$f":"IF(ISERROR(W108*$D108/1000),0,W108*$D108/1000)","v":0},null,{"$f":"IF(ISERROR(Y108*$D108/1000),0,Y108*$D108/1000)","v":0},null,{"$f":"IF(ISERROR(AA108*$D108/1000),0,AA108*$D108/1000)","v":0},null,{"$f":"IF(ISERROR(AC108*$D108/1000),0,AC108*$D108/1000)","v":0},null,{"$f":"IF(ISERROR(AE108*$D108/1000),0,AE108*$D108/1000)","v":0},null,0,null,0,null,0,null,0,null,0,null,0,null,null,null,null,null,null,"",null,0,null,0,null,0,null,0,null,0,null,0,null,0,null,0,null,0,null,0,null,0,null,0,null,0,null,0,null,0,null,0,null,0,null,0,null,null,null,null,null,null,"",null,0,null,0,null,{"$f":"IF(ISERROR(CU108*$CL108/1000),0,CU108*$CL108/1000)","v":0},null,{"$f":"IF(ISERROR(CW108*$CL108/1000),0,CW108*$CL108/1000)","v":0},null,{"$f":"IF(ISERROR(CY108*$CL108/1000),0,CY108*$CL108/1000)","v":0},null,{"$f":"IF(ISERROR(DA108*$CL108/1000),0,DA108*$CL108/1000)","v":0},null,{"$f":"IF(ISERROR(DC108*$CL108/1000),0,DC108*$CL108/1000)","v":0},null,{"$f":"IF(ISERROR(DE108*$CL108/1000),0,DE108*$CL108/1000)","v":0},null,{"$f":"IF(ISERROR(DG108*$CL108/1000),0,DG108*$CL108/1000)","v":0},null,{"$f":"IF(ISERROR(DI108*$CL108/1000),0,DI108*$CL108/1000)","v":0},null,{"$f":"IF(ISERROR(DK108*$CL108/1000),0,DK108*$CL108/1000)","v":0},null,{"$f":"IF(ISERROR(DM108*$CL108/1000),0,DM108*$CL108/1000)","v":0},null,0,null,0,null,0,null,0,null,0,null,{"$f":"IF(ISERROR(DY108*$CL108/1000),0,DY108*$CL108/1000)","v":0}]
[null,null,null,null,null,null,null,"",null,0,null,0,null,{"$f":"IF(ISERROR(M109*$D109/1000),0,M109*$D109/1000)","v":0},null,{"$f":"IF(ISERROR(O109*$D109/1000),0,O109*$D109/1000)","v":0},null,{"$f":"IF(ISERROR(Q109*$D109/1000),0,Q109*$D109/1000)","v":0},null,{"$f":"IF(ISERROR(S109*$D109/1000),0,S109*$D109/1000)","v":0},null,{"$f":"IF(ISERROR(U109*$D109/1000),0,U109*$D109/1000)","v":0},null,{"$f":"IF(ISERROR(W109*$D109/1000),0,W109*$D109/1000)","v":0},null,{"$f":"IF(ISERROR(Y109*$D109/1000),0,Y109*$D109/1000)","v":0},null,{"$f":"IF(ISERROR(AA109*$D109/1000),0,AA109*$D109/1000)","v":0},null,{"$f":"IF(ISERROR(AC109*$D109/1000),0,AC109*$D109/1000)","v":0},null,{"$f":"IF(ISERROR(AE109*$D109/1000),0,AE109*$D109/1000)","v":0},null,0,null,0,null,0,null,0,null,0,null,0,null,null,null,null,null,null,"",null,0,null,0,null,0,null,0,null,0,null,0,null,0,null,0,null,0,null,0,null,0,null,0,null,0,null,0,null,0,null,0,null,0,null,0,null,null,null,null,null,null,"",null,0,null,0,null,{"$f":"IF(ISERROR(CU109*$CL109/1000),0,CU109*$CL109/1000)","v":0},null,{"$f":"IF(ISERROR(CW109*$CL109/1000),0,CW109*$CL109/1000)","v":0},null,{"$f":"IF(ISERROR(CY109*$CL109/1000),0,CY109*$CL109/1000)","v":0},null,{"$f":"IF(ISERROR(DA109*$CL109/1000),0,DA109*$CL109/1000)","v":0},null,{"$f":"IF(ISERROR(DC109*$CL109/1000),0,DC109*$CL109/1000)","v":0},null,{"$f":"IF(ISERROR(DE109*$CL109/1000),0,DE109*$CL109/1000)","v":0},null,{"$f":"IF(ISERROR(DG109*$CL109/1000),0,DG109*$CL109/1000)","v":0},null,{"$f":"IF(ISERROR(DI109*$CL109/1000),0,DI109*$CL109/1000)","v":0},null,{"$f":"IF(ISERROR(DK109*$CL109/1000),0,DK109*$CL109/1000)","v":0},null,{"$f":"IF(ISERROR(DM109*$CL109/1000),0,DM109*$CL109/1000)","v":0},null,0,null,0,null,0,null,0,null,0,null,{"$f":"IF(ISERROR(DY109*$CL109/1000),0,DY109*$CL109/1000)","v":0}]
[null,null,null,null,null,null,null,"",null,0,null,0,null,{"$f":"IF(ISERROR(M110*$D110/1000),0,M110*$D110/1000)","v":0},null,{"$f":"IF(ISERROR(O110*$D110/1000),0,O110*$D110/1000)","v":0},null,{"$f":"IF(ISERROR(Q110*$D110/1000),0,Q110*$D110/1000)","v":0},null,{"$f":"IF(ISERROR(S110*$D110/1000),0,S110*$D110/1000)","v":0},null,{"$f":"IF(ISERROR(U110*$D110/1000),0,U110*$D110/1000)","v":0},null,{"$f":"IF(ISERROR(W110*$D110/1000),0,W110*$D110/1000)","v":0},null,{"$f":"IF(ISERROR(Y110*$D110/1000),0,Y110*$D110/1000)","v":0},null,{"$f":"IF(ISERROR(AA110*$D110/1000),0,AA110*$D110/1000)","v":0},null,{"$f":"IF(ISERROR(AC110*$D110/1000),0,AC110*$D110/1000)","v":0},null,{"$f":"IF(ISERROR(AE110*$D110/1000),0,AE110*$D110/1000)","v":0},null,0,null,0,null,0,null,0,null,0,null,0,null,null,null,null,null,null,"",null,0,null,0,null,0,null,0,null,0,null,0,null,0,null,0,null,0,null,0,null,0,null,0,null,0,null,0,null,0,null,0,null,0,null,0,null,null,null,null,null,null,"",null,0,null,0,null,{"$f":"IF(ISERROR(CU110*$CL110/1000),0,CU110*$CL110/1000)","v":0},null,{"$f":"IF(ISERROR(CW110*$CL110/1000),0,CW110*$CL110/1000)","v":0},null,{"$f":"IF(ISERROR(CY110*$CL110/1000),0,CY110*$CL110/1000)","v":0},null,{"$f":"IF(ISERROR(DA110*$CL110/1000),0,DA110*$CL110/1000)","v":0},null,{"$f":"IF(ISERROR(DC110*$CL110/1000),0,DC110*$CL110/1000)","v":0},null,{"$f":"IF(ISERROR(DE110*$CL110/1000),0,DE110*$CL110/1000)","v":0},null,{"$f":"IF(ISERROR(DG110*$CL110/1000),0,DG110*$CL110/1000)","v":0},null,{"$f":"IF(ISERROR(DI110*$CL110/1000),0,DI110*$CL110/1000)","v":0},null,{"$f":"IF(ISERROR(DK110*$CL110/1000),0,DK110*$CL110/1000)","v":0},null,{"$f":"IF(ISERROR(DM110*$CL110/1000),0,DM110*$CL110/1000)","v":0},null,0,null,0,null,0,null,0,null,0,null,{"$f":"IF(ISERROR(DY110*$CL110/1000),0,DY110*$CL110/1000)","v":0}]
[null,null,null,null,null,null,null,"",null,0,null,0,null,{"$f":"IF(ISERROR(M111*$D111/1000),0,M111*$D111/1000)","v":0},null,{"$f":"IF(ISERROR(O111*$D111/1000),0,O111*$D111/1000)","v":0},null,{"$f":"IF(ISERROR(Q111*$D111/1000),0,Q111*$D111/1000)","v":0},null,{"$f":"IF(ISERROR(S111*$D111/1000),0,S111*$D111/1000)","v":0},null,{"$f":"IF(ISERROR(U111*$D111/1000),0,U111*$D111/1000)","v":0},null,{"$f":"IF(ISERROR(W111*$D111/1000),0,W111*$D111/1000)","v":0},null,{"$f":"IF(ISERROR(Y111*$D111/1000),0,Y111*$D111/1000)","v":0},null,{"$f":"IF(ISERROR(AA111*$D111/1000),0,AA111*$D111/1000)","v":0},null,{"$f":"IF(ISERROR(AC111*$D111/1000),0,AC111*$D111/1000)","v":0},null,{"$f":"IF(ISERROR(AE111*$D111/1000),0,AE111*$D111/1000)","v":0},null,0,null,0,null,0,null,0,null,0,null,0,null,null,null,null,null,null,"",null,0,null,0,null,0,null,0,null,0,null,0,null,0,null,0,null,0,null,0,null,0,null,0,null,0,null,0,null,0,null,0,null,0,null,0,null,null,null,null,null,null,"",null,0,null,0,null,{"$f":"IF(ISERROR(CU111*$CL111/1000),0,CU111*$CL111/1000)","v":0},null,{"$f":"IF(ISERROR(CW111*$CL111/1000),0,CW111*$CL111/1000)","v":0},null,{"$f":"IF(ISERROR(CY111*$CL111/1000),0,CY111*$CL111/1000)","v":0},null,{"$f":"IF(ISERROR(DA111*$CL111/1000),0,DA111*$CL111/1000)","v":0},null,{"$f":"IF(ISERROR(DC111*$CL111/1000),0,DC111*$CL111/1000)","v":0},null,{"$f":"IF(ISERROR(DE111*$CL111/1000),0,DE111*$CL111/1000)","v":0},null,{"$f":"IF(ISERROR(DG111*$CL111/1000),0,DG111*$CL111/1000)","v":0},null,{"$f":"IF(ISERROR(DI111*$CL111/1000),0,DI111*$CL111/1000)","v":0},null,{"$f":"IF(ISERROR(DK111*$CL111/1000),0,DK111*$CL111/1000)","v":0},null,{"$f":"IF(ISERROR(DM111*$CL111/1000),0,DM111*$CL111/1000)","v":0},null,0,null,0,null,0,null,0,null,0,null,{"$f":"IF(ISERROR(DY111*$CL111/1000),0,DY111*$CL111/1000)","v":0}]
[null,null,null,null,null,null,null,"",null,0,null,0,null,{"$f":"IF(ISERROR(M112*$D112/1000),0,M112*$D112/1000)","v":0},null,{"$f":"IF(ISERROR(O112*$D112/1000),0,O112*$D112/1000)","v":0},null,{"$f":"IF(ISERROR(Q112*$D112/1000),0,Q112*$D112/1000)","v":0},null,{"$f":"IF(ISERROR(S112*$D112/1000),0,S112*$D112/1000)","v":0},null,{"$f":"IF(ISERROR(U112*$D112/1000),0,U112*$D112/1000)","v":0},null,{"$f":"IF(ISERROR(W112*$D112/1000),0,W112*$D112/1000)","v":0},null,{"$f":"IF(ISERROR(Y112*$D112/1000),0,Y112*$D112/1000)","v":0},null,{"$f":"IF(ISERROR(AA112*$D112/1000),0,AA112*$D112/1000)","v":0},null,{"$f":"IF(ISERROR(AC112*$D112/1000),0,AC112*$D112/1000)","v":0},null,{"$f":"IF(ISERROR(AE112*$D112/1000),0,AE112*$D112/1000)","v":0},null,0,null,0,null,0,null,0,null,0,null,0,null,null,null,null,null,null,"",null,0,null,0,null,0,null,0,null,0,null,0,null,0,null,0,null,0,null,0,null,0,null,0,null,0,null,0,null,0,null,0,null,0,null,0,null,null,null,null,null,null,"",null,0,null,0,null,{"$f":"IF(ISERROR(CU112*$CL112/1000),0,CU112*$CL112/1000)","v":0},null,{"$f":"IF(ISERROR(CW112*$CL112/1000),0,CW112*$CL112/1000)","v":0},null,{"$f":"IF(ISERROR(CY112*$CL112/1000),0,CY112*$CL112/1000)","v":0},null,{"$f":"IF(ISERROR(DA112*$CL112/1000),0,DA112*$CL112/1000)","v":0},null,{"$f":"IF(ISERROR(DC112*$CL112/1000),0,DC112*$CL112/1000)","v":0},null,{"$f":"IF(ISERROR(DE112*$CL112/1000),0,DE112*$CL112/1000)","v":0},null,{"$f":"IF(ISERROR(DG112*$CL112/1000),0,DG112*$CL112/1000)","v":0},null,{"$f":"IF(ISERROR(DI112*$CL112/1000),0,DI112*$CL112/1000)","v":0},null,{"$f":"IF(ISERROR(DK112*$CL112/1000),0,DK112*$CL112/1000)","v":0},null,{"$f":"IF(ISERROR(DM112*$CL112/1000),0,DM112*$CL112/1000)","v":0},null,0,null,0,null,0,null,0,null,0,null,{"$f":"IF(ISERROR(DY112*$CL112/1000),0,DY112*$CL112/1000)","v":0}]
[null,null,null,null,null,null,null,"",null,0,null,0,null,{"$f":"IF(ISERROR(M113*$D113/1000),0,M113*$D113/1000)","v":0},null,{"$f":"IF(ISERROR(O113*$D113/1000),0,O113*$D113/1000)","v":0},null,{"$f":"IF(ISERROR(Q113*$D113/1000),0,Q113*$D113/1000)","v":0},null,{"$f":"IF(ISERROR(S113*$D113/1000),0,S113*$D113/1000)","v":0},null,{"$f":"IF(ISERROR(U113*$D113/1000),0,U113*$D113/1000)","v":0},null,{"$f":"IF(ISERROR(W113*$D113/1000),0,W113*$D113/1000)","v":0},null,{"$f":"IF(ISERROR(Y113*$D113/1000),0,Y113*$D113/1000)","v":0},null,{"$f":"IF(ISERROR(AA113*$D113/1000),0,AA113*$D113/1000)","v":0},null,{"$f":"IF(ISERROR(AC113*$D113/1000),0,AC113*$D113/1000)","v":0},null,{"$f":"IF(ISERROR(AE113*$D113/1000),0,AE113*$D113/1000)","v":0},null,0,null,0,null,0,null,0,null,0,null,0,null,null,null,null,null,null,"",null,0,null,0,null,0,null,0,null,0,null,0,null,0,null,0,null,0,null,0,null,0,null,0,null,0,null,0,null,0,null,0,null,0,null,0,null,null,null,null,null,null,"",null,0,null,0,null,{"$f":"IF(ISERROR(CU113*$CL113/1000),0,CU113*$CL113/1000)","v":0},null,{"$f":"IF(ISERROR(CW113*$CL113/1000),0,CW113*$CL113/1000)","v":0},null,{"$f":"IF(ISERROR(CY113*$CL113/1000),0,CY113*$CL113/1000)","v":0},null,{"$f":"IF(ISERROR(DA113*$CL113/1000),0,DA113*$CL113/1000)","v":0},null,{"$f":"IF(ISERROR(DC113*$CL113/1000),0,DC113*$CL113/1000)","v":0},null,{"$f":"IF(ISERROR(DE113*$CL113/1000),0,DE113*$CL113/1000)","v":0},null,{"$f":"IF(ISERROR(DG113*$CL113/1000),0,DG113*$CL113/1000)","v":0},null,{"$f":"IF(ISERROR(DI113*$CL113/1000),0,DI113*$CL113/1000)","v":0},null,{"$f":"IF(ISERROR(DK113*$CL113/1000),0,DK113*$CL113/1000)","v":0},null,{"$f":"IF(ISERROR(DM113*$CL113/1000),0,DM113*$CL113/1000)","v":0},null,0,null,0,null,0,null,0,null,0,null,{"$f":"IF(ISERROR(DY113*$CL113/1000),0,DY113*$CL113/1000)","v":0}]
[null,null,null,null,null,null,null,"",null,0,null,0,null,{"$f":"IF(ISERROR(M114*$D114/1000),0,M114*$D114/1000)","v":0},null,{"$f":"IF(ISERROR(O114*$D114/1000),0,O114*$D114/1000)","v":0},null,{"$f":"IF(ISERROR(Q114*$D114/1000),0,Q114*$D114/1000)","v":0},null,{"$f":"IF(ISERROR(S114*$D114/1000),0,S114*$D114/1000)","v":0},null,{"$f":"IF(ISERROR(U114*$D114/1000),0,U114*$D114/1000)","v":0},null,{"$f":"IF(ISERROR(W114*$D114/1000),0,W114*$D114/1000)","v":0},null,{"$f":"IF(ISERROR(Y114*$D114/1000),0,Y114*$D114/1000)","v":0},null,{"$f":"IF(ISERROR(AA114*$D114/1000),0,AA114*$D114/1000)","v":0},null,{"$f":"IF(ISERROR(AC114*$D114/1000),0,AC114*$D114/1000)","v":0},null,{"$f":"IF(ISERROR(AE114*$D114/1000),0,AE114*$D114/1000)","v":0},null,0,null,0,null,0,null,0,null,0,null,0,null,null,null,null,null,null,"",null,0,null,0,null,0,null,0,null,0,null,0,null,0,null,0,null,0,null,0,null,0,null,0,null,0,null,0,null,0,null,0,null,0,null,0,null,null,null,null,null,null,"",null,0,null,0,null,{"$f":"IF(ISERROR(CU114*$CL114/1000),0,CU114*$CL114/1000)","v":0},null,{"$f":"IF(ISERROR(CW114*$CL114/1000),0,CW114*$CL114/1000)","v":0},null,{"$f":"IF(ISERROR(CY114*$CL114/1000),0,CY114*$CL114/1000)","v":0},null,{"$f":"IF(ISERROR(DA114*$CL114/1000),0,DA114*$CL114/1000)","v":0},null,{"$f":"IF(ISERROR(DC114*$CL114/1000),0,DC114*$CL114/1000)","v":0},null,{"$f":"IF(ISERROR(DE114*$CL114/1000),0,DE114*$CL114/1000)","v":0},null,{"$f":"IF(ISERROR(DG114*$CL114/1000),0,DG114*$CL114/1000)","v":0},null,{"$f":"IF(ISERROR(DI114*$CL114/1000),0,DI114*$CL114/1000)","v":0},null,{"$f":"IF(ISERROR(DK114*$CL114/1000),0,DK114*$CL114/1000)","v":0},null,{"$f":"IF(ISERROR(DM114*$CL114/1000),0,DM114*$CL114/1000)","v":0},null,0,null,0,null,0,null,0,null,0,null,{"$f":"IF(ISERROR(DY114*$CL114/1000),0,DY114*$CL114/1000)","v":0}]
[null,null,null,null,null,null,null,"",null,0,null,0,null,{"$f":"IF(ISERROR(M115*$D115/1000),0,M115*$D115/1000)","v":0},null,{"$f":"IF(ISERROR(O115*$D115/1000),0,O115*$D115/1000)","v":0},null,{"$f":"IF(ISERROR(Q115*$D115/1000),0,Q115*$D115/1000)","v":0},null,{"$f":"IF(ISERROR(S115*$D115/1000),0,S115*$D115/1000)","v":0},null,{"$f":"IF(ISERROR(U115*$D115/1000),0,U115*$D115/1000)","v":0},null,{"$f":"IF(ISERROR(W115*$D115/1000),0,W115*$D115/1000)","v":0},null,{"$f":"IF(ISERROR(Y115*$D115/1000),0,Y115*$D115/1000)","v":0},null,{"$f":"IF(ISERROR(AA115*$D115/1000),0,AA115*$D115/1000)","v":0},null,{"$f":"IF(ISERROR(AC115*$D115/1000),0,AC115*$D115/1000)","v":0},null,{"$f":"IF(ISERROR(AE115*$D115/1000),0,AE115*$D115/1000)","v":0},null,0,null,0,null,0,null,0,null,0,null,0,null,null,null,null,null,null,"",null,0,null,0,null,0,null,0,null,0,null,0,null,0,null,0,null,0,null,0,null,0,null,0,null,0,null,0,null,0,null,0,null,0,null,0,null,null,null,null,null,null,"",null,0,null,0,null,{"$f":"IF(ISERROR(CU115*$CL115/1000),0,CU115*$CL115/1000)","v":0},null,{"$f":"IF(ISERROR(CW115*$CL115/1000),0,CW115*$CL115/1000)","v":0},null,{"$f":"IF(ISERROR(CY115*$CL115/1000),0,CY115*$CL115/1000)","v":0},null,{"$f":"IF(ISERROR(DA115*$CL115/1000),0,DA115*$CL115/1000)","v":0},null,{"$f":"IF(ISERROR(DC115*$CL115/1000),0,DC115*$CL115/1000)","v":0},null,{"$f":"IF(ISERROR(DE115*$CL115/1000),0,DE115*$CL115/1000)","v":0},null,{"$f":"IF(ISERROR(DG115*$CL115/1000),0,DG115*$CL115/1000)","v":0},null,{"$f":"IF(ISERROR(DI115*$CL115/1000),0,DI115*$CL115/1000)","v":0},null,{"$f":"IF(ISERROR(DK115*$CL115/1000),0,DK115*$CL115/1000)","v":0},null,{"$f":"IF(ISERROR(DM115*$CL115/1000),0,DM115*$CL115/1000)","v":0},null,0,null,0,null,0,null,0,null,0,null,{"$f":"IF(ISERROR(DY115*$CL115/1000),0,DY115*$CL115/1000)","v":0}]
[null,null,null,null,null,null,null,"",null,0,null,0,null,{"$f":"IF(ISERROR(M116*$D116/1000),0,M116*$D116/1000)","v":0},null,{"$f":"IF(ISERROR(O116*$D116/1000),0,O116*$D116/1000)","v":0},null,{"$f":"IF(ISERROR(Q116*$D116/1000),0,Q116*$D116/1000)","v":0},null,{"$f":"IF(ISERROR(S116*$D116/1000),0,S116*$D116/1000)","v":0},null,{"$f":"IF(ISERROR(U116*$D116/1000),0,U116*$D116/1000)","v":0},null,{"$f":"IF(ISERROR(W116*$D116/1000),0,W116*$D116/1000)","v":0},null,{"$f":"IF(ISERROR(Y116*$D116/1000),0,Y116*$D116/1000)","v":0},null,{"$f":"IF(ISERROR(AA116*$D116/1000),0,AA116*$D116/1000)","v":0},null,{"$f":"IF(ISERROR(AC116*$D116/1000),0,AC116*$D116/1000)","v":0},null,{"$f":"IF(ISERROR(AE116*$D116/1000),0,AE116*$D116/1000)","v":0},null,0,null,0,null,0,null,0,null,0,null,0,null,null,null,null,null,null,"",null,0,null,0,null,0,null,0,null,0,null,0,null,0,null,0,null,0,null,0,null,0,null,0,null,0,null,0,null,0,null,0,null,0,null,0,null,null,null,null,null,null,"",null,0,null,0,null,{"$f":"IF(ISERROR(CU116*$CL116/1000),0,CU116*$CL116/1000)","v":0},null,{"$f":"IF(ISERROR(CW116*$CL116/1000),0,CW116*$CL116/1000)","v":0},null,{"$f":"IF(ISERROR(CY116*$CL116/1000),0,CY116*$CL116/1000)","v":0},null,{"$f":"IF(ISERROR(DA116*$CL116/1000),0,DA116*$CL116/1000)","v":0},null,{"$f":"IF(ISERROR(DC116*$CL116/1000),0,DC116*$CL116/1000)","v":0},null,{"$f":"IF(ISERROR(DE116*$CL116/1000),0,DE116*$CL116/1000)","v":0},null,{"$f":"IF(ISERROR(DG116*$CL116/1000),0,DG116*$CL116/1000)","v":0},null,{"$f":"IF(ISERROR(DI116*$CL116/1000),0,DI116*$CL116/1000)","v":0},null,{"$f":"IF(ISERROR(DK116*$CL116/1000),0,DK116*$CL116/1000)","v":0},null,{"$f":"IF(ISERROR(DM116*$CL116/1000),0,DM116*$CL116/1000)","v":0},null,0,null,0,null,0,null,0,null,0,null,{"$f":"IF(ISERROR(DY116*$CL116/1000),0,DY116*$CL116/1000)","v":0}]
[null,null,null,null,null,null,null,"",null,0,null,0,null,{"$f":"IF(ISERROR(M117*$D117/1000),0,M117*$D117/1000)","v":0},null,{"$f":"IF(ISERROR(O117*$D117/1000),0,O117*$D117/1000)","v":0},null,{"$f":"IF(ISERROR(Q117*$D117/1000),0,Q117*$D117/1000)","v":0},null,{"$f":"IF(ISERROR(S117*$D117/1000),0,S117*$D117/1000)","v":0},null,{"$f":"IF(ISERROR(U117*$D117/1000),0,U117*$D117/1000)","v":0},null,{"$f":"IF(ISERROR(W117*$D117/1000),0,W117*$D117/1000)","v":0},null,{"$f":"IF(ISERROR(Y117*$D117/1000),0,Y117*$D117/1000)","v":0},null,{"$f":"IF(ISERROR(AA117*$D117/1000),0,AA117*$D117/1000)","v":0},null,{"$f":"IF(ISERROR(AC117*$D117/1000),0,AC117*$D117/1000)","v":0},null,{"$f":"IF(ISERROR(AE117*$D117/1000),0,AE117*$D117/1000)","v":0},null,0,null,0,null,0,null,0,null,0,null,0,null,null,null,null,null,null,"",null,0,null,0,null,0,null,0,null,0,null,0,null,0,null,0,null,0,null,0,null,0,null,0,null,0,null,0,null,0,null,0,null,0,null,0,null,null,null,null,null,null,"",null,0,null,0,null,{"$f":"IF(ISERROR(CU117*$CL117/1000),0,CU117*$CL117/1000)","v":0},null,{"$f":"IF(ISERROR(CW117*$CL117/1000),0,CW117*$CL117/1000)","v":0},null,{"$f":"IF(ISERROR(CY117*$CL117/1000),0,CY117*$CL117/1000)","v":0},null,{"$f":"IF(ISERROR(DA117*$CL117/1000),0,DA117*$CL117/1000)","v":0},null,{"$f":"IF(ISERROR(DC117*$CL117/1000),0,DC117*$CL117/1000)","v":0},null,{"$f":"IF(ISERROR(DE117*$CL117/1000),0,DE117*$CL117/1000)","v":0},null,{"$f":"IF(ISERROR(DG117*$CL117/1000),0,DG117*$CL117/1000)","v":0},null,{"$f":"IF(ISERROR(DI117*$CL117/1000),0,DI117*$CL117/1000)","v":0},null,{"$f":"IF(ISERROR(DK117*$CL117/1000),0,DK117*$CL117/1000)","v":0},null,{"$f":"IF(ISERROR(DM117*$CL117/1000),0,DM117*$CL117/1000)","v":0},null,0,null,0,null,0,null,0,null,0,null,{"$f":"IF(ISERROR(DY117*$CL117/1000),0,DY117*$CL117/1000)","v":0}]
[null,null,null,null,null,null,null,"",null,0,null,0,null,{"$f":"IF(ISERROR(M118*$D118/1000),0,M118*$D118/1000)","v":0},null,{"$f":"IF(ISERROR(O118*$D118/1000),0,O118*$D118/1000)","v":0},null,{"$f":"IF(ISERROR(Q118*$D118/1000),0,Q118*$D118/1000)","v":0},null,{"$f":"IF(ISERROR(S118*$D118/1000),0,S118*$D118/1000)","v":0},null,{"$f":"IF(ISERROR(U118*$D118/1000),0,U118*$D118/1000)","v":0},null,{"$f":"IF(ISERROR(W118*$D118/1000),0,W118*$D118/1000)","v":0},null,{"$f":"IF(ISERROR(Y118*$D118/1000),0,Y118*$D118/1000)","v":0},null,{"$f":"IF(ISERROR(AA118*$D118/1000),0,AA118*$D118/1000)","v":0},null,{"$f":"IF(ISERROR(AC118*$D118/1000),0,AC118*$D118/1000)","v":0},null,{"$f":"IF(ISERROR(AE118*$D118/1000),0,AE118*$D118/1000)","v":0},null,0,null,0,null,0,null,0,null,0,null,0,null,null,null,null,null,null,"",null,0,null,0,null,0,null,0,null,0,null,0,null,0,null,0,null,0,null,0,null,0,null,0,null,0,null,0,null,0,null,0,null,0,null,0,null,null,null,null,null,null,"",null,0,null,0,null,{"$f":"IF(ISERROR(CU118*$CL118/1000),0,CU118*$CL118/1000)","v":0},null,{"$f":"IF(ISERROR(CW118*$CL118/1000),0,CW118*$CL118/1000)","v":0},null,{"$f":"IF(ISERROR(CY118*$CL118/1000),0,CY118*$CL118/1000)","v":0},null,{"$f":"IF(ISERROR(DA118*$CL118/1000),0,DA118*$CL118/1000)","v":0},null,{"$f":"IF(ISERROR(DC118*$CL118/1000),0,DC118*$CL118/1000)","v":0},null,{"$f":"IF(ISERROR(DE118*$CL118/1000),0,DE118*$CL118/1000)","v":0},null,{"$f":"IF(ISERROR(DG118*$CL118/1000),0,DG118*$CL118/1000)","v":0},null,{"$f":"IF(ISERROR(DI118*$CL118/1000),0,DI118*$CL118/1000)","v":0},null,{"$f":"IF(ISERROR(DK118*$CL118/1000),0,DK118*$CL118/1000)","v":0},null,{"$f":"IF(ISERROR(DM118*$CL118/1000),0,DM118*$CL118/1000)","v":0},null,0,null,0,null,0,null,0,null,0,null,{"$f":"IF(ISERROR(DY118*$CL118/1000),0,DY118*$CL118/1000)","v":0}]
[null,null,null,null,null,null,null,"",null,0,null,0,null,{"$f":"IF(ISERROR(M119*$D119/1000),0,M119*$D119/1000)","v":0},null,{"$f":"IF(ISERROR(O119*$D119/1000),0,O119*$D119/1000)","v":0},null,{"$f":"IF(ISERROR(Q119*$D119/1000),0,Q119*$D119/1000)","v":0},null,{"$f":"IF(ISERROR(S119*$D119/1000),0,S119*$D119/1000)","v":0},null,{"$f":"IF(ISERROR(U119*$D119/1000),0,U119*$D119/1000)","v":0},null,{"$f":"IF(ISERROR(W119*$D119/1000),0,W119*$D119/1000)","v":0},null,{"$f":"IF(ISERROR(Y119*$D119/1000),0,Y119*$D119/1000)","v":0},null,{"$f":"IF(ISERROR(AA119*$D119/1000),0,AA119*$D119/1000)","v":0},null,{"$f":"IF(ISERROR(AC119*$D119/1000),0,AC119*$D119/1000)","v":0},null,{"$f":"IF(ISERROR(AE119*$D119/1000),0,AE119*$D119/1000)","v":0},null,0,null,0,null,0,null,0,null,0,null,0,null,null,null,null,null,null,"",null,0,null,0,null,0,null,0,null,0,null,0,null,0,null,0,null,0,null,0,null,0,null,0,null,0,null,0,null,0,null,0,null,0,null,0,null,null,null,null,null,null,"",null,0,null,0,null,{"$f":"IF(ISERROR(CU119*$CL119/1000),0,CU119*$CL119/1000)","v":0},null,{"$f":"IF(ISERROR(CW119*$CL119/1000),0,CW119*$CL119/1000)","v":0},null,{"$f":"IF(ISERROR(CY119*$CL119/1000),0,CY119*$CL119/1000)","v":0},null,{"$f":"IF(ISERROR(DA119*$CL119/1000),0,DA119*$CL119/1000)","v":0},null,{"$f":"IF(ISERROR(DC119*$CL119/1000),0,DC119*$CL119/1000)","v":0},null,{"$f":"IF(ISERROR(DE119*$CL119/1000),0,DE119*$CL119/1000)","v":0},null,{"$f":"IF(ISERROR(DG119*$CL119/1000),0,DG119*$CL119/1000)","v":0},null,{"$f":"IF(ISERROR(DI119*$CL119/1000),0,DI119*$CL119/1000)","v":0},null,{"$f":"IF(ISERROR(DK119*$CL119/1000),0,DK119*$CL119/1000)","v":0},null,{"$f":"IF(ISERROR(DM119*$CL119/1000),0,DM119*$CL119/1000)","v":0},null,0,null,0,null,0,null,0,null,0,null,{"$f":"IF(ISERROR(DY119*$CL119/1000),0,DY119*$CL119/1000)","v":0}]
[null,null,null,null,null,null,null,"",null,0,null,0,null,{"$f":"IF(ISERROR(M120*$D120/1000),0,M120*$D120/1000)","v":0},null,{"$f":"IF(ISERROR(O120*$D120/1000),0,O120*$D120/1000)","v":0},null,{"$f":"IF(ISERROR(Q120*$D120/1000),0,Q120*$D120/1000)","v":0},null,{"$f":"IF(ISERROR(S120*$D120/1000),0,S120*$D120/1000)","v":0},null,{"$f":"IF(ISERROR(U120*$D120/1000),0,U120*$D120/1000)","v":0},null,{"$f":"IF(ISERROR(W120*$D120/1000),0,W120*$D120/1000)","v":0},null,{"$f":"IF(ISERROR(Y120*$D120/1000),0,Y120*$D120/1000)","v":0},null,{"$f":"IF(ISERROR(AA120*$D120/1000),0,AA120*$D120/1000)","v":0},null,{"$f":"IF(ISERROR(AC120*$D120/1000),0,AC120*$D120/1000)","v":0},null,{"$f":"IF(ISERROR(AE120*$D120/1000),0,AE120*$D120/1000)","v":0},null,0,null,0,null,0,null,0,null,0,null,0,null,null,null,null,null,null,"",null,0,null,0,null,0,null,0,null,0,null,0,null,0,null,0,null,0,null,0,null,0,null,0,null,0,null,0,null,0,null,0,null,0,null,0,null,null,null,null,null,null,"",null,0,null,0,null,{"$f":"IF(ISERROR(CU120*$CL120/1000),0,CU120*$CL120/1000)","v":0},null,{"$f":"IF(ISERROR(CW120*$CL120/1000),0,CW120*$CL120/1000)","v":0},null,{"$f":"IF(ISERROR(CY120*$CL120/1000),0,CY120*$CL120/1000)","v":0},null,{"$f":"IF(ISERROR(DA120*$CL120/1000),0,DA120*$CL120/1000)","v":0},null,{"$f":"IF(ISERROR(DC120*$CL120/1000),0,DC120*$CL120/1000)","v":0},null,{"$f":"IF(ISERROR(DE120*$CL120/1000),0,DE120*$CL120/1000)","v":0},null,{"$f":"IF(ISERROR(DG120*$CL120/1000),0,DG120*$CL120/1000)","v":0},null,{"$f":"IF(ISERROR(DI120*$CL120/1000),0,DI120*$CL120/1000)","v":0},null,{"$f":"IF(ISERROR(DK120*$CL120/1000),0,DK120*$CL120/1000)","v":0},null,{"$f":"IF(ISERROR(DM120*$CL120/1000),0,DM120*$CL120/1000)","v":0},null,0,null,0,null,0,null,0,null,0,null,{"$f":"IF(ISERROR(DY120*$CL120/1000),0,DY120*$CL120/1000)","v":0}]
[null,null,null,null,null,null,null,"",null,0,null,0,null,{"$f":"IF(ISERROR(M121*$D121/1000),0,M121*$D121/1000)","v":0},null,{"$f":"IF(ISERROR(O121*$D121/1000),0,O121*$D121/1000)","v":0},null,{"$f":"IF(ISERROR(Q121*$D121/1000),0,Q121*$D121/1000)","v":0},null,{"$f":"IF(ISERROR(S121*$D121/1000),0,S121*$D121/1000)","v":0},null,{"$f":"IF(ISERROR(U121*$D121/1000),0,U121*$D121/1000)","v":0},null,{"$f":"IF(ISERROR(W121*$D121/1000),0,W121*$D121/1000)","v":0},null,{"$f":"IF(ISERROR(Y121*$D121/1000),0,Y121*$D121/1000)","v":0},null,{"$f":"IF(ISERROR(AA121*$D121/1000),0,AA121*$D121/1000)","v":0},null,{"$f":"IF(ISERROR(AC121*$D121/1000),0,AC121*$D121/1000)","v":0},null,{"$f":"IF(ISERROR(AE121*$D121/1000),0,AE121*$D121/1000)","v":0},null,0,null,0,null,0,null,0,null,0,null,0,null,null,null,null,null,null,"",null,0,null,0,null,0,null,0,null,0,null,0,null,0,null,0,null,0,null,0,null,0,null,0,null,0,null,0,null,0,null,0,null,0,null,0,null,null,null,null,null,null,"",null,0,null,0,null,{"$f":"IF(ISERROR(CU121*$CL121/1000),0,CU121*$CL121/1000)","v":0},null,{"$f":"IF(ISERROR(CW121*$CL121/1000),0,CW121*$CL121/1000)","v":0},null,{"$f":"IF(ISERROR(CY121*$CL121/1000),0,CY121*$CL121/1000)","v":0},null,{"$f":"IF(ISERROR(DA121*$CL121/1000),0,DA121*$CL121/1000)","v":0},null,{"$f":"IF(ISERROR(DC121*$CL121/1000),0,DC121*$CL121/1000)","v":0},null,{"$f":"IF(ISERROR(DE121*$CL121/1000),0,DE121*$CL121/1000)","v":0},null,{"$f":"IF(ISERROR(DG121*$CL121/1000),0,DG121*$CL121/1000)","v":0},null,{"$f":"IF(ISERROR(DI121*$CL121/1000),0,DI121*$CL121/1000)","v":0},null,{"$f":"IF(ISERROR(DK121*$CL121/1000),0,DK121*$CL121/1000)","v":0},null,{"$f":"IF(ISERROR(DM121*$CL121/1000),0,DM121*$CL121/1000)","v":0},null,0,null,0,null,0,null,0,null,0,null,{"$f":"IF(ISERROR(DY121*$CL121/1000),0,DY121*$CL121/1000)","v":0}]
[null,null,null,null,null,null,null,"",null,0,null,0,null,{"$f":"IF(ISERROR(M122*$D122/1000),0,M122*$D122/1000)","v":0},null,{"$f":"IF(ISERROR(O122*$D122/1000),0,O122*$D122/1000)","v":0},null,{"$f":"IF(ISERROR(Q122*$D122/1000),0,Q122*$D122/1000)","v":0},null,{"$f":"IF(ISERROR(S122*$D122/1000),0,S122*$D122/1000)","v":0},null,{"$f":"IF(ISERROR(U122*$D122/1000),0,U122*$D122/1000)","v":0},null,{"$f":"IF(ISERROR(W122*$D122/1000),0,W122*$D122/1000)","v":0},null,{"$f":"IF(ISERROR(Y122*$D122/1000),0,Y122*$D122/1000)","v":0},null,{"$f":"IF(ISERROR(AA122*$D122/1000),0,AA122*$D122/1000)","v":0},null,{"$f":"IF(ISERROR(AC122*$D122/1000),0,AC122*$D122/1000)","v":0},null,{"$f":"IF(ISERROR(AE122*$D122/1000),0,AE122*$D122/1000)","v":0},null,0,null,0,null,0,null,0,null,0,null,0,null,null,null,null,null,null,"",null,0,null,0,null,0,null,0,null,0,null,0,null,0,null,0,null,0,null,0,null,0,null,0,null,0,null,0,null,0,null,0,null,0,null,0,null,null,null,null,null,null,"",null,0,null,0,null,{"$f":"IF(ISERROR(CU122*$CL122/1000),0,CU122*$CL122/1000)","v":0},null,{"$f":"IF(ISERROR(CW122*$CL122/1000),0,CW122*$CL122/1000)","v":0},null,{"$f":"IF(ISERROR(CY122*$CL122/1000),0,CY122*$CL122/1000)","v":0},null,{"$f":"IF(ISERROR(DA122*$CL122/1000),0,DA122*$CL122/1000)","v":0},null,{"$f":"IF(ISERROR(DC122*$CL122/1000),0,DC122*$CL122/1000)","v":0},null,{"$f":"IF(ISERROR(DE122*$CL122/1000),0,DE122*$CL122/1000)","v":0},null,{"$f":"IF(ISERROR(DG122*$CL122/1000),0,DG122*$CL122/1000)","v":0},null,{"$f":"IF(ISERROR(DI122*$CL122/1000),0,DI122*$CL122/1000)","v":0},null,{"$f":"IF(ISERROR(DK122*$CL122/1000),0,DK122*$CL122/1000)","v":0},null,{"$f":"IF(ISERROR(DM122*$CL122/1000),0,DM122*$CL122/1000)","v":0},null,0,null,0,null,0,null,0,null,0,null,{"$f":"IF(ISERROR(DY122*$CL122/1000),0,DY122*$CL122/1000)","v":0}]
[null,null,null,null,null,null,null,"",null,0,null,0,null,{"$f":"IF(ISERROR(M123*$D123/1000),0,M123*$D123/1000)","v":0},null,{"$f":"IF(ISERROR(O123*$D123/1000),0,O123*$D123/1000)","v":0},null,{"$f":"IF(ISERROR(Q123*$D123/1000),0,Q123*$D123/1000)","v":0},null,{"$f":"IF(ISERROR(S123*$D123/1000),0,S123*$D123/1000)","v":0},null,{"$f":"IF(ISERROR(U123*$D123/1000),0,U123*$D123/1000)","v":0},null,{"$f":"IF(ISERROR(W123*$D123/1000),0,W123*$D123/1000)","v":0},null,{"$f":"IF(ISERROR(Y123*$D123/1000),0,Y123*$D123/1000)","v":0},null,{"$f":"IF(ISERROR(AA123*$D123/1000),0,AA123*$D123/1000)","v":0},null,{"$f":"IF(ISERROR(AC123*$D123/1000),0,AC123*$D123/1000)","v":0},null,{"$f":"IF(ISERROR(AE123*$D123/1000),0,AE123*$D123/1000)","v":0},null,0,null,0,null,0,null,0,null,0,null,0,null,null,null,null,null,null,"",null,0,null,0,null,0,null,0,null,0,null,0,null,0,null,0,null,0,null,0,null,0,null,0,null,0,null,0,null,0,null,0,null,0,null,0,null,null,null,null,null,null,"",null,0,null,0,null,{"$f":"IF(ISERROR(CU123*$CL123/1000),0,CU123*$CL123/1000)","v":0},null,{"$f":"IF(ISERROR(CW123*$CL123/1000),0,CW123*$CL123/1000)","v":0},null,{"$f":"IF(ISERROR(CY123*$CL123/1000),0,CY123*$CL123/1000)","v":0},null,{"$f":"IF(ISERROR(DA123*$CL123/1000),0,DA123*$CL123/1000)","v":0},null,{"$f":"IF(ISERROR(DC123*$CL123/1000),0,DC123*$CL123/1000)","v":0},null,{"$f":"IF(ISERROR(DE123*$CL123/1000),0,DE123*$CL123/1000)","v":0},null,{"$f":"IF(ISERROR(DG123*$CL123/1000),0,DG123*$CL123/1000)","v":0},null,{"$f":"IF(ISERROR(DI123*$CL123/1000),0,DI123*$CL123/1000)","v":0},null,{"$f":"IF(ISERROR(DK123*$CL123/1000),0,DK123*$CL123/1000)","v":0},null,{"$f":"IF(ISERROR(DM123*$CL123/1000),0,DM123*$CL123/1000)","v":0},null,0,null,0,null,0,null,0,null,0,null,{"$f":"IF(ISERROR(DY123*$CL123/1000),0,DY123*$CL123/1000)","v":0}]
[null,null,null,null,null,null,null,"",null,0,null,0,null,{"$f":"IF(ISERROR(M124*$D124/1000),0,M124*$D124/1000)","v":0},null,{"$f":"IF(ISERROR(O124*$D124/1000),0,O124*$D124/1000)","v":0},null,{"$f":"IF(ISERROR(Q124*$D124/1000),0,Q124*$D124/1000)","v":0},null,{"$f":"IF(ISERROR(S124*$D124/1000),0,S124*$D124/1000)","v":0},null,{"$f":"IF(ISERROR(U124*$D124/1000),0,U124*$D124/1000)","v":0},null,{"$f":"IF(ISERROR(W124*$D124/1000),0,W124*$D124/1000)","v":0},null,{"$f":"IF(ISERROR(Y124*$D124/1000),0,Y124*$D124/1000)","v":0},null,{"$f":"IF(ISERROR(AA124*$D124/1000),0,AA124*$D124/1000)","v":0},null,{"$f":"IF(ISERROR(AC124*$D124/1000),0,AC124*$D124/1000)","v":0},null,{"$f":"IF(ISERROR(AE124*$D124/1000),0,AE124*$D124/1000)","v":0},null,0,null,0,null,0,null,0,null,0,null,0,null,null,null,null,null,null,"",null,0,null,0,null,0,null,0,null,0,null,0,null,0,null,0,null,0,null,0,null,0,null,0,null,0,null,0,null,0,null,0,null,0,null,0,null,null,null,null,null,null,"",null,0,null,0,null,{"$f":"IF(ISERROR(CU124*$CL124/1000),0,CU124*$CL124/1000)","v":0},null,{"$f":"IF(ISERROR(CW124*$CL124/1000),0,CW124*$CL124/1000)","v":0},null,{"$f":"IF(ISERROR(CY124*$CL124/1000),0,CY124*$CL124/1000)","v":0},null,{"$f":"IF(ISERROR(DA124*$CL124/1000),0,DA124*$CL124/1000)","v":0},null,{"$f":"IF(ISERROR(DC124*$CL124/1000),0,DC124*$CL124/1000)","v":0},null,{"$f":"IF(ISERROR(DE124*$CL124/1000),0,DE124*$CL124/1000)","v":0},null,{"$f":"IF(ISERROR(DG124*$CL124/1000),0,DG124*$CL124/1000)","v":0},null,{"$f":"IF(ISERROR(DI124*$CL124/1000),0,DI124*$CL124/1000)","v":0},null,{"$f":"IF(ISERROR(DK124*$CL124/1000),0,DK124*$CL124/1000)","v":0},null,{"$f":"IF(ISERROR(DM124*$CL124/1000),0,DM124*$CL124/1000)","v":0},null,0,null,0,null,0,null,0,null,0,null,{"$f":"IF(ISERROR(DY124*$CL124/1000),0,DY124*$CL124/1000)","v":0}]
[null,null,null,null,null,null,null,"",null,0,null,0,null,{"$f":"IF(ISERROR(M125*$D125/1000),0,M125*$D125/1000)","v":0},null,{"$f":"IF(ISERROR(O125*$D125/1000),0,O125*$D125/1000)","v":0},null,{"$f":"IF(ISERROR(Q125*$D125/1000),0,Q125*$D125/1000)","v":0},null,{"$f":"IF(ISERROR(S125*$D125/1000),0,S125*$D125/1000)","v":0},null,{"$f":"IF(ISERROR(U125*$D125/1000),0,U125*$D125/1000)","v":0},null,{"$f":"IF(ISERROR(W125*$D125/1000),0,W125*$D125/1000)","v":0},null,{"$f":"IF(ISERROR(Y125*$D125/1000),0,Y125*$D125/1000)","v":0},null,{"$f":"IF(ISERROR(AA125*$D125/1000),0,AA125*$D125/1000)","v":0},null,{"$f":"IF(ISERROR(AC125*$D125/1000),0,AC125*$D125/1000)","v":0},null,{"$f":"IF(ISERROR(AE125*$D125/1000),0,AE125*$D125/1000)","v":0},null,0,null,0,null,0,null,0,null,0,null,0,null,null,null,null,null,null,"",null,0,null,0,null,0,null,0,null,0,null,0,null,0,null,0,null,0,null,0,null,0,null,0,null,0,null,0,null,0,null,0,null,0,null,0,null,null,null,null,null,null,"",null,0,null,0,null,{"$f":"IF(ISERROR(CU125*$CL125/1000),0,CU125*$CL125/1000)","v":0},null,{"$f":"IF(ISERROR(CW125*$CL125/1000),0,CW125*$CL125/1000)","v":0},null,{"$f":"IF(ISERROR(CY125*$CL125/1000),0,CY125*$CL125/1000)","v":0},null,{"$f":"IF(ISERROR(DA125*$CL125/1000),0,DA125*$CL125/1000)","v":0},null,{"$f":"IF(ISERROR(DC125*$CL125/1000),0,DC125*$CL125/1000)","v":0},null,{"$f":"IF(ISERROR(DE125*$CL125/1000),0,DE125*$CL125/1000)","v":0},null,{"$f":"IF(ISERROR(DG125*$CL125/1000),0,DG125*$CL125/1000)","v":0},null,{"$f":"IF(ISERROR(DI125*$CL125/1000),0,DI125*$CL125/1000)","v":0},null,{"$f":"IF(ISERROR(DK125*$CL125/1000),0,DK125*$CL125/1000)","v":0},null,{"$f":"IF(ISERROR(DM125*$CL125/1000),0,DM125*$CL125/1000)","v":0},null,0,null,0,null,0,null,0,null,0,null,{"$f":"IF(ISERROR(DY125*$CL125/1000),0,DY125*$CL125/1000)","v":0}]
[null,null,null,null,null,null,null,"",null,0,null,0,null,{"$f":"IF(ISERROR(M126*$D126/1000),0,M126*$D126/1000)","v":0},null,{"$f":"IF(ISERROR(O126*$D126/1000),0,O126*$D126/1000)","v":0},null,{"$f":"IF(ISERROR(Q126*$D126/1000),0,Q126*$D126/1000)","v":0},null,{"$f":"IF(ISERROR(S126*$D126/1000),0,S126*$D126/1000)","v":0},null,{"$f":"IF(ISERROR(U126*$D126/1000),0,U126*$D126/1000)","v":0},null,{"$f":"IF(ISERROR(W126*$D126/1000),0,W126*$D126/1000)","v":0},null,{"$f":"IF(ISERROR(Y126*$D126/1000),0,Y126*$D126/1000)","v":0},null,{"$f":"IF(ISERROR(AA126*$D126/1000),0,AA126*$D126/1000)","v":0},null,{"$f":"IF(ISERROR(AC126*$D126/1000),0,AC126*$D126/1000)","v":0},null,{"$f":"IF(ISERROR(AE126*$D126/1000),0,AE126*$D126/1000)","v":0},null,0,null,0,null,0,null,0,null,0,null,0,null,null,null,null,null,null,"",null,0,null,0,null,0,null,0,null,0,null,0,null,0,null,0,null,0,null,0,null,0,null,0,null,0,null,0,null,0,null,0,null,0,null,0,null,null,null,null,null,null,"",null,0,null,0,null,{"$f":"IF(ISERROR(CU126*$CL126/1000),0,CU126*$CL126/1000)","v":0},null,{"$f":"IF(ISERROR(CW126*$CL126/1000),0,CW126*$CL126/1000)","v":0},null,{"$f":"IF(ISERROR(CY126*$CL126/1000),0,CY126*$CL126/1000)","v":0},null,{"$f":"IF(ISERROR(DA126*$CL126/1000),0,DA126*$CL126/1000)","v":0},null,{"$f":"IF(ISERROR(DC126*$CL126/1000),0,DC126*$CL126/1000)","v":0},null,{"$f":"IF(ISERROR(DE126*$CL126/1000),0,DE126*$CL126/1000)","v":0},null,{"$f":"IF(ISERROR(DG126*$CL126/1000),0,DG126*$CL126/1000)","v":0},null,{"$f":"IF(ISERROR(DI126*$CL126/1000),0,DI126*$CL126/1000)","v":0},null,{"$f":"IF(ISERROR(DK126*$CL126/1000),0,DK126*$CL126/1000)","v":0},null,{"$f":"IF(ISERROR(DM126*$CL126/1000),0,DM126*$CL126/1000)","v":0},null,0,null,0,null,0,null,0,null,0,null,{"$f":"IF(ISERROR(DY126*$CL126/1000),0,DY126*$CL126/1000)","v":0}]
[null,null,null,null,null,null,null,"",null,0,null,0,null,{"$f":"IF(ISERROR(M127*$D127/1000),0,M127*$D127/1000)","v":0},null,{"$f":"IF(ISERROR(O127*$D127/1000),0,O127*$D127/1000)","v":0},null,{"$f":"IF(ISERROR(Q127*$D127/1000),0,Q127*$D127/1000)","v":0},null,{"$f":"IF(ISERROR(S127*$D127/1000),0,S127*$D127/1000)","v":0},null,{"$f":"IF(ISERROR(U127*$D127/1000),0,U127*$D127/1000)","v":0},null,{"$f":"IF(ISERROR(W127*$D127/1000),0,W127*$D127/1000)","v":0},null,{"$f":"IF(ISERROR(Y127*$D127/1000),0,Y127*$D127/1000)","v":0},null,{"$f":"IF(ISERROR(AA127*$D127/1000),0,AA127*$D127/1000)","v":0},null,{"$f":"IF(ISERROR(AC127*$D127/1000),0,AC127*$D127/1000)","v":0},null,{"$f":"IF(ISERROR(AE127*$D127/1000),0,AE127*$D127/1000)","v":0},null,0,null,0,null,0,null,0,null,0,null,0,null,null,null,null,null,null,"",null,0,null,0,null,0,null,0,null,0,null,0,null,0,null,0,null,0,null,0,null,0,null,0,null,0,null,0,null,0,null,0,null,0,null,0,null,null,null,null,null,null,"",null,0,null,0,null,{"$f":"IF(ISERROR(CU127*$CL127/1000),0,CU127*$CL127/1000)","v":0},null,{"$f":"IF(ISERROR(CW127*$CL127/1000),0,CW127*$CL127/1000)","v":0},null,{"$f":"IF(ISERROR(CY127*$CL127/1000),0,CY127*$CL127/1000)","v":0},null,{"$f":"IF(ISERROR(DA127*$CL127/1000),0,DA127*$CL127/1000)","v":0},null,{"$f":"IF(ISERROR(DC127*$CL127/1000),0,DC127*$CL127/1000)","v":0},null,{"$f":"IF(ISERROR(DE127*$CL127/1000),0,DE127*$CL127/1000)","v":0},null,{"$f":"IF(ISERROR(DG127*$CL127/1000),0,DG127*$CL127/1000)","v":0},null,{"$f":"IF(ISERROR(DI127*$CL127/1000),0,DI127*$CL127/1000)","v":0},null,{"$f":"IF(ISERROR(DK127*$CL127/1000),0,DK127*$CL127/1000)","v":0},null,{"$f":"IF(ISERROR(DM127*$CL127/1000),0,DM127*$CL127/1000)","v":0},null,0,null,0,null,0,null,0,null,0,null,{"$f":"IF(ISERROR(DY127*$CL127/1000),0,DY127*$CL127/1000)","v":0}]
[null,null,null,null,null,null,null,"",null,0,null,0,null,{"$f":"IF(ISERROR(M128*$D128/1000),0,M128*$D128/1000)","v":0},null,{"$f":"IF(ISERROR(O128*$D128/1000),0,O128*$D128/1000)","v":0},null,{"$f":"IF(ISERROR(Q128*$D128/1000),0,Q128*$D128/1000)","v":0},null,{"$f":"IF(ISERROR(S128*$D128/1000),0,S128*$D128/1000)","v":0},null,{"$f":"IF(ISERROR(U128*$D128/1000),0,U128*$D128/1000)","v":0},null,{"$f":"IF(ISERROR(W128*$D128/1000),0,W128*$D128/1000)","v":0},null,{"$f":"IF(ISERROR(Y128*$D128/1000),0,Y128*$D128/1000)","v":0},null,{"$f":"IF(ISERROR(AA128*$D128/1000),0,AA128*$D128/1000)","v":0},null,{"$f":"IF(ISERROR(AC128*$D128/1000),0,AC128*$D128/1000)","v":0},null,{"$f":"IF(ISERROR(AE128*$D128/1000),0,AE128*$D128/1000)","v":0},null,0,null,0,null,0,null,0,null,0,null,0,null,null,null,null,null,null,"",null,0,null,0,null,0,null,0,null,0,null,0,null,0,null,0,null,0,null,0,null,0,null,0,null,0,null,0,null,0,null,0,null,0,null,0,null,null,null,null,null,null,"",null,0,null,0,null,{"$f":"IF(ISERROR(CU128*$CL128/1000),0,CU128*$CL128/1000)","v":0},null,{"$f":"IF(ISERROR(CW128*$CL128/1000),0,CW128*$CL128/1000)","v":0},null,{"$f":"IF(ISERROR(CY128*$CL128/1000),0,CY128*$CL128/1000)","v":0},null,{"$f":"IF(ISERROR(DA128*$CL128/1000),0,DA128*$CL128/1000)","v":0},null,{"$f":"IF(ISERROR(DC128*$CL128/1000),0,DC128*$CL128/1000)","v":0},null,{"$f":"IF(ISERROR(DE128*$CL128/1000),0,DE128*$CL128/1000)","v":0},null,{"$f":"IF(ISERROR(DG128*$CL128/1000),0,DG128*$CL128/1000)","v":0},null,{"$f":"IF(ISERROR(DI128*$CL128/1000),0,DI128*$CL128/1000)","v":0},null,{"$f":"IF(ISERROR(DK128*$CL128/1000),0,DK128*$CL128/1000)","v":0},null,{"$f":"IF(ISERROR(DM128*$CL128/1000),0,DM128*$CL128/1000)","v":0},null,0,null,0,null,0,null,0,null,0,null,{"$f":"IF(ISERROR(DY128*$CL128/1000),0,DY128*$CL128/1000)","v":0}]
[null,null,null,null,null,null,null,"",null,0,null,0,null,{"$f":"IF(ISERROR(M129*$D129/1000),0,M129*$D129/1000)","v":0},null,{"$f":"IF(ISERROR(O129*$D129/1000),0,O129*$D129/1000)","v":0},null,{"$f":"IF(ISERROR(Q129*$D129/1000),0,Q129*$D129/1000)","v":0},null,{"$f":"IF(ISERROR(S129*$D129/1000),0,S129*$D129/1000)","v":0},null,{"$f":"IF(ISERROR(U129*$D129/1000),0,U129*$D129/1000)","v":0},null,{"$f":"IF(ISERROR(W129*$D129/1000),0,W129*$D129/1000)","v":0},null,{"$f":"IF(ISERROR(Y129*$D129/1000),0,Y129*$D129/1000)","v":0},null,{"$f":"IF(ISERROR(AA129*$D129/1000),0,AA129*$D129/1000)","v":0},null,{"$f":"IF(ISERROR(AC129*$D129/1000),0,AC129*$D129/1000)","v":0},null,{"$f":"IF(ISERROR(AE129*$D129/1000),0,AE129*$D129/1000)","v":0},null,0,null,0,null,0,null,0,null,0,null,0,null,null,null,null,null,null,"",null,0,null,0,null,0,null,0,null,0,null,0,null,0,null,0,null,0,null,0,null,0,null,0,null,0,null,0,null,0,null,0,null,0,null,0,null,null,null,null,null,null,"",null,0,null,0,null,{"$f":"IF(ISERROR(CU129*$CL129/1000),0,CU129*$CL129/1000)","v":0},null,{"$f":"IF(ISERROR(CW129*$CL129/1000),0,CW129*$CL129/1000)","v":0},null,{"$f":"IF(ISERROR(CY129*$CL129/1000),0,CY129*$CL129/1000)","v":0},null,{"$f":"IF(ISERROR(DA129*$CL129/1000),0,DA129*$CL129/1000)","v":0},null,{"$f":"IF(ISERROR(DC129*$CL129/1000),0,DC129*$CL129/1000)","v":0},null,{"$f":"IF(ISERROR(DE129*$CL129/1000),0,DE129*$CL129/1000)","v":0},null,{"$f":"IF(ISERROR(DG129*$CL129/1000),0,DG129*$CL129/1000)","v":0},null,{"$f":"IF(ISERROR(DI129*$CL129/1000),0,DI129*$CL129/1000)","v":0},null,{"$f":"IF(ISERROR(DK129*$CL129/1000),0,DK129*$CL129/1000)","v":0},null,{"$f":"IF(ISERROR(DM129*$CL129/1000),0,DM129*$CL129/1000)","v":0},null,0,null,0,null,0,null,0,null,0,null,{"$f":"IF(ISERROR(DY129*$CL129/1000),0,DY129*$CL129/1000)","v":0}]
[null,null,null,null,null,null,null,"",null,0,null,0,null,{"$f":"IF(ISERROR(M130*$D130/1000),0,M130*$D130/1000)","v":0},null,{"$f":"IF(ISERROR(O130*$D130/1000),0,O130*$D130/1000)","v":0},null,{"$f":"IF(ISERROR(Q130*$D130/1000),0,Q130*$D130/1000)","v":0},null,{"$f":"IF(ISERROR(S130*$D130/1000),0,S130*$D130/1000)","v":0},null,{"$f":"IF(ISERROR(U130*$D130/1000),0,U130*$D130/1000)","v":0},null,{"$f":"IF(ISERROR(W130*$D130/1000),0,W130*$D130/1000)","v":0},null,{"$f":"IF(ISERROR(Y130*$D130/1000),0,Y130*$D130/1000)","v":0},null,{"$f":"IF(ISERROR(AA130*$D130/1000),0,AA130*$D130/1000)","v":0},null,{"$f":"IF(ISERROR(AC130*$D130/1000),0,AC130*$D130/1000)","v":0},null,{"$f":"IF(ISERROR(AE130*$D130/1000),0,AE130*$D130/1000)","v":0},null,0,null,0,null,0,null,0,null,0,null,0,null,null,null,null,null,null,"",null,0,null,0,null,0,null,0,null,0,null,0,null,0,null,0,null,0,null,0,null,0,null,0,null,0,null,0,null,0,null,0,null,0,null,0,null,null,null,null,null,null,"",null,0,null,0,null,{"$f":"IF(ISERROR(CU130*$CL130/1000),0,CU130*$CL130/1000)","v":0},null,{"$f":"IF(ISERROR(CW130*$CL130/1000),0,CW130*$CL130/1000)","v":0},null,{"$f":"IF(ISERROR(CY130*$CL130/1000),0,CY130*$CL130/1000)","v":0},null,{"$f":"IF(ISERROR(DA130*$CL130/1000),0,DA130*$CL130/1000)","v":0},null,{"$f":"IF(ISERROR(DC130*$CL130/1000),0,DC130*$CL130/1000)","v":0},null,{"$f":"IF(ISERROR(DE130*$CL130/1000),0,DE130*$CL130/1000)","v":0},null,{"$f":"IF(ISERROR(DG130*$CL130/1000),0,DG130*$CL130/1000)","v":0},null,{"$f":"IF(ISERROR(DI130*$CL130/1000),0,DI130*$CL130/1000)","v":0},null,{"$f":"IF(ISERROR(DK130*$CL130/1000),0,DK130*$CL130/1000)","v":0},null,{"$f":"IF(ISERROR(DM130*$CL130/1000),0,DM130*$CL130/1000)","v":0},null,0,null,0,null,0,null,0,null,0,null,{"$f":"IF(ISERROR(DY130*$CL130/1000),0,DY130*$CL130/1000)","v":0}]
[null,null,null,null,null,null,null,"",null,0,null,0,null,{"$f":"IF(ISERROR(M131*$D131/1000),0,M131*$D131/1000)","v":0},null,{"$f":"IF(ISERROR(O131*$D131/1000),0,O131*$D131/1000)","v":0},null,{"$f":"IF(ISERROR(Q131*$D131/1000),0,Q131*$D131/1000)","v":0},null,{"$f":"IF(ISERROR(S131*$D131/1000),0,S131*$D131/1000)","v":0},null,{"$f":"IF(ISERROR(U131*$D131/1000),0,U131*$D131/1000)","v":0},null,{"$f":"IF(ISERROR(W131*$D131/1000),0,W131*$D131/1000)","v":0},null,{"$f":"IF(ISERROR(Y131*$D131/1000),0,Y131*$D131/1000)","v":0},null,{"$f":"IF(ISERROR(AA131*$D131/1000),0,AA131*$D131/1000)","v":0},null,{"$f":"IF(ISERROR(AC131*$D131/1000),0,AC131*$D131/1000)","v":0},null,{"$f":"IF(ISERROR(AE131*$D131/1000),0,AE131*$D131/1000)","v":0},null,0,null,0,null,0,null,0,null,0,null,0,null,null,null,null,null,null,"",null,0,null,0,null,0,null,0,null,0,null,0,null,0,null,0,null,0,null,0,null,0,null,0,null,0,null,0,null,0,null,0,null,0,null,0,null,null,null,null,null,null,"",null,0,null,0,null,{"$f":"IF(ISERROR(CU131*$CL131/1000),0,CU131*$CL131/1000)","v":0},null,{"$f":"IF(ISERROR(CW131*$CL131/1000),0,CW131*$CL131/1000)","v":0},null,{"$f":"IF(ISERROR(CY131*$CL131/1000),0,CY131*$CL131/1000)","v":0},null,{"$f":"IF(ISERROR(DA131*$CL131/1000),0,DA131*$CL131/1000)","v":0},null,{"$f":"IF(ISERROR(DC131*$CL131/1000),0,DC131*$CL131/1000)","v":0},null,{"$f":"IF(ISERROR(DE131*$CL131/1000),0,DE131*$CL131/1000)","v":0},null,{"$f":"IF(ISERROR(DG131*$CL131/1000),0,DG131*$CL131/1000)","v":0},null,{"$f":"IF(ISERROR(DI131*$CL131/1000),0,DI131*$CL131/1000)","v":0},null,{"$f":"IF(ISERROR(DK131*$CL131/1000),0,DK131*$CL131/1000)","v":0},null,{"$f":"IF(ISERROR(DM131*$CL131/1000),0,DM131*$CL131/1000)","v":0},null,0,null,0,null,0,null,0,null,0,null,{"$f":"IF(ISERROR(DY131*$CL131/1000),0,DY131*$CL131/1000)","v":0}]
[null,null,null,null,null,null,null,"",null,0,null,0,null,{"$f":"IF(ISERROR(M132*$D132/1000),0,M132*$D132/1000)","v":0},null,{"$f":"IF(ISERROR(O132*$D132/1000),0,O132*$D132/1000)","v":0},null,{"$f":"IF(ISERROR(Q132*$D132/1000),0,Q132*$D132/1000)","v":0},null,{"$f":"IF(ISERROR(S132*$D132/1000),0,S132*$D132/1000)","v":0},null,{"$f":"IF(ISERROR(U132*$D132/1000),0,U132*$D132/1000)","v":0},null,{"$f":"IF(ISERROR(W132*$D132/1000),0,W132*$D132/1000)","v":0},null,{"$f":"IF(ISERROR(Y132*$D132/1000),0,Y132*$D132/1000)","v":0},null,{"$f":"IF(ISERROR(AA132*$D132/1000),0,AA132*$D132/1000)","v":0},null,{"$f":"IF(ISERROR(AC132*$D132/1000),0,AC132*$D132/1000)","v":0},null,{"$f":"IF(ISERROR(AE132*$D132/1000),0,AE132*$D132/1000)","v":0},null,0,null,0,null,0,null,0,null,0,null,0,null,null,null,null,null,null,"",null,0,null,0,null,0,null,0,null,0,null,0,null,0,null,0,null,0,null,0,null,0,null,0,null,0,null,0,null,0,null,0,null,0,null,0,null,null,null,null,null,null,"",null,0,null,0,null,{"$f":"IF(ISERROR(CU132*$CL132/1000),0,CU132*$CL132/1000)","v":0},null,{"$f":"IF(ISERROR(CW132*$CL132/1000),0,CW132*$CL132/1000)","v":0},null,{"$f":"IF(ISERROR(CY132*$CL132/1000),0,CY132*$CL132/1000)","v":0},null,{"$f":"IF(ISERROR(DA132*$CL132/1000),0,DA132*$CL132/1000)","v":0},null,{"$f":"IF(ISERROR(DC132*$CL132/1000),0,DC132*$CL132/1000)","v":0},null,{"$f":"IF(ISERROR(DE132*$CL132/1000),0,DE132*$CL132/1000)","v":0},null,{"$f":"IF(ISERROR(DG132*$CL132/1000),0,DG132*$CL132/1000)","v":0},null,{"$f":"IF(ISERROR(DI132*$CL132/1000),0,DI132*$CL132/1000)","v":0},null,{"$f":"IF(ISERROR(DK132*$CL132/1000),0,DK132*$CL132/1000)","v":0},null,{"$f":"IF(ISERROR(DM132*$CL132/1000),0,DM132*$CL132/1000)","v":0},null,0,null,0,null,0,null,0,null,0,null,{"$f":"IF(ISERROR(DY132*$CL132/1000),0,DY132*$CL132/1000)","v":0}]
[null,null,null,null,null,null,null,"",null,0,null,0,null,{"$f":"IF(ISERROR(M133*$D133/1000),0,M133*$D133/1000)","v":0},null,{"$f":"IF(ISERROR(O133*$D133/1000),0,O133*$D133/1000)","v":0},null,{"$f":"IF(ISERROR(Q133*$D133/1000),0,Q133*$D133/1000)","v":0},null,{"$f":"IF(ISERROR(S133*$D133/1000),0,S133*$D133/1000)","v":0},null,{"$f":"IF(ISERROR(U133*$D133/1000),0,U133*$D133/1000)","v":0},null,{"$f":"IF(ISERROR(W133*$D133/1000),0,W133*$D133/1000)","v":0},null,{"$f":"IF(ISERROR(Y133*$D133/1000),0,Y133*$D133/1000)","v":0},null,{"$f":"IF(ISERROR(AA133*$D133/1000),0,AA133*$D133/1000)","v":0},null,{"$f":"IF(ISERROR(AC133*$D133/1000),0,AC133*$D133/1000)","v":0},null,{"$f":"IF(ISERROR(AE133*$D133/1000),0,AE133*$D133/1000)","v":0},null,0,null,0,null,0,null,0,null,0,null,0,null,null,null,null,null,null,"",null,0,null,0,null,0,null,0,null,0,null,0,null,0,null,0,null,0,null,0,null,0,null,0,null,0,null,0,null,0,null,0,null,0,null,0,null,null,null,null,null,null,"",null,0,null,0,null,{"$f":"IF(ISERROR(CU133*$CL133/1000),0,CU133*$CL133/1000)","v":0},null,{"$f":"IF(ISERROR(CW133*$CL133/1000),0,CW133*$CL133/1000)","v":0},null,{"$f":"IF(ISERROR(CY133*$CL133/1000),0,CY133*$CL133/1000)","v":0},null,{"$f":"IF(ISERROR(DA133*$CL133/1000),0,DA133*$CL133/1000)","v":0},null,{"$f":"IF(ISERROR(DC133*$CL133/1000),0,DC133*$CL133/1000)","v":0},null,{"$f":"IF(ISERROR(DE133*$CL133/1000),0,DE133*$CL133/1000)","v":0},null,{"$f":"IF(ISERROR(DG133*$CL133/1000),0,DG133*$CL133/1000)","v":0},null,{"$f":"IF(ISERROR(DI133*$CL133/1000),0,DI133*$CL133/1000)","v":0},null,{"$f":"IF(ISERROR(DK133*$CL133/1000),0,DK133*$CL133/1000)","v":0},null,{"$f":"IF(ISERROR(DM133*$CL133/1000),0,DM133*$CL133/1000)","v":0},null,0,null,0,null,0,null,0,null,0,null,{"$f":"IF(ISERROR(DY133*$CL133/1000),0,DY133*$CL133/1000)","v":0}]
[null,null,null,null,null,null,null,"",null,0,null,0,null,{"$f":"IF(ISERROR(M134*$D134/1000),0,M134*$D134/1000)","v":0},null,{"$f":"IF(ISERROR(O134*$D134/1000),0,O134*$D134/1000)","v":0},null,{"$f":"IF(ISERROR(Q134*$D134/1000),0,Q134*$D134/1000)","v":0},null,{"$f":"IF(ISERROR(S134*$D134/1000),0,S134*$D134/1000)","v":0},null,{"$f":"IF(ISERROR(U134*$D134/1000),0,U134*$D134/1000)","v":0},null,{"$f":"IF(ISERROR(W134*$D134/1000),0,W134*$D134/1000)","v":0},null,{"$f":"IF(ISERROR(Y134*$D134/1000),0,Y134*$D134/1000)","v":0},null,{"$f":"IF(ISERROR(AA134*$D134/1000),0,AA134*$D134/1000)","v":0},null,{"$f":"IF(ISERROR(AC134*$D134/1000),0,AC134*$D134/1000)","v":0},null,{"$f":"IF(ISERROR(AE134*$D134/1000),0,AE134*$D134/1000)","v":0},null,0,null,0,null,0,null,0,null,0,null,0,null,null,null,null,null,null,"",null,0,null,0,null,0,null,0,null,0,null,0,null,0,null,0,null,0,null,0,null,0,null,0,null,0,null,0,null,0,null,0,null,0,null,0,null,null,null,null,null,null,"",null,0,null,0,null,{"$f":"IF(ISERROR(CU134*$CL134/1000),0,CU134*$CL134/1000)","v":0},null,{"$f":"IF(ISERROR(CW134*$CL134/1000),0,CW134*$CL134/1000)","v":0},null,{"$f":"IF(ISERROR(CY134*$CL134/1000),0,CY134*$CL134/1000)","v":0},null,{"$f":"IF(ISERROR(DA134*$CL134/1000),0,DA134*$CL134/1000)","v":0},null,{"$f":"IF(ISERROR(DC134*$CL134/1000),0,DC134*$CL134/1000)","v":0},null,{"$f":"IF(ISERROR(DE134*$CL134/1000),0,DE134*$CL134/1000)","v":0},null,{"$f":"IF(ISERROR(DG134*$CL134/1000),0,DG134*$CL134/1000)","v":0},null,{"$f":"IF(ISERROR(DI134*$CL134/1000),0,DI134*$CL134/1000)","v":0},null,{"$f":"IF(ISERROR(DK134*$CL134/1000),0,DK134*$CL134/1000)","v":0},null,{"$f":"IF(ISERROR(DM134*$CL134/1000),0,DM134*$CL134/1000)","v":0},null,0,null,0,null,0,null,0,null,0,null,{"$f":"IF(ISERROR(DY134*$CL134/1000),0,DY134*$CL134/1000)","v":0}]
[null,null,null,null,null,null,null,"",null,0,null,0,null,{"$f":"IF(ISERROR(M135*$D135/1000),0,M135*$D135/1000)","v":0},null,{"$f":"IF(ISERROR(O135*$D135/1000),0,O135*$D135/1000)","v":0},null,{"$f":"IF(ISERROR(Q135*$D135/1000),0,Q135*$D135/1000)","v":0},null,{"$f":"IF(ISERROR(S135*$D135/1000),0,S135*$D135/1000)","v":0},null,{"$f":"IF(ISERROR(U135*$D135/1000),0,U135*$D135/1000)","v":0},null,{"$f":"IF(ISERROR(W135*$D135/1000),0,W135*$D135/1000)","v":0},null,{"$f":"IF(ISERROR(Y135*$D135/1000),0,Y135*$D135/1000)","v":0},null,{"$f":"IF(ISERROR(AA135*$D135/1000),0,AA135*$D135/1000)","v":0},null,{"$f":"IF(ISERROR(AC135*$D135/1000),0,AC135*$D135/1000)","v":0},null,{"$f":"IF(ISERROR(AE135*$D135/1000),0,AE135*$D135/1000)","v":0},null,0,null,0,null,0,null,0,null,0,null,0,null,null,null,null,null,null,"",null,0,null,0,null,0,null,0,null,0,null,0,null,0,null,0,null,0,null,0,null,0,null,0,null,0,null,0,null,0,null,0,null,0,null,0,null,null,null,null,null,null,"",null,0,null,0,null,{"$f":"IF(ISERROR(CU135*$CL135/1000),0,CU135*$CL135/1000)","v":0},null,{"$f":"IF(ISERROR(CW135*$CL135/1000),0,CW135*$CL135/1000)","v":0},null,{"$f":"IF(ISERROR(CY135*$CL135/1000),0,CY135*$CL135/1000)","v":0},null,{"$f":"IF(ISERROR(DA135*$CL135/1000),0,DA135*$CL135/1000)","v":0},null,{"$f":"IF(ISERROR(DC135*$CL135/1000),0,DC135*$CL135/1000)","v":0},null,{"$f":"IF(ISERROR(DE135*$CL135/1000),0,DE135*$CL135/1000)","v":0},null,{"$f":"IF(ISERROR(DG135*$CL135/1000),0,DG135*$CL135/1000)","v":0},null,{"$f":"IF(ISERROR(DI135*$CL135/1000),0,DI135*$CL135/1000)","v":0},null,{"$f":"IF(ISERROR(DK135*$CL135/1000),0,DK135*$CL135/1000)","v":0},null,{"$f":"IF(ISERROR(DM135*$CL135/1000),0,DM135*$CL135/1000)","v":0},null,0,null,0,null,0,null,0,null,0,null,{"$f":"IF(ISERROR(DY135*$CL135/1000),0,DY135*$CL135/1000)","v":0}]
[null,null,null,null,null,null,null,"",null,0,null,0,null,{"$f":"IF(ISERROR(M136*$D136/1000),0,M136*$D136/1000)","v":0},null,{"$f":"IF(ISERROR(O136*$D136/1000),0,O136*$D136/1000)","v":0},null,{"$f":"IF(ISERROR(Q136*$D136/1000),0,Q136*$D136/1000)","v":0},null,{"$f":"IF(ISERROR(S136*$D136/1000),0,S136*$D136/1000)","v":0},null,{"$f":"IF(ISERROR(U136*$D136/1000),0,U136*$D136/1000)","v":0},null,{"$f":"IF(ISERROR(W136*$D136/1000),0,W136*$D136/1000)","v":0},null,{"$f":"IF(ISERROR(Y136*$D136/1000),0,Y136*$D136/1000)","v":0},null,{"$f":"IF(ISERROR(AA136*$D136/1000),0,AA136*$D136/1000)","v":0},null,{"$f":"IF(ISERROR(AC136*$D136/1000),0,AC136*$D136/1000)","v":0},null,{"$f":"IF(ISERROR(AE136*$D136/1000),0,AE136*$D136/1000)","v":0},null,0,null,0,null,0,null,0,null,0,null,0,null,null,null,null,null,null,"",null,0,null,0,null,0,null,0,null,0,null,0,null,0,null,0,null,0,null,0,null,0,null,0,null,0,null,0,null,0,null,0,null,0,null,0,null,null,null,null,null,null,"",null,0,null,0,null,{"$f":"IF(ISERROR(CU136*$CL136/1000),0,CU136*$CL136/1000)","v":0},null,{"$f":"IF(ISERROR(CW136*$CL136/1000),0,CW136*$CL136/1000)","v":0},null,{"$f":"IF(ISERROR(CY136*$CL136/1000),0,CY136*$CL136/1000)","v":0},null,{"$f":"IF(ISERROR(DA136*$CL136/1000),0,DA136*$CL136/1000)","v":0},null,{"$f":"IF(ISERROR(DC136*$CL136/1000),0,DC136*$CL136/1000)","v":0},null,{"$f":"IF(ISERROR(DE136*$CL136/1000),0,DE136*$CL136/1000)","v":0},null,{"$f":"IF(ISERROR(DG136*$CL136/1000),0,DG136*$CL136/1000)","v":0},null,{"$f":"IF(ISERROR(DI136*$CL136/1000),0,DI136*$CL136/1000)","v":0},null,{"$f":"IF(ISERROR(DK136*$CL136/1000),0,DK136*$CL136/1000)","v":0},null,{"$f":"IF(ISERROR(DM136*$CL136/1000),0,DM136*$CL136/1000)","v":0},null,0,null,0,null,0,null,0,null,0,null,{"$f":"IF(ISERROR(DY136*$CL136/1000),0,DY136*$CL136/1000)","v":0}]
[null,"Mai",null,null,null,null,null,"",null,0,null,0,null,{"$f":"IF(ISERROR(M137*$D137/1000),0,M137*$D137/1000)","v":0},null,{"$f":"IF(ISERROR(O137*$D137/1000),0,O137*$D137/1000)","v":0},null,{"$f":"IF(ISERROR(Q137*$D137/1000),0,Q137*$D137/1000)","v":0},null,{"$f":"IF(ISERROR(S137*$D137/1000),0,S137*$D137/1000)","v":0},null,{"$f":"IF(ISERROR(U137*$D137/1000),0,U137*$D137/1000)","v":0},null,{"$f":"IF(ISERROR(W137*$D137/1000),0,W137*$D137/1000)","v":0},null,{"$f":"IF(ISERROR(Y137*$D137/1000),0,Y137*$D137/1000)","v":0},null,{"$f":"IF(ISERROR(AA137*$D137/1000),0,AA137*$D137/1000)","v":0},null,{"$f":"IF(ISERROR(AC137*$D137/1000),0,AC137*$D137/1000)","v":0},null,{"$f":"IF(ISERROR(AE137*$D137/1000),0,AE137*$D137/1000)","v":0},null,0,null,0,null,0,null,0,null,0,null,0,null,null,null,null,null,null,"",null,0,null,0,null,0,null,0,null,0,null,0,null,0,null,0,null,0,null,0,null,0,null,0,null,0,null,0,null,0,null,0,null,0,null,0,null,null,null,null,null,null,"",null,0,null,0,null,{"$f":"IF(ISERROR(CU137*$CL137/1000),0,CU137*$CL137/1000)","v":0},null,{"$f":"IF(ISERROR(CW137*$CL137/1000),0,CW137*$CL137/1000)","v":0},null,{"$f":"IF(ISERROR(CY137*$CL137/1000),0,CY137*$CL137/1000)","v":0},null,{"$f":"IF(ISERROR(DA137*$CL137/1000),0,DA137*$CL137/1000)","v":0},null,{"$f":"IF(ISERROR(DC137*$CL137/1000),0,DC137*$CL137/1000)","v":0},null,{"$f":"IF(ISERROR(DE137*$CL137/1000),0,DE137*$CL137/1000)","v":0},null,{"$f":"IF(ISERROR(DG137*$CL137/1000),0,DG137*$CL137/1000)","v":0},null,{"$f":"IF(ISERROR(DI137*$CL137/1000),0,DI137*$CL137/1000)","v":0},null,{"$f":"IF(ISERROR(DK137*$CL137/1000),0,DK137*$CL137/1000)","v":0},null,{"$f":"IF(ISERROR(DM137*$CL137/1000),0,DM137*$CL137/1000)","v":0},null,0,null,0,null,0,null,0,null,0,null,{"$f":"IF(ISERROR(DY137*$CL137/1000),0,DY137*$CL137/1000)","v":0}]
[null,null,null,null,null,null,null,"",null,0,null,0,null,{"$f":"IF(ISERROR(M138*$D138/1000),0,M138*$D138/1000)","v":0},null,{"$f":"IF(ISERROR(O138*$D138/1000),0,O138*$D138/1000)","v":0},null,{"$f":"IF(ISERROR(Q138*$D138/1000),0,Q138*$D138/1000)","v":0},null,{"$f":"IF(ISERROR(S138*$D138/1000),0,S138*$D138/1000)","v":0},null,{"$f":"IF(ISERROR(U138*$D138/1000),0,U138*$D138/1000)","v":0},null,{"$f":"IF(ISERROR(W138*$D138/1000),0,W138*$D138/1000)","v":0},null,{"$f":"IF(ISERROR(Y138*$D138/1000),0,Y138*$D138/1000)","v":0},null,{"$f":"IF(ISERROR(AA138*$D138/1000),0,AA138*$D138/1000)","v":0},null,{"$f":"IF(ISERROR(AC138*$D138/1000),0,AC138*$D138/1000)","v":0},null,{"$f":"IF(ISERROR(AE138*$D138/1000),0,AE138*$D138/1000)","v":0},null,0,null,0,null,0,null,0,null,0,null,0,null,null,null,null,null,null,"",null,0,null,0,null,0,null,0,null,0,null,0,null,0,null,0,null,0,null,0,null,0,null,0,null,0,null,0,null,0,null,0,null,0,null,0,null,null,null,null,null,null,"",null,0,null,0,null,{"$f":"IF(ISERROR(CU138*$CL138/1000),0,CU138*$CL138/1000)","v":0},null,{"$f":"IF(ISERROR(CW138*$CL138/1000),0,CW138*$CL138/1000)","v":0},null,{"$f":"IF(ISERROR(CY138*$CL138/1000),0,CY138*$CL138/1000)","v":0},null,{"$f":"IF(ISERROR(DA138*$CL138/1000),0,DA138*$CL138/1000)","v":0},null,{"$f":"IF(ISERROR(DC138*$CL138/1000),0,DC138*$CL138/1000)","v":0},null,{"$f":"IF(ISERROR(DE138*$CL138/1000),0,DE138*$CL138/1000)","v":0},null,{"$f":"IF(ISERROR(DG138*$CL138/1000),0,DG138*$CL138/1000)","v":0},null,{"$f":"IF(ISERROR(DI138*$CL138/1000),0,DI138*$CL138/1000)","v":0},null,{"$f":"IF(ISERROR(DK138*$CL138/1000),0,DK138*$CL138/1000)","v":0},null,{"$f":"IF(ISERROR(DM138*$CL138/1000),0,DM138*$CL138/1000)","v":0},null,0,null,0,null,0,null,0,null,0,null,{"$f":"IF(ISERROR(DY138*$CL138/1000),0,DY138*$CL138/1000)","v":0}]
[null,null,null,null,null,null,null,"",null,0,null,0,null,{"$f":"IF(ISERROR(M139*$D139/1000),0,M139*$D139/1000)","v":0},null,{"$f":"IF(ISERROR(O139*$D139/1000),0,O139*$D139/1000)","v":0},null,{"$f":"IF(ISERROR(Q139*$D139/1000),0,Q139*$D139/1000)","v":0},null,{"$f":"IF(ISERROR(S139*$D139/1000),0,S139*$D139/1000)","v":0},null,{"$f":"IF(ISERROR(U139*$D139/1000),0,U139*$D139/1000)","v":0},null,{"$f":"IF(ISERROR(W139*$D139/1000),0,W139*$D139/1000)","v":0},null,{"$f":"IF(ISERROR(Y139*$D139/1000),0,Y139*$D139/1000)","v":0},null,{"$f":"IF(ISERROR(AA139*$D139/1000),0,AA139*$D139/1000)","v":0},null,{"$f":"IF(ISERROR(AC139*$D139/1000),0,AC139*$D139/1000)","v":0},null,{"$f":"IF(ISERROR(AE139*$D139/1000),0,AE139*$D139/1000)","v":0},null,0,null,0,null,0,null,0,null,0,null,0,null,null,null,null,null,null,"",null,0,null,0,null,0,null,0,null,0,null,0,null,0,null,0,null,0,null,0,null,0,null,0,null,0,null,0,null,0,null,0,null,0,null,0,null,null,null,null,null,null,"",null,0,null,0,null,{"$f":"IF(ISERROR(CU139*$CL139/1000),0,CU139*$CL139/1000)","v":0},null,{"$f":"IF(ISERROR(CW139*$CL139/1000),0,CW139*$CL139/1000)","v":0},null,{"$f":"IF(ISERROR(CY139*$CL139/1000),0,CY139*$CL139/1000)","v":0},null,{"$f":"IF(ISERROR(DA139*$CL139/1000),0,DA139*$CL139/1000)","v":0},null,{"$f":"IF(ISERROR(DC139*$CL139/1000),0,DC139*$CL139/1000)","v":0},null,{"$f":"IF(ISERROR(DE139*$CL139/1000),0,DE139*$CL139/1000)","v":0},null,{"$f":"IF(ISERROR(DG139*$CL139/1000),0,DG139*$CL139/1000)","v":0},null,{"$f":"IF(ISERROR(DI139*$CL139/1000),0,DI139*$CL139/1000)","v":0},null,{"$f":"IF(ISERROR(DK139*$CL139/1000),0,DK139*$CL139/1000)","v":0},null,{"$f":"IF(ISERROR(DM139*$CL139/1000),0,DM139*$CL139/1000)","v":0},null,0,null,0,null,0,null,0,null,0,null,{"$f":"IF(ISERROR(DY139*$CL139/1000),0,DY139*$CL139/1000)","v":0}]
[null,null,null,null,null,null,null,"",null,0,null,0,null,{"$f":"IF(ISERROR(M140*$D140/1000),0,M140*$D140/1000)","v":0},null,{"$f":"IF(ISERROR(O140*$D140/1000),0,O140*$D140/1000)","v":0},null,{"$f":"IF(ISERROR(Q140*$D140/1000),0,Q140*$D140/1000)","v":0},null,{"$f":"IF(ISERROR(S140*$D140/1000),0,S140*$D140/1000)","v":0},null,{"$f":"IF(ISERROR(U140*$D140/1000),0,U140*$D140/1000)","v":0},null,{"$f":"IF(ISERROR(W140*$D140/1000),0,W140*$D140/1000)","v":0},null,{"$f":"IF(ISERROR(Y140*$D140/1000),0,Y140*$D140/1000)","v":0},null,{"$f":"IF(ISERROR(AA140*$D140/1000),0,AA140*$D140/1000)","v":0},null,{"$f":"IF(ISERROR(AC140*$D140/1000),0,AC140*$D140/1000)","v":0},null,{"$f":"IF(ISERROR(AE140*$D140/1000),0,AE140*$D140/1000)","v":0},null,0,null,0,null,0,null,0,null,0,null,0,null,null,null,null,null,null,"",null,0,null,0,null,0,null,0,null,0,null,0,null,0,null,0,null,0,null,0,null,0,null,0,null,0,null,0,null,0,null,0,null,0,null,0,null,null,null,null,null,null,"",null,0,null,0,null,{"$f":"IF(ISERROR(CU140*$CL140/1000),0,CU140*$CL140/1000)","v":0},null,{"$f":"IF(ISERROR(CW140*$CL140/1000),0,CW140*$CL140/1000)","v":0},null,{"$f":"IF(ISERROR(CY140*$CL140/1000),0,CY140*$CL140/1000)","v":0},null,{"$f":"IF(ISERROR(DA140*$CL140/1000),0,DA140*$CL140/1000)","v":0},null,{"$f":"IF(ISERROR(DC140*$CL140/1000),0,DC140*$CL140/1000)","v":0},null,{"$f":"IF(ISERROR(DE140*$CL140/1000),0,DE140*$CL140/1000)","v":0},null,{"$f":"IF(ISERROR(DG140*$CL140/1000),0,DG140*$CL140/1000)","v":0},null,{"$f":"IF(ISERROR(DI140*$CL140/1000),0,DI140*$CL140/1000)","v":0},null,{"$f":"IF(ISERROR(DK140*$CL140/1000),0,DK140*$CL140/1000)","v":0},null,{"$f":"IF(ISERROR(DM140*$CL140/1000),0,DM140*$CL140/1000)","v":0},null,0,null,0,null,0,null,0,null,0,null,{"$f":"IF(ISERROR(DY140*$CL140/1000),0,DY140*$CL140/1000)","v":0}]
[null,null,null,null,null,null,null,"",null,0,null,0,null,{"$f":"IF(ISERROR(M141*$D141/1000),0,M141*$D141/1000)","v":0},null,{"$f":"IF(ISERROR(O141*$D141/1000),0,O141*$D141/1000)","v":0},null,{"$f":"IF(ISERROR(Q141*$D141/1000),0,Q141*$D141/1000)","v":0},null,{"$f":"IF(ISERROR(S141*$D141/1000),0,S141*$D141/1000)","v":0},null,{"$f":"IF(ISERROR(U141*$D141/1000),0,U141*$D141/1000)","v":0},null,{"$f":"IF(ISERROR(W141*$D141/1000),0,W141*$D141/1000)","v":0},null,{"$f":"IF(ISERROR(Y141*$D141/1000),0,Y141*$D141/1000)","v":0},null,{"$f":"IF(ISERROR(AA141*$D141/1000),0,AA141*$D141/1000)","v":0},null,{"$f":"IF(ISERROR(AC141*$D141/1000),0,AC141*$D141/1000)","v":0},null,{"$f":"IF(ISERROR(AE141*$D141/1000),0,AE141*$D141/1000)","v":0},null,0,null,0,null,0,null,0,null,0,null,0,null,null,null,null,null,null,"",null,0,null,0,null,0,null,0,null,0,null,0,null,0,null,0,null,0,null,0,null,0,null,0,null,0,null,0,null,0,null,0,null,0,null,0,null,null,null,null,null,null,"",null,0,null,0,null,{"$f":"IF(ISERROR(CU141*$CL141/1000),0,CU141*$CL141/1000)","v":0},null,{"$f":"IF(ISERROR(CW141*$CL141/1000),0,CW141*$CL141/1000)","v":0},null,{"$f":"IF(ISERROR(CY141*$CL141/1000),0,CY141*$CL141/1000)","v":0},null,{"$f":"IF(ISERROR(DA141*$CL141/1000),0,DA141*$CL141/1000)","v":0},null,{"$f":"IF(ISERROR(DC141*$CL141/1000),0,DC141*$CL141/1000)","v":0},null,{"$f":"IF(ISERROR(DE141*$CL141/1000),0,DE141*$CL141/1000)","v":0},null,{"$f":"IF(ISERROR(DG141*$CL141/1000),0,DG141*$CL141/1000)","v":0},null,{"$f":"IF(ISERROR(DI141*$CL141/1000),0,DI141*$CL141/1000)","v":0},null,{"$f":"IF(ISERROR(DK141*$CL141/1000),0,DK141*$CL141/1000)","v":0},null,{"$f":"IF(ISERROR(DM141*$CL141/1000),0,DM141*$CL141/1000)","v":0},null,0,null,0,null,0,null,0,null,0,null,{"$f":"IF(ISERROR(DY141*$CL141/1000),0,DY141*$CL141/1000)","v":0}]
[null,null,null,null,null,null,null,"",null,0,null,0,null,{"$f":"IF(ISERROR(M142*$D142/1000),0,M142*$D142/1000)","v":0},null,{"$f":"IF(ISERROR(O142*$D142/1000),0,O142*$D142/1000)","v":0},null,{"$f":"IF(ISERROR(Q142*$D142/1000),0,Q142*$D142/1000)","v":0},null,{"$f":"IF(ISERROR(S142*$D142/1000),0,S142*$D142/1000)","v":0},null,{"$f":"IF(ISERROR(U142*$D142/1000),0,U142*$D142/1000)","v":0},null,{"$f":"IF(ISERROR(W142*$D142/1000),0,W142*$D142/1000)","v":0},null,{"$f":"IF(ISERROR(Y142*$D142/1000),0,Y142*$D142/1000)","v":0},null,{"$f":"IF(ISERROR(AA142*$D142/1000),0,AA142*$D142/1000)","v":0},null,{"$f":"IF(ISERROR(AC142*$D142/1000),0,AC142*$D142/1000)","v":0},null,{"$f":"IF(ISERROR(AE142*$D142/1000),0,AE142*$D142/1000)","v":0},null,0,null,0,null,0,null,0,null,0,null,0,null,null,null,null,null,null,"",null,0,null,0,null,0,null,0,null,0,null,0,null,0,null,0,null,0,null,0,null,0,null,0,null,0,null,0,null,0,null,0,null,0,null,0,null,null,null,null,null,null,"",null,0,null,0,null,{"$f":"IF(ISERROR(CU142*$CL142/1000),0,CU142*$CL142/1000)","v":0},null,{"$f":"IF(ISERROR(CW142*$CL142/1000),0,CW142*$CL142/1000)","v":0},null,{"$f":"IF(ISERROR(CY142*$CL142/1000),0,CY142*$CL142/1000)","v":0},null,{"$f":"IF(ISERROR(DA142*$CL142/1000),0,DA142*$CL142/1000)","v":0},null,{"$f":"IF(ISERROR(DC142*$CL142/1000),0,DC142*$CL142/1000)","v":0},null,{"$f":"IF(ISERROR(DE142*$CL142/1000),0,DE142*$CL142/1000)","v":0},null,{"$f":"IF(ISERROR(DG142*$CL142/1000),0,DG142*$CL142/1000)","v":0},null,{"$f":"IF(ISERROR(DI142*$CL142/1000),0,DI142*$CL142/1000)","v":0},null,{"$f":"IF(ISERROR(DK142*$CL142/1000),0,DK142*$CL142/1000)","v":0},null,{"$f":"IF(ISERROR(DM142*$CL142/1000),0,DM142*$CL142/1000)","v":0},null,0,null,0,null,0,null,0,null,0,null,{"$f":"IF(ISERROR(DY142*$CL142/1000),0,DY142*$CL142/1000)","v":0}]
[null,null,null,null,null,null,null,"",null,0,null,0,null,{"$f":"IF(ISERROR(M143*$D143/1000),0,M143*$D143/1000)","v":0},null,{"$f":"IF(ISERROR(O143*$D143/1000),0,O143*$D143/1000)","v":0},null,{"$f":"IF(ISERROR(Q143*$D143/1000),0,Q143*$D143/1000)","v":0},null,{"$f":"IF(ISERROR(S143*$D143/1000),0,S143*$D143/1000)","v":0},null,{"$f":"IF(ISERROR(U143*$D143/1000),0,U143*$D143/1000)","v":0},null,{"$f":"IF(ISERROR(W143*$D143/1000),0,W143*$D143/1000)","v":0},null,{"$f":"IF(ISERROR(Y143*$D143/1000),0,Y143*$D143/1000)","v":0},null,{"$f":"IF(ISERROR(AA143*$D143/1000),0,AA143*$D143/1000)","v":0},null,{"$f":"IF(ISERROR(AC143*$D143/1000),0,AC143*$D143/1000)","v":0},null,{"$f":"IF(ISERROR(AE143*$D143/1000),0,AE143*$D143/1000)","v":0},null,0,null,0,null,0,null,0,null,0,null,0,null,null,null,null,null,null,"",null,{"$f":"IF(ISERROR(AZ143*$AU143/1000),0,AZ143*$AU143/1000)","v":0},null,{"$f":"IF(ISERROR(BB143*$AU143/1000),0,BB143*$AU143/1000)","v":0},null,{"$f":"IF(ISERROR(BD143*$AU143/1000),0,BD143*$AU143/1000)","v":0},null,{"$f":"IF(ISERROR(BF143*$AU143/1000),0,BF143*$AU143/1000)","v":0},null,{"$f":"IF(ISERROR(BH143*$AU143/1000),0,BH143*$AU143/1000)","v":0},null,{"$f":"IF(ISERROR(BJ143*$AU143/1000),0,BJ143*$AU143/1000)","v":0},null,{"$f":"IF(ISERROR(BL143*$AU143/1000),0,BL143*$AU143/1000)","v":0},null,{"$f":"IF(ISERROR(BN143*$AU143/1000),0,BN143*$AU143/1000)","v":0},null,{"$f":"IF(ISERROR(BP143*$AU143/1000),0,BP143*$AU143/1000)","v":0},null,{"$f":"IF(ISERROR(BR143*$AU143/1000),0,BR143*$AU143/1000)","v":0},null,{"$f":"IF(ISERROR(BT143*$AU143/1000),0,BT143*$AU143/1000)","v":0},null,{"$f":"IF(ISERROR(BV143*$AU143/1000),0,BV143*$AU143/1000)","v":0},null,{"$f":"IF(ISERROR(BX143*$AU143/1000),0,BX143*$AU143/1000)","v":0},null,{"$f":"IF(ISERROR(BZ143*$AU143/1000),0,BZ143*$AU143/1000)","v":0},null,{"$f":"IF(ISERROR(CB143*$AU143/1000),0,CB143*$AU143/1000)","v":0},null,{"$f":"IF(ISERROR(CD143*$AU143/1000),0,CD143*$AU143/1000)","v":0},null,{"$f":"IF(ISERROR(CF143*$AU143/1000),0,CF143*$AU143/1000)","v":0},null,{"$f":"IF(ISERROR(CH143*$AU143/1000),0,CH143*$AU143/1000)","v":0},null,null,null,null,null,null,"",null,0,null,0,null,{"$f":"IF(ISERROR(CU143*$CL143/1000),0,CU143*$CL143/1000)","v":0},null,{"$f":"IF(ISERROR(CW143*$CL143/1000),0,CW143*$CL143/1000)","v":0},null,{"$f":"IF(ISERROR(CY143*$CL143/1000),0,CY143*$CL143/1000)","v":0},null,{"$f":"IF(ISERROR(DA143*$CL143/1000),0,DA143*$CL143/1000)","v":0},null,{"$f":"IF(ISERROR(DC143*$CL143/1000),0,DC143*$CL143/1000)","v":0},null,{"$f":"IF(ISERROR(DE143*$CL143/1000),0,DE143*$CL143/1000)","v":0},null,{"$f":"IF(ISERROR(DG143*$CL143/1000),0,DG143*$CL143/1000)","v":0},null,{"$f":"IF(ISERROR(DI143*$CL143/1000),0,DI143*$CL143/1000)","v":0},null,{"$f":"IF(ISERROR(DK143*$CL143/1000),0,DK143*$CL143/1000)","v":0},null,{"$f":"IF(ISERROR(DM143*$CL143/1000),0,DM143*$CL143/1000)","v":0},null,0,null,0,null,0,null,0,null,0,null,{"$f":"IF(ISERROR(DY143*$CL143/1000),0,DY143*$CL143/1000)","v":0}]
[null,null,null,null,null,null,null,{"$f":"IF(ISTEXT(G144),1,IF(ISBLANK(G144),\"\",IF(ISNONTEXT(G144),G144)))","v":""},null,{"$f":"IF(ISERROR(I144*$D144/1000),0,I144*$D144/1000)","v":0},null,0,null,{"$f":"IF(ISERROR(M144*$D144/1000),0,M144*$D144/1000)","v":0},null,{"$f":"IF(ISERROR(O144*$D144/1000),0,O144*$D144/1000)","v":0},null,{"$f":"IF(ISERROR(Q144*$D144/1000),0,Q144*$D144/1000)","v":0},null,{"$f":"IF(ISERROR(S144*$D144/1000),0,S144*$D144/1000)","v":0},null,{"$f":"IF(ISERROR(U144*$D144/1000),0,U144*$D144/1000)","v":0},null,{"$f":"IF(ISERROR(W144*$D144/1000),0,W144*$D144/1000)","v":0},null,{"$f":"IF(ISERROR(Y144*$D144/1000),0,Y144*$D144/1000)","v":0},null,{"$f":"IF(ISERROR(AA144*$D144/1000),0,AA144*$D144/1000)","v":0},null,{"$f":"IF(ISERROR(AC144*$D144/1000),0,AC144*$D144/1000)","v":0},null,{"$f":"IF(ISERROR(AE144*$D144/1000),0,AE144*$D144/1000)","v":0},null,{"$f":"IF(ISERROR(AG144*$D144/1000),0,AG144*$D144/1000)","v":0},null,{"$f":"IF(ISERROR(AI144*$D144/1000),0,AI144*$D144/1000)","v":0},null,{"$f":"IF(ISERROR(AK144*$D144/1000),0,AK144*$D144/1000)","v":0},null,{"$f":"IF(ISERROR(AM144*$D144/1000),0,AM144*$D144/1000)","v":0},null,{"$f":"IF(ISERROR(AO144*$D144/1000),0,AO144*$D144/1000)","v":0},null,{"$f":"IF(ISERROR(AQ144*$D144/1000),0,AQ144*$D144/1000)","v":0},null,null,null,null,null,null,{"$f":"IF(ISTEXT(AX144),1,IF(ISBLANK(AX144),\"\",IF(ISNONTEXT(AX144),AX144)))","v":""},null,0,null,0,null,0,null,0,null,0,null,0,null,0,null,0,null,0,null,0,null,0,null,0,null,0,null,0,null,0,null,0,null,0,null,0,null,null,null,null,null,null,{"$f":"IF(ISTEXT(CO144),1,IF(ISBLANK(CO144),\"\",IF(ISNONTEXT(CO144),CO144)))","v":""},null,{"$f":"IF(ISERROR(CQ144*$CL144/1000),0,CQ144*$CL144/1000)","v":0},null,0,null,{"$f":"IF(ISERROR(CU144*$CL144/1000),0,CU144*$CL144/1000)","v":0},null,{"$f":"IF(ISERROR(CW144*$CL144/1000),0,CW144*$CL144/1000)","v":0},null,{"$f":"IF(ISERROR(CY144*$CL144/1000),0,CY144*$CL144/1000)","v":0},null,{"$f":"IF(ISERROR(DA144*$CL144/1000),0,DA144*$CL144/1000)","v":0},null,{"$f":"IF(ISERROR(DC144*$CL144/1000),0,DC144*$CL144/1000)","v":0},null,{"$f":"IF(ISERROR(DE144*$CL144/1000),0,DE144*$CL144/1000)","v":0},null,{"$f":"IF(ISERROR(DG144*$CL144/1000),0,DG144*$CL144/1000)","v":0},null,{"$f":"IF(ISERROR(DI144*$CL144/1000),0,DI144*$CL144/1000)","v":0},null,{"$f":"IF(ISERROR(DK144*$CL144/1000),0,DK144*$CL144/1000)","v":0},null,{"$f":"IF(ISERROR(DM144*$CL144/1000),0,DM144*$CL144/1000)","v":0},null,{"$f":"IF(ISERROR(DO144*$CL144/1000),0,DO144*$CL144/1000)","v":0},null,{"$f":"IF(ISERROR(DQ144*$CL144/1000),0,DQ144*$CL144/1000)","v":0},null,{"$f":"IF(ISERROR(DS144*$CL144/1000),0,DS144*$CL144/1000)","v":0},null,{"$f":"IF(ISERROR(DU144*$CL144/1000),0,DU144*$CL144/1000)","v":0},null,{"$f":"IF(ISERROR(DW144*$CL144/1000),0,DW144*$CL144/1000)","v":0},null,{"$f":"IF(ISERROR(DY144*$CL144/1000),0,DY144*$CL144/1000)","v":0}]
[null,null,null,null,null,null,null,"",null,0,null,0,null,{"$f":"IF(ISERROR(M145*$D145/1000),0,M145*$D145/1000)","v":0},null,{"$f":"IF(ISERROR(O145*$D145/1000),0,O145*$D145/1000)","v":0},null,{"$f":"IF(ISERROR(Q145*$D145/1000),0,Q145*$D145/1000)","v":0},null,{"$f":"IF(ISERROR(S145*$D145/1000),0,S145*$D145/1000)","v":0},null,{"$f":"IF(ISERROR(U145*$D145/1000),0,U145*$D145/1000)","v":0},null,{"$f":"IF(ISERROR(W145*$D145/1000),0,W145*$D145/1000)","v":0},null,{"$f":"IF(ISERROR(Y145*$D145/1000),0,Y145*$D145/1000)","v":0},null,{"$f":"IF(ISERROR(AA145*$D145/1000),0,AA145*$D145/1000)","v":0},null,{"$f":"IF(ISERROR(AC145*$D145/1000),0,AC145*$D145/1000)","v":0},null,{"$f":"IF(ISERROR(AE145*$D145/1000),0,AE145*$D145/1000)","v":0},null,0,null,0,null,0,null,0,null,0,null,0,null,null,null,null,null,null,"",null,0,null,0,null,0,null,0,null,0,null,0,null,0,null,0,null,0,null,0,null,0,null,0,null,0,null,0,null,0,null,0,null,0,null,0,null,null,null,null,null,null,"",null,0,null,0,null,{"$f":"IF(ISERROR(CU145*$CL145/1000),0,CU145*$CL145/1000)","v":0},null,{"$f":"IF(ISERROR(CW145*$CL145/1000),0,CW145*$CL145/1000)","v":0},null,{"$f":"IF(ISERROR(CY145*$CL145/1000),0,CY145*$CL145/1000)","v":0},null,{"$f":"IF(ISERROR(DA145*$CL145/1000),0,DA145*$CL145/1000)","v":0},null,{"$f":"IF(ISERROR(DC145*$CL145/1000),0,DC145*$CL145/1000)","v":0},null,{"$f":"IF(ISERROR(DE145*$CL145/1000),0,DE145*$CL145/1000)","v":0},null,{"$f":"IF(ISERROR(DG145*$CL145/1000),0,DG145*$CL145/1000)","v":0},null,{"$f":"IF(ISERROR(DI145*$CL145/1000),0,DI145*$CL145/1000)","v":0},null,{"$f":"IF(ISERROR(DK145*$CL145/1000),0,DK145*$CL145/1000)","v":0},null,{"$f":"IF(ISERROR(DM145*$CL145/1000),0,DM145*$CL145/1000)","v":0},null,0,null,0,null,0,null,0,null,0,null,{"$f":"IF(ISERROR(DY145*$CL145/1000),0,DY145*$CL145/1000)","v":0}]
[null,null,null,null,null,null,null,"",null,0,null,0,null,{"$f":"IF(ISERROR(M146*$D146/1000),0,M146*$D146/1000)","v":0},null,{"$f":"IF(ISERROR(O146*$D146/1000),0,O146*$D146/1000)","v":0},null,{"$f":"IF(ISERROR(Q146*$D146/1000),0,Q146*$D146/1000)","v":0},null,{"$f":"IF(ISERROR(S146*$D146/1000),0,S146*$D146/1000)","v":0},null,{"$f":"IF(ISERROR(U146*$D146/1000),0,U146*$D146/1000)","v":0},null,{"$f":"IF(ISERROR(W146*$D146/1000),0,W146*$D146/1000)","v":0},null,{"$f":"IF(ISERROR(Y146*$D146/1000),0,Y146*$D146/1000)","v":0},null,{"$f":"IF(ISERROR(AA146*$D146/1000),0,AA146*$D146/1000)","v":0},null,{"$f":"IF(ISERROR(AC146*$D146/1000),0,AC146*$D146/1000)","v":0},null,{"$f":"IF(ISERROR(AE146*$D146/1000),0,AE146*$D146/1000)","v":0},null,0,null,0,null,0,null,0,null,0,null,0,null,null,null,null,null,null,"",null,0,null,0,null,0,null,0,null,0,null,0,null,0,null,0,null,0,null,0,null,0,null,0,null,0,null,0,null,0,null,0,null,0,null,0,null,null,null,null,null,null,"",null,0,null,0,null,{"$f":"IF(ISERROR(CU146*$CL146/1000),0,CU146*$CL146/1000)","v":0},null,{"$f":"IF(ISERROR(CW146*$CL146/1000),0,CW146*$CL146/1000)","v":0},null,{"$f":"IF(ISERROR(CY146*$CL146/1000),0,CY146*$CL146/1000)","v":0},null,{"$f":"IF(ISERROR(DA146*$CL146/1000),0,DA146*$CL146/1000)","v":0},null,{"$f":"IF(ISERROR(DC146*$CL146/1000),0,DC146*$CL146/1000)","v":0},null,{"$f":"IF(ISERROR(DE146*$CL146/1000),0,DE146*$CL146/1000)","v":0},null,{"$f":"IF(ISERROR(DG146*$CL146/1000),0,DG146*$CL146/1000)","v":0},null,{"$f":"IF(ISERROR(DI146*$CL146/1000),0,DI146*$CL146/1000)","v":0},null,{"$f":"IF(ISERROR(DK146*$CL146/1000),0,DK146*$CL146/1000)","v":0},null,{"$f":"IF(ISERROR(DM146*$CL146/1000),0,DM146*$CL146/1000)","v":0},null,0,null,0,null,0,null,0,null,0,null,{"$f":"IF(ISERROR(DY146*$CL146/1000),0,DY146*$CL146/1000)","v":0}]
[null,null,null,null,null,null,null,"",null,0,null,0,null,{"$f":"IF(ISERROR(M147*$D147/1000),0,M147*$D147/1000)","v":0},null,{"$f":"IF(ISERROR(O147*$D147/1000),0,O147*$D147/1000)","v":0},null,{"$f":"IF(ISERROR(Q147*$D147/1000),0,Q147*$D147/1000)","v":0},null,{"$f":"IF(ISERROR(S147*$D147/1000),0,S147*$D147/1000)","v":0},null,{"$f":"IF(ISERROR(U147*$D147/1000),0,U147*$D147/1000)","v":0},null,{"$f":"IF(ISERROR(W147*$D147/1000),0,W147*$D147/1000)","v":0},null,{"$f":"IF(ISERROR(Y147*$D147/1000),0,Y147*$D147/1000)","v":0},null,{"$f":"IF(ISERROR(AA147*$D147/1000),0,AA147*$D147/1000)","v":0},null,{"$f":"IF(ISERROR(AC147*$D147/1000),0,AC147*$D147/1000)","v":0},null,{"$f":"IF(ISERROR(AE147*$D147/1000),0,AE147*$D147/1000)","v":0},null,0,null,0,null,0,null,0,null,0,null,0,null,null,null,null,null,null,"",null,0,null,0,null,0,null,0,null,0,null,0,null,0,null,0,null,0,null,0,null,0,null,0,null,0,null,0,null,0,null,0,null,0,null,0,null,null,null,null,null,null,"",null,0,null,0,null,{"$f":"IF(ISERROR(CU147*$CL147/1000),0,CU147*$CL147/1000)","v":0},null,{"$f":"IF(ISERROR(CW147*$CL147/1000),0,CW147*$CL147/1000)","v":0},null,{"$f":"IF(ISERROR(CY147*$CL147/1000),0,CY147*$CL147/1000)","v":0},null,{"$f":"IF(ISERROR(DA147*$CL147/1000),0,DA147*$CL147/1000)","v":0},null,{"$f":"IF(ISERROR(DC147*$CL147/1000),0,DC147*$CL147/1000)","v":0},null,{"$f":"IF(ISERROR(DE147*$CL147/1000),0,DE147*$CL147/1000)","v":0},null,{"$f":"IF(ISERROR(DG147*$CL147/1000),0,DG147*$CL147/1000)","v":0},null,{"$f":"IF(ISERROR(DI147*$CL147/1000),0,DI147*$CL147/1000)","v":0},null,{"$f":"IF(ISERROR(DK147*$CL147/1000),0,DK147*$CL147/1000)","v":0},null,{"$f":"IF(ISERROR(DM147*$CL147/1000),0,DM147*$CL147/1000)","v":0},null,0,null,0,null,0,null,0,null,0,null,{"$f":"IF(ISERROR(DY147*$CL147/1000),0,DY147*$CL147/1000)","v":0}]
[null,null,null,null,null,null,null,"",null,0,null,0,null,{"$f":"IF(ISERROR(M148*$D148/1000),0,M148*$D148/1000)","v":0},null,{"$f":"IF(ISERROR(O148*$D148/1000),0,O148*$D148/1000)","v":0},null,{"$f":"IF(ISERROR(Q148*$D148/1000),0,Q148*$D148/1000)","v":0},null,{"$f":"IF(ISERROR(S148*$D148/1000),0,S148*$D148/1000)","v":0},null,{"$f":"IF(ISERROR(U148*$D148/1000),0,U148*$D148/1000)","v":0},null,{"$f":"IF(ISERROR(W148*$D148/1000),0,W148*$D148/1000)","v":0},null,{"$f":"IF(ISERROR(Y148*$D148/1000),0,Y148*$D148/1000)","v":0},null,{"$f":"IF(ISERROR(AA148*$D148/1000),0,AA148*$D148/1000)","v":0},null,{"$f":"IF(ISERROR(AC148*$D148/1000),0,AC148*$D148/1000)","v":0},null,{"$f":"IF(ISERROR(AE148*$D148/1000),0,AE148*$D148/1000)","v":0},null,0,null,0,null,0,null,0,null,0,null,0,null,null,null,null,null,null,"",null,0,null,0,null,0,null,0,null,0,null,0,null,0,null,0,null,0,null,0,null,0,null,0,null,0,null,0,null,0,null,0,null,0,null,0,null,null,null,null,null,null,"",null,0,null,0,null,{"$f":"IF(ISERROR(CU148*$CL148/1000),0,CU148*$CL148/1000)","v":0},null,{"$f":"IF(ISERROR(CW148*$CL148/1000),0,CW148*$CL148/1000)","v":0},null,{"$f":"IF(ISERROR(CY148*$CL148/1000),0,CY148*$CL148/1000)","v":0},null,{"$f":"IF(ISERROR(DA148*$CL148/1000),0,DA148*$CL148/1000)","v":0},null,{"$f":"IF(ISERROR(DC148*$CL148/1000),0,DC148*$CL148/1000)","v":0},null,{"$f":"IF(ISERROR(DE148*$CL148/1000),0,DE148*$CL148/1000)","v":0},null,{"$f":"IF(ISERROR(DG148*$CL148/1000),0,DG148*$CL148/1000)","v":0},null,{"$f":"IF(ISERROR(DI148*$CL148/1000),0,DI148*$CL148/1000)","v":0},null,{"$f":"IF(ISERROR(DK148*$CL148/1000),0,DK148*$CL148/1000)","v":0},null,{"$f":"IF(ISERROR(DM148*$CL148/1000),0,DM148*$CL148/1000)","v":0},null,0,null,0,null,0,null,0,null,0,null,{"$f":"IF(ISERROR(DY148*$CL148/1000),0,DY148*$CL148/1000)","v":0}]
[null,null,null,null,null,null,null,"",null,0,null,0,null,{"$f":"IF(ISERROR(M149*$D149/1000),0,M149*$D149/1000)","v":0},null,{"$f":"IF(ISERROR(O149*$D149/1000),0,O149*$D149/1000)","v":0},null,{"$f":"IF(ISERROR(Q149*$D149/1000),0,Q149*$D149/1000)","v":0},null,{"$f":"IF(ISERROR(S149*$D149/1000),0,S149*$D149/1000)","v":0},null,{"$f":"IF(ISERROR(U149*$D149/1000),0,U149*$D149/1000)","v":0},null,{"$f":"IF(ISERROR(W149*$D149/1000),0,W149*$D149/1000)","v":0},null,{"$f":"IF(ISERROR(Y149*$D149/1000),0,Y149*$D149/1000)","v":0},null,{"$f":"IF(ISERROR(AA149*$D149/1000),0,AA149*$D149/1000)","v":0},null,{"$f":"IF(ISERROR(AC149*$D149/1000),0,AC149*$D149/1000)","v":0},null,{"$f":"IF(ISERROR(AE149*$D149/1000),0,AE149*$D149/1000)","v":0},null,0,null,0,null,0,null,0,null,0,null,0,null,null,null,null,null,null,"",null,0,null,0,null,0,null,0,null,0,null,0,null,0,null,0,null,0,null,0,null,0,null,0,null,0,null,0,null,0,null,0,null,0,null,0,null,null,null,null,null,null,"",null,0,null,0,null,{"$f":"IF(ISERROR(CU149*$CL149/1000),0,CU149*$CL149/1000)","v":0},null,{"$f":"IF(ISERROR(CW149*$CL149/1000),0,CW149*$CL149/1000)","v":0},null,{"$f":"IF(ISERROR(CY149*$CL149/1000),0,CY149*$CL149/1000)","v":0},null,{"$f":"IF(ISERROR(DA149*$CL149/1000),0,DA149*$CL149/1000)","v":0},null,{"$f":"IF(ISERROR(DC149*$CL149/1000),0,DC149*$CL149/1000)","v":0},null,{"$f":"IF(ISERROR(DE149*$CL149/1000),0,DE149*$CL149/1000)","v":0},null,{"$f":"IF(ISERROR(DG149*$CL149/1000),0,DG149*$CL149/1000)","v":0},null,{"$f":"IF(ISERROR(DI149*$CL149/1000),0,DI149*$CL149/1000)","v":0},null,{"$f":"IF(ISERROR(DK149*$CL149/1000),0,DK149*$CL149/1000)","v":0},null,{"$f":"IF(ISERROR(DM149*$CL149/1000),0,DM149*$CL149/1000)","v":0},null,0,null,0,null,0,null,0,null,0,null,{"$f":"IF(ISERROR(DY149*$CL149/1000),0,DY149*$CL149/1000)","v":0}]
[null,null,null,null,null,null,null,"",null,0,null,0,null,{"$f":"IF(ISERROR(M150*$D150/1000),0,M150*$D150/1000)","v":0},null,{"$f":"IF(ISERROR(O150*$D150/1000),0,O150*$D150/1000)","v":0},null,{"$f":"IF(ISERROR(Q150*$D150/1000),0,Q150*$D150/1000)","v":0},null,{"$f":"IF(ISERROR(S150*$D150/1000),0,S150*$D150/1000)","v":0},null,{"$f":"IF(ISERROR(U150*$D150/1000),0,U150*$D150/1000)","v":0},null,{"$f":"IF(ISERROR(W150*$D150/1000),0,W150*$D150/1000)","v":0},null,{"$f":"IF(ISERROR(Y150*$D150/1000),0,Y150*$D150/1000)","v":0},null,{"$f":"IF(ISERROR(AA150*$D150/1000),0,AA150*$D150/1000)","v":0},null,{"$f":"IF(ISERROR(AC150*$D150/1000),0,AC150*$D150/1000)","v":0},null,{"$f":"IF(ISERROR(AE150*$D150/1000),0,AE150*$D150/1000)","v":0},null,0,null,0,null,0,null,0,null,0,null,0,null,null,null,null,null,null,"",null,0,null,0,null,0,null,0,null,0,null,0,null,0,null,0,null,0,null,0,null,0,null,0,null,0,null,0,null,0,null,0,null,0,null,0,null,null,null,null,null,null,"",null,0,null,0,null,{"$f":"IF(ISERROR(CU150*$CL150/1000),0,CU150*$CL150/1000)","v":0},null,{"$f":"IF(ISERROR(CW150*$CL150/1000),0,CW150*$CL150/1000)","v":0},null,{"$f":"IF(ISERROR(CY150*$CL150/1000),0,CY150*$CL150/1000)","v":0},null,{"$f":"IF(ISERROR(DA150*$CL150/1000),0,DA150*$CL150/1000)","v":0},null,{"$f":"IF(ISERROR(DC150*$CL150/1000),0,DC150*$CL150/1000)","v":0},null,{"$f":"IF(ISERROR(DE150*$CL150/1000),0,DE150*$CL150/1000)","v":0},null,{"$f":"IF(ISERROR(DG150*$CL150/1000),0,DG150*$CL150/1000)","v":0},null,{"$f":"IF(ISERROR(DI150*$CL150/1000),0,DI150*$CL150/1000)","v":0},null,{"$f":"IF(ISERROR(DK150*$CL150/1000),0,DK150*$CL150/1000)","v":0},null,{"$f":"IF(ISERROR(DM150*$CL150/1000),0,DM150*$CL150/1000)","v":0},null,0,null,0,null,0,null,0,null,0,null,{"$f":"IF(ISERROR(DY150*$CL150/1000),0,DY150*$CL150/1000)","v":0}]
[null,null,null,null,null,null,null,"",null,0,null,0,null,{"$f":"IF(ISERROR(M151*$D151/1000),0,M151*$D151/1000)","v":0},null,{"$f":"IF(ISERROR(O151*$D151/1000),0,O151*$D151/1000)","v":0},null,{"$f":"IF(ISERROR(Q151*$D151/1000),0,Q151*$D151/1000)","v":0},null,{"$f":"IF(ISERROR(S151*$D151/1000),0,S151*$D151/1000)","v":0},null,{"$f":"IF(ISERROR(U151*$D151/1000),0,U151*$D151/1000)","v":0},null,{"$f":"IF(ISERROR(W151*$D151/1000),0,W151*$D151/1000)","v":0},null,{"$f":"IF(ISERROR(Y151*$D151/1000),0,Y151*$D151/1000)","v":0},null,{"$f":"IF(ISERROR(AA151*$D151/1000),0,AA151*$D151/1000)","v":0},null,{"$f":"IF(ISERROR(AC151*$D151/1000),0,AC151*$D151/1000)","v":0},null,{"$f":"IF(ISERROR(AE151*$D151/1000),0,AE151*$D151/1000)","v":0},null,0,null,0,null,0,null,0,null,0,null,0,null,null,null,null,null,null,"",null,0,null,0,null,0,null,0,null,0,null,0,null,0,null,0,null,0,null,0,null,0,null,0,null,0,null,0,null,0,null,0,null,0,null,0,null,null,null,null,null,null,"",null,0,null,0,null,{"$f":"IF(ISERROR(CU151*$CL151/1000),0,CU151*$CL151/1000)","v":0},null,{"$f":"IF(ISERROR(CW151*$CL151/1000),0,CW151*$CL151/1000)","v":0},null,{"$f":"IF(ISERROR(CY151*$CL151/1000),0,CY151*$CL151/1000)","v":0},null,{"$f":"IF(ISERROR(DA151*$CL151/1000),0,DA151*$CL151/1000)","v":0},null,{"$f":"IF(ISERROR(DC151*$CL151/1000),0,DC151*$CL151/1000)","v":0},null,{"$f":"IF(ISERROR(DE151*$CL151/1000),0,DE151*$CL151/1000)","v":0},null,{"$f":"IF(ISERROR(DG151*$CL151/1000),0,DG151*$CL151/1000)","v":0},null,{"$f":"IF(ISERROR(DI151*$CL151/1000),0,DI151*$CL151/1000)","v":0},null,{"$f":"IF(ISERROR(DK151*$CL151/1000),0,DK151*$CL151/1000)","v":0},null,{"$f":"IF(ISERROR(DM151*$CL151/1000),0,DM151*$CL151/1000)","v":0},null,0,null,0,null,0,null,0,null,0,null,{"$f":"IF(ISERROR(DY151*$CL151/1000),0,DY151*$CL151/1000)","v":0}]
[null,null,null,null,null,null,null,"",null,0,null,0,null,{"$f":"IF(ISERROR(M152*$D152/1000),0,M152*$D152/1000)","v":0},null,{"$f":"IF(ISERROR(O152*$D152/1000),0,O152*$D152/1000)","v":0},null,{"$f":"IF(ISERROR(Q152*$D152/1000),0,Q152*$D152/1000)","v":0},null,{"$f":"IF(ISERROR(S152*$D152/1000),0,S152*$D152/1000)","v":0},null,{"$f":"IF(ISERROR(U152*$D152/1000),0,U152*$D152/1000)","v":0},null,{"$f":"IF(ISERROR(W152*$D152/1000),0,W152*$D152/1000)","v":0},null,{"$f":"IF(ISERROR(Y152*$D152/1000),0,Y152*$D152/1000)","v":0},null,{"$f":"IF(ISERROR(AA152*$D152/1000),0,AA152*$D152/1000)","v":0},null,{"$f":"IF(ISERROR(AC152*$D152/1000),0,AC152*$D152/1000)","v":0},null,{"$f":"IF(ISERROR(AE152*$D152/1000),0,AE152*$D152/1000)","v":0},null,0,null,0,null,0,null,0,null,0,null,0,null,null,null,null,null,null,"",null,0,null,0,null,0,null,0,null,0,null,0,null,0,null,0,null,0,null,0,null,0,null,0,null,0,null,0,null,0,null,0,null,0,null,0,null,null,null,null,null,null,"",null,0,null,0,null,{"$f":"IF(ISERROR(CU152*$CL152/1000),0,CU152*$CL152/1000)","v":0},null,{"$f":"IF(ISERROR(CW152*$CL152/1000),0,CW152*$CL152/1000)","v":0},null,{"$f":"IF(ISERROR(CY152*$CL152/1000),0,CY152*$CL152/1000)","v":0},null,{"$f":"IF(ISERROR(DA152*$CL152/1000),0,DA152*$CL152/1000)","v":0},null,{"$f":"IF(ISERROR(DC152*$CL152/1000),0,DC152*$CL152/1000)","v":0},null,{"$f":"IF(ISERROR(DE152*$CL152/1000),0,DE152*$CL152/1000)","v":0},null,{"$f":"IF(ISERROR(DG152*$CL152/1000),0,DG152*$CL152/1000)","v":0},null,{"$f":"IF(ISERROR(DI152*$CL152/1000),0,DI152*$CL152/1000)","v":0},null,{"$f":"IF(ISERROR(DK152*$CL152/1000),0,DK152*$CL152/1000)","v":0},null,{"$f":"IF(ISERROR(DM152*$CL152/1000),0,DM152*$CL152/1000)","v":0},null,0,null,0,null,0,null,0,null,0,null,{"$f":"IF(ISERROR(DY152*$CL152/1000),0,DY152*$CL152/1000)","v":0}]
[null,null,null,null,null,null,null,"",null,0,null,0,null,{"$f":"IF(ISERROR(M153*$D153/1000),0,M153*$D153/1000)","v":0},null,{"$f":"IF(ISERROR(O153*$D153/1000),0,O153*$D153/1000)","v":0},null,{"$f":"IF(ISERROR(Q153*$D153/1000),0,Q153*$D153/1000)","v":0},null,{"$f":"IF(ISERROR(S153*$D153/1000),0,S153*$D153/1000)","v":0},null,{"$f":"IF(ISERROR(U153*$D153/1000),0,U153*$D153/1000)","v":0},null,{"$f":"IF(ISERROR(W153*$D153/1000),0,W153*$D153/1000)","v":0},null,{"$f":"IF(ISERROR(Y153*$D153/1000),0,Y153*$D153/1000)","v":0},null,{"$f":"IF(ISERROR(AA153*$D153/1000),0,AA153*$D153/1000)","v":0},null,{"$f":"IF(ISERROR(AC153*$D153/1000),0,AC153*$D153/1000)","v":0},null,{"$f":"IF(ISERROR(AE153*$D153/1000),0,AE153*$D153/1000)","v":0},null,0,null,0,null,0,null,0,null,0,null,0,null,null,null,null,null,null,"",null,0,null,0,null,0,null,0,null,0,null,0,null,0,null,0,null,0,null,0,null,0,null,0,null,0,null,0,null,0,null,0,null,0,null,0,null,null,null,null,null,null,"",null,0,null,0,null,{"$f":"IF(ISERROR(CU153*$CL153/1000),0,CU153*$CL153/1000)","v":0},null,{"$f":"IF(ISERROR(CW153*$CL153/1000),0,CW153*$CL153/1000)","v":0},null,{"$f":"IF(ISERROR(CY153*$CL153/1000),0,CY153*$CL153/1000)","v":0},null,{"$f":"IF(ISERROR(DA153*$CL153/1000),0,DA153*$CL153/1000)","v":0},null,{"$f":"IF(ISERROR(DC153*$CL153/1000),0,DC153*$CL153/1000)","v":0},null,{"$f":"IF(ISERROR(DE153*$CL153/1000),0,DE153*$CL153/1000)","v":0},null,{"$f":"IF(ISERROR(DG153*$CL153/1000),0,DG153*$CL153/1000)","v":0},null,{"$f":"IF(ISERROR(DI153*$CL153/1000),0,DI153*$CL153/1000)","v":0},null,{"$f":"IF(ISERROR(DK153*$CL153/1000),0,DK153*$CL153/1000)","v":0},null,{"$f":"IF(ISERROR(DM153*$CL153/1000),0,DM153*$CL153/1000)","v":0},null,0,null,0,null,0,null,0,null,0,null,{"$f":"IF(ISERROR(DY153*$CL153/1000),0,DY153*$CL153/1000)","v":0}]
[null,null,null,null,null,null,null,"",null,0,null,0,null,{"$f":"IF(ISERROR(M154*$D154/1000),0,M154*$D154/1000)","v":0},null,{"$f":"IF(ISERROR(O154*$D154/1000),0,O154*$D154/1000)","v":0},null,{"$f":"IF(ISERROR(Q154*$D154/1000),0,Q154*$D154/1000)","v":0},null,{"$f":"IF(ISERROR(S154*$D154/1000),0,S154*$D154/1000)","v":0},null,{"$f":"IF(ISERROR(U154*$D154/1000),0,U154*$D154/1000)","v":0},null,{"$f":"IF(ISERROR(W154*$D154/1000),0,W154*$D154/1000)","v":0},null,{"$f":"IF(ISERROR(Y154*$D154/1000),0,Y154*$D154/1000)","v":0},null,{"$f":"IF(ISERROR(AA154*$D154/1000),0,AA154*$D154/1000)","v":0},null,{"$f":"IF(ISERROR(AC154*$D154/1000),0,AC154*$D154/1000)","v":0},null,{"$f":"IF(ISERROR(AE154*$D154/1000),0,AE154*$D154/1000)","v":0},null,0,null,0,null,0,null,0,null,0,null,0,null,null,null,null,null,null,"",null,0,null,0,null,0,null,0,null,0,null,0,null,0,null,0,null,0,null,0,null,0,null,0,null,0,null,0,null,0,null,0,null,0,null,0,null,null,null,null,null,null,"",null,0,null,0,null,{"$f":"IF(ISERROR(CU154*$CL154/1000),0,CU154*$CL154/1000)","v":0},null,{"$f":"IF(ISERROR(CW154*$CL154/1000),0,CW154*$CL154/1000)","v":0},null,{"$f":"IF(ISERROR(CY154*$CL154/1000),0,CY154*$CL154/1000)","v":0},null,{"$f":"IF(ISERROR(DA154*$CL154/1000),0,DA154*$CL154/1000)","v":0},null,{"$f":"IF(ISERROR(DC154*$CL154/1000),0,DC154*$CL154/1000)","v":0},null,{"$f":"IF(ISERROR(DE154*$CL154/1000),0,DE154*$CL154/1000)","v":0},null,{"$f":"IF(ISERROR(DG154*$CL154/1000),0,DG154*$CL154/1000)","v":0},null,{"$f":"IF(ISERROR(DI154*$CL154/1000),0,DI154*$CL154/1000)","v":0},null,{"$f":"IF(ISERROR(DK154*$CL154/1000),0,DK154*$CL154/1000)","v":0},null,{"$f":"IF(ISERROR(DM154*$CL154/1000),0,DM154*$CL154/1000)","v":0},null,0,null,0,null,0,null,0,null,0,null,{"$f":"IF(ISERROR(DY154*$CL154/1000),0,DY154*$CL154/1000)","v":0}]
[null,null,null,null,null,null,null,"",null,0,null,0,null,{"$f":"IF(ISERROR(M155*$D155/1000),0,M155*$D155/1000)","v":0},null,{"$f":"IF(ISERROR(O155*$D155/1000),0,O155*$D155/1000)","v":0},null,{"$f":"IF(ISERROR(Q155*$D155/1000),0,Q155*$D155/1000)","v":0},null,{"$f":"IF(ISERROR(S155*$D155/1000),0,S155*$D155/1000)","v":0},null,{"$f":"IF(ISERROR(U155*$D155/1000),0,U155*$D155/1000)","v":0},null,{"$f":"IF(ISERROR(W155*$D155/1000),0,W155*$D155/1000)","v":0},null,{"$f":"IF(ISERROR(Y155*$D155/1000),0,Y155*$D155/1000)","v":0},null,{"$f":"IF(ISERROR(AA155*$D155/1000),0,AA155*$D155/1000)","v":0},null,{"$f":"IF(ISERROR(AC155*$D155/1000),0,AC155*$D155/1000)","v":0},null,{"$f":"IF(ISERROR(AE155*$D155/1000),0,AE155*$D155/1000)","v":0},null,0,null,0,null,0,null,0,null,0,null,0,null,null,null,null,null,null,"",null,0,null,0,null,0,null,0,null,0,null,0,null,0,null,0,null,0,null,0,null,0,null,0,null,0,null,0,null,0,null,0,null,0,null,0,null,null,null,null,null,null,"",null,0,null,0,null,{"$f":"IF(ISERROR(CU155*$CL155/1000),0,CU155*$CL155/1000)","v":0},null,{"$f":"IF(ISERROR(CW155*$CL155/1000),0,CW155*$CL155/1000)","v":0},null,{"$f":"IF(ISERROR(CY155*$CL155/1000),0,CY155*$CL155/1000)","v":0},null,{"$f":"IF(ISERROR(DA155*$CL155/1000),0,DA155*$CL155/1000)","v":0},null,{"$f":"IF(ISERROR(DC155*$CL155/1000),0,DC155*$CL155/1000)","v":0},null,{"$f":"IF(ISERROR(DE155*$CL155/1000),0,DE155*$CL155/1000)","v":0},null,{"$f":"IF(ISERROR(DG155*$CL155/1000),0,DG155*$CL155/1000)","v":0},null,{"$f":"IF(ISERROR(DI155*$CL155/1000),0,DI155*$CL155/1000)","v":0},null,{"$f":"IF(ISERROR(DK155*$CL155/1000),0,DK155*$CL155/1000)","v":0},null,{"$f":"IF(ISERROR(DM155*$CL155/1000),0,DM155*$CL155/1000)","v":0},null,0,null,0,null,0,null,0,null,0,null,{"$f":"IF(ISERROR(DY155*$CL155/1000),0,DY155*$CL155/1000)","v":0}]
[null,null,null,null,null,null,null,"",null,0,null,0,null,{"$f":"IF(ISERROR(M156*$D156/1000),0,M156*$D156/1000)","v":0},null,{"$f":"IF(ISERROR(O156*$D156/1000),0,O156*$D156/1000)","v":0},null,{"$f":"IF(ISERROR(Q156*$D156/1000),0,Q156*$D156/1000)","v":0},null,{"$f":"IF(ISERROR(S156*$D156/1000),0,S156*$D156/1000)","v":0},null,{"$f":"IF(ISERROR(U156*$D156/1000),0,U156*$D156/1000)","v":0},null,{"$f":"IF(ISERROR(W156*$D156/1000),0,W156*$D156/1000)","v":0},null,{"$f":"IF(ISERROR(Y156*$D156/1000),0,Y156*$D156/1000)","v":0},null,{"$f":"IF(ISERROR(AA156*$D156/1000),0,AA156*$D156/1000)","v":0},null,{"$f":"IF(ISERROR(AC156*$D156/1000),0,AC156*$D156/1000)","v":0},null,{"$f":"IF(ISERROR(AE156*$D156/1000),0,AE156*$D156/1000)","v":0},null,0,null,0,null,0,null,0,null,0,null,0,null,null,null,null,null,null,"",null,0,null,0,null,0,null,0,null,0,null,0,null,0,null,0,null,0,null,0,null,0,null,0,null,0,null,0,null,0,null,0,null,0,null,0,null,null,null,null,null,null,"",null,0,null,0,null,{"$f":"IF(ISERROR(CU156*$CL156/1000),0,CU156*$CL156/1000)","v":0},null,{"$f":"IF(ISERROR(CW156*$CL156/1000),0,CW156*$CL156/1000)","v":0},null,{"$f":"IF(ISERROR(CY156*$CL156/1000),0,CY156*$CL156/1000)","v":0},null,{"$f":"IF(ISERROR(DA156*$CL156/1000),0,DA156*$CL156/1000)","v":0},null,{"$f":"IF(ISERROR(DC156*$CL156/1000),0,DC156*$CL156/1000)","v":0},null,{"$f":"IF(ISERROR(DE156*$CL156/1000),0,DE156*$CL156/1000)","v":0},null,{"$f":"IF(ISERROR(DG156*$CL156/1000),0,DG156*$CL156/1000)","v":0},null,{"$f":"IF(ISERROR(DI156*$CL156/1000),0,DI156*$CL156/1000)","v":0},null,{"$f":"IF(ISERROR(DK156*$CL156/1000),0,DK156*$CL156/1000)","v":0},null,{"$f":"IF(ISERROR(DM156*$CL156/1000),0,DM156*$CL156/1000)","v":0},null,0,null,0,null,0,null,0,null,0,null,{"$f":"IF(ISERROR(DY156*$CL156/1000),0,DY156*$CL156/1000)","v":0}]
[null,null,null,null,null,null,null,"",null,0,null,0,null,{"$f":"IF(ISERROR(M157*$D157/1000),0,M157*$D157/1000)","v":0},null,{"$f":"IF(ISERROR(O157*$D157/1000),0,O157*$D157/1000)","v":0},null,{"$f":"IF(ISERROR(Q157*$D157/1000),0,Q157*$D157/1000)","v":0},null,{"$f":"IF(ISERROR(S157*$D157/1000),0,S157*$D157/1000)","v":0},null,{"$f":"IF(ISERROR(U157*$D157/1000),0,U157*$D157/1000)","v":0},null,{"$f":"IF(ISERROR(W157*$D157/1000),0,W157*$D157/1000)","v":0},null,{"$f":"IF(ISERROR(Y157*$D157/1000),0,Y157*$D157/1000)","v":0},null,{"$f":"IF(ISERROR(AA157*$D157/1000),0,AA157*$D157/1000)","v":0},null,{"$f":"IF(ISERROR(AC157*$D157/1000),0,AC157*$D157/1000)","v":0},null,{"$f":"IF(ISERROR(AE157*$D157/1000),0,AE157*$D157/1000)","v":0},null,0,null,0,null,0,null,0,null,0,null,0,null,null,null,null,null,null,"",null,0,null,0,null,0,null,0,null,0,null,0,null,0,null,0,null,0,null,0,null,0,null,0,null,0,null,0,null,0,null,0,null,0,null,0,null,null,null,null,null,null,"",null,0,null,0,null,{"$f":"IF(ISERROR(CU157*$CL157/1000),0,CU157*$CL157/1000)","v":0},null,{"$f":"IF(ISERROR(CW157*$CL157/1000),0,CW157*$CL157/1000)","v":0},null,{"$f":"IF(ISERROR(CY157*$CL157/1000),0,CY157*$CL157/1000)","v":0},null,{"$f":"IF(ISERROR(DA157*$CL157/1000),0,DA157*$CL157/1000)","v":0},null,{"$f":"IF(ISERROR(DC157*$CL157/1000),0,DC157*$CL157/1000)","v":0},null,{"$f":"IF(ISERROR(DE157*$CL157/1000),0,DE157*$CL157/1000)","v":0},null,{"$f":"IF(ISERROR(DG157*$CL157/1000),0,DG157*$CL157/1000)","v":0},null,{"$f":"IF(ISERROR(DI157*$CL157/1000),0,DI157*$CL157/1000)","v":0},null,{"$f":"IF(ISERROR(DK157*$CL157/1000),0,DK157*$CL157/1000)","v":0},null,{"$f":"IF(ISERROR(DM157*$CL157/1000),0,DM157*$CL157/1000)","v":0},null,0,null,0,null,0,null,0,null,0,null,{"$f":"IF(ISERROR(DY157*$CL157/1000),0,DY157*$CL157/1000)","v":0}]
[null,null,null,null,null,null,null,"",null,0,null,0,null,{"$f":"IF(ISERROR(M158*$D158/1000),0,M158*$D158/1000)","v":0},null,{"$f":"IF(ISERROR(O158*$D158/1000),0,O158*$D158/1000)","v":0},null,{"$f":"IF(ISERROR(Q158*$D158/1000),0,Q158*$D158/1000)","v":0},null,{"$f":"IF(ISERROR(S158*$D158/1000),0,S158*$D158/1000)","v":0},null,{"$f":"IF(ISERROR(U158*$D158/1000),0,U158*$D158/1000)","v":0},null,{"$f":"IF(ISERROR(W158*$D158/1000),0,W158*$D158/1000)","v":0},null,{"$f":"IF(ISERROR(Y158*$D158/1000),0,Y158*$D158/1000)","v":0},null,{"$f":"IF(ISERROR(AA158*$D158/1000),0,AA158*$D158/1000)","v":0},null,{"$f":"IF(ISERROR(AC158*$D158/1000),0,AC158*$D158/1000)","v":0},null,{"$f":"IF(ISERROR(AE158*$D158/1000),0,AE158*$D158/1000)","v":0},null,0,null,0,null,0,null,0,null,0,null,0,null,null,null,null,null,null,"",null,0,null,0,null,0,null,0,null,0,null,0,null,0,null,0,null,0,null,0,null,0,null,0,null,0,null,0,null,0,null,0,null,0,null,0,null,null,null,null,null,null,"",null,0,null,0,null,{"$f":"IF(ISERROR(CU158*$CL158/1000),0,CU158*$CL158/1000)","v":0},null,{"$f":"IF(ISERROR(CW158*$CL158/1000),0,CW158*$CL158/1000)","v":0},null,{"$f":"IF(ISERROR(CY158*$CL158/1000),0,CY158*$CL158/1000)","v":0},null,{"$f":"IF(ISERROR(DA158*$CL158/1000),0,DA158*$CL158/1000)","v":0},null,{"$f":"IF(ISERROR(DC158*$CL158/1000),0,DC158*$CL158/1000)","v":0},null,{"$f":"IF(ISERROR(DE158*$CL158/1000),0,DE158*$CL158/1000)","v":0},null,{"$f":"IF(ISERROR(DG158*$CL158/1000),0,DG158*$CL158/1000)","v":0},null,{"$f":"IF(ISERROR(DI158*$CL158/1000),0,DI158*$CL158/1000)","v":0},null,{"$f":"IF(ISERROR(DK158*$CL158/1000),0,DK158*$CL158/1000)","v":0},null,{"$f":"IF(ISERROR(DM158*$CL158/1000),0,DM158*$CL158/1000)","v":0},null,0,null,0,null,0,null,0,null,0,null,{"$f":"IF(ISERROR(DY158*$CL158/1000),0,DY158*$CL158/1000)","v":0}]
[null,null,null,null,null,null,null,"",null,0,null,0,null,{"$f":"IF(ISERROR(M159*$D159/1000),0,M159*$D159/1000)","v":0},null,{"$f":"IF(ISERROR(O159*$D159/1000),0,O159*$D159/1000)","v":0},null,{"$f":"IF(ISERROR(Q159*$D159/1000),0,Q159*$D159/1000)","v":0},null,{"$f":"IF(ISERROR(S159*$D159/1000),0,S159*$D159/1000)","v":0},null,{"$f":"IF(ISERROR(U159*$D159/1000),0,U159*$D159/1000)","v":0},null,{"$f":"IF(ISERROR(W159*$D159/1000),0,W159*$D159/1000)","v":0},null,{"$f":"IF(ISERROR(Y159*$D159/1000),0,Y159*$D159/1000)","v":0},null,{"$f":"IF(ISERROR(AA159*$D159/1000),0,AA159*$D159/1000)","v":0},null,{"$f":"IF(ISERROR(AC159*$D159/1000),0,AC159*$D159/1000)","v":0},null,{"$f":"IF(ISERROR(AE159*$D159/1000),0,AE159*$D159/1000)","v":0},null,0,null,0,null,0,null,0,null,0,null,0,null,null,null,null,null,null,"",null,0,null,0,null,0,null,0,null,0,null,0,null,0,null,0,null,0,null,0,null,0,null,0,null,0,null,0,null,0,null,0,null,0,null,0,null,null,null,null,null,null,"",null,0,null,0,null,{"$f":"IF(ISERROR(CU159*$CL159/1000),0,CU159*$CL159/1000)","v":0},null,{"$f":"IF(ISERROR(CW159*$CL159/1000),0,CW159*$CL159/1000)","v":0},null,{"$f":"IF(ISERROR(CY159*$CL159/1000),0,CY159*$CL159/1000)","v":0},null,{"$f":"IF(ISERROR(DA159*$CL159/1000),0,DA159*$CL159/1000)","v":0},null,{"$f":"IF(ISERROR(DC159*$CL159/1000),0,DC159*$CL159/1000)","v":0},null,{"$f":"IF(ISERROR(DE159*$CL159/1000),0,DE159*$CL159/1000)","v":0},null,{"$f":"IF(ISERROR(DG159*$CL159/1000),0,DG159*$CL159/1000)","v":0},null,{"$f":"IF(ISERROR(DI159*$CL159/1000),0,DI159*$CL159/1000)","v":0},null,{"$f":"IF(ISERROR(DK159*$CL159/1000),0,DK159*$CL159/1000)","v":0},null,{"$f":"IF(ISERROR(DM159*$CL159/1000),0,DM159*$CL159/1000)","v":0},null,0,null,0,null,0,null,0,null,0,null,{"$f":"IF(ISERROR(DY159*$CL159/1000),0,DY159*$CL159/1000)","v":0}]
[null,null,null,null,null,null,null,"",null,0,null,0,null,{"$f":"IF(ISERROR(M160*$D160/1000),0,M160*$D160/1000)","v":0},null,{"$f":"IF(ISERROR(O160*$D160/1000),0,O160*$D160/1000)","v":0},null,{"$f":"IF(ISERROR(Q160*$D160/1000),0,Q160*$D160/1000)","v":0},null,{"$f":"IF(ISERROR(S160*$D160/1000),0,S160*$D160/1000)","v":0},null,{"$f":"IF(ISERROR(U160*$D160/1000),0,U160*$D160/1000)","v":0},null,{"$f":"IF(ISERROR(W160*$D160/1000),0,W160*$D160/1000)","v":0},null,{"$f":"IF(ISERROR(Y160*$D160/1000),0,Y160*$D160/1000)","v":0},null,{"$f":"IF(ISERROR(AA160*$D160/1000),0,AA160*$D160/1000)","v":0},null,{"$f":"IF(ISERROR(AC160*$D160/1000),0,AC160*$D160/1000)","v":0},null,{"$f":"IF(ISERROR(AE160*$D160/1000),0,AE160*$D160/1000)","v":0},null,0,null,0,null,0,null,0,null,0,null,0,null,null,null,null,null,null,"",null,0,null,0,null,0,null,0,null,0,null,0,null,0,null,0,null,0,null,0,null,0,null,0,null,0,null,0,null,0,null,0,null,0,null,0,null,null,null,null,null,null,"",null,0,null,0,null,{"$f":"IF(ISERROR(CU160*$CL160/1000),0,CU160*$CL160/1000)","v":0},null,{"$f":"IF(ISERROR(CW160*$CL160/1000),0,CW160*$CL160/1000)","v":0},null,{"$f":"IF(ISERROR(CY160*$CL160/1000),0,CY160*$CL160/1000)","v":0},null,{"$f":"IF(ISERROR(DA160*$CL160/1000),0,DA160*$CL160/1000)","v":0},null,{"$f":"IF(ISERROR(DC160*$CL160/1000),0,DC160*$CL160/1000)","v":0},null,{"$f":"IF(ISERROR(DE160*$CL160/1000),0,DE160*$CL160/1000)","v":0},null,{"$f":"IF(ISERROR(DG160*$CL160/1000),0,DG160*$CL160/1000)","v":0},null,{"$f":"IF(ISERROR(DI160*$CL160/1000),0,DI160*$CL160/1000)","v":0},null,{"$f":"IF(ISERROR(DK160*$CL160/1000),0,DK160*$CL160/1000)","v":0},null,{"$f":"IF(ISERROR(DM160*$CL160/1000),0,DM160*$CL160/1000)","v":0},null,0,null,0,null,0,null,0,null,0,null,{"$f":"IF(ISERROR(DY160*$CL160/1000),0,DY160*$CL160/1000)","v":0}]
[null,null,null,null,null,null,null,"",null,0,null,0,null,{"$f":"IF(ISERROR(M161*$D161/1000),0,M161*$D161/1000)","v":0},null,{"$f":"IF(ISERROR(O161*$D161/1000),0,O161*$D161/1000)","v":0},null,{"$f":"IF(ISERROR(Q161*$D161/1000),0,Q161*$D161/1000)","v":0},null,{"$f":"IF(ISERROR(S161*$D161/1000),0,S161*$D161/1000)","v":0},null,{"$f":"IF(ISERROR(U161*$D161/1000),0,U161*$D161/1000)","v":0},null,{"$f":"IF(ISERROR(W161*$D161/1000),0,W161*$D161/1000)","v":0},null,{"$f":"IF(ISERROR(Y161*$D161/1000),0,Y161*$D161/1000)","v":0},null,{"$f":"IF(ISERROR(AA161*$D161/1000),0,AA161*$D161/1000)","v":0},null,{"$f":"IF(ISERROR(AC161*$D161/1000),0,AC161*$D161/1000)","v":0},null,{"$f":"IF(ISERROR(AE161*$D161/1000),0,AE161*$D161/1000)","v":0},null,0,null,0,null,0,null,0,null,0,null,0,null,null,null,null,null,null,"",null,0,null,0,null,0,null,0,null,0,null,0,null,0,null,0,null,0,null,0,null,0,null,0,null,0,null,0,null,0,null,0,null,0,null,0,null,null,null,null,null,null,"",null,0,null,0,null,{"$f":"IF(ISERROR(CU161*$CL161/1000),0,CU161*$CL161/1000)","v":0},null,{"$f":"IF(ISERROR(CW161*$CL161/1000),0,CW161*$CL161/1000)","v":0},null,{"$f":"IF(ISERROR(CY161*$CL161/1000),0,CY161*$CL161/1000)","v":0},null,{"$f":"IF(ISERROR(DA161*$CL161/1000),0,DA161*$CL161/1000)","v":0},null,{"$f":"IF(ISERROR(DC161*$CL161/1000),0,DC161*$CL161/1000)","v":0},null,{"$f":"IF(ISERROR(DE161*$CL161/1000),0,DE161*$CL161/1000)","v":0},null,{"$f":"IF(ISERROR(DG161*$CL161/1000),0,DG161*$CL161/1000)","v":0},null,{"$f":"IF(ISERROR(DI161*$CL161/1000),0,DI161*$CL161/1000)","v":0},null,{"$f":"IF(ISERROR(DK161*$CL161/1000),0,DK161*$CL161/1000)","v":0},null,{"$f":"IF(ISERROR(DM161*$CL161/1000),0,DM161*$CL161/1000)","v":0},null,0,null,0,null,0,null,0,null,0,null,{"$f":"IF(ISERROR(DY161*$CL161/1000),0,DY161*$CL161/1000)","v":0}]
[null,null,null,null,null,null,null,"",null,0,null,0,null,{"$f":"IF(ISERROR(M162*$D162/1000),0,M162*$D162/1000)","v":0},null,{"$f":"IF(ISERROR(O162*$D162/1000),0,O162*$D162/1000)","v":0},null,{"$f":"IF(ISERROR(Q162*$D162/1000),0,Q162*$D162/1000)","v":0},null,{"$f":"IF(ISERROR(S162*$D162/1000),0,S162*$D162/1000)","v":0},null,{"$f":"IF(ISERROR(U162*$D162/1000),0,U162*$D162/1000)","v":0},null,{"$f":"IF(ISERROR(W162*$D162/1000),0,W162*$D162/1000)","v":0},null,{"$f":"IF(ISERROR(Y162*$D162/1000),0,Y162*$D162/1000)","v":0},null,{"$f":"IF(ISERROR(AA162*$D162/1000),0,AA162*$D162/1000)","v":0},null,{"$f":"IF(ISERROR(AC162*$D162/1000),0,AC162*$D162/1000)","v":0},null,{"$f":"IF(ISERROR(AE162*$D162/1000),0,AE162*$D162/1000)","v":0},null,0,null,0,null,0,null,0,null,0,null,0,null,null,null,null,null,null,"",null,0,null,0,null,0,null,0,null,0,null,0,null,0,null,0,null,0,null,0,null,0,null,0,null,0,null,0,null,0,null,0,null,0,null,0,null,null,null,null,null,null,"",null,0,null,0,null,{"$f":"IF(ISERROR(CU162*$CL162/1000),0,CU162*$CL162/1000)","v":0},null,{"$f":"IF(ISERROR(CW162*$CL162/1000),0,CW162*$CL162/1000)","v":0},null,{"$f":"IF(ISERROR(CY162*$CL162/1000),0,CY162*$CL162/1000)","v":0},null,{"$f":"IF(ISERROR(DA162*$CL162/1000),0,DA162*$CL162/1000)","v":0},null,{"$f":"IF(ISERROR(DC162*$CL162/1000),0,DC162*$CL162/1000)","v":0},null,{"$f":"IF(ISERROR(DE162*$CL162/1000),0,DE162*$CL162/1000)","v":0},null,{"$f":"IF(ISERROR(DG162*$CL162/1000),0,DG162*$CL162/1000)","v":0},null,{"$f":"IF(ISERROR(DI162*$CL162/1000),0,DI162*$CL162/1000)","v":0},null,{"$f":"IF(ISERROR(DK162*$CL162/1000),0,DK162*$CL162/1000)","v":0},null,{"$f":"IF(ISERROR(DM162*$CL162/1000),0,DM162*$CL162/1000)","v":0},null,0,null,0,null,0,null,0,null,0,null,{"$f":"IF(ISERROR(DY162*$CL162/1000),0,DY162*$CL162/1000)","v":0}]
[null,null,null,null,null,null,null,"",null,0,null,0,null,{"$f":"IF(ISERROR(M163*$D163/1000),0,M163*$D163/1000)","v":0},null,{"$f":"IF(ISERROR(O163*$D163/1000),0,O163*$D163/1000)","v":0},null,{"$f":"IF(ISERROR(Q163*$D163/1000),0,Q163*$D163/1000)","v":0},null,{"$f":"IF(ISERROR(S163*$D163/1000),0,S163*$D163/1000)","v":0},null,{"$f":"IF(ISERROR(U163*$D163/1000),0,U163*$D163/1000)","v":0},null,{"$f":"IF(ISERROR(W163*$D163/1000),0,W163*$D163/1000)","v":0},null,{"$f":"IF(ISERROR(Y163*$D163/1000),0,Y163*$D163/1000)","v":0},null,{"$f":"IF(ISERROR(AA163*$D163/1000),0,AA163*$D163/1000)","v":0},null,{"$f":"IF(ISERROR(AC163*$D163/1000),0,AC163*$D163/1000)","v":0},null,{"$f":"IF(ISERROR(AE163*$D163/1000),0,AE163*$D163/1000)","v":0},null,0,null,0,null,0,null,0,null,0,null,0,null,null,null,null,null,null,"",null,0,null,0,null,0,null,0,null,0,null,0,null,0,null,0,null,0,null,0,null,0,null,0,null,0,null,0,null,0,null,0,null,0,null,0,null,null,null,null,null,null,"",null,0,null,0,null,{"$f":"IF(ISERROR(CU163*$CL163/1000),0,CU163*$CL163/1000)","v":0},null,{"$f":"IF(ISERROR(CW163*$CL163/1000),0,CW163*$CL163/1000)","v":0},null,{"$f":"IF(ISERROR(CY163*$CL163/1000),0,CY163*$CL163/1000)","v":0},null,{"$f":"IF(ISERROR(DA163*$CL163/1000),0,DA163*$CL163/1000)","v":0},null,{"$f":"IF(ISERROR(DC163*$CL163/1000),0,DC163*$CL163/1000)","v":0},null,{"$f":"IF(ISERROR(DE163*$CL163/1000),0,DE163*$CL163/1000)","v":0},null,{"$f":"IF(ISERROR(DG163*$CL163/1000),0,DG163*$CL163/1000)","v":0},null,{"$f":"IF(ISERROR(DI163*$CL163/1000),0,DI163*$CL163/1000)","v":0},null,{"$f":"IF(ISERROR(DK163*$CL163/1000),0,DK163*$CL163/1000)","v":0},null,{"$f":"IF(ISERROR(DM163*$CL163/1000),0,DM163*$CL163/1000)","v":0},null,0,null,0,null,0,null,0,null,0,null,{"$f":"IF(ISERROR(DY163*$CL163/1000),0,DY163*$CL163/1000)","v":0}]
[null,null,null,null,null,null,null,"",null,0,null,0,null,{"$f":"IF(ISERROR(M164*$D164/1000),0,M164*$D164/1000)","v":0},null,{"$f":"IF(ISERROR(O164*$D164/1000),0,O164*$D164/1000)","v":0},null,{"$f":"IF(ISERROR(Q164*$D164/1000),0,Q164*$D164/1000)","v":0},null,{"$f":"IF(ISERROR(S164*$D164/1000),0,S164*$D164/1000)","v":0},null,{"$f":"IF(ISERROR(U164*$D164/1000),0,U164*$D164/1000)","v":0},null,{"$f":"IF(ISERROR(W164*$D164/1000),0,W164*$D164/1000)","v":0},null,{"$f":"IF(ISERROR(Y164*$D164/1000),0,Y164*$D164/1000)","v":0},null,{"$f":"IF(ISERROR(AA164*$D164/1000),0,AA164*$D164/1000)","v":0},null,{"$f":"IF(ISERROR(AC164*$D164/1000),0,AC164*$D164/1000)","v":0},null,{"$f":"IF(ISERROR(AE164*$D164/1000),0,AE164*$D164/1000)","v":0},null,0,null,0,null,0,null,0,null,0,null,0,null,null,null,null,null,null,"",null,0,null,0,null,0,null,0,null,0,null,0,null,0,null,0,null,0,null,0,null,0,null,0,null,0,null,0,null,0,null,0,null,0,null,0,null,null,null,null,null,null,"",null,0,null,0,null,{"$f":"IF(ISERROR(CU164*$CL164/1000),0,CU164*$CL164/1000)","v":0},null,{"$f":"IF(ISERROR(CW164*$CL164/1000),0,CW164*$CL164/1000)","v":0},null,{"$f":"IF(ISERROR(CY164*$CL164/1000),0,CY164*$CL164/1000)","v":0},null,{"$f":"IF(ISERROR(DA164*$CL164/1000),0,DA164*$CL164/1000)","v":0},null,{"$f":"IF(ISERROR(DC164*$CL164/1000),0,DC164*$CL164/1000)","v":0},null,{"$f":"IF(ISERROR(DE164*$CL164/1000),0,DE164*$CL164/1000)","v":0},null,{"$f":"IF(ISERROR(DG164*$CL164/1000),0,DG164*$CL164/1000)","v":0},null,{"$f":"IF(ISERROR(DI164*$CL164/1000),0,DI164*$CL164/1000)","v":0},null,{"$f":"IF(ISERROR(DK164*$CL164/1000),0,DK164*$CL164/1000)","v":0},null,{"$f":"IF(ISERROR(DM164*$CL164/1000),0,DM164*$CL164/1000)","v":0},null,0,null,0,null,0,null,0,null,0,null,{"$f":"IF(ISERROR(DY164*$CL164/1000),0,DY164*$CL164/1000)","v":0}]
[null,null,null,null,null,null,null,"",null,0,null,0,null,{"$f":"IF(ISERROR(M165*$D165/1000),0,M165*$D165/1000)","v":0},null,{"$f":"IF(ISERROR(O165*$D165/1000),0,O165*$D165/1000)","v":0},null,{"$f":"IF(ISERROR(Q165*$D165/1000),0,Q165*$D165/1000)","v":0},null,{"$f":"IF(ISERROR(S165*$D165/1000),0,S165*$D165/1000)","v":0},null,{"$f":"IF(ISERROR(U165*$D165/1000),0,U165*$D165/1000)","v":0},null,{"$f":"IF(ISERROR(W165*$D165/1000),0,W165*$D165/1000)","v":0},null,{"$f":"IF(ISERROR(Y165*$D165/1000),0,Y165*$D165/1000)","v":0},null,{"$f":"IF(ISERROR(AA165*$D165/1000),0,AA165*$D165/1000)","v":0},null,{"$f":"IF(ISERROR(AC165*$D165/1000),0,AC165*$D165/1000)","v":0},null,{"$f":"IF(ISERROR(AE165*$D165/1000),0,AE165*$D165/1000)","v":0},null,0,null,0,null,0,null,0,null,0,null,0,null,null,null,null,null,null,"",null,0,null,0,null,0,null,0,null,0,null,0,null,0,null,0,null,0,null,0,null,0,null,0,null,0,null,0,null,0,null,0,null,0,null,0,null,null,null,null,null,null,"",null,0,null,0,null,{"$f":"IF(ISERROR(CU165*$CL165/1000),0,CU165*$CL165/1000)","v":0},null,{"$f":"IF(ISERROR(CW165*$CL165/1000),0,CW165*$CL165/1000)","v":0},null,{"$f":"IF(ISERROR(CY165*$CL165/1000),0,CY165*$CL165/1000)","v":0},null,{"$f":"IF(ISERROR(DA165*$CL165/1000),0,DA165*$CL165/1000)","v":0},null,{"$f":"IF(ISERROR(DC165*$CL165/1000),0,DC165*$CL165/1000)","v":0},null,{"$f":"IF(ISERROR(DE165*$CL165/1000),0,DE165*$CL165/1000)","v":0},null,{"$f":"IF(ISERROR(DG165*$CL165/1000),0,DG165*$CL165/1000)","v":0},null,{"$f":"IF(ISERROR(DI165*$CL165/1000),0,DI165*$CL165/1000)","v":0},null,{"$f":"IF(ISERROR(DK165*$CL165/1000),0,DK165*$CL165/1000)","v":0},null,{"$f":"IF(ISERROR(DM165*$CL165/1000),0,DM165*$CL165/1000)","v":0},null,0,null,0,null,0,null,0,null,0,null,{"$f":"IF(ISERROR(DY165*$CL165/1000),0,DY165*$CL165/1000)","v":0}]
[null,null,null,null,null,null,null,"",null,0,null,0,null,{"$f":"IF(ISERROR(M166*$D166/1000),0,M166*$D166/1000)","v":0},null,{"$f":"IF(ISERROR(O166*$D166/1000),0,O166*$D166/1000)","v":0},null,{"$f":"IF(ISERROR(Q166*$D166/1000),0,Q166*$D166/1000)","v":0},null,{"$f":"IF(ISERROR(S166*$D166/1000),0,S166*$D166/1000)","v":0},null,{"$f":"IF(ISERROR(U166*$D166/1000),0,U166*$D166/1000)","v":0},null,{"$f":"IF(ISERROR(W166*$D166/1000),0,W166*$D166/1000)","v":0},null,{"$f":"IF(ISERROR(Y166*$D166/1000),0,Y166*$D166/1000)","v":0},null,{"$f":"IF(ISERROR(AA166*$D166/1000),0,AA166*$D166/1000)","v":0},null,{"$f":"IF(ISERROR(AC166*$D166/1000),0,AC166*$D166/1000)","v":0},null,{"$f":"IF(ISERROR(AE166*$D166/1000),0,AE166*$D166/1000)","v":0},null,0,null,0,null,0,null,0,null,0,null,0,null,null,null,null,null,null,"",null,0,null,0,null,0,null,0,null,0,null,0,null,0,null,0,null,0,null,0,null,0,null,0,null,0,null,0,null,0,null,0,null,0,null,0,null,null,null,null,null,null,"",null,0,null,0,null,{"$f":"IF(ISERROR(CU166*$CL166/1000),0,CU166*$CL166/1000)","v":0},null,{"$f":"IF(ISERROR(CW166*$CL166/1000),0,CW166*$CL166/1000)","v":0},null,{"$f":"IF(ISERROR(CY166*$CL166/1000),0,CY166*$CL166/1000)","v":0},null,{"$f":"IF(ISERROR(DA166*$CL166/1000),0,DA166*$CL166/1000)","v":0},null,{"$f":"IF(ISERROR(DC166*$CL166/1000),0,DC166*$CL166/1000)","v":0},null,{"$f":"IF(ISERROR(DE166*$CL166/1000),0,DE166*$CL166/1000)","v":0},null,{"$f":"IF(ISERROR(DG166*$CL166/1000),0,DG166*$CL166/1000)","v":0},null,{"$f":"IF(ISERROR(DI166*$CL166/1000),0,DI166*$CL166/1000)","v":0},null,{"$f":"IF(ISERROR(DK166*$CL166/1000),0,DK166*$CL166/1000)","v":0},null,{"$f":"IF(ISERROR(DM166*$CL166/1000),0,DM166*$CL166/1000)","v":0},null,0,null,0,null,0,null,0,null,0,null,{"$f":"IF(ISERROR(DY166*$CL166/1000),0,DY166*$CL166/1000)","v":0}]
[null,null,null,null,null,null,null,"",null,0,null,0,null,{"$f":"IF(ISERROR(M167*$D167/1000),0,M167*$D167/1000)","v":0},null,{"$f":"IF(ISERROR(O167*$D167/1000),0,O167*$D167/1000)","v":0},null,{"$f":"IF(ISERROR(Q167*$D167/1000),0,Q167*$D167/1000)","v":0},null,{"$f":"IF(ISERROR(S167*$D167/1000),0,S167*$D167/1000)","v":0},null,{"$f":"IF(ISERROR(U167*$D167/1000),0,U167*$D167/1000)","v":0},null,{"$f":"IF(ISERROR(W167*$D167/1000),0,W167*$D167/1000)","v":0},null,{"$f":"IF(ISERROR(Y167*$D167/1000),0,Y167*$D167/1000)","v":0},null,{"$f":"IF(ISERROR(AA167*$D167/1000),0,AA167*$D167/1000)","v":0},null,{"$f":"IF(ISERROR(AC167*$D167/1000),0,AC167*$D167/1000)","v":0},null,{"$f":"IF(ISERROR(AE167*$D167/1000),0,AE167*$D167/1000)","v":0},null,0,null,0,null,0,null,0,null,0,null,0,null,null,null,null,null,null,"",null,0,null,0,null,0,null,0,null,0,null,0,null,0,null,0,null,0,null,0,null,0,null,0,null,0,null,0,null,0,null,0,null,0,null,0,null,null,null,null,null,null,"",null,0,null,0,null,{"$f":"IF(ISERROR(CU167*$CL167/1000),0,CU167*$CL167/1000)","v":0},null,{"$f":"IF(ISERROR(CW167*$CL167/1000),0,CW167*$CL167/1000)","v":0},null,{"$f":"IF(ISERROR(CY167*$CL167/1000),0,CY167*$CL167/1000)","v":0},null,{"$f":"IF(ISERROR(DA167*$CL167/1000),0,DA167*$CL167/1000)","v":0},null,{"$f":"IF(ISERROR(DC167*$CL167/1000),0,DC167*$CL167/1000)","v":0},null,{"$f":"IF(ISERROR(DE167*$CL167/1000),0,DE167*$CL167/1000)","v":0},null,{"$f":"IF(ISERROR(DG167*$CL167/1000),0,DG167*$CL167/1000)","v":0},null,{"$f":"IF(ISERROR(DI167*$CL167/1000),0,DI167*$CL167/1000)","v":0},null,{"$f":"IF(ISERROR(DK167*$CL167/1000),0,DK167*$CL167/1000)","v":0},null,{"$f":"IF(ISERROR(DM167*$CL167/1000),0,DM167*$CL167/1000)","v":0},null,0,null,0,null,0,null,0,null,0,null,{"$f":"IF(ISERROR(DY167*$CL167/1000),0,DY167*$CL167/1000)","v":0}]
[null,"Juin",null,null,null,null,null,"",null,0,null,0,null,{"$f":"IF(ISERROR(M168*$D168/1000),0,M168*$D168/1000)","v":0},null,{"$f":"IF(ISERROR(O168*$D168/1000),0,O168*$D168/1000)","v":0},null,{"$f":"IF(ISERROR(Q168*$D168/1000),0,Q168*$D168/1000)","v":0},null,{"$f":"IF(ISERROR(S168*$D168/1000),0,S168*$D168/1000)","v":0},null,{"$f":"IF(ISERROR(U168*$D168/1000),0,U168*$D168/1000)","v":0},null,{"$f":"IF(ISERROR(W168*$D168/1000),0,W168*$D168/1000)","v":0},null,{"$f":"IF(ISERROR(Y168*$D168/1000),0,Y168*$D168/1000)","v":0},null,{"$f":"IF(ISERROR(AA168*$D168/1000),0,AA168*$D168/1000)","v":0},null,{"$f":"IF(ISERROR(AC168*$D168/1000),0,AC168*$D168/1000)","v":0},null,{"$f":"IF(ISERROR(AE168*$D168/1000),0,AE168*$D168/1000)","v":0},null,0,null,0,null,0,null,0,null,0,null,0,null,null,null,null,null,null,"",null,0,null,0,null,0,null,0,null,0,null,0,null,0,null,0,null,0,null,0,null,0,null,0,null,0,null,0,null,0,null,0,null,0,null,0,null,null,null,null,null,null,"",null,0,null,0,null,{"$f":"IF(ISERROR(CU168*$CL168/1000),0,CU168*$CL168/1000)","v":0},null,{"$f":"IF(ISERROR(CW168*$CL168/1000),0,CW168*$CL168/1000)","v":0},null,{"$f":"IF(ISERROR(CY168*$CL168/1000),0,CY168*$CL168/1000)","v":0},null,{"$f":"IF(ISERROR(DA168*$CL168/1000),0,DA168*$CL168/1000)","v":0},null,{"$f":"IF(ISERROR(DC168*$CL168/1000),0,DC168*$CL168/1000)","v":0},null,{"$f":"IF(ISERROR(DE168*$CL168/1000),0,DE168*$CL168/1000)","v":0},null,{"$f":"IF(ISERROR(DG168*$CL168/1000),0,DG168*$CL168/1000)","v":0},null,{"$f":"IF(ISERROR(DI168*$CL168/1000),0,DI168*$CL168/1000)","v":0},null,{"$f":"IF(ISERROR(DK168*$CL168/1000),0,DK168*$CL168/1000)","v":0},null,{"$f":"IF(ISERROR(DM168*$CL168/1000),0,DM168*$CL168/1000)","v":0},null,0,null,0,null,0,null,0,null,0,null,{"$f":"IF(ISERROR(DY168*$CL168/1000),0,DY168*$CL168/1000)","v":0}]
[null,null,null,null,null,null,null,"",null,0,null,0,null,{"$f":"IF(ISERROR(M169*$D169/1000),0,M169*$D169/1000)","v":0},null,{"$f":"IF(ISERROR(O169*$D169/1000),0,O169*$D169/1000)","v":0},null,{"$f":"IF(ISERROR(Q169*$D169/1000),0,Q169*$D169/1000)","v":0},null,{"$f":"IF(ISERROR(S169*$D169/1000),0,S169*$D169/1000)","v":0},null,{"$f":"IF(ISERROR(U169*$D169/1000),0,U169*$D169/1000)","v":0},null,{"$f":"IF(ISERROR(W169*$D169/1000),0,W169*$D169/1000)","v":0},null,{"$f":"IF(ISERROR(Y169*$D169/1000),0,Y169*$D169/1000)","v":0},null,{"$f":"IF(ISERROR(AA169*$D169/1000),0,AA169*$D169/1000)","v":0},null,{"$f":"IF(ISERROR(AC169*$D169/1000),0,AC169*$D169/1000)","v":0},null,{"$f":"IF(ISERROR(AE169*$D169/1000),0,AE169*$D169/1000)","v":0},null,0,null,0,null,0,null,0,null,0,null,0,null,null,null,null,null,null,"",null,0,null,0,null,0,null,0,null,0,null,0,null,0,null,0,null,0,null,0,null,0,null,0,null,0,null,0,null,0,null,0,null,0,null,0,null,null,null,null,null,null,"",null,0,null,0,null,{"$f":"IF(ISERROR(CU169*$CL169/1000),0,CU169*$CL169/1000)","v":0},null,{"$f":"IF(ISERROR(CW169*$CL169/1000),0,CW169*$CL169/1000)","v":0},null,{"$f":"IF(ISERROR(CY169*$CL169/1000),0,CY169*$CL169/1000)","v":0},null,{"$f":"IF(ISERROR(DA169*$CL169/1000),0,DA169*$CL169/1000)","v":0},null,{"$f":"IF(ISERROR(DC169*$CL169/1000),0,DC169*$CL169/1000)","v":0},null,{"$f":"IF(ISERROR(DE169*$CL169/1000),0,DE169*$CL169/1000)","v":0},null,{"$f":"IF(ISERROR(DG169*$CL169/1000),0,DG169*$CL169/1000)","v":0},null,{"$f":"IF(ISERROR(DI169*$CL169/1000),0,DI169*$CL169/1000)","v":0},null,{"$f":"IF(ISERROR(DK169*$CL169/1000),0,DK169*$CL169/1000)","v":0},null,{"$f":"IF(ISERROR(DM169*$CL169/1000),0,DM169*$CL169/1000)","v":0},null,0,null,0,null,0,null,0,null,0,null,{"$f":"IF(ISERROR(DY169*$CL169/1000),0,DY169*$CL169/1000)","v":0}]
[null,null,null,null,null,null,null,"",null,0,null,0,null,{"$f":"IF(ISERROR(M170*$D170/1000),0,M170*$D170/1000)","v":0},null,{"$f":"IF(ISERROR(O170*$D170/1000),0,O170*$D170/1000)","v":0},null,{"$f":"IF(ISERROR(Q170*$D170/1000),0,Q170*$D170/1000)","v":0},null,{"$f":"IF(ISERROR(S170*$D170/1000),0,S170*$D170/1000)","v":0},null,{"$f":"IF(ISERROR(U170*$D170/1000),0,U170*$D170/1000)","v":0},null,{"$f":"IF(ISERROR(W170*$D170/1000),0,W170*$D170/1000)","v":0},null,{"$f":"IF(ISERROR(Y170*$D170/1000),0,Y170*$D170/1000)","v":0},null,{"$f":"IF(ISERROR(AA170*$D170/1000),0,AA170*$D170/1000)","v":0},null,{"$f":"IF(ISERROR(AC170*$D170/1000),0,AC170*$D170/1000)","v":0},null,{"$f":"IF(ISERROR(AE170*$D170/1000),0,AE170*$D170/1000)","v":0},null,0,null,0,null,0,null,0,null,0,null,0,null,null,null,null,null,null,"",null,0,null,0,null,0,null,0,null,0,null,0,null,0,null,0,null,0,null,0,null,0,null,0,null,0,null,0,null,0,null,0,null,0,null,0,null,null,null,null,null,null,"",null,0,null,0,null,{"$f":"IF(ISERROR(CU170*$CL170/1000),0,CU170*$CL170/1000)","v":0},null,{"$f":"IF(ISERROR(CW170*$CL170/1000),0,CW170*$CL170/1000)","v":0},null,{"$f":"IF(ISERROR(CY170*$CL170/1000),0,CY170*$CL170/1000)","v":0},null,{"$f":"IF(ISERROR(DA170*$CL170/1000),0,DA170*$CL170/1000)","v":0},null,{"$f":"IF(ISERROR(DC170*$CL170/1000),0,DC170*$CL170/1000)","v":0},null,{"$f":"IF(ISERROR(DE170*$CL170/1000),0,DE170*$CL170/1000)","v":0},null,{"$f":"IF(ISERROR(DG170*$CL170/1000),0,DG170*$CL170/1000)","v":0},null,{"$f":"IF(ISERROR(DI170*$CL170/1000),0,DI170*$CL170/1000)","v":0},null,{"$f":"IF(ISERROR(DK170*$CL170/1000),0,DK170*$CL170/1000)","v":0},null,{"$f":"IF(ISERROR(DM170*$CL170/1000),0,DM170*$CL170/1000)","v":0},null,0,null,0,null,0,null,0,null,0,null,{"$f":"IF(ISERROR(DY170*$CL170/1000),0,DY170*$CL170/1000)","v":0}]
[null,null,null,null,null,null,null,"",null,0,null,0,null,{"$f":"IF(ISERROR(M171*$D171/1000),0,M171*$D171/1000)","v":0},null,{"$f":"IF(ISERROR(O171*$D171/1000),0,O171*$D171/1000)","v":0},null,{"$f":"IF(ISERROR(Q171*$D171/1000),0,Q171*$D171/1000)","v":0},null,{"$f":"IF(ISERROR(S171*$D171/1000),0,S171*$D171/1000)","v":0},null,{"$f":"IF(ISERROR(U171*$D171/1000),0,U171*$D171/1000)","v":0},null,{"$f":"IF(ISERROR(W171*$D171/1000),0,W171*$D171/1000)","v":0},null,{"$f":"IF(ISERROR(Y171*$D171/1000),0,Y171*$D171/1000)","v":0},null,{"$f":"IF(ISERROR(AA171*$D171/1000),0,AA171*$D171/1000)","v":0},null,{"$f":"IF(ISERROR(AC171*$D171/1000),0,AC171*$D171/1000)","v":0},null,{"$f":"IF(ISERROR(AE171*$D171/1000),0,AE171*$D171/1000)","v":0},null,0,null,0,null,0,null,0,null,0,null,0,null,null,null,null,null,null,"",null,0,null,0,null,0,null,0,null,0,null,0,null,0,null,0,null,0,null,0,null,0,null,0,null,0,null,0,null,0,null,0,null,0,null,0,null,null,null,null,null,null,"",null,0,null,0,null,{"$f":"IF(ISERROR(CU171*$CL171/1000),0,CU171*$CL171/1000)","v":0},null,{"$f":"IF(ISERROR(CW171*$CL171/1000),0,CW171*$CL171/1000)","v":0},null,{"$f":"IF(ISERROR(CY171*$CL171/1000),0,CY171*$CL171/1000)","v":0},null,{"$f":"IF(ISERROR(DA171*$CL171/1000),0,DA171*$CL171/1000)","v":0},null,{"$f":"IF(ISERROR(DC171*$CL171/1000),0,DC171*$CL171/1000)","v":0},null,{"$f":"IF(ISERROR(DE171*$CL171/1000),0,DE171*$CL171/1000)","v":0},null,{"$f":"IF(ISERROR(DG171*$CL171/1000),0,DG171*$CL171/1000)","v":0},null,{"$f":"IF(ISERROR(DI171*$CL171/1000),0,DI171*$CL171/1000)","v":0},null,{"$f":"IF(ISERROR(DK171*$CL171/1000),0,DK171*$CL171/1000)","v":0},null,{"$f":"IF(ISERROR(DM171*$CL171/1000),0,DM171*$CL171/1000)","v":0},null,0,null,0,null,0,null,0,null,0,null,{"$f":"IF(ISERROR(DY171*$CL171/1000),0,DY171*$CL171/1000)","v":0}]
[null,null,null,null,null,null,null,"",null,0,null,0,null,{"$f":"IF(ISERROR(M172*$D172/1000),0,M172*$D172/1000)","v":0},null,{"$f":"IF(ISERROR(O172*$D172/1000),0,O172*$D172/1000)","v":0},null,{"$f":"IF(ISERROR(Q172*$D172/1000),0,Q172*$D172/1000)","v":0},null,{"$f":"IF(ISERROR(S172*$D172/1000),0,S172*$D172/1000)","v":0},null,{"$f":"IF(ISERROR(U172*$D172/1000),0,U172*$D172/1000)","v":0},null,{"$f":"IF(ISERROR(W172*$D172/1000),0,W172*$D172/1000)","v":0},null,{"$f":"IF(ISERROR(Y172*$D172/1000),0,Y172*$D172/1000)","v":0},null,{"$f":"IF(ISERROR(AA172*$D172/1000),0,AA172*$D172/1000)","v":0},null,{"$f":"IF(ISERROR(AC172*$D172/1000),0,AC172*$D172/1000)","v":0},null,{"$f":"IF(ISERROR(AE172*$D172/1000),0,AE172*$D172/1000)","v":0},null,0,null,0,null,0,null,0,null,0,null,0,null,null,null,null,null,null,"",null,0,null,0,null,0,null,0,null,0,null,0,null,0,null,0,null,0,null,0,null,0,null,0,null,0,null,0,null,0,null,0,null,0,null,0,null,null,null,null,null,null,"",null,0,null,0,null,{"$f":"IF(ISERROR(CU172*$CL172/1000),0,CU172*$CL172/1000)","v":0},null,{"$f":"IF(ISERROR(CW172*$CL172/1000),0,CW172*$CL172/1000)","v":0},null,{"$f":"IF(ISERROR(CY172*$CL172/1000),0,CY172*$CL172/1000)","v":0},null,{"$f":"IF(ISERROR(DA172*$CL172/1000),0,DA172*$CL172/1000)","v":0},null,{"$f":"IF(ISERROR(DC172*$CL172/1000),0,DC172*$CL172/1000)","v":0},null,{"$f":"IF(ISERROR(DE172*$CL172/1000),0,DE172*$CL172/1000)","v":0},null,{"$f":"IF(ISERROR(DG172*$CL172/1000),0,DG172*$CL172/1000)","v":0},null,{"$f":"IF(ISERROR(DI172*$CL172/1000),0,DI172*$CL172/1000)","v":0},null,{"$f":"IF(ISERROR(DK172*$CL172/1000),0,DK172*$CL172/1000)","v":0},null,{"$f":"IF(ISERROR(DM172*$CL172/1000),0,DM172*$CL172/1000)","v":0},null,0,null,0,null,0,null,0,null,0,null,{"$f":"IF(ISERROR(DY172*$CL172/1000),0,DY172*$CL172/1000)","v":0}]
[null,null,null,null,null,null,null,"",null,0,null,0,null,{"$f":"IF(ISERROR(M173*$D173/1000),0,M173*$D173/1000)","v":0},null,{"$f":"IF(ISERROR(O173*$D173/1000),0,O173*$D173/1000)","v":0},null,{"$f":"IF(ISERROR(Q173*$D173/1000),0,Q173*$D173/1000)","v":0},null,{"$f":"IF(ISERROR(S173*$D173/1000),0,S173*$D173/1000)","v":0},null,{"$f":"IF(ISERROR(U173*$D173/1000),0,U173*$D173/1000)","v":0},null,{"$f":"IF(ISERROR(W173*$D173/1000),0,W173*$D173/1000)","v":0},null,{"$f":"IF(ISERROR(Y173*$D173/1000),0,Y173*$D173/1000)","v":0},null,{"$f":"IF(ISERROR(AA173*$D173/1000),0,AA173*$D173/1000)","v":0},null,{"$f":"IF(ISERROR(AC173*$D173/1000),0,AC173*$D173/1000)","v":0},null,{"$f":"IF(ISERROR(AE173*$D173/1000),0,AE173*$D173/1000)","v":0},null,0,null,0,null,0,null,0,null,0,null,0,null,null,null,null,null,null,"",null,0,null,0,null,0,null,0,null,0,null,0,null,0,null,0,null,0,null,0,null,0,null,0,null,0,null,0,null,0,null,0,null,0,null,0,null,null,null,null,null,null,"",null,0,null,0,null,{"$f":"IF(ISERROR(CU173*$CL173/1000),0,CU173*$CL173/1000)","v":0},null,{"$f":"IF(ISERROR(CW173*$CL173/1000),0,CW173*$CL173/1000)","v":0},null,{"$f":"IF(ISERROR(CY173*$CL173/1000),0,CY173*$CL173/1000)","v":0},null,{"$f":"IF(ISERROR(DA173*$CL173/1000),0,DA173*$CL173/1000)","v":0},null,{"$f":"IF(ISERROR(DC173*$CL173/1000),0,DC173*$CL173/1000)","v":0},null,{"$f":"IF(ISERROR(DE173*$CL173/1000),0,DE173*$CL173/1000)","v":0},null,{"$f":"IF(ISERROR(DG173*$CL173/1000),0,DG173*$CL173/1000)","v":0},null,{"$f":"IF(ISERROR(DI173*$CL173/1000),0,DI173*$CL173/1000)","v":0},null,{"$f":"IF(ISERROR(DK173*$CL173/1000),0,DK173*$CL173/1000)","v":0},null,{"$f":"IF(ISERROR(DM173*$CL173/1000),0,DM173*$CL173/1000)","v":0},null,0,null,0,null,0,null,0,null,0,null,{"$f":"IF(ISERROR(DY173*$CL173/1000),0,DY173*$CL173/1000)","v":0}]
[null,null,null,null,null,null,null,"",null,0,null,0,null,{"$f":"IF(ISERROR(M174*$D174/1000),0,M174*$D174/1000)","v":0},null,{"$f":"IF(ISERROR(O174*$D174/1000),0,O174*$D174/1000)","v":0},null,{"$f":"IF(ISERROR(Q174*$D174/1000),0,Q174*$D174/1000)","v":0},null,{"$f":"IF(ISERROR(S174*$D174/1000),0,S174*$D174/1000)","v":0},null,{"$f":"IF(ISERROR(U174*$D174/1000),0,U174*$D174/1000)","v":0},null,{"$f":"IF(ISERROR(W174*$D174/1000),0,W174*$D174/1000)","v":0},null,{"$f":"IF(ISERROR(Y174*$D174/1000),0,Y174*$D174/1000)","v":0},null,{"$f":"IF(ISERROR(AA174*$D174/1000),0,AA174*$D174/1000)","v":0},null,{"$f":"IF(ISERROR(AC174*$D174/1000),0,AC174*$D174/1000)","v":0},null,{"$f":"IF(ISERROR(AE174*$D174/1000),0,AE174*$D174/1000)","v":0},null,0,null,0,null,0,null,0,null,0,null,0,null,null,null,null,null,null,"",null,0,null,0,null,0,null,0,null,0,null,0,null,0,null,0,null,0,null,0,null,0,null,0,null,0,null,0,null,0,null,0,null,0,null,0,null,null,null,null,null,null,"",null,0,null,0,null,{"$f":"IF(ISERROR(CU174*$CL174/1000),0,CU174*$CL174/1000)","v":0},null,{"$f":"IF(ISERROR(CW174*$CL174/1000),0,CW174*$CL174/1000)","v":0},null,{"$f":"IF(ISERROR(CY174*$CL174/1000),0,CY174*$CL174/1000)","v":0},null,{"$f":"IF(ISERROR(DA174*$CL174/1000),0,DA174*$CL174/1000)","v":0},null,{"$f":"IF(ISERROR(DC174*$CL174/1000),0,DC174*$CL174/1000)","v":0},null,{"$f":"IF(ISERROR(DE174*$CL174/1000),0,DE174*$CL174/1000)","v":0},null,{"$f":"IF(ISERROR(DG174*$CL174/1000),0,DG174*$CL174/1000)","v":0},null,{"$f":"IF(ISERROR(DI174*$CL174/1000),0,DI174*$CL174/1000)","v":0},null,{"$f":"IF(ISERROR(DK174*$CL174/1000),0,DK174*$CL174/1000)","v":0},null,{"$f":"IF(ISERROR(DM174*$CL174/1000),0,DM174*$CL174/1000)","v":0},null,0,null,0,null,0,null,0,null,0,null,{"$f":"IF(ISERROR(DY174*$CL174/1000),0,DY174*$CL174/1000)","v":0}]
[null,null,null,null,null,null,null,"",null,0,null,0,null,{"$f":"IF(ISERROR(M175*$D175/1000),0,M175*$D175/1000)","v":0},null,{"$f":"IF(ISERROR(O175*$D175/1000),0,O175*$D175/1000)","v":0},null,{"$f":"IF(ISERROR(Q175*$D175/1000),0,Q175*$D175/1000)","v":0},null,{"$f":"IF(ISERROR(S175*$D175/1000),0,S175*$D175/1000)","v":0},null,{"$f":"IF(ISERROR(U175*$D175/1000),0,U175*$D175/1000)","v":0},null,{"$f":"IF(ISERROR(W175*$D175/1000),0,W175*$D175/1000)","v":0},null,{"$f":"IF(ISERROR(Y175*$D175/1000),0,Y175*$D175/1000)","v":0},null,{"$f":"IF(ISERROR(AA175*$D175/1000),0,AA175*$D175/1000)","v":0},null,{"$f":"IF(ISERROR(AC175*$D175/1000),0,AC175*$D175/1000)","v":0},null,{"$f":"IF(ISERROR(AE175*$D175/1000),0,AE175*$D175/1000)","v":0},null,0,null,0,null,0,null,0,null,0,null,0,null,null,null,null,null,null,"",null,0,null,0,null,0,null,0,null,0,null,0,null,0,null,0,null,0,null,0,null,0,null,0,null,0,null,0,null,0,null,0,null,0,null,0,null,null,null,null,null,null,"",null,0,null,0,null,{"$f":"IF(ISERROR(CU175*$CL175/1000),0,CU175*$CL175/1000)","v":0},null,{"$f":"IF(ISERROR(CW175*$CL175/1000),0,CW175*$CL175/1000)","v":0},null,{"$f":"IF(ISERROR(CY175*$CL175/1000),0,CY175*$CL175/1000)","v":0},null,{"$f":"IF(ISERROR(DA175*$CL175/1000),0,DA175*$CL175/1000)","v":0},null,{"$f":"IF(ISERROR(DC175*$CL175/1000),0,DC175*$CL175/1000)","v":0},null,{"$f":"IF(ISERROR(DE175*$CL175/1000),0,DE175*$CL175/1000)","v":0},null,{"$f":"IF(ISERROR(DG175*$CL175/1000),0,DG175*$CL175/1000)","v":0},null,{"$f":"IF(ISERROR(DI175*$CL175/1000),0,DI175*$CL175/1000)","v":0},null,{"$f":"IF(ISERROR(DK175*$CL175/1000),0,DK175*$CL175/1000)","v":0},null,{"$f":"IF(ISERROR(DM175*$CL175/1000),0,DM175*$CL175/1000)","v":0},null,0,null,0,null,0,null,0,null,0,null,{"$f":"IF(ISERROR(DY175*$CL175/1000),0,DY175*$CL175/1000)","v":0}]
[null,null,null,null,null,null,null,"",null,0,null,0,null,{"$f":"IF(ISERROR(M176*$D176/1000),0,M176*$D176/1000)","v":0},null,{"$f":"IF(ISERROR(O176*$D176/1000),0,O176*$D176/1000)","v":0},null,{"$f":"IF(ISERROR(Q176*$D176/1000),0,Q176*$D176/1000)","v":0},null,{"$f":"IF(ISERROR(S176*$D176/1000),0,S176*$D176/1000)","v":0},null,{"$f":"IF(ISERROR(U176*$D176/1000),0,U176*$D176/1000)","v":0},null,{"$f":"IF(ISERROR(W176*$D176/1000),0,W176*$D176/1000)","v":0},null,{"$f":"IF(ISERROR(Y176*$D176/1000),0,Y176*$D176/1000)","v":0},null,{"$f":"IF(ISERROR(AA176*$D176/1000),0,AA176*$D176/1000)","v":0},null,{"$f":"IF(ISERROR(AC176*$D176/1000),0,AC176*$D176/1000)","v":0},null,{"$f":"IF(ISERROR(AE176*$D176/1000),0,AE176*$D176/1000)","v":0},null,0,null,0,null,0,null,0,null,0,null,0,null,null,null,null,null,null,"",null,0,null,0,null,0,null,0,null,0,null,0,null,0,null,0,null,0,null,0,null,0,null,0,null,0,null,0,null,0,null,0,null,0,null,0,null,null,null,null,null,null,"",null,0,null,0,null,{"$f":"IF(ISERROR(CU176*$CL176/1000),0,CU176*$CL176/1000)","v":0},null,{"$f":"IF(ISERROR(CW176*$CL176/1000),0,CW176*$CL176/1000)","v":0},null,{"$f":"IF(ISERROR(CY176*$CL176/1000),0,CY176*$CL176/1000)","v":0},null,{"$f":"IF(ISERROR(DA176*$CL176/1000),0,DA176*$CL176/1000)","v":0},null,{"$f":"IF(ISERROR(DC176*$CL176/1000),0,DC176*$CL176/1000)","v":0},null,{"$f":"IF(ISERROR(DE176*$CL176/1000),0,DE176*$CL176/1000)","v":0},null,{"$f":"IF(ISERROR(DG176*$CL176/1000),0,DG176*$CL176/1000)","v":0},null,{"$f":"IF(ISERROR(DI176*$CL176/1000),0,DI176*$CL176/1000)","v":0},null,{"$f":"IF(ISERROR(DK176*$CL176/1000),0,DK176*$CL176/1000)","v":0},null,{"$f":"IF(ISERROR(DM176*$CL176/1000),0,DM176*$CL176/1000)","v":0},null,0,null,0,null,0,null,0,null,0,null,{"$f":"IF(ISERROR(DY176*$CL176/1000),0,DY176*$CL176/1000)","v":0}]
[null,null,null,null,null,null,null,"",null,0,null,0,null,{"$f":"IF(ISERROR(M177*$D177/1000),0,M177*$D177/1000)","v":0},null,{"$f":"IF(ISERROR(O177*$D177/1000),0,O177*$D177/1000)","v":0},null,{"$f":"IF(ISERROR(Q177*$D177/1000),0,Q177*$D177/1000)","v":0},null,{"$f":"IF(ISERROR(S177*$D177/1000),0,S177*$D177/1000)","v":0},null,{"$f":"IF(ISERROR(U177*$D177/1000),0,U177*$D177/1000)","v":0},null,{"$f":"IF(ISERROR(W177*$D177/1000),0,W177*$D177/1000)","v":0},null,{"$f":"IF(ISERROR(Y177*$D177/1000),0,Y177*$D177/1000)","v":0},null,{"$f":"IF(ISERROR(AA177*$D177/1000),0,AA177*$D177/1000)","v":0},null,{"$f":"IF(ISERROR(AC177*$D177/1000),0,AC177*$D177/1000)","v":0},null,{"$f":"IF(ISERROR(AE177*$D177/1000),0,AE177*$D177/1000)","v":0},null,0,null,0,null,0,null,0,null,0,null,0,null,null,null,null,null,null,"",null,0,null,0,null,0,null,0,null,0,null,0,null,0,null,0,null,0,null,0,null,0,null,0,null,0,null,0,null,0,null,0,null,0,null,0,null,null,null,null,null,null,"",null,0,null,0,null,{"$f":"IF(ISERROR(CU177*$CL177/1000),0,CU177*$CL177/1000)","v":0},null,{"$f":"IF(ISERROR(CW177*$CL177/1000),0,CW177*$CL177/1000)","v":0},null,{"$f":"IF(ISERROR(CY177*$CL177/1000),0,CY177*$CL177/1000)","v":0},null,{"$f":"IF(ISERROR(DA177*$CL177/1000),0,DA177*$CL177/1000)","v":0},null,{"$f":"IF(ISERROR(DC177*$CL177/1000),0,DC177*$CL177/1000)","v":0},null,{"$f":"IF(ISERROR(DE177*$CL177/1000),0,DE177*$CL177/1000)","v":0},null,{"$f":"IF(ISERROR(DG177*$CL177/1000),0,DG177*$CL177/1000)","v":0},null,{"$f":"IF(ISERROR(DI177*$CL177/1000),0,DI177*$CL177/1000)","v":0},null,{"$f":"IF(ISERROR(DK177*$CL177/1000),0,DK177*$CL177/1000)","v":0},null,{"$f":"IF(ISERROR(DM177*$CL177/1000),0,DM177*$CL177/1000)","v":0},null,0,null,0,null,0,null,0,null,0,null,{"$f":"IF(ISERROR(DY177*$CL177/1000),0,DY177*$CL177/1000)","v":0}]
[null,null,null,null,null,null,null,"",null,0,null,0,null,{"$f":"IF(ISERROR(M178*$D178/1000),0,M178*$D178/1000)","v":0},null,{"$f":"IF(ISERROR(O178*$D178/1000),0,O178*$D178/1000)","v":0},null,{"$f":"IF(ISERROR(Q178*$D178/1000),0,Q178*$D178/1000)","v":0},null,{"$f":"IF(ISERROR(S178*$D178/1000),0,S178*$D178/1000)","v":0},null,{"$f":"IF(ISERROR(U178*$D178/1000),0,U178*$D178/1000)","v":0},null,{"$f":"IF(ISERROR(W178*$D178/1000),0,W178*$D178/1000)","v":0},null,{"$f":"IF(ISERROR(Y178*$D178/1000),0,Y178*$D178/1000)","v":0},null,{"$f":"IF(ISERROR(AA178*$D178/1000),0,AA178*$D178/1000)","v":0},null,{"$f":"IF(ISERROR(AC178*$D178/1000),0,AC178*$D178/1000)","v":0},null,{"$f":"IF(ISERROR(AE178*$D178/1000),0,AE178*$D178/1000)","v":0},null,0,null,0,null,0,null,0,null,0,null,0,null,null,null,null,null,null,"",null,0,null,0,null,0,null,0,null,0,null,0,null,0,null,0,null,0,null,0,null,0,null,0,null,0,null,0,null,0,null,0,null,0,null,0,null,null,null,null,null,null,"",null,0,null,0,null,{"$f":"IF(ISERROR(CU178*$CL178/1000),0,CU178*$CL178/1000)","v":0},null,{"$f":"IF(ISERROR(CW178*$CL178/1000),0,CW178*$CL178/1000)","v":0},null,{"$f":"IF(ISERROR(CY178*$CL178/1000),0,CY178*$CL178/1000)","v":0},null,{"$f":"IF(ISERROR(DA178*$CL178/1000),0,DA178*$CL178/1000)","v":0},null,{"$f":"IF(ISERROR(DC178*$CL178/1000),0,DC178*$CL178/1000)","v":0},null,{"$f":"IF(ISERROR(DE178*$CL178/1000),0,DE178*$CL178/1000)","v":0},null,{"$f":"IF(ISERROR(DG178*$CL178/1000),0,DG178*$CL178/1000)","v":0},null,{"$f":"IF(ISERROR(DI178*$CL178/1000),0,DI178*$CL178/1000)","v":0},null,{"$f":"IF(ISERROR(DK178*$CL178/1000),0,DK178*$CL178/1000)","v":0},null,{"$f":"IF(ISERROR(DM178*$CL178/1000),0,DM178*$CL178/1000)","v":0},null,0,null,0,null,0,null,0,null,0,null,{"$f":"IF(ISERROR(DY178*$CL178/1000),0,DY178*$CL178/1000)","v":0}]
[null,null,null,null,null,null,null,"",null,0,null,0,null,{"$f":"IF(ISERROR(M179*$D179/1000),0,M179*$D179/1000)","v":0},null,{"$f":"IF(ISERROR(O179*$D179/1000),0,O179*$D179/1000)","v":0},null,{"$f":"IF(ISERROR(Q179*$D179/1000),0,Q179*$D179/1000)","v":0},null,{"$f":"IF(ISERROR(S179*$D179/1000),0,S179*$D179/1000)","v":0},null,{"$f":"IF(ISERROR(U179*$D179/1000),0,U179*$D179/1000)","v":0},null,{"$f":"IF(ISERROR(W179*$D179/1000),0,W179*$D179/1000)","v":0},null,{"$f":"IF(ISERROR(Y179*$D179/1000),0,Y179*$D179/1000)","v":0},null,{"$f":"IF(ISERROR(AA179*$D179/1000),0,AA179*$D179/1000)","v":0},null,{"$f":"IF(ISERROR(AC179*$D179/1000),0,AC179*$D179/1000)","v":0},null,{"$f":"IF(ISERROR(AE179*$D179/1000),0,AE179*$D179/1000)","v":0},null,0,null,0,null,0,null,0,null,0,null,0,null,null,null,null,null,null,"",null,0,null,0,null,0,null,0,null,0,null,0,null,0,null,0,null,0,null,0,null,0,null,0,null,0,null,0,null,0,null,0,null,0,null,0,null,null,null,null,null,null,"",null,0,null,0,null,{"$f":"IF(ISERROR(CU179*$CL179/1000),0,CU179*$CL179/1000)","v":0},null,{"$f":"IF(ISERROR(CW179*$CL179/1000),0,CW179*$CL179/1000)","v":0},null,{"$f":"IF(ISERROR(CY179*$CL179/1000),0,CY179*$CL179/1000)","v":0},null,{"$f":"IF(ISERROR(DA179*$CL179/1000),0,DA179*$CL179/1000)","v":0},null,{"$f":"IF(ISERROR(DC179*$CL179/1000),0,DC179*$CL179/1000)","v":0},null,{"$f":"IF(ISERROR(DE179*$CL179/1000),0,DE179*$CL179/1000)","v":0},null,{"$f":"IF(ISERROR(DG179*$CL179/1000),0,DG179*$CL179/1000)","v":0},null,{"$f":"IF(ISERROR(DI179*$CL179/1000),0,DI179*$CL179/1000)","v":0},null,{"$f":"IF(ISERROR(DK179*$CL179/1000),0,DK179*$CL179/1000)","v":0},null,{"$f":"IF(ISERROR(DM179*$CL179/1000),0,DM179*$CL179/1000)","v":0},null,0,null,0,null,0,null,0,null,0,null,{"$f":"IF(ISERROR(DY179*$CL179/1000),0,DY179*$CL179/1000)","v":0}]
[null,null,null,null,null,null,null,"",null,0,null,0,null,{"$f":"IF(ISERROR(M180*$D180/1000),0,M180*$D180/1000)","v":0},null,{"$f":"IF(ISERROR(O180*$D180/1000),0,O180*$D180/1000)","v":0},null,{"$f":"IF(ISERROR(Q180*$D180/1000),0,Q180*$D180/1000)","v":0},null,{"$f":"IF(ISERROR(S180*$D180/1000),0,S180*$D180/1000)","v":0},null,{"$f":"IF(ISERROR(U180*$D180/1000),0,U180*$D180/1000)","v":0},null,{"$f":"IF(ISERROR(W180*$D180/1000),0,W180*$D180/1000)","v":0},null,{"$f":"IF(ISERROR(Y180*$D180/1000),0,Y180*$D180/1000)","v":0},null,{"$f":"IF(ISERROR(AA180*$D180/1000),0,AA180*$D180/1000)","v":0},null,{"$f":"IF(ISERROR(AC180*$D180/1000),0,AC180*$D180/1000)","v":0},null,{"$f":"IF(ISERROR(AE180*$D180/1000),0,AE180*$D180/1000)","v":0},null,0,null,0,null,0,null,0,null,0,null,0,null,null,null,null,null,null,"",null,0,null,0,null,0,null,0,null,0,null,0,null,0,null,0,null,0,null,0,null,0,null,0,null,0,null,0,null,0,null,0,null,0,null,0,null,null,null,null,null,null,"",null,0,null,0,null,{"$f":"IF(ISERROR(CU180*$CL180/1000),0,CU180*$CL180/1000)","v":0},null,{"$f":"IF(ISERROR(CW180*$CL180/1000),0,CW180*$CL180/1000)","v":0},null,{"$f":"IF(ISERROR(CY180*$CL180/1000),0,CY180*$CL180/1000)","v":0},null,{"$f":"IF(ISERROR(DA180*$CL180/1000),0,DA180*$CL180/1000)","v":0},null,{"$f":"IF(ISERROR(DC180*$CL180/1000),0,DC180*$CL180/1000)","v":0},null,{"$f":"IF(ISERROR(DE180*$CL180/1000),0,DE180*$CL180/1000)","v":0},null,{"$f":"IF(ISERROR(DG180*$CL180/1000),0,DG180*$CL180/1000)","v":0},null,{"$f":"IF(ISERROR(DI180*$CL180/1000),0,DI180*$CL180/1000)","v":0},null,{"$f":"IF(ISERROR(DK180*$CL180/1000),0,DK180*$CL180/1000)","v":0},null,{"$f":"IF(ISERROR(DM180*$CL180/1000),0,DM180*$CL180/1000)","v":0},null,0,null,0,null,0,null,0,null,0,null,{"$f":"IF(ISERROR(DY180*$CL180/1000),0,DY180*$CL180/1000)","v":0}]
[null,null,null,null,null,null,null,"",null,0,null,0,null,{"$f":"IF(ISERROR(M181*$D181/1000),0,M181*$D181/1000)","v":0},null,{"$f":"IF(ISERROR(O181*$D181/1000),0,O181*$D181/1000)","v":0},null,{"$f":"IF(ISERROR(Q181*$D181/1000),0,Q181*$D181/1000)","v":0},null,{"$f":"IF(ISERROR(S181*$D181/1000),0,S181*$D181/1000)","v":0},null,{"$f":"IF(ISERROR(U181*$D181/1000),0,U181*$D181/1000)","v":0},null,{"$f":"IF(ISERROR(W181*$D181/1000),0,W181*$D181/1000)","v":0},null,{"$f":"IF(ISERROR(Y181*$D181/1000),0,Y181*$D181/1000)","v":0},null,{"$f":"IF(ISERROR(AA181*$D181/1000),0,AA181*$D181/1000)","v":0},null,{"$f":"IF(ISERROR(AC181*$D181/1000),0,AC181*$D181/1000)","v":0},null,{"$f":"IF(ISERROR(AE181*$D181/1000),0,AE181*$D181/1000)","v":0},null,0,null,0,null,0,null,0,null,0,null,0,null,null,null,null,null,null,"",null,0,null,0,null,0,null,0,null,0,null,0,null,0,null,0,null,0,null,0,null,0,null,0,null,0,null,0,null,0,null,0,null,0,null,0,null,null,null,null,null,null,"",null,0,null,0,null,{"$f":"IF(ISERROR(CU181*$CL181/1000),0,CU181*$CL181/1000)","v":0},null,{"$f":"IF(ISERROR(CW181*$CL181/1000),0,CW181*$CL181/1000)","v":0},null,{"$f":"IF(ISERROR(CY181*$CL181/1000),0,CY181*$CL181/1000)","v":0},null,{"$f":"IF(ISERROR(DA181*$CL181/1000),0,DA181*$CL181/1000)","v":0},null,{"$f":"IF(ISERROR(DC181*$CL181/1000),0,DC181*$CL181/1000)","v":0},null,{"$f":"IF(ISERROR(DE181*$CL181/1000),0,DE181*$CL181/1000)","v":0},null,{"$f":"IF(ISERROR(DG181*$CL181/1000),0,DG181*$CL181/1000)","v":0},null,{"$f":"IF(ISERROR(DI181*$CL181/1000),0,DI181*$CL181/1000)","v":0},null,{"$f":"IF(ISERROR(DK181*$CL181/1000),0,DK181*$CL181/1000)","v":0},null,{"$f":"IF(ISERROR(DM181*$CL181/1000),0,DM181*$CL181/1000)","v":0},null,0,null,0,null,0,null,0,null,0,null,{"$f":"IF(ISERROR(DY181*$CL181/1000),0,DY181*$CL181/1000)","v":0}]
[null,null,null,null,null,null,null,"",null,0,null,0,null,{"$f":"IF(ISERROR(M182*$D182/1000),0,M182*$D182/1000)","v":0},null,{"$f":"IF(ISERROR(O182*$D182/1000),0,O182*$D182/1000)","v":0},null,{"$f":"IF(ISERROR(Q182*$D182/1000),0,Q182*$D182/1000)","v":0},null,{"$f":"IF(ISERROR(S182*$D182/1000),0,S182*$D182/1000)","v":0},null,{"$f":"IF(ISERROR(U182*$D182/1000),0,U182*$D182/1000)","v":0},null,{"$f":"IF(ISERROR(W182*$D182/1000),0,W182*$D182/1000)","v":0},null,{"$f":"IF(ISERROR(Y182*$D182/1000),0,Y182*$D182/1000)","v":0},null,{"$f":"IF(ISERROR(AA182*$D182/1000),0,AA182*$D182/1000)","v":0},null,{"$f":"IF(ISERROR(AC182*$D182/1000),0,AC182*$D182/1000)","v":0},null,{"$f":"IF(ISERROR(AE182*$D182/1000),0,AE182*$D182/1000)","v":0},null,0,null,0,null,0,null,0,null,0,null,0,null,null,null,null,null,null,"",null,0,null,0,null,0,null,0,null,0,null,0,null,0,null,0,null,0,null,0,null,0,null,0,null,0,null,0,null,0,null,0,null,0,null,0,null,null,null,null,null,null,"",null,0,null,0,null,{"$f":"IF(ISERROR(CU182*$CL182/1000),0,CU182*$CL182/1000)","v":0},null,{"$f":"IF(ISERROR(CW182*$CL182/1000),0,CW182*$CL182/1000)","v":0},null,{"$f":"IF(ISERROR(CY182*$CL182/1000),0,CY182*$CL182/1000)","v":0},null,{"$f":"IF(ISERROR(DA182*$CL182/1000),0,DA182*$CL182/1000)","v":0},null,{"$f":"IF(ISERROR(DC182*$CL182/1000),0,DC182*$CL182/1000)","v":0},null,{"$f":"IF(ISERROR(DE182*$CL182/1000),0,DE182*$CL182/1000)","v":0},null,{"$f":"IF(ISERROR(DG182*$CL182/1000),0,DG182*$CL182/1000)","v":0},null,{"$f":"IF(ISERROR(DI182*$CL182/1000),0,DI182*$CL182/1000)","v":0},null,{"$f":"IF(ISERROR(DK182*$CL182/1000),0,DK182*$CL182/1000)","v":0},null,{"$f":"IF(ISERROR(DM182*$CL182/1000),0,DM182*$CL182/1000)","v":0},null,0,null,0,null,0,null,0,null,0,null,{"$f":"IF(ISERROR(DY182*$CL182/1000),0,DY182*$CL182/1000)","v":0}]
[null,null,null,null,null,null,null,"",null,0,null,0,null,{"$f":"IF(ISERROR(M183*$D183/1000),0,M183*$D183/1000)","v":0},null,{"$f":"IF(ISERROR(O183*$D183/1000),0,O183*$D183/1000)","v":0},null,{"$f":"IF(ISERROR(Q183*$D183/1000),0,Q183*$D183/1000)","v":0},null,{"$f":"IF(ISERROR(S183*$D183/1000),0,S183*$D183/1000)","v":0},null,{"$f":"IF(ISERROR(U183*$D183/1000),0,U183*$D183/1000)","v":0},null,{"$f":"IF(ISERROR(W183*$D183/1000),0,W183*$D183/1000)","v":0},null,{"$f":"IF(ISERROR(Y183*$D183/1000),0,Y183*$D183/1000)","v":0},null,{"$f":"IF(ISERROR(AA183*$D183/1000),0,AA183*$D183/1000)","v":0},null,{"$f":"IF(ISERROR(AC183*$D183/1000),0,AC183*$D183/1000)","v":0},null,{"$f":"IF(ISERROR(AE183*$D183/1000),0,AE183*$D183/1000)","v":0},null,0,null,0,null,0,null,0,null,0,null,0,null,null,null,null,null,null,"",null,0,null,0,null,0,null,0,null,0,null,0,null,0,null,0,null,0,null,0,null,0,null,0,null,0,null,0,null,0,null,0,null,0,null,0,null,null,null,null,null,null,"",null,0,null,0,null,{"$f":"IF(ISERROR(CU183*$CL183/1000),0,CU183*$CL183/1000)","v":0},null,{"$f":"IF(ISERROR(CW183*$CL183/1000),0,CW183*$CL183/1000)","v":0},null,{"$f":"IF(ISERROR(CY183*$CL183/1000),0,CY183*$CL183/1000)","v":0},null,{"$f":"IF(ISERROR(DA183*$CL183/1000),0,DA183*$CL183/1000)","v":0},null,{"$f":"IF(ISERROR(DC183*$CL183/1000),0,DC183*$CL183/1000)","v":0},null,{"$f":"IF(ISERROR(DE183*$CL183/1000),0,DE183*$CL183/1000)","v":0},null,{"$f":"IF(ISERROR(DG183*$CL183/1000),0,DG183*$CL183/1000)","v":0},null,{"$f":"IF(ISERROR(DI183*$CL183/1000),0,DI183*$CL183/1000)","v":0},null,{"$f":"IF(ISERROR(DK183*$CL183/1000),0,DK183*$CL183/1000)","v":0},null,{"$f":"IF(ISERROR(DM183*$CL183/1000),0,DM183*$CL183/1000)","v":0},null,0,null,0,null,0,null,0,null,0,null,{"$f":"IF(ISERROR(DY183*$CL183/1000),0,DY183*$CL183/1000)","v":0}]
[null,null,null,null,null,null,null,"",null,0,null,0,null,{"$f":"IF(ISERROR(M184*$D184/1000),0,M184*$D184/1000)","v":0},null,{"$f":"IF(ISERROR(O184*$D184/1000),0,O184*$D184/1000)","v":0},null,{"$f":"IF(ISERROR(Q184*$D184/1000),0,Q184*$D184/1000)","v":0},null,{"$f":"IF(ISERROR(S184*$D184/1000),0,S184*$D184/1000)","v":0},null,{"$f":"IF(ISERROR(U184*$D184/1000),0,U184*$D184/1000)","v":0},null,{"$f":"IF(ISERROR(W184*$D184/1000),0,W184*$D184/1000)","v":0},null,{"$f":"IF(ISERROR(Y184*$D184/1000),0,Y184*$D184/1000)","v":0},null,{"$f":"IF(ISERROR(AA184*$D184/1000),0,AA184*$D184/1000)","v":0},null,{"$f":"IF(ISERROR(AC184*$D184/1000),0,AC184*$D184/1000)","v":0},null,{"$f":"IF(ISERROR(AE184*$D184/1000),0,AE184*$D184/1000)","v":0},null,0,null,0,null,0,null,0,null,0,null,0,null,null,null,null,null,null,"",null,0,null,0,null,0,null,0,null,0,null,0,null,0,null,0,null,0,null,0,null,0,null,0,null,0,null,0,null,0,null,0,null,0,null,0,null,null,null,null,null,null,"",null,0,null,0,null,{"$f":"IF(ISERROR(CU184*$CL184/1000),0,CU184*$CL184/1000)","v":0},null,{"$f":"IF(ISERROR(CW184*$CL184/1000),0,CW184*$CL184/1000)","v":0},null,{"$f":"IF(ISERROR(CY184*$CL184/1000),0,CY184*$CL184/1000)","v":0},null,{"$f":"IF(ISERROR(DA184*$CL184/1000),0,DA184*$CL184/1000)","v":0},null,{"$f":"IF(ISERROR(DC184*$CL184/1000),0,DC184*$CL184/1000)","v":0},null,{"$f":"IF(ISERROR(DE184*$CL184/1000),0,DE184*$CL184/1000)","v":0},null,{"$f":"IF(ISERROR(DG184*$CL184/1000),0,DG184*$CL184/1000)","v":0},null,{"$f":"IF(ISERROR(DI184*$CL184/1000),0,DI184*$CL184/1000)","v":0},null,{"$f":"IF(ISERROR(DK184*$CL184/1000),0,DK184*$CL184/1000)","v":0},null,{"$f":"IF(ISERROR(DM184*$CL184/1000),0,DM184*$CL184/1000)","v":0},null,0,null,0,null,0,null,0,null,0,null,{"$f":"IF(ISERROR(DY184*$CL184/1000),0,DY184*$CL184/1000)","v":0}]
[null,null,null,null,null,null,null,"",null,0,null,0,null,{"$f":"IF(ISERROR(M185*$D185/1000),0,M185*$D185/1000)","v":0},null,{"$f":"IF(ISERROR(O185*$D185/1000),0,O185*$D185/1000)","v":0},null,{"$f":"IF(ISERROR(Q185*$D185/1000),0,Q185*$D185/1000)","v":0},null,{"$f":"IF(ISERROR(S185*$D185/1000),0,S185*$D185/1000)","v":0},null,{"$f":"IF(ISERROR(U185*$D185/1000),0,U185*$D185/1000)","v":0},null,{"$f":"IF(ISERROR(W185*$D185/1000),0,W185*$D185/1000)","v":0},null,{"$f":"IF(ISERROR(Y185*$D185/1000),0,Y185*$D185/1000)","v":0},null,{"$f":"IF(ISERROR(AA185*$D185/1000),0,AA185*$D185/1000)","v":0},null,{"$f":"IF(ISERROR(AC185*$D185/1000),0,AC185*$D185/1000)","v":0},null,{"$f":"IF(ISERROR(AE185*$D185/1000),0,AE185*$D185/1000)","v":0},null,0,null,0,null,0,null,0,null,0,null,0,null,null,null,null,null,null,"",null,0,null,0,null,0,null,0,null,0,null,0,null,0,null,0,null,0,null,0,null,0,null,0,null,0,null,0,null,0,null,0,null,0,null,0,null,null,null,null,null,null,"",null,0,null,0,null,{"$f":"IF(ISERROR(CU185*$CL185/1000),0,CU185*$CL185/1000)","v":0},null,{"$f":"IF(ISERROR(CW185*$CL185/1000),0,CW185*$CL185/1000)","v":0},null,{"$f":"IF(ISERROR(CY185*$CL185/1000),0,CY185*$CL185/1000)","v":0},null,{"$f":"IF(ISERROR(DA185*$CL185/1000),0,DA185*$CL185/1000)","v":0},null,{"$f":"IF(ISERROR(DC185*$CL185/1000),0,DC185*$CL185/1000)","v":0},null,{"$f":"IF(ISERROR(DE185*$CL185/1000),0,DE185*$CL185/1000)","v":0},null,{"$f":"IF(ISERROR(DG185*$CL185/1000),0,DG185*$CL185/1000)","v":0},null,{"$f":"IF(ISERROR(DI185*$CL185/1000),0,DI185*$CL185/1000)","v":0},null,{"$f":"IF(ISERROR(DK185*$CL185/1000),0,DK185*$CL185/1000)","v":0},null,{"$f":"IF(ISERROR(DM185*$CL185/1000),0,DM185*$CL185/1000)","v":0},null,0,null,0,null,0,null,0,null,0,null,{"$f":"IF(ISERROR(DY185*$CL185/1000),0,DY185*$CL185/1000)","v":0}]
[null,null,null,null,null,null,null,"",null,0,null,0,null,{"$f":"IF(ISERROR(M186*$D186/1000),0,M186*$D186/1000)","v":0},null,{"$f":"IF(ISERROR(O186*$D186/1000),0,O186*$D186/1000)","v":0},null,{"$f":"IF(ISERROR(Q186*$D186/1000),0,Q186*$D186/1000)","v":0},null,{"$f":"IF(ISERROR(S186*$D186/1000),0,S186*$D186/1000)","v":0},null,{"$f":"IF(ISERROR(U186*$D186/1000),0,U186*$D186/1000)","v":0},null,{"$f":"IF(ISERROR(W186*$D186/1000),0,W186*$D186/1000)","v":0},null,{"$f":"IF(ISERROR(Y186*$D186/1000),0,Y186*$D186/1000)","v":0},null,{"$f":"IF(ISERROR(AA186*$D186/1000),0,AA186*$D186/1000)","v":0},null,{"$f":"IF(ISERROR(AC186*$D186/1000),0,AC186*$D186/1000)","v":0},null,{"$f":"IF(ISERROR(AE186*$D186/1000),0,AE186*$D186/1000)","v":0},null,0,null,0,null,0,null,0,null,0,null,0,null,null,null,null,null,null,"",null,0,null,0,null,0,null,0,null,0,null,0,null,0,null,0,null,0,null,0,null,0,null,0,null,0,null,0,null,0,null,0,null,0,null,0,null,null,null,null,null,null,"",null,0,null,0,null,{"$f":"IF(ISERROR(CU186*$CL186/1000),0,CU186*$CL186/1000)","v":0},null,{"$f":"IF(ISERROR(CW186*$CL186/1000),0,CW186*$CL186/1000)","v":0},null,{"$f":"IF(ISERROR(CY186*$CL186/1000),0,CY186*$CL186/1000)","v":0},null,{"$f":"IF(ISERROR(DA186*$CL186/1000),0,DA186*$CL186/1000)","v":0},null,{"$f":"IF(ISERROR(DC186*$CL186/1000),0,DC186*$CL186/1000)","v":0},null,{"$f":"IF(ISERROR(DE186*$CL186/1000),0,DE186*$CL186/1000)","v":0},null,{"$f":"IF(ISERROR(DG186*$CL186/1000),0,DG186*$CL186/1000)","v":0},null,{"$f":"IF(ISERROR(DI186*$CL186/1000),0,DI186*$CL186/1000)","v":0},null,{"$f":"IF(ISERROR(DK186*$CL186/1000),0,DK186*$CL186/1000)","v":0},null,{"$f":"IF(ISERROR(DM186*$CL186/1000),0,DM186*$CL186/1000)","v":0},null,0,null,0,null,0,null,0,null,0,null,{"$f":"IF(ISERROR(DY186*$CL186/1000),0,DY186*$CL186/1000)","v":0}]
[null,null,null,null,null,null,null,"",null,0,null,0,null,{"$f":"IF(ISERROR(M187*$D187/1000),0,M187*$D187/1000)","v":0},null,{"$f":"IF(ISERROR(O187*$D187/1000),0,O187*$D187/1000)","v":0},null,{"$f":"IF(ISERROR(Q187*$D187/1000),0,Q187*$D187/1000)","v":0},null,{"$f":"IF(ISERROR(S187*$D187/1000),0,S187*$D187/1000)","v":0},null,{"$f":"IF(ISERROR(U187*$D187/1000),0,U187*$D187/1000)","v":0},null,{"$f":"IF(ISERROR(W187*$D187/1000),0,W187*$D187/1000)","v":0},null,{"$f":"IF(ISERROR(Y187*$D187/1000),0,Y187*$D187/1000)","v":0},null,{"$f":"IF(ISERROR(AA187*$D187/1000),0,AA187*$D187/1000)","v":0},null,{"$f":"IF(ISERROR(AC187*$D187/1000),0,AC187*$D187/1000)","v":0},null,{"$f":"IF(ISERROR(AE187*$D187/1000),0,AE187*$D187/1000)","v":0},null,0,null,0,null,0,null,0,null,0,null,0,null,null,null,null,null,null,"",null,0,null,0,null,0,null,0,null,0,null,0,null,0,null,0,null,0,null,0,null,0,null,0,null,0,null,0,null,0,null,0,null,0,null,0,null,null,null,null,null,null,"",null,0,null,0,null,{"$f":"IF(ISERROR(CU187*$CL187/1000),0,CU187*$CL187/1000)","v":0},null,{"$f":"IF(ISERROR(CW187*$CL187/1000),0,CW187*$CL187/1000)","v":0},null,{"$f":"IF(ISERROR(CY187*$CL187/1000),0,CY187*$CL187/1000)","v":0},null,{"$f":"IF(ISERROR(DA187*$CL187/1000),0,DA187*$CL187/1000)","v":0},null,{"$f":"IF(ISERROR(DC187*$CL187/1000),0,DC187*$CL187/1000)","v":0},null,{"$f":"IF(ISERROR(DE187*$CL187/1000),0,DE187*$CL187/1000)","v":0},null,{"$f":"IF(ISERROR(DG187*$CL187/1000),0,DG187*$CL187/1000)","v":0},null,{"$f":"IF(ISERROR(DI187*$CL187/1000),0,DI187*$CL187/1000)","v":0},null,{"$f":"IF(ISERROR(DK187*$CL187/1000),0,DK187*$CL187/1000)","v":0},null,{"$f":"IF(ISERROR(DM187*$CL187/1000),0,DM187*$CL187/1000)","v":0},null,0,null,0,null,0,null,0,null,0,null,{"$f":"IF(ISERROR(DY187*$CL187/1000),0,DY187*$CL187/1000)","v":0}]
[null,null,null,null,null,null,null,"",null,0,null,0,null,{"$f":"IF(ISERROR(M188*$D188/1000),0,M188*$D188/1000)","v":0},null,{"$f":"IF(ISERROR(O188*$D188/1000),0,O188*$D188/1000)","v":0},null,{"$f":"IF(ISERROR(Q188*$D188/1000),0,Q188*$D188/1000)","v":0},null,{"$f":"IF(ISERROR(S188*$D188/1000),0,S188*$D188/1000)","v":0},null,{"$f":"IF(ISERROR(U188*$D188/1000),0,U188*$D188/1000)","v":0},null,{"$f":"IF(ISERROR(W188*$D188/1000),0,W188*$D188/1000)","v":0},null,{"$f":"IF(ISERROR(Y188*$D188/1000),0,Y188*$D188/1000)","v":0},null,{"$f":"IF(ISERROR(AA188*$D188/1000),0,AA188*$D188/1000)","v":0},null,{"$f":"IF(ISERROR(AC188*$D188/1000),0,AC188*$D188/1000)","v":0},null,{"$f":"IF(ISERROR(AE188*$D188/1000),0,AE188*$D188/1000)","v":0},null,0,null,0,null,0,null,0,null,0,null,0,null,null,null,null,null,null,"",null,0,null,0,null,0,null,0,null,0,null,0,null,0,null,0,null,0,null,0,null,0,null,0,null,0,null,0,null,0,null,0,null,0,null,0,null,null,null,null,null,null,"",null,0,null,0,null,{"$f":"IF(ISERROR(CU188*$CL188/1000),0,CU188*$CL188/1000)","v":0},null,{"$f":"IF(ISERROR(CW188*$CL188/1000),0,CW188*$CL188/1000)","v":0},null,{"$f":"IF(ISERROR(CY188*$CL188/1000),0,CY188*$CL188/1000)","v":0},null,{"$f":"IF(ISERROR(DA188*$CL188/1000),0,DA188*$CL188/1000)","v":0},null,{"$f":"IF(ISERROR(DC188*$CL188/1000),0,DC188*$CL188/1000)","v":0},null,{"$f":"IF(ISERROR(DE188*$CL188/1000),0,DE188*$CL188/1000)","v":0},null,{"$f":"IF(ISERROR(DG188*$CL188/1000),0,DG188*$CL188/1000)","v":0},null,{"$f":"IF(ISERROR(DI188*$CL188/1000),0,DI188*$CL188/1000)","v":0},null,{"$f":"IF(ISERROR(DK188*$CL188/1000),0,DK188*$CL188/1000)","v":0},null,{"$f":"IF(ISERROR(DM188*$CL188/1000),0,DM188*$CL188/1000)","v":0},null,0,null,0,null,0,null,0,null,0,null,{"$f":"IF(ISERROR(DY188*$CL188/1000),0,DY188*$CL188/1000)","v":0}]
[null,null,null,null,null,null,null,"",null,0,null,0,null,{"$f":"IF(ISERROR(M189*$D189/1000),0,M189*$D189/1000)","v":0},null,{"$f":"IF(ISERROR(O189*$D189/1000),0,O189*$D189/1000)","v":0},null,{"$f":"IF(ISERROR(Q189*$D189/1000),0,Q189*$D189/1000)","v":0},null,{"$f":"IF(ISERROR(S189*$D189/1000),0,S189*$D189/1000)","v":0},null,{"$f":"IF(ISERROR(U189*$D189/1000),0,U189*$D189/1000)","v":0},null,{"$f":"IF(ISERROR(W189*$D189/1000),0,W189*$D189/1000)","v":0},null,{"$f":"IF(ISERROR(Y189*$D189/1000),0,Y189*$D189/1000)","v":0},null,{"$f":"IF(ISERROR(AA189*$D189/1000),0,AA189*$D189/1000)","v":0},null,{"$f":"IF(ISERROR(AC189*$D189/1000),0,AC189*$D189/1000)","v":0},null,{"$f":"IF(ISERROR(AE189*$D189/1000),0,AE189*$D189/1000)","v":0},null,0,null,0,null,0,null,0,null,0,null,0,null,null,null,null,null,null,"",null,0,null,0,null,0,null,0,null,0,null,0,null,0,null,0,null,0,null,0,null,0,null,0,null,0,null,0,null,0,null,0,null,0,null,0,null,null,null,null,null,null,"",null,0,null,0,null,{"$f":"IF(ISERROR(CU189*$CL189/1000),0,CU189*$CL189/1000)","v":0},null,{"$f":"IF(ISERROR(CW189*$CL189/1000),0,CW189*$CL189/1000)","v":0},null,{"$f":"IF(ISERROR(CY189*$CL189/1000),0,CY189*$CL189/1000)","v":0},null,{"$f":"IF(ISERROR(DA189*$CL189/1000),0,DA189*$CL189/1000)","v":0},null,{"$f":"IF(ISERROR(DC189*$CL189/1000),0,DC189*$CL189/1000)","v":0},null,{"$f":"IF(ISERROR(DE189*$CL189/1000),0,DE189*$CL189/1000)","v":0},null,{"$f":"IF(ISERROR(DG189*$CL189/1000),0,DG189*$CL189/1000)","v":0},null,{"$f":"IF(ISERROR(DI189*$CL189/1000),0,DI189*$CL189/1000)","v":0},null,{"$f":"IF(ISERROR(DK189*$CL189/1000),0,DK189*$CL189/1000)","v":0},null,{"$f":"IF(ISERROR(DM189*$CL189/1000),0,DM189*$CL189/1000)","v":0},null,0,null,0,null,0,null,0,null,0,null,{"$f":"IF(ISERROR(DY189*$CL189/1000),0,DY189*$CL189/1000)","v":0}]
[null,null,null,null,null,null,null,"",null,0,null,0,null,{"$f":"IF(ISERROR(M190*$D190/1000),0,M190*$D190/1000)","v":0},null,{"$f":"IF(ISERROR(O190*$D190/1000),0,O190*$D190/1000)","v":0},null,{"$f":"IF(ISERROR(Q190*$D190/1000),0,Q190*$D190/1000)","v":0},null,{"$f":"IF(ISERROR(S190*$D190/1000),0,S190*$D190/1000)","v":0},null,{"$f":"IF(ISERROR(U190*$D190/1000),0,U190*$D190/1000)","v":0},null,{"$f":"IF(ISERROR(W190*$D190/1000),0,W190*$D190/1000)","v":0},null,{"$f":"IF(ISERROR(Y190*$D190/1000),0,Y190*$D190/1000)","v":0},null,{"$f":"IF(ISERROR(AA190*$D190/1000),0,AA190*$D190/1000)","v":0},null,{"$f":"IF(ISERROR(AC190*$D190/1000),0,AC190*$D190/1000)","v":0},null,{"$f":"IF(ISERROR(AE190*$D190/1000),0,AE190*$D190/1000)","v":0},null,0,null,0,null,0,null,0,null,0,null,0,null,null,null,null,null,null,"",null,0,null,0,null,0,null,0,null,0,null,0,null,0,null,0,null,0,null,0,null,0,null,0,null,0,null,0,null,0,null,0,null,0,null,0,null,null,null,null,null,null,"",null,0,null,0,null,{"$f":"IF(ISERROR(CU190*$CL190/1000),0,CU190*$CL190/1000)","v":0},null,{"$f":"IF(ISERROR(CW190*$CL190/1000),0,CW190*$CL190/1000)","v":0},null,{"$f":"IF(ISERROR(CY190*$CL190/1000),0,CY190*$CL190/1000)","v":0},null,{"$f":"IF(ISERROR(DA190*$CL190/1000),0,DA190*$CL190/1000)","v":0},null,{"$f":"IF(ISERROR(DC190*$CL190/1000),0,DC190*$CL190/1000)","v":0},null,{"$f":"IF(ISERROR(DE190*$CL190/1000),0,DE190*$CL190/1000)","v":0},null,{"$f":"IF(ISERROR(DG190*$CL190/1000),0,DG190*$CL190/1000)","v":0},null,{"$f":"IF(ISERROR(DI190*$CL190/1000),0,DI190*$CL190/1000)","v":0},null,{"$f":"IF(ISERROR(DK190*$CL190/1000),0,DK190*$CL190/1000)","v":0},null,{"$f":"IF(ISERROR(DM190*$CL190/1000),0,DM190*$CL190/1000)","v":0},null,0,null,0,null,0,null,0,null,0,null,{"$f":"IF(ISERROR(DY190*$CL190/1000),0,DY190*$CL190/1000)","v":0}]
[null,null,null,null,null,null,null,"",null,0,null,0,null,{"$f":"IF(ISERROR(M191*$D191/1000),0,M191*$D191/1000)","v":0},null,{"$f":"IF(ISERROR(O191*$D191/1000),0,O191*$D191/1000)","v":0},null,{"$f":"IF(ISERROR(Q191*$D191/1000),0,Q191*$D191/1000)","v":0},null,{"$f":"IF(ISERROR(S191*$D191/1000),0,S191*$D191/1000)","v":0},null,{"$f":"IF(ISERROR(U191*$D191/1000),0,U191*$D191/1000)","v":0},null,{"$f":"IF(ISERROR(W191*$D191/1000),0,W191*$D191/1000)","v":0},null,{"$f":"IF(ISERROR(Y191*$D191/1000),0,Y191*$D191/1000)","v":0},null,{"$f":"IF(ISERROR(AA191*$D191/1000),0,AA191*$D191/1000)","v":0},null,{"$f":"IF(ISERROR(AC191*$D191/1000),0,AC191*$D191/1000)","v":0},null,{"$f":"IF(ISERROR(AE191*$D191/1000),0,AE191*$D191/1000)","v":0},null,0,null,0,null,0,null,0,null,0,null,0,null,null,null,null,null,null,"",null,0,null,0,null,0,null,0,null,0,null,0,null,0,null,0,null,0,null,0,null,0,null,0,null,0,null,0,null,0,null,0,null,0,null,0,null,null,null,null,null,null,"",null,0,null,0,null,{"$f":"IF(ISERROR(CU191*$CL191/1000),0,CU191*$CL191/1000)","v":0},null,{"$f":"IF(ISERROR(CW191*$CL191/1000),0,CW191*$CL191/1000)","v":0},null,{"$f":"IF(ISERROR(CY191*$CL191/1000),0,CY191*$CL191/1000)","v":0},null,{"$f":"IF(ISERROR(DA191*$CL191/1000),0,DA191*$CL191/1000)","v":0},null,{"$f":"IF(ISERROR(DC191*$CL191/1000),0,DC191*$CL191/1000)","v":0},null,{"$f":"IF(ISERROR(DE191*$CL191/1000),0,DE191*$CL191/1000)","v":0},null,{"$f":"IF(ISERROR(DG191*$CL191/1000),0,DG191*$CL191/1000)","v":0},null,{"$f":"IF(ISERROR(DI191*$CL191/1000),0,DI191*$CL191/1000)","v":0},null,{"$f":"IF(ISERROR(DK191*$CL191/1000),0,DK191*$CL191/1000)","v":0},null,{"$f":"IF(ISERROR(DM191*$CL191/1000),0,DM191*$CL191/1000)","v":0},null,0,null,0,null,0,null,0,null,0,null,{"$f":"IF(ISERROR(DY191*$CL191/1000),0,DY191*$CL191/1000)","v":0}]
[null,null,null,null,null,null,null,"",null,0,null,0,null,{"$f":"IF(ISERROR(M192*$D192/1000),0,M192*$D192/1000)","v":0},null,{"$f":"IF(ISERROR(O192*$D192/1000),0,O192*$D192/1000)","v":0},null,{"$f":"IF(ISERROR(Q192*$D192/1000),0,Q192*$D192/1000)","v":0},null,{"$f":"IF(ISERROR(S192*$D192/1000),0,S192*$D192/1000)","v":0},null,{"$f":"IF(ISERROR(U192*$D192/1000),0,U192*$D192/1000)","v":0},null,{"$f":"IF(ISERROR(W192*$D192/1000),0,W192*$D192/1000)","v":0},null,{"$f":"IF(ISERROR(Y192*$D192/1000),0,Y192*$D192/1000)","v":0},null,{"$f":"IF(ISERROR(AA192*$D192/1000),0,AA192*$D192/1000)","v":0},null,{"$f":"IF(ISERROR(AC192*$D192/1000),0,AC192*$D192/1000)","v":0},null,{"$f":"IF(ISERROR(AE192*$D192/1000),0,AE192*$D192/1000)","v":0},null,0,null,0,null,0,null,0,null,0,null,0,null,null,null,null,null,null,"",null,0,null,0,null,0,null,0,null,0,null,0,null,0,null,0,null,0,null,0,null,0,null,0,null,0,null,0,null,0,null,0,null,0,null,0,null,null,null,null,null,null,"",null,0,null,0,null,{"$f":"IF(ISERROR(CU192*$CL192/1000),0,CU192*$CL192/1000)","v":0},null,{"$f":"IF(ISERROR(CW192*$CL192/1000),0,CW192*$CL192/1000)","v":0},null,{"$f":"IF(ISERROR(CY192*$CL192/1000),0,CY192*$CL192/1000)","v":0},null,{"$f":"IF(ISERROR(DA192*$CL192/1000),0,DA192*$CL192/1000)","v":0},null,{"$f":"IF(ISERROR(DC192*$CL192/1000),0,DC192*$CL192/1000)","v":0},null,{"$f":"IF(ISERROR(DE192*$CL192/1000),0,DE192*$CL192/1000)","v":0},null,{"$f":"IF(ISERROR(DG192*$CL192/1000),0,DG192*$CL192/1000)","v":0},null,{"$f":"IF(ISERROR(DI192*$CL192/1000),0,DI192*$CL192/1000)","v":0},null,{"$f":"IF(ISERROR(DK192*$CL192/1000),0,DK192*$CL192/1000)","v":0},null,{"$f":"IF(ISERROR(DM192*$CL192/1000),0,DM192*$CL192/1000)","v":0},null,0,null,0,null,0,null,0,null,0,null,{"$f":"IF(ISERROR(DY192*$CL192/1000),0,DY192*$CL192/1000)","v":0}]
[null,null,null,null,null,null,null,"",null,0,null,0,null,{"$f":"IF(ISERROR(M193*$D193/1000),0,M193*$D193/1000)","v":0},null,{"$f":"IF(ISERROR(O193*$D193/1000),0,O193*$D193/1000)","v":0},null,{"$f":"IF(ISERROR(Q193*$D193/1000),0,Q193*$D193/1000)","v":0},null,{"$f":"IF(ISERROR(S193*$D193/1000),0,S193*$D193/1000)","v":0},null,{"$f":"IF(ISERROR(U193*$D193/1000),0,U193*$D193/1000)","v":0},null,{"$f":"IF(ISERROR(W193*$D193/1000),0,W193*$D193/1000)","v":0},null,{"$f":"IF(ISERROR(Y193*$D193/1000),0,Y193*$D193/1000)","v":0},null,{"$f":"IF(ISERROR(AA193*$D193/1000),0,AA193*$D193/1000)","v":0},null,{"$f":"IF(ISERROR(AC193*$D193/1000),0,AC193*$D193/1000)","v":0},null,{"$f":"IF(ISERROR(AE193*$D193/1000),0,AE193*$D193/1000)","v":0},null,0,null,0,null,0,null,0,null,0,null,0,null,null,null,null,null,null,"",null,0,null,0,null,0,null,0,null,0,null,0,null,0,null,0,null,0,null,0,null,0,null,0,null,0,null,0,null,0,null,0,null,0,null,0,null,null,null,null,null,null,"",null,0,null,0,null,{"$f":"IF(ISERROR(CU193*$CL193/1000),0,CU193*$CL193/1000)","v":0},null,{"$f":"IF(ISERROR(CW193*$CL193/1000),0,CW193*$CL193/1000)","v":0},null,{"$f":"IF(ISERROR(CY193*$CL193/1000),0,CY193*$CL193/1000)","v":0},null,{"$f":"IF(ISERROR(DA193*$CL193/1000),0,DA193*$CL193/1000)","v":0},null,{"$f":"IF(ISERROR(DC193*$CL193/1000),0,DC193*$CL193/1000)","v":0},null,{"$f":"IF(ISERROR(DE193*$CL193/1000),0,DE193*$CL193/1000)","v":0},null,{"$f":"IF(ISERROR(DG193*$CL193/1000),0,DG193*$CL193/1000)","v":0},null,{"$f":"IF(ISERROR(DI193*$CL193/1000),0,DI193*$CL193/1000)","v":0},null,{"$f":"IF(ISERROR(DK193*$CL193/1000),0,DK193*$CL193/1000)","v":0},null,{"$f":"IF(ISERROR(DM193*$CL193/1000),0,DM193*$CL193/1000)","v":0},null,0,null,0,null,0,null,0,null,0,null,{"$f":"IF(ISERROR(DY193*$CL193/1000),0,DY193*$CL193/1000)","v":0}]
[null,null,null,null,null,null,null,"",null,0,null,0,null,{"$f":"IF(ISERROR(M194*$D194/1000),0,M194*$D194/1000)","v":0},null,{"$f":"IF(ISERROR(O194*$D194/1000),0,O194*$D194/1000)","v":0},null,{"$f":"IF(ISERROR(Q194*$D194/1000),0,Q194*$D194/1000)","v":0},null,{"$f":"IF(ISERROR(S194*$D194/1000),0,S194*$D194/1000)","v":0},null,{"$f":"IF(ISERROR(U194*$D194/1000),0,U194*$D194/1000)","v":0},null,{"$f":"IF(ISERROR(W194*$D194/1000),0,W194*$D194/1000)","v":0},null,{"$f":"IF(ISERROR(Y194*$D194/1000),0,Y194*$D194/1000)","v":0},null,{"$f":"IF(ISERROR(AA194*$D194/1000),0,AA194*$D194/1000)","v":0},null,{"$f":"IF(ISERROR(AC194*$D194/1000),0,AC194*$D194/1000)","v":0},null,{"$f":"IF(ISERROR(AE194*$D194/1000),0,AE194*$D194/1000)","v":0},null,0,null,0,null,0,null,0,null,0,null,0,null,null,null,null,null,null,"",null,0,null,0,null,0,null,0,null,0,null,0,null,0,null,0,null,0,null,0,null,0,null,0,null,0,null,0,null,0,null,0,null,0,null,0,null,null,null,null,null,null,"",null,0,null,0,null,{"$f":"IF(ISERROR(CU194*$CL194/1000),0,CU194*$CL194/1000)","v":0},null,{"$f":"IF(ISERROR(CW194*$CL194/1000),0,CW194*$CL194/1000)","v":0},null,{"$f":"IF(ISERROR(CY194*$CL194/1000),0,CY194*$CL194/1000)","v":0},null,{"$f":"IF(ISERROR(DA194*$CL194/1000),0,DA194*$CL194/1000)","v":0},null,{"$f":"IF(ISERROR(DC194*$CL194/1000),0,DC194*$CL194/1000)","v":0},null,{"$f":"IF(ISERROR(DE194*$CL194/1000),0,DE194*$CL194/1000)","v":0},null,{"$f":"IF(ISERROR(DG194*$CL194/1000),0,DG194*$CL194/1000)","v":0},null,{"$f":"IF(ISERROR(DI194*$CL194/1000),0,DI194*$CL194/1000)","v":0},null,{"$f":"IF(ISERROR(DK194*$CL194/1000),0,DK194*$CL194/1000)","v":0},null,{"$f":"IF(ISERROR(DM194*$CL194/1000),0,DM194*$CL194/1000)","v":0},null,0,null,0,null,0,null,0,null,0,null,{"$f":"IF(ISERROR(DY194*$CL194/1000),0,DY194*$CL194/1000)","v":0}]
[null,null,null,null,null,null,null,"",null,0,null,0,null,{"$f":"IF(ISERROR(M195*$D195/1000),0,M195*$D195/1000)","v":0},null,{"$f":"IF(ISERROR(O195*$D195/1000),0,O195*$D195/1000)","v":0},null,{"$f":"IF(ISERROR(Q195*$D195/1000),0,Q195*$D195/1000)","v":0},null,{"$f":"IF(ISERROR(S195*$D195/1000),0,S195*$D195/1000)","v":0},null,{"$f":"IF(ISERROR(U195*$D195/1000),0,U195*$D195/1000)","v":0},null,{"$f":"IF(ISERROR(W195*$D195/1000),0,W195*$D195/1000)","v":0},null,{"$f":"IF(ISERROR(Y195*$D195/1000),0,Y195*$D195/1000)","v":0},null,{"$f":"IF(ISERROR(AA195*$D195/1000),0,AA195*$D195/1000)","v":0},null,{"$f":"IF(ISERROR(AC195*$D195/1000),0,AC195*$D195/1000)","v":0},null,{"$f":"IF(ISERROR(AE195*$D195/1000),0,AE195*$D195/1000)","v":0},null,0,null,0,null,0,null,0,null,0,null,0,null,null,null,null,null,null,"",null,0,null,0,null,0,null,0,null,0,null,0,null,0,null,0,null,0,null,0,null,0,null,0,null,0,null,0,null,0,null,0,null,0,null,0,null,null,null,null,null,null,"",null,0,null,0,null,{"$f":"IF(ISERROR(CU195*$CL195/1000),0,CU195*$CL195/1000)","v":0},null,{"$f":"IF(ISERROR(CW195*$CL195/1000),0,CW195*$CL195/1000)","v":0},null,{"$f":"IF(ISERROR(CY195*$CL195/1000),0,CY195*$CL195/1000)","v":0},null,{"$f":"IF(ISERROR(DA195*$CL195/1000),0,DA195*$CL195/1000)","v":0},null,{"$f":"IF(ISERROR(DC195*$CL195/1000),0,DC195*$CL195/1000)","v":0},null,{"$f":"IF(ISERROR(DE195*$CL195/1000),0,DE195*$CL195/1000)","v":0},null,{"$f":"IF(ISERROR(DG195*$CL195/1000),0,DG195*$CL195/1000)","v":0},null,{"$f":"IF(ISERROR(DI195*$CL195/1000),0,DI195*$CL195/1000)","v":0},null,{"$f":"IF(ISERROR(DK195*$CL195/1000),0,DK195*$CL195/1000)","v":0},null,{"$f":"IF(ISERROR(DM195*$CL195/1000),0,DM195*$CL195/1000)","v":0},null,0,null,0,null,0,null,0,null,0,null,{"$f":"IF(ISERROR(DY195*$CL195/1000),0,DY195*$CL195/1000)","v":0}]
[null,null,null,null,null,null,null,"",null,0,null,0,null,{"$f":"IF(ISERROR(M196*$D196/1000),0,M196*$D196/1000)","v":0},null,{"$f":"IF(ISERROR(O196*$D196/1000),0,O196*$D196/1000)","v":0},null,{"$f":"IF(ISERROR(Q196*$D196/1000),0,Q196*$D196/1000)","v":0},null,{"$f":"IF(ISERROR(S196*$D196/1000),0,S196*$D196/1000)","v":0},null,{"$f":"IF(ISERROR(U196*$D196/1000),0,U196*$D196/1000)","v":0},null,{"$f":"IF(ISERROR(W196*$D196/1000),0,W196*$D196/1000)","v":0},null,{"$f":"IF(ISERROR(Y196*$D196/1000),0,Y196*$D196/1000)","v":0},null,{"$f":"IF(ISERROR(AA196*$D196/1000),0,AA196*$D196/1000)","v":0},null,{"$f":"IF(ISERROR(AC196*$D196/1000),0,AC196*$D196/1000)","v":0},null,{"$f":"IF(ISERROR(AE196*$D196/1000),0,AE196*$D196/1000)","v":0},null,0,null,0,null,0,null,0,null,0,null,0,null,null,null,null,null,null,"",null,0,null,0,null,0,null,0,null,0,null,0,null,0,null,0,null,0,null,0,null,0,null,0,null,0,null,0,null,0,null,0,null,0,null,0,null,null,null,null,null,null,"",null,0,null,0,null,{"$f":"IF(ISERROR(CU196*$CL196/1000),0,CU196*$CL196/1000)","v":0},null,{"$f":"IF(ISERROR(CW196*$CL196/1000),0,CW196*$CL196/1000)","v":0},null,{"$f":"IF(ISERROR(CY196*$CL196/1000),0,CY196*$CL196/1000)","v":0},null,{"$f":"IF(ISERROR(DA196*$CL196/1000),0,DA196*$CL196/1000)","v":0},null,{"$f":"IF(ISERROR(DC196*$CL196/1000),0,DC196*$CL196/1000)","v":0},null,{"$f":"IF(ISERROR(DE196*$CL196/1000),0,DE196*$CL196/1000)","v":0},null,{"$f":"IF(ISERROR(DG196*$CL196/1000),0,DG196*$CL196/1000)","v":0},null,{"$f":"IF(ISERROR(DI196*$CL196/1000),0,DI196*$CL196/1000)","v":0},null,{"$f":"IF(ISERROR(DK196*$CL196/1000),0,DK196*$CL196/1000)","v":0},null,{"$f":"IF(ISERROR(DM196*$CL196/1000),0,DM196*$CL196/1000)","v":0},null,0,null,0,null,0,null,0,null,0,null,{"$f":"IF(ISERROR(DY196*$CL196/1000),0,DY196*$CL196/1000)","v":0}]
[null,null,null,null,null,null,null,"",null,0,null,0,null,{"$f":"IF(ISERROR(M197*$D197/1000),0,M197*$D197/1000)","v":0},null,{"$f":"IF(ISERROR(O197*$D197/1000),0,O197*$D197/1000)","v":0},null,{"$f":"IF(ISERROR(Q197*$D197/1000),0,Q197*$D197/1000)","v":0},null,{"$f":"IF(ISERROR(S197*$D197/1000),0,S197*$D197/1000)","v":0},null,{"$f":"IF(ISERROR(U197*$D197/1000),0,U197*$D197/1000)","v":0},null,{"$f":"IF(ISERROR(W197*$D197/1000),0,W197*$D197/1000)","v":0},null,{"$f":"IF(ISERROR(Y197*$D197/1000),0,Y197*$D197/1000)","v":0},null,{"$f":"IF(ISERROR(AA197*$D197/1000),0,AA197*$D197/1000)","v":0},null,{"$f":"IF(ISERROR(AC197*$D197/1000),0,AC197*$D197/1000)","v":0},null,{"$f":"IF(ISERROR(AE197*$D197/1000),0,AE197*$D197/1000)","v":0},null,0,null,0,null,0,null,0,null,0,null,0,null,null,null,null,null,null,"",null,0,null,0,null,0,null,0,null,0,null,0,null,0,null,0,null,0,null,0,null,0,null,0,null,0,null,0,null,0,null,0,null,0,null,0,null,null,null,null,null,null,"",null,0,null,0,null,{"$f":"IF(ISERROR(CU197*$CL197/1000),0,CU197*$CL197/1000)","v":0},null,{"$f":"IF(ISERROR(CW197*$CL197/1000),0,CW197*$CL197/1000)","v":0},null,{"$f":"IF(ISERROR(CY197*$CL197/1000),0,CY197*$CL197/1000)","v":0},null,{"$f":"IF(ISERROR(DA197*$CL197/1000),0,DA197*$CL197/1000)","v":0},null,{"$f":"IF(ISERROR(DC197*$CL197/1000),0,DC197*$CL197/1000)","v":0},null,{"$f":"IF(ISERROR(DE197*$CL197/1000),0,DE197*$CL197/1000)","v":0},null,{"$f":"IF(ISERROR(DG197*$CL197/1000),0,DG197*$CL197/1000)","v":0},null,{"$f":"IF(ISERROR(DI197*$CL197/1000),0,DI197*$CL197/1000)","v":0},null,{"$f":"IF(ISERROR(DK197*$CL197/1000),0,DK197*$CL197/1000)","v":0},null,{"$f":"IF(ISERROR(DM197*$CL197/1000),0,DM197*$CL197/1000)","v":0},null,0,null,0,null,0,null,0,null,0,null,{"$f":"IF(ISERROR(DY197*$CL197/1000),0,DY197*$CL197/1000)","v":0}]
[null,null,null,null,null,null,null,"",null,0,null,0,null,{"$f":"IF(ISERROR(M198*$D198/1000),0,M198*$D198/1000)","v":0},null,{"$f":"IF(ISERROR(O198*$D198/1000),0,O198*$D198/1000)","v":0},null,{"$f":"IF(ISERROR(Q198*$D198/1000),0,Q198*$D198/1000)","v":0},null,{"$f":"IF(ISERROR(S198*$D198/1000),0,S198*$D198/1000)","v":0},null,{"$f":"IF(ISERROR(U198*$D198/1000),0,U198*$D198/1000)","v":0},null,{"$f":"IF(ISERROR(W198*$D198/1000),0,W198*$D198/1000)","v":0},null,{"$f":"IF(ISERROR(Y198*$D198/1000),0,Y198*$D198/1000)","v":0},null,{"$f":"IF(ISERROR(AA198*$D198/1000),0,AA198*$D198/1000)","v":0},null,{"$f":"IF(ISERROR(AC198*$D198/1000),0,AC198*$D198/1000)","v":0},null,{"$f":"IF(ISERROR(AE198*$D198/1000),0,AE198*$D198/1000)","v":0},null,0,null,0,null,0,null,0,null,0,null,0,null,null,null,null,null,null,"",null,0,null,0,null,0,null,0,null,0,null,0,null,0,null,0,null,0,null,0,null,0,null,0,null,0,null,0,null,0,null,0,null,0,null,0,null,null,null,null,null,null,"",null,0,null,0,null,{"$f":"IF(ISERROR(CU198*$CL198/1000),0,CU198*$CL198/1000)","v":0},null,{"$f":"IF(ISERROR(CW198*$CL198/1000),0,CW198*$CL198/1000)","v":0},null,{"$f":"IF(ISERROR(CY198*$CL198/1000),0,CY198*$CL198/1000)","v":0},null,{"$f":"IF(ISERROR(DA198*$CL198/1000),0,DA198*$CL198/1000)","v":0},null,{"$f":"IF(ISERROR(DC198*$CL198/1000),0,DC198*$CL198/1000)","v":0},null,{"$f":"IF(ISERROR(DE198*$CL198/1000),0,DE198*$CL198/1000)","v":0},null,{"$f":"IF(ISERROR(DG198*$CL198/1000),0,DG198*$CL198/1000)","v":0},null,{"$f":"IF(ISERROR(DI198*$CL198/1000),0,DI198*$CL198/1000)","v":0},null,{"$f":"IF(ISERROR(DK198*$CL198/1000),0,DK198*$CL198/1000)","v":0},null,{"$f":"IF(ISERROR(DM198*$CL198/1000),0,DM198*$CL198/1000)","v":0},null,0,null,0,null,0,null,0,null,0,null,{"$f":"IF(ISERROR(DY198*$CL198/1000),0,DY198*$CL198/1000)","v":0}]
[null,"Juillet",null,null,null,null,null,"",null,0,null,0,null,{"$f":"IF(ISERROR(M199*$D199/1000),0,M199*$D199/1000)","v":0},null,{"$f":"IF(ISERROR(O199*$D199/1000),0,O199*$D199/1000)","v":0},null,{"$f":"IF(ISERROR(Q199*$D199/1000),0,Q199*$D199/1000)","v":0},null,{"$f":"IF(ISERROR(S199*$D199/1000),0,S199*$D199/1000)","v":0},null,{"$f":"IF(ISERROR(U199*$D199/1000),0,U199*$D199/1000)","v":0},null,{"$f":"IF(ISERROR(W199*$D199/1000),0,W199*$D199/1000)","v":0},null,{"$f":"IF(ISERROR(Y199*$D199/1000),0,Y199*$D199/1000)","v":0},null,{"$f":"IF(ISERROR(AA199*$D199/1000),0,AA199*$D199/1000)","v":0},null,{"$f":"IF(ISERROR(AC199*$D199/1000),0,AC199*$D199/1000)","v":0},null,{"$f":"IF(ISERROR(AE199*$D199/1000),0,AE199*$D199/1000)","v":0},null,0,null,0,null,0,null,0,null,0,null,0,null,null,null,null,null,null,"",null,0,null,0,null,0,null,0,null,0,null,0,null,0,null,0,null,0,null,0,null,0,null,0,null,0,null,0,null,0,null,0,null,0,null,0,null,null,null,null,null,null,"",null,0,null,0,null,{"$f":"IF(ISERROR(CU199*$CL199/1000),0,CU199*$CL199/1000)","v":0},null,{"$f":"IF(ISERROR(CW199*$CL199/1000),0,CW199*$CL199/1000)","v":0},null,{"$f":"IF(ISERROR(CY199*$CL199/1000),0,CY199*$CL199/1000)","v":0},null,{"$f":"IF(ISERROR(DA199*$CL199/1000),0,DA199*$CL199/1000)","v":0},null,{"$f":"IF(ISERROR(DC199*$CL199/1000),0,DC199*$CL199/1000)","v":0},null,{"$f":"IF(ISERROR(DE199*$CL199/1000),0,DE199*$CL199/1000)","v":0},null,{"$f":"IF(ISERROR(DG199*$CL199/1000),0,DG199*$CL199/1000)","v":0},null,{"$f":"IF(ISERROR(DI199*$CL199/1000),0,DI199*$CL199/1000)","v":0},null,{"$f":"IF(ISERROR(DK199*$CL199/1000),0,DK199*$CL199/1000)","v":0},null,{"$f":"IF(ISERROR(DM199*$CL199/1000),0,DM199*$CL199/1000)","v":0},null,0,null,0,null,0,null,0,null,0,null,{"$f":"IF(ISERROR(DY199*$CL199/1000),0,DY199*$CL199/1000)","v":0}]
[null,null,null,null,null,null,null,"",null,0,null,0,null,{"$f":"IF(ISERROR(M200*$D200/1000),0,M200*$D200/1000)","v":0},null,{"$f":"IF(ISERROR(O200*$D200/1000),0,O200*$D200/1000)","v":0},null,{"$f":"IF(ISERROR(Q200*$D200/1000),0,Q200*$D200/1000)","v":0},null,{"$f":"IF(ISERROR(S200*$D200/1000),0,S200*$D200/1000)","v":0},null,{"$f":"IF(ISERROR(U200*$D200/1000),0,U200*$D200/1000)","v":0},null,{"$f":"IF(ISERROR(W200*$D200/1000),0,W200*$D200/1000)","v":0},null,{"$f":"IF(ISERROR(Y200*$D200/1000),0,Y200*$D200/1000)","v":0},null,{"$f":"IF(ISERROR(AA200*$D200/1000),0,AA200*$D200/1000)","v":0},null,{"$f":"IF(ISERROR(AC200*$D200/1000),0,AC200*$D200/1000)","v":0},null,{"$f":"IF(ISERROR(AE200*$D200/1000),0,AE200*$D200/1000)","v":0},null,0,null,0,null,0,null,0,null,0,null,0,null,null,null,null,null,null,"",null,0,null,0,null,0,null,0,null,0,null,0,null,0,null,0,null,0,null,0,null,0,null,0,null,0,null,0,null,0,null,0,null,0,null,0,null,null,null,null,null,null,"",null,0,null,0,null,{"$f":"IF(ISERROR(CU200*$CL200/1000),0,CU200*$CL200/1000)","v":0},null,{"$f":"IF(ISERROR(CW200*$CL200/1000),0,CW200*$CL200/1000)","v":0},null,{"$f":"IF(ISERROR(CY200*$CL200/1000),0,CY200*$CL200/1000)","v":0},null,{"$f":"IF(ISERROR(DA200*$CL200/1000),0,DA200*$CL200/1000)","v":0},null,{"$f":"IF(ISERROR(DC200*$CL200/1000),0,DC200*$CL200/1000)","v":0},null,{"$f":"IF(ISERROR(DE200*$CL200/1000),0,DE200*$CL200/1000)","v":0},null,{"$f":"IF(ISERROR(DG200*$CL200/1000),0,DG200*$CL200/1000)","v":0},null,{"$f":"IF(ISERROR(DI200*$CL200/1000),0,DI200*$CL200/1000)","v":0},null,{"$f":"IF(ISERROR(DK200*$CL200/1000),0,DK200*$CL200/1000)","v":0},null,{"$f":"IF(ISERROR(DM200*$CL200/1000),0,DM200*$CL200/1000)","v":0},null,0,null,0,null,0,null,0,null,0,null,{"$f":"IF(ISERROR(DY200*$CL200/1000),0,DY200*$CL200/1000)","v":0}]
[null,null,null,null,null,null,null,"",null,0,null,0,null,{"$f":"IF(ISERROR(M201*$D201/1000),0,M201*$D201/1000)","v":0},null,{"$f":"IF(ISERROR(O201*$D201/1000),0,O201*$D201/1000)","v":0},null,{"$f":"IF(ISERROR(Q201*$D201/1000),0,Q201*$D201/1000)","v":0},null,{"$f":"IF(ISERROR(S201*$D201/1000),0,S201*$D201/1000)","v":0},null,{"$f":"IF(ISERROR(U201*$D201/1000),0,U201*$D201/1000)","v":0},null,{"$f":"IF(ISERROR(W201*$D201/1000),0,W201*$D201/1000)","v":0},null,{"$f":"IF(ISERROR(Y201*$D201/1000),0,Y201*$D201/1000)","v":0},null,{"$f":"IF(ISERROR(AA201*$D201/1000),0,AA201*$D201/1000)","v":0},null,{"$f":"IF(ISERROR(AC201*$D201/1000),0,AC201*$D201/1000)","v":0},null,{"$f":"IF(ISERROR(AE201*$D201/1000),0,AE201*$D201/1000)","v":0},null,0,null,0,null,0,null,0,null,0,null,0,null,null,null,null,null,null,"",null,0,null,0,null,0,null,0,null,0,null,0,null,0,null,0,null,0,null,0,null,0,null,0,null,0,null,0,null,0,null,0,null,0,null,0,null,null,null,null,null,null,"",null,0,null,0,null,{"$f":"IF(ISERROR(CU201*$CL201/1000),0,CU201*$CL201/1000)","v":0},null,{"$f":"IF(ISERROR(CW201*$CL201/1000),0,CW201*$CL201/1000)","v":0},null,{"$f":"IF(ISERROR(CY201*$CL201/1000),0,CY201*$CL201/1000)","v":0},null,{"$f":"IF(ISERROR(DA201*$CL201/1000),0,DA201*$CL201/1000)","v":0},null,{"$f":"IF(ISERROR(DC201*$CL201/1000),0,DC201*$CL201/1000)","v":0},null,{"$f":"IF(ISERROR(DE201*$CL201/1000),0,DE201*$CL201/1000)","v":0},null,{"$f":"IF(ISERROR(DG201*$CL201/1000),0,DG201*$CL201/1000)","v":0},null,{"$f":"IF(ISERROR(DI201*$CL201/1000),0,DI201*$CL201/1000)","v":0},null,{"$f":"IF(ISERROR(DK201*$CL201/1000),0,DK201*$CL201/1000)","v":0},null,{"$f":"IF(ISERROR(DM201*$CL201/1000),0,DM201*$CL201/1000)","v":0},null,0,null,0,null,0,null,0,null,0,null,{"$f":"IF(ISERROR(DY201*$CL201/1000),0,DY201*$CL201/1000)","v":0}]
[null,null,null,null,null,null,null,"",null,0,null,0,null,{"$f":"IF(ISERROR(M202*$D202/1000),0,M202*$D202/1000)","v":0},null,{"$f":"IF(ISERROR(O202*$D202/1000),0,O202*$D202/1000)","v":0},null,{"$f":"IF(ISERROR(Q202*$D202/1000),0,Q202*$D202/1000)","v":0},null,{"$f":"IF(ISERROR(S202*$D202/1000),0,S202*$D202/1000)","v":0},null,{"$f":"IF(ISERROR(U202*$D202/1000),0,U202*$D202/1000)","v":0},null,{"$f":"IF(ISERROR(W202*$D202/1000),0,W202*$D202/1000)","v":0},null,{"$f":"IF(ISERROR(Y202*$D202/1000),0,Y202*$D202/1000)","v":0},null,{"$f":"IF(ISERROR(AA202*$D202/1000),0,AA202*$D202/1000)","v":0},null,{"$f":"IF(ISERROR(AC202*$D202/1000),0,AC202*$D202/1000)","v":0},null,{"$f":"IF(ISERROR(AE202*$D202/1000),0,AE202*$D202/1000)","v":0},null,0,null,0,null,0,null,0,null,0,null,0,null,null,null,null,null,null,"",null,0,null,0,null,0,null,0,null,0,null,0,null,0,null,0,null,0,null,0,null,0,null,0,null,0,null,0,null,0,null,0,null,0,null,0,null,null,null,null,null,null,"",null,0,null,0,null,{"$f":"IF(ISERROR(CU202*$CL202/1000),0,CU202*$CL202/1000)","v":0},null,{"$f":"IF(ISERROR(CW202*$CL202/1000),0,CW202*$CL202/1000)","v":0},null,{"$f":"IF(ISERROR(CY202*$CL202/1000),0,CY202*$CL202/1000)","v":0},null,{"$f":"IF(ISERROR(DA202*$CL202/1000),0,DA202*$CL202/1000)","v":0},null,{"$f":"IF(ISERROR(DC202*$CL202/1000),0,DC202*$CL202/1000)","v":0},null,{"$f":"IF(ISERROR(DE202*$CL202/1000),0,DE202*$CL202/1000)","v":0},null,{"$f":"IF(ISERROR(DG202*$CL202/1000),0,DG202*$CL202/1000)","v":0},null,{"$f":"IF(ISERROR(DI202*$CL202/1000),0,DI202*$CL202/1000)","v":0},null,{"$f":"IF(ISERROR(DK202*$CL202/1000),0,DK202*$CL202/1000)","v":0},null,{"$f":"IF(ISERROR(DM202*$CL202/1000),0,DM202*$CL202/1000)","v":0},null,0,null,0,null,0,null,0,null,0,null,{"$f":"IF(ISERROR(DY202*$CL202/1000),0,DY202*$CL202/1000)","v":0}]
[null,null,null,null,null,null,null,"",null,0,null,0,null,{"$f":"IF(ISERROR(M203*$D203/1000),0,M203*$D203/1000)","v":0},null,{"$f":"IF(ISERROR(O203*$D203/1000),0,O203*$D203/1000)","v":0},null,{"$f":"IF(ISERROR(Q203*$D203/1000),0,Q203*$D203/1000)","v":0},null,{"$f":"IF(ISERROR(S203*$D203/1000),0,S203*$D203/1000)","v":0},null,{"$f":"IF(ISERROR(U203*$D203/1000),0,U203*$D203/1000)","v":0},null,{"$f":"IF(ISERROR(W203*$D203/1000),0,W203*$D203/1000)","v":0},null,{"$f":"IF(ISERROR(Y203*$D203/1000),0,Y203*$D203/1000)","v":0},null,{"$f":"IF(ISERROR(AA203*$D203/1000),0,AA203*$D203/1000)","v":0},null,{"$f":"IF(ISERROR(AC203*$D203/1000),0,AC203*$D203/1000)","v":0},null,{"$f":"IF(ISERROR(AE203*$D203/1000),0,AE203*$D203/1000)","v":0},null,0,null,0,null,0,null,0,null,0,null,0,null,null,null,null,null,null,"",null,0,null,0,null,0,null,0,null,0,null,0,null,0,null,0,null,0,null,0,null,0,null,0,null,0,null,0,null,0,null,0,null,0,null,0,null,null,null,null,null,null,"",null,0,null,0,null,{"$f":"IF(ISERROR(CU203*$CL203/1000),0,CU203*$CL203/1000)","v":0},null,{"$f":"IF(ISERROR(CW203*$CL203/1000),0,CW203*$CL203/1000)","v":0},null,{"$f":"IF(ISERROR(CY203*$CL203/1000),0,CY203*$CL203/1000)","v":0},null,{"$f":"IF(ISERROR(DA203*$CL203/1000),0,DA203*$CL203/1000)","v":0},null,{"$f":"IF(ISERROR(DC203*$CL203/1000),0,DC203*$CL203/1000)","v":0},null,{"$f":"IF(ISERROR(DE203*$CL203/1000),0,DE203*$CL203/1000)","v":0},null,{"$f":"IF(ISERROR(DG203*$CL203/1000),0,DG203*$CL203/1000)","v":0},null,{"$f":"IF(ISERROR(DI203*$CL203/1000),0,DI203*$CL203/1000)","v":0},null,{"$f":"IF(ISERROR(DK203*$CL203/1000),0,DK203*$CL203/1000)","v":0},null,{"$f":"IF(ISERROR(DM203*$CL203/1000),0,DM203*$CL203/1000)","v":0},null,0,null,0,null,0,null,0,null,0,null,{"$f":"IF(ISERROR(DY203*$CL203/1000),0,DY203*$CL203/1000)","v":0}]
[null,null,null,null,null,null,null,"",null,0,null,0,null,{"$f":"IF(ISERROR(M204*$D204/1000),0,M204*$D204/1000)","v":0},null,{"$f":"IF(ISERROR(O204*$D204/1000),0,O204*$D204/1000)","v":0},null,{"$f":"IF(ISERROR(Q204*$D204/1000),0,Q204*$D204/1000)","v":0},null,{"$f":"IF(ISERROR(S204*$D204/1000),0,S204*$D204/1000)","v":0},null,{"$f":"IF(ISERROR(U204*$D204/1000),0,U204*$D204/1000)","v":0},null,{"$f":"IF(ISERROR(W204*$D204/1000),0,W204*$D204/1000)","v":0},null,{"$f":"IF(ISERROR(Y204*$D204/1000),0,Y204*$D204/1000)","v":0},null,{"$f":"IF(ISERROR(AA204*$D204/1000),0,AA204*$D204/1000)","v":0},null,{"$f":"IF(ISERROR(AC204*$D204/1000),0,AC204*$D204/1000)","v":0},null,{"$f":"IF(ISERROR(AE204*$D204/1000),0,AE204*$D204/1000)","v":0},null,0,null,0,null,0,null,0,null,0,null,0,null,null,null,null,null,null,"",null,0,null,0,null,0,null,0,null,0,null,0,null,0,null,0,null,0,null,0,null,0,null,0,null,0,null,0,null,0,null,0,null,0,null,0,null,null,null,null,null,null,"",null,0,null,0,null,{"$f":"IF(ISERROR(CU204*$CL204/1000),0,CU204*$CL204/1000)","v":0},null,{"$f":"IF(ISERROR(CW204*$CL204/1000),0,CW204*$CL204/1000)","v":0},null,{"$f":"IF(ISERROR(CY204*$CL204/1000),0,CY204*$CL204/1000)","v":0},null,{"$f":"IF(ISERROR(DA204*$CL204/1000),0,DA204*$CL204/1000)","v":0},null,{"$f":"IF(ISERROR(DC204*$CL204/1000),0,DC204*$CL204/1000)","v":0},null,{"$f":"IF(ISERROR(DE204*$CL204/1000),0,DE204*$CL204/1000)","v":0},null,{"$f":"IF(ISERROR(DG204*$CL204/1000),0,DG204*$CL204/1000)","v":0},null,{"$f":"IF(ISERROR(DI204*$CL204/1000),0,DI204*$CL204/1000)","v":0},null,{"$f":"IF(ISERROR(DK204*$CL204/1000),0,DK204*$CL204/1000)","v":0},null,{"$f":"IF(ISERROR(DM204*$CL204/1000),0,DM204*$CL204/1000)","v":0},null,0,null,0,null,0,null,0,null,0,null,{"$f":"IF(ISERROR(DY204*$CL204/1000),0,DY204*$CL204/1000)","v":0}]
[null,null,null,null,null,null,null,"",null,0,null,0,null,{"$f":"IF(ISERROR(M205*$D205/1000),0,M205*$D205/1000)","v":0},null,{"$f":"IF(ISERROR(O205*$D205/1000),0,O205*$D205/1000)","v":0},null,{"$f":"IF(ISERROR(Q205*$D205/1000),0,Q205*$D205/1000)","v":0},null,{"$f":"IF(ISERROR(S205*$D205/1000),0,S205*$D205/1000)","v":0},null,{"$f":"IF(ISERROR(U205*$D205/1000),0,U205*$D205/1000)","v":0},null,{"$f":"IF(ISERROR(W205*$D205/1000),0,W205*$D205/1000)","v":0},null,{"$f":"IF(ISERROR(Y205*$D205/1000),0,Y205*$D205/1000)","v":0},null,{"$f":"IF(ISERROR(AA205*$D205/1000),0,AA205*$D205/1000)","v":0},null,{"$f":"IF(ISERROR(AC205*$D205/1000),0,AC205*$D205/1000)","v":0},null,{"$f":"IF(ISERROR(AE205*$D205/1000),0,AE205*$D205/1000)","v":0},null,0,null,0,null,0,null,0,null,0,null,0,null,null,null,null,null,null,"",null,0,null,0,null,0,null,0,null,0,null,0,null,0,null,0,null,0,null,0,null,0,null,0,null,0,null,0,null,0,null,0,null,0,null,0,null,null,null,null,null,null,"",null,0,null,0,null,{"$f":"IF(ISERROR(CU205*$CL205/1000),0,CU205*$CL205/1000)","v":0},null,{"$f":"IF(ISERROR(CW205*$CL205/1000),0,CW205*$CL205/1000)","v":0},null,{"$f":"IF(ISERROR(CY205*$CL205/1000),0,CY205*$CL205/1000)","v":0},null,{"$f":"IF(ISERROR(DA205*$CL205/1000),0,DA205*$CL205/1000)","v":0},null,{"$f":"IF(ISERROR(DC205*$CL205/1000),0,DC205*$CL205/1000)","v":0},null,{"$f":"IF(ISERROR(DE205*$CL205/1000),0,DE205*$CL205/1000)","v":0},null,{"$f":"IF(ISERROR(DG205*$CL205/1000),0,DG205*$CL205/1000)","v":0},null,{"$f":"IF(ISERROR(DI205*$CL205/1000),0,DI205*$CL205/1000)","v":0},null,{"$f":"IF(ISERROR(DK205*$CL205/1000),0,DK205*$CL205/1000)","v":0},null,{"$f":"IF(ISERROR(DM205*$CL205/1000),0,DM205*$CL205/1000)","v":0},null,0,null,0,null,0,null,0,null,0,null,{"$f":"IF(ISERROR(DY205*$CL205/1000),0,DY205*$CL205/1000)","v":0}]
[null,null,null,null,null,null,null,"",null,0,null,0,null,{"$f":"IF(ISERROR(M206*$D206/1000),0,M206*$D206/1000)","v":0},null,{"$f":"IF(ISERROR(O206*$D206/1000),0,O206*$D206/1000)","v":0},null,{"$f":"IF(ISERROR(Q206*$D206/1000),0,Q206*$D206/1000)","v":0},null,{"$f":"IF(ISERROR(S206*$D206/1000),0,S206*$D206/1000)","v":0},null,{"$f":"IF(ISERROR(U206*$D206/1000),0,U206*$D206/1000)","v":0},null,{"$f":"IF(ISERROR(W206*$D206/1000),0,W206*$D206/1000)","v":0},null,{"$f":"IF(ISERROR(Y206*$D206/1000),0,Y206*$D206/1000)","v":0},null,{"$f":"IF(ISERROR(AA206*$D206/1000),0,AA206*$D206/1000)","v":0},null,{"$f":"IF(ISERROR(AC206*$D206/1000),0,AC206*$D206/1000)","v":0},null,{"$f":"IF(ISERROR(AE206*$D206/1000),0,AE206*$D206/1000)","v":0},null,0,null,0,null,0,null,0,null,0,null,0,null,null,null,null,null,null,"",null,0,null,0,null,0,null,0,null,0,null,0,null,0,null,0,null,0,null,0,null,0,null,0,null,0,null,0,null,0,null,0,null,0,null,0,null,null,null,null,null,null,"",null,0,null,0,null,{"$f":"IF(ISERROR(CU206*$CL206/1000),0,CU206*$CL206/1000)","v":0},null,{"$f":"IF(ISERROR(CW206*$CL206/1000),0,CW206*$CL206/1000)","v":0},null,{"$f":"IF(ISERROR(CY206*$CL206/1000),0,CY206*$CL206/1000)","v":0},null,{"$f":"IF(ISERROR(DA206*$CL206/1000),0,DA206*$CL206/1000)","v":0},null,{"$f":"IF(ISERROR(DC206*$CL206/1000),0,DC206*$CL206/1000)","v":0},null,{"$f":"IF(ISERROR(DE206*$CL206/1000),0,DE206*$CL206/1000)","v":0},null,{"$f":"IF(ISERROR(DG206*$CL206/1000),0,DG206*$CL206/1000)","v":0},null,{"$f":"IF(ISERROR(DI206*$CL206/1000),0,DI206*$CL206/1000)","v":0},null,{"$f":"IF(ISERROR(DK206*$CL206/1000),0,DK206*$CL206/1000)","v":0},null,{"$f":"IF(ISERROR(DM206*$CL206/1000),0,DM206*$CL206/1000)","v":0},null,0,null,0,null,0,null,0,null,0,null,{"$f":"IF(ISERROR(DY206*$CL206/1000),0,DY206*$CL206/1000)","v":0}]
[null,null,null,null,null,null,null,"",null,0,null,0,null,{"$f":"IF(ISERROR(M207*$D207/1000),0,M207*$D207/1000)","v":0},null,{"$f":"IF(ISERROR(O207*$D207/1000),0,O207*$D207/1000)","v":0},null,{"$f":"IF(ISERROR(Q207*$D207/1000),0,Q207*$D207/1000)","v":0},null,{"$f":"IF(ISERROR(S207*$D207/1000),0,S207*$D207/1000)","v":0},null,{"$f":"IF(ISERROR(U207*$D207/1000),0,U207*$D207/1000)","v":0},null,{"$f":"IF(ISERROR(W207*$D207/1000),0,W207*$D207/1000)","v":0},null,{"$f":"IF(ISERROR(Y207*$D207/1000),0,Y207*$D207/1000)","v":0},null,{"$f":"IF(ISERROR(AA207*$D207/1000),0,AA207*$D207/1000)","v":0},null,{"$f":"IF(ISERROR(AC207*$D207/1000),0,AC207*$D207/1000)","v":0},null,{"$f":"IF(ISERROR(AE207*$D207/1000),0,AE207*$D207/1000)","v":0},null,0,null,0,null,0,null,0,null,0,null,0,null,null,null,null,null,null,"",null,{"$f":"IF(ISERROR(AZ207*$AU207/1000),0,AZ207*$AU207/1000)","v":0},null,{"$f":"IF(ISERROR(BB207*$AU207/1000),0,BB207*$AU207/1000)","v":0},null,{"$f":"IF(ISERROR(BD207*$AU207/1000),0,BD207*$AU207/1000)","v":0},null,{"$f":"IF(ISERROR(BF207*$AU207/1000),0,BF207*$AU207/1000)","v":0},null,{"$f":"IF(ISERROR(BH207*$AU207/1000),0,BH207*$AU207/1000)","v":0},null,{"$f":"IF(ISERROR(BJ207*$AU207/1000),0,BJ207*$AU207/1000)","v":0},null,{"$f":"IF(ISERROR(BL207*$AU207/1000),0,BL207*$AU207/1000)","v":0},null,{"$f":"IF(ISERROR(BN207*$AU207/1000),0,BN207*$AU207/1000)","v":0},null,{"$f":"IF(ISERROR(BP207*$AU207/1000),0,BP207*$AU207/1000)","v":0},null,{"$f":"IF(ISERROR(BR207*$AU207/1000),0,BR207*$AU207/1000)","v":0},null,{"$f":"IF(ISERROR(BT207*$AU207/1000),0,BT207*$AU207/1000)","v":0},null,{"$f":"IF(ISERROR(BV207*$AU207/1000),0,BV207*$AU207/1000)","v":0},null,{"$f":"IF(ISERROR(BX207*$AU207/1000),0,BX207*$AU207/1000)","v":0},null,{"$f":"IF(ISERROR(BZ207*$AU207/1000),0,BZ207*$AU207/1000)","v":0},null,{"$f":"IF(ISERROR(CB207*$AU207/1000),0,CB207*$AU207/1000)","v":0},null,{"$f":"IF(ISERROR(CD207*$AU207/1000),0,CD207*$AU207/1000)","v":0},null,{"$f":"IF(ISERROR(CF207*$AU207/1000),0,CF207*$AU207/1000)","v":0},null,{"$f":"IF(ISERROR(CH207*$AU207/1000),0,CH207*$AU207/1000)","v":0},null,null,null,null,null,null,"",null,0,null,0,null,{"$f":"IF(ISERROR(CU207*$CL207/1000),0,CU207*$CL207/1000)","v":0},null,{"$f":"IF(ISERROR(CW207*$CL207/1000),0,CW207*$CL207/1000)","v":0},null,{"$f":"IF(ISERROR(CY207*$CL207/1000),0,CY207*$CL207/1000)","v":0},null,{"$f":"IF(ISERROR(DA207*$CL207/1000),0,DA207*$CL207/1000)","v":0},null,{"$f":"IF(ISERROR(DC207*$CL207/1000),0,DC207*$CL207/1000)","v":0},null,{"$f":"IF(ISERROR(DE207*$CL207/1000),0,DE207*$CL207/1000)","v":0},null,{"$f":"IF(ISERROR(DG207*$CL207/1000),0,DG207*$CL207/1000)","v":0},null,{"$f":"IF(ISERROR(DI207*$CL207/1000),0,DI207*$CL207/1000)","v":0},null,{"$f":"IF(ISERROR(DK207*$CL207/1000),0,DK207*$CL207/1000)","v":0},null,{"$f":"IF(ISERROR(DM207*$CL207/1000),0,DM207*$CL207/1000)","v":0},null,0,null,0,null,0,null,0,null,0,null,{"$f":"IF(ISERROR(DY207*$CL207/1000),0,DY207*$CL207/1000)","v":0}]
[null,null,null,null,null,null,null,{"$f":"IF(ISTEXT(G208),1,IF(ISBLANK(G208),\"\",IF(ISNONTEXT(G208),G208)))","v":""},null,{"$f":"IF(ISERROR(I208*$D208/1000),0,I208*$D208/1000)","v":0},null,0,null,{"$f":"IF(ISERROR(M208*$D208/1000),0,M208*$D208/1000)","v":0},null,{"$f":"IF(ISERROR(O208*$D208/1000),0,O208*$D208/1000)","v":0},null,{"$f":"IF(ISERROR(Q208*$D208/1000),0,Q208*$D208/1000)","v":0},null,{"$f":"IF(ISERROR(S208*$D208/1000),0,S208*$D208/1000)","v":0},null,{"$f":"IF(ISERROR(U208*$D208/1000),0,U208*$D208/1000)","v":0},null,{"$f":"IF(ISERROR(W208*$D208/1000),0,W208*$D208/1000)","v":0},null,{"$f":"IF(ISERROR(Y208*$D208/1000),0,Y208*$D208/1000)","v":0},null,{"$f":"IF(ISERROR(AA208*$D208/1000),0,AA208*$D208/1000)","v":0},null,{"$f":"IF(ISERROR(AC208*$D208/1000),0,AC208*$D208/1000)","v":0},null,{"$f":"IF(ISERROR(AE208*$D208/1000),0,AE208*$D208/1000)","v":0},null,{"$f":"IF(ISERROR(AG208*$D208/1000),0,AG208*$D208/1000)","v":0},null,{"$f":"IF(ISERROR(AI208*$D208/1000),0,AI208*$D208/1000)","v":0},null,{"$f":"IF(ISERROR(AK208*$D208/1000),0,AK208*$D208/1000)","v":0},null,{"$f":"IF(ISERROR(AM208*$D208/1000),0,AM208*$D208/1000)","v":0},null,{"$f":"IF(ISERROR(AO208*$D208/1000),0,AO208*$D208/1000)","v":0},null,{"$f":"IF(ISERROR(AQ208*$D208/1000),0,AQ208*$D208/1000)","v":0},null,null,null,null,null,null,{"$f":"IF(ISTEXT(AX208),1,IF(ISBLANK(AX208),\"\",IF(ISNONTEXT(AX208),AX208)))","v":""},null,0,null,0,null,0,null,0,null,0,null,0,null,0,null,0,null,0,null,0,null,0,null,0,null,0,null,0,null,0,null,0,null,0,null,0,null,null,null,null,null,null,{"$f":"IF(ISTEXT(CO208),1,IF(ISBLANK(CO208),\"\",IF(ISNONTEXT(CO208),CO208)))","v":""},null,{"$f":"IF(ISERROR(CQ208*$CL208/1000),0,CQ208*$CL208/1000)","v":0},null,0,null,{"$f":"IF(ISERROR(CU208*$CL208/1000),0,CU208*$CL208/1000)","v":0},null,{"$f":"IF(ISERROR(CW208*$CL208/1000),0,CW208*$CL208/1000)","v":0},null,{"$f":"IF(ISERROR(CY208*$CL208/1000),0,CY208*$CL208/1000)","v":0},null,{"$f":"IF(ISERROR(DA208*$CL208/1000),0,DA208*$CL208/1000)","v":0},null,{"$f":"IF(ISERROR(DC208*$CL208/1000),0,DC208*$CL208/1000)","v":0},null,{"$f":"IF(ISERROR(DE208*$CL208/1000),0,DE208*$CL208/1000)","v":0},null,{"$f":"IF(ISERROR(DG208*$CL208/1000),0,DG208*$CL208/1000)","v":0},null,{"$f":"IF(ISERROR(DI208*$CL208/1000),0,DI208*$CL208/1000)","v":0},null,{"$f":"IF(ISERROR(DK208*$CL208/1000),0,DK208*$CL208/1000)","v":0},null,{"$f":"IF(ISERROR(DM208*$CL208/1000),0,DM208*$CL208/1000)","v":0},null,{"$f":"IF(ISERROR(DO208*$CL208/1000),0,DO208*$CL208/1000)","v":0},null,{"$f":"IF(ISERROR(DQ208*$CL208/1000),0,DQ208*$CL208/1000)","v":0},null,{"$f":"IF(ISERROR(DS208*$CL208/1000),0,DS208*$CL208/1000)","v":0},null,{"$f":"IF(ISERROR(DU208*$CL208/1000),0,DU208*$CL208/1000)","v":0},null,{"$f":"IF(ISERROR(DW208*$CL208/1000),0,DW208*$CL208/1000)","v":0},null,{"$f":"IF(ISERROR(DY208*$CL208/1000),0,DY208*$CL208/1000)","v":0}]
[null,null,null,null,null,null,null,"",null,0,null,0,null,{"$f":"IF(ISERROR(M209*$D209/1000),0,M209*$D209/1000)","v":0},null,{"$f":"IF(ISERROR(O209*$D209/1000),0,O209*$D209/1000)","v":0},null,{"$f":"IF(ISERROR(Q209*$D209/1000),0,Q209*$D209/1000)","v":0},null,{"$f":"IF(ISERROR(S209*$D209/1000),0,S209*$D209/1000)","v":0},null,{"$f":"IF(ISERROR(U209*$D209/1000),0,U209*$D209/1000)","v":0},null,{"$f":"IF(ISERROR(W209*$D209/1000),0,W209*$D209/1000)","v":0},null,{"$f":"IF(ISERROR(Y209*$D209/1000),0,Y209*$D209/1000)","v":0},null,{"$f":"IF(ISERROR(AA209*$D209/1000),0,AA209*$D209/1000)","v":0},null,{"$f":"IF(ISERROR(AC209*$D209/1000),0,AC209*$D209/1000)","v":0},null,{"$f":"IF(ISERROR(AE209*$D209/1000),0,AE209*$D209/1000)","v":0},null,0,null,0,null,0,null,0,null,0,null,0,null,null,null,null,null,null,"",null,0,null,0,null,0,null,0,null,0,null,0,null,0,null,0,null,0,null,0,null,0,null,0,null,0,null,0,null,0,null,0,null,0,null,0,null,null,null,null,null,null,"",null,0,null,0,null,{"$f":"IF(ISERROR(CU209*$CL209/1000),0,CU209*$CL209/1000)","v":0},null,{"$f":"IF(ISERROR(CW209*$CL209/1000),0,CW209*$CL209/1000)","v":0},null,{"$f":"IF(ISERROR(CY209*$CL209/1000),0,CY209*$CL209/1000)","v":0},null,{"$f":"IF(ISERROR(DA209*$CL209/1000),0,DA209*$CL209/1000)","v":0},null,{"$f":"IF(ISERROR(DC209*$CL209/1000),0,DC209*$CL209/1000)","v":0},null,{"$f":"IF(ISERROR(DE209*$CL209/1000),0,DE209*$CL209/1000)","v":0},null,{"$f":"IF(ISERROR(DG209*$CL209/1000),0,DG209*$CL209/1000)","v":0},null,{"$f":"IF(ISERROR(DI209*$CL209/1000),0,DI209*$CL209/1000)","v":0},null,{"$f":"IF(ISERROR(DK209*$CL209/1000),0,DK209*$CL209/1000)","v":0},null,{"$f":"IF(ISERROR(DM209*$CL209/1000),0,DM209*$CL209/1000)","v":0},null,0,null,0,null,0,null,0,null,0,null,{"$f":"IF(ISERROR(DY209*$CL209/1000),0,DY209*$CL209/1000)","v":0}]
[null,null,null,null,null,null,null,"",null,0,null,0,null,{"$f":"IF(ISERROR(M210*$D210/1000),0,M210*$D210/1000)","v":0},null,{"$f":"IF(ISERROR(O210*$D210/1000),0,O210*$D210/1000)","v":0},null,{"$f":"IF(ISERROR(Q210*$D210/1000),0,Q210*$D210/1000)","v":0},null,{"$f":"IF(ISERROR(S210*$D210/1000),0,S210*$D210/1000)","v":0},null,{"$f":"IF(ISERROR(U210*$D210/1000),0,U210*$D210/1000)","v":0},null,{"$f":"IF(ISERROR(W210*$D210/1000),0,W210*$D210/1000)","v":0},null,{"$f":"IF(ISERROR(Y210*$D210/1000),0,Y210*$D210/1000)","v":0},null,{"$f":"IF(ISERROR(AA210*$D210/1000),0,AA210*$D210/1000)","v":0},null,{"$f":"IF(ISERROR(AC210*$D210/1000),0,AC210*$D210/1000)","v":0},null,{"$f":"IF(ISERROR(AE210*$D210/1000),0,AE210*$D210/1000)","v":0},null,0,null,0,null,0,null,0,null,0,null,0,null,null,null,null,null,null,"",null,0,null,0,null,0,null,0,null,0,null,0,null,0,null,0,null,0,null,0,null,0,null,0,null,0,null,0,null,0,null,0,null,0,null,0,null,null,null,null,null,null,"",null,0,null,0,null,{"$f":"IF(ISERROR(CU210*$CL210/1000),0,CU210*$CL210/1000)","v":0},null,{"$f":"IF(ISERROR(CW210*$CL210/1000),0,CW210*$CL210/1000)","v":0},null,{"$f":"IF(ISERROR(CY210*$CL210/1000),0,CY210*$CL210/1000)","v":0},null,{"$f":"IF(ISERROR(DA210*$CL210/1000),0,DA210*$CL210/1000)","v":0},null,{"$f":"IF(ISERROR(DC210*$CL210/1000),0,DC210*$CL210/1000)","v":0},null,{"$f":"IF(ISERROR(DE210*$CL210/1000),0,DE210*$CL210/1000)","v":0},null,{"$f":"IF(ISERROR(DG210*$CL210/1000),0,DG210*$CL210/1000)","v":0},null,{"$f":"IF(ISERROR(DI210*$CL210/1000),0,DI210*$CL210/1000)","v":0},null,{"$f":"IF(ISERROR(DK210*$CL210/1000),0,DK210*$CL210/1000)","v":0},null,{"$f":"IF(ISERROR(DM210*$CL210/1000),0,DM210*$CL210/1000)","v":0},null,0,null,0,null,0,null,0,null,0,null,{"$f":"IF(ISERROR(DY210*$CL210/1000),0,DY210*$CL210/1000)","v":0}]
[null,null,null,null,null,null,null,"",null,0,null,0,null,{"$f":"IF(ISERROR(M211*$D211/1000),0,M211*$D211/1000)","v":0},null,{"$f":"IF(ISERROR(O211*$D211/1000),0,O211*$D211/1000)","v":0},null,{"$f":"IF(ISERROR(Q211*$D211/1000),0,Q211*$D211/1000)","v":0},null,{"$f":"IF(ISERROR(S211*$D211/1000),0,S211*$D211/1000)","v":0},null,{"$f":"IF(ISERROR(U211*$D211/1000),0,U211*$D211/1000)","v":0},null,{"$f":"IF(ISERROR(W211*$D211/1000),0,W211*$D211/1000)","v":0},null,{"$f":"IF(ISERROR(Y211*$D211/1000),0,Y211*$D211/1000)","v":0},null,{"$f":"IF(ISERROR(AA211*$D211/1000),0,AA211*$D211/1000)","v":0},null,{"$f":"IF(ISERROR(AC211*$D211/1000),0,AC211*$D211/1000)","v":0},null,{"$f":"IF(ISERROR(AE211*$D211/1000),0,AE211*$D211/1000)","v":0},null,0,null,0,null,0,null,0,null,0,null,0,null,null,null,null,null,null,"",null,0,null,0,null,0,null,0,null,0,null,0,null,0,null,0,null,0,null,0,null,0,null,0,null,0,null,0,null,0,null,0,null,0,null,0,null,null,null,null,null,null,"",null,0,null,0,null,{"$f":"IF(ISERROR(CU211*$CL211/1000),0,CU211*$CL211/1000)","v":0},null,{"$f":"IF(ISERROR(CW211*$CL211/1000),0,CW211*$CL211/1000)","v":0},null,{"$f":"IF(ISERROR(CY211*$CL211/1000),0,CY211*$CL211/1000)","v":0},null,{"$f":"IF(ISERROR(DA211*$CL211/1000),0,DA211*$CL211/1000)","v":0},null,{"$f":"IF(ISERROR(DC211*$CL211/1000),0,DC211*$CL211/1000)","v":0},null,{"$f":"IF(ISERROR(DE211*$CL211/1000),0,DE211*$CL211/1000)","v":0},null,{"$f":"IF(ISERROR(DG211*$CL211/1000),0,DG211*$CL211/1000)","v":0},null,{"$f":"IF(ISERROR(DI211*$CL211/1000),0,DI211*$CL211/1000)","v":0},null,{"$f":"IF(ISERROR(DK211*$CL211/1000),0,DK211*$CL211/1000)","v":0},null,{"$f":"IF(ISERROR(DM211*$CL211/1000),0,DM211*$CL211/1000)","v":0},null,0,null,0,null,0,null,0,null,0,null,{"$f":"IF(ISERROR(DY211*$CL211/1000),0,DY211*$CL211/1000)","v":0}]
[null,null,null,null,null,null,null,"",null,0,null,0,null,{"$f":"IF(ISERROR(M212*$D212/1000),0,M212*$D212/1000)","v":0},null,{"$f":"IF(ISERROR(O212*$D212/1000),0,O212*$D212/1000)","v":0},null,{"$f":"IF(ISERROR(Q212*$D212/1000),0,Q212*$D212/1000)","v":0},null,{"$f":"IF(ISERROR(S212*$D212/1000),0,S212*$D212/1000)","v":0},null,{"$f":"IF(ISERROR(U212*$D212/1000),0,U212*$D212/1000)","v":0},null,{"$f":"IF(ISERROR(W212*$D212/1000),0,W212*$D212/1000)","v":0},null,{"$f":"IF(ISERROR(Y212*$D212/1000),0,Y212*$D212/1000)","v":0},null,{"$f":"IF(ISERROR(AA212*$D212/1000),0,AA212*$D212/1000)","v":0},null,{"$f":"IF(ISERROR(AC212*$D212/1000),0,AC212*$D212/1000)","v":0},null,{"$f":"IF(ISERROR(AE212*$D212/1000),0,AE212*$D212/1000)","v":0},null,0,null,0,null,0,null,0,null,0,null,0,null,null,null,null,null,null,"",null,0,null,0,null,0,null,0,null,0,null,0,null,0,null,0,null,0,null,0,null,0,null,0,null,0,null,0,null,0,null,0,null,0,null,0,null,null,null,null,null,null,"",null,0,null,0,null,{"$f":"IF(ISERROR(CU212*$CL212/1000),0,CU212*$CL212/1000)","v":0},null,{"$f":"IF(ISERROR(CW212*$CL212/1000),0,CW212*$CL212/1000)","v":0},null,{"$f":"IF(ISERROR(CY212*$CL212/1000),0,CY212*$CL212/1000)","v":0},null,{"$f":"IF(ISERROR(DA212*$CL212/1000),0,DA212*$CL212/1000)","v":0},null,{"$f":"IF(ISERROR(DC212*$CL212/1000),0,DC212*$CL212/1000)","v":0},null,{"$f":"IF(ISERROR(DE212*$CL212/1000),0,DE212*$CL212/1000)","v":0},null,{"$f":"IF(ISERROR(DG212*$CL212/1000),0,DG212*$CL212/1000)","v":0},null,{"$f":"IF(ISERROR(DI212*$CL212/1000),0,DI212*$CL212/1000)","v":0},null,{"$f":"IF(ISERROR(DK212*$CL212/1000),0,DK212*$CL212/1000)","v":0},null,{"$f":"IF(ISERROR(DM212*$CL212/1000),0,DM212*$CL212/1000)","v":0},null,0,null,0,null,0,null,0,null,0,null,{"$f":"IF(ISERROR(DY212*$CL212/1000),0,DY212*$CL212/1000)","v":0}]
[null,null,null,null,null,null,null,"",null,0,null,0,null,{"$f":"IF(ISERROR(M213*$D213/1000),0,M213*$D213/1000)","v":0},null,{"$f":"IF(ISERROR(O213*$D213/1000),0,O213*$D213/1000)","v":0},null,{"$f":"IF(ISERROR(Q213*$D213/1000),0,Q213*$D213/1000)","v":0},null,{"$f":"IF(ISERROR(S213*$D213/1000),0,S213*$D213/1000)","v":0},null,{"$f":"IF(ISERROR(U213*$D213/1000),0,U213*$D213/1000)","v":0},null,{"$f":"IF(ISERROR(W213*$D213/1000),0,W213*$D213/1000)","v":0},null,{"$f":"IF(ISERROR(Y213*$D213/1000),0,Y213*$D213/1000)","v":0},null,{"$f":"IF(ISERROR(AA213*$D213/1000),0,AA213*$D213/1000)","v":0},null,{"$f":"IF(ISERROR(AC213*$D213/1000),0,AC213*$D213/1000)","v":0},null,{"$f":"IF(ISERROR(AE213*$D213/1000),0,AE213*$D213/1000)","v":0},null,0,null,0,null,0,null,0,null,0,null,0,null,null,null,null,null,null,"",null,0,null,0,null,0,null,0,null,0,null,0,null,0,null,0,null,0,null,0,null,0,null,0,null,0,null,0,null,0,null,0,null,0,null,0,null,null,null,null,null,null,"",null,0,null,0,null,{"$f":"IF(ISERROR(CU213*$CL213/1000),0,CU213*$CL213/1000)","v":0},null,{"$f":"IF(ISERROR(CW213*$CL213/1000),0,CW213*$CL213/1000)","v":0},null,{"$f":"IF(ISERROR(CY213*$CL213/1000),0,CY213*$CL213/1000)","v":0},null,{"$f":"IF(ISERROR(DA213*$CL213/1000),0,DA213*$CL213/1000)","v":0},null,{"$f":"IF(ISERROR(DC213*$CL213/1000),0,DC213*$CL213/1000)","v":0},null,{"$f":"IF(ISERROR(DE213*$CL213/1000),0,DE213*$CL213/1000)","v":0},null,{"$f":"IF(ISERROR(DG213*$CL213/1000),0,DG213*$CL213/1000)","v":0},null,{"$f":"IF(ISERROR(DI213*$CL213/1000),0,DI213*$CL213/1000)","v":0},null,{"$f":"IF(ISERROR(DK213*$CL213/1000),0,DK213*$CL213/1000)","v":0},null,{"$f":"IF(ISERROR(DM213*$CL213/1000),0,DM213*$CL213/1000)","v":0},null,0,null,0,null,0,null,0,null,0,null,{"$f":"IF(ISERROR(DY213*$CL213/1000),0,DY213*$CL213/1000)","v":0}]
[null,null,null,null,null,null,null,"",null,0,null,0,null,{"$f":"IF(ISERROR(M214*$D214/1000),0,M214*$D214/1000)","v":0},null,{"$f":"IF(ISERROR(O214*$D214/1000),0,O214*$D214/1000)","v":0},null,{"$f":"IF(ISERROR(Q214*$D214/1000),0,Q214*$D214/1000)","v":0},null,{"$f":"IF(ISERROR(S214*$D214/1000),0,S214*$D214/1000)","v":0},null,{"$f":"IF(ISERROR(U214*$D214/1000),0,U214*$D214/1000)","v":0},null,{"$f":"IF(ISERROR(W214*$D214/1000),0,W214*$D214/1000)","v":0},null,{"$f":"IF(ISERROR(Y214*$D214/1000),0,Y214*$D214/1000)","v":0},null,{"$f":"IF(ISERROR(AA214*$D214/1000),0,AA214*$D214/1000)","v":0},null,{"$f":"IF(ISERROR(AC214*$D214/1000),0,AC214*$D214/1000)","v":0},null,{"$f":"IF(ISERROR(AE214*$D214/1000),0,AE214*$D214/1000)","v":0},null,0,null,0,null,0,null,0,null,0,null,0,null,null,null,null,null,null,"",null,0,null,0,null,0,null,0,null,0,null,0,null,0,null,0,null,0,null,0,null,0,null,0,null,0,null,0,null,0,null,0,null,0,null,0,null,null,null,null,null,null,"",null,0,null,0,null,{"$f":"IF(ISERROR(CU214*$CL214/1000),0,CU214*$CL214/1000)","v":0},null,{"$f":"IF(ISERROR(CW214*$CL214/1000),0,CW214*$CL214/1000)","v":0},null,{"$f":"IF(ISERROR(CY214*$CL214/1000),0,CY214*$CL214/1000)","v":0},null,{"$f":"IF(ISERROR(DA214*$CL214/1000),0,DA214*$CL214/1000)","v":0},null,{"$f":"IF(ISERROR(DC214*$CL214/1000),0,DC214*$CL214/1000)","v":0},null,{"$f":"IF(ISERROR(DE214*$CL214/1000),0,DE214*$CL214/1000)","v":0},null,{"$f":"IF(ISERROR(DG214*$CL214/1000),0,DG214*$CL214/1000)","v":0},null,{"$f":"IF(ISERROR(DI214*$CL214/1000),0,DI214*$CL214/1000)","v":0},null,{"$f":"IF(ISERROR(DK214*$CL214/1000),0,DK214*$CL214/1000)","v":0},null,{"$f":"IF(ISERROR(DM214*$CL214/1000),0,DM214*$CL214/1000)","v":0},null,0,null,0,null,0,null,0,null,0,null,{"$f":"IF(ISERROR(DY214*$CL214/1000),0,DY214*$CL214/1000)","v":0}]
[null,null,null,null,null,null,null,"",null,0,null,0,null,{"$f":"IF(ISERROR(M215*$D215/1000),0,M215*$D215/1000)","v":0},null,{"$f":"IF(ISERROR(O215*$D215/1000),0,O215*$D215/1000)","v":0},null,{"$f":"IF(ISERROR(Q215*$D215/1000),0,Q215*$D215/1000)","v":0},null,{"$f":"IF(ISERROR(S215*$D215/1000),0,S215*$D215/1000)","v":0},null,{"$f":"IF(ISERROR(U215*$D215/1000),0,U215*$D215/1000)","v":0},null,{"$f":"IF(ISERROR(W215*$D215/1000),0,W215*$D215/1000)","v":0},null,{"$f":"IF(ISERROR(Y215*$D215/1000),0,Y215*$D215/1000)","v":0},null,{"$f":"IF(ISERROR(AA215*$D215/1000),0,AA215*$D215/1000)","v":0},null,{"$f":"IF(ISERROR(AC215*$D215/1000),0,AC215*$D215/1000)","v":0},null,{"$f":"IF(ISERROR(AE215*$D215/1000),0,AE215*$D215/1000)","v":0},null,0,null,0,null,0,null,0,null,0,null,0,null,null,null,null,null,null,"",null,0,null,0,null,0,null,0,null,0,null,0,null,0,null,0,null,0,null,0,null,0,null,0,null,0,null,0,null,0,null,0,null,0,null,0,null,null,null,null,null,null,"",null,0,null,0,null,{"$f":"IF(ISERROR(CU215*$CL215/1000),0,CU215*$CL215/1000)","v":0},null,{"$f":"IF(ISERROR(CW215*$CL215/1000),0,CW215*$CL215/1000)","v":0},null,{"$f":"IF(ISERROR(CY215*$CL215/1000),0,CY215*$CL215/1000)","v":0},null,{"$f":"IF(ISERROR(DA215*$CL215/1000),0,DA215*$CL215/1000)","v":0},null,{"$f":"IF(ISERROR(DC215*$CL215/1000),0,DC215*$CL215/1000)","v":0},null,{"$f":"IF(ISERROR(DE215*$CL215/1000),0,DE215*$CL215/1000)","v":0},null,{"$f":"IF(ISERROR(DG215*$CL215/1000),0,DG215*$CL215/1000)","v":0},null,{"$f":"IF(ISERROR(DI215*$CL215/1000),0,DI215*$CL215/1000)","v":0},null,{"$f":"IF(ISERROR(DK215*$CL215/1000),0,DK215*$CL215/1000)","v":0},null,{"$f":"IF(ISERROR(DM215*$CL215/1000),0,DM215*$CL215/1000)","v":0},null,0,null,0,null,0,null,0,null,0,null,{"$f":"IF(ISERROR(DY215*$CL215/1000),0,DY215*$CL215/1000)","v":0}]
[null,null,null,null,null,null,null,"",null,0,null,0,null,{"$f":"IF(ISERROR(M216*$D216/1000),0,M216*$D216/1000)","v":0},null,{"$f":"IF(ISERROR(O216*$D216/1000),0,O216*$D216/1000)","v":0},null,{"$f":"IF(ISERROR(Q216*$D216/1000),0,Q216*$D216/1000)","v":0},null,{"$f":"IF(ISERROR(S216*$D216/1000),0,S216*$D216/1000)","v":0},null,{"$f":"IF(ISERROR(U216*$D216/1000),0,U216*$D216/1000)","v":0},null,{"$f":"IF(ISERROR(W216*$D216/1000),0,W216*$D216/1000)","v":0},null,{"$f":"IF(ISERROR(Y216*$D216/1000),0,Y216*$D216/1000)","v":0},null,{"$f":"IF(ISERROR(AA216*$D216/1000),0,AA216*$D216/1000)","v":0},null,{"$f":"IF(ISERROR(AC216*$D216/1000),0,AC216*$D216/1000)","v":0},null,{"$f":"IF(ISERROR(AE216*$D216/1000),0,AE216*$D216/1000)","v":0},null,0,null,0,null,0,null,0,null,0,null,0,null,null,null,null,null,null,"",null,0,null,0,null,0,null,0,null,0,null,0,null,0,null,0,null,0,null,0,null,0,null,0,null,0,null,0,null,0,null,0,null,0,null,0,null,null,null,null,null,null,"",null,0,null,0,null,{"$f":"IF(ISERROR(CU216*$CL216/1000),0,CU216*$CL216/1000)","v":0},null,{"$f":"IF(ISERROR(CW216*$CL216/1000),0,CW216*$CL216/1000)","v":0},null,{"$f":"IF(ISERROR(CY216*$CL216/1000),0,CY216*$CL216/1000)","v":0},null,{"$f":"IF(ISERROR(DA216*$CL216/1000),0,DA216*$CL216/1000)","v":0},null,{"$f":"IF(ISERROR(DC216*$CL216/1000),0,DC216*$CL216/1000)","v":0},null,{"$f":"IF(ISERROR(DE216*$CL216/1000),0,DE216*$CL216/1000)","v":0},null,{"$f":"IF(ISERROR(DG216*$CL216/1000),0,DG216*$CL216/1000)","v":0},null,{"$f":"IF(ISERROR(DI216*$CL216/1000),0,DI216*$CL216/1000)","v":0},null,{"$f":"IF(ISERROR(DK216*$CL216/1000),0,DK216*$CL216/1000)","v":0},null,{"$f":"IF(ISERROR(DM216*$CL216/1000),0,DM216*$CL216/1000)","v":0},null,0,null,0,null,0,null,0,null,0,null,{"$f":"IF(ISERROR(DY216*$CL216/1000),0,DY216*$CL216/1000)","v":0}]
[null,null,null,null,null,null,null,"",null,0,null,0,null,{"$f":"IF(ISERROR(M217*$D217/1000),0,M217*$D217/1000)","v":0},null,{"$f":"IF(ISERROR(O217*$D217/1000),0,O217*$D217/1000)","v":0},null,{"$f":"IF(ISERROR(Q217*$D217/1000),0,Q217*$D217/1000)","v":0},null,{"$f":"IF(ISERROR(S217*$D217/1000),0,S217*$D217/1000)","v":0},null,{"$f":"IF(ISERROR(U217*$D217/1000),0,U217*$D217/1000)","v":0},null,{"$f":"IF(ISERROR(W217*$D217/1000),0,W217*$D217/1000)","v":0},null,{"$f":"IF(ISERROR(Y217*$D217/1000),0,Y217*$D217/1000)","v":0},null,{"$f":"IF(ISERROR(AA217*$D217/1000),0,AA217*$D217/1000)","v":0},null,{"$f":"IF(ISERROR(AC217*$D217/1000),0,AC217*$D217/1000)","v":0},null,{"$f":"IF(ISERROR(AE217*$D217/1000),0,AE217*$D217/1000)","v":0},null,0,null,0,null,0,null,0,null,0,null,0,null,null,null,null,null,null,"",null,0,null,0,null,0,null,0,null,0,null,0,null,0,null,0,null,0,null,0,null,0,null,0,null,0,null,0,null,0,null,0,null,0,null,0,null,null,null,null,null,null,"",null,0,null,0,null,{"$f":"IF(ISERROR(CU217*$CL217/1000),0,CU217*$CL217/1000)","v":0},null,{"$f":"IF(ISERROR(CW217*$CL217/1000),0,CW217*$CL217/1000)","v":0},null,{"$f":"IF(ISERROR(CY217*$CL217/1000),0,CY217*$CL217/1000)","v":0},null,{"$f":"IF(ISERROR(DA217*$CL217/1000),0,DA217*$CL217/1000)","v":0},null,{"$f":"IF(ISERROR(DC217*$CL217/1000),0,DC217*$CL217/1000)","v":0},null,{"$f":"IF(ISERROR(DE217*$CL217/1000),0,DE217*$CL217/1000)","v":0},null,{"$f":"IF(ISERROR(DG217*$CL217/1000),0,DG217*$CL217/1000)","v":0},null,{"$f":"IF(ISERROR(DI217*$CL217/1000),0,DI217*$CL217/1000)","v":0},null,{"$f":"IF(ISERROR(DK217*$CL217/1000),0,DK217*$CL217/1000)","v":0},null,{"$f":"IF(ISERROR(DM217*$CL217/1000),0,DM217*$CL217/1000)","v":0},null,0,null,0,null,0,null,0,null,0,null,{"$f":"IF(ISERROR(DY217*$CL217/1000),0,DY217*$CL217/1000)","v":0}]
[null,null,null,null,null,null,null,"",null,0,null,0,null,{"$f":"IF(ISERROR(M218*$D218/1000),0,M218*$D218/1000)","v":0},null,{"$f":"IF(ISERROR(O218*$D218/1000),0,O218*$D218/1000)","v":0},null,{"$f":"IF(ISERROR(Q218*$D218/1000),0,Q218*$D218/1000)","v":0},null,{"$f":"IF(ISERROR(S218*$D218/1000),0,S218*$D218/1000)","v":0},null,{"$f":"IF(ISERROR(U218*$D218/1000),0,U218*$D218/1000)","v":0},null,{"$f":"IF(ISERROR(W218*$D218/1000),0,W218*$D218/1000)","v":0},null,{"$f":"IF(ISERROR(Y218*$D218/1000),0,Y218*$D218/1000)","v":0},null,{"$f":"IF(ISERROR(AA218*$D218/1000),0,AA218*$D218/1000)","v":0},null,{"$f":"IF(ISERROR(AC218*$D218/1000),0,AC218*$D218/1000)","v":0},null,{"$f":"IF(ISERROR(AE218*$D218/1000),0,AE218*$D218/1000)","v":0},null,0,null,0,null,0,null,0,null,0,null,0,null,null,null,null,null,null,"",null,0,null,0,null,0,null,0,null,0,null,0,null,0,null,0,null,0,null,0,null,0,null,0,null,0,null,0,null,0,null,0,null,0,null,0,null,null,null,null,null,null,"",null,0,null,0,null,{"$f":"IF(ISERROR(CU218*$CL218/1000),0,CU218*$CL218/1000)","v":0},null,{"$f":"IF(ISERROR(CW218*$CL218/1000),0,CW218*$CL218/1000)","v":0},null,{"$f":"IF(ISERROR(CY218*$CL218/1000),0,CY218*$CL218/1000)","v":0},null,{"$f":"IF(ISERROR(DA218*$CL218/1000),0,DA218*$CL218/1000)","v":0},null,{"$f":"IF(ISERROR(DC218*$CL218/1000),0,DC218*$CL218/1000)","v":0},null,{"$f":"IF(ISERROR(DE218*$CL218/1000),0,DE218*$CL218/1000)","v":0},null,{"$f":"IF(ISERROR(DG218*$CL218/1000),0,DG218*$CL218/1000)","v":0},null,{"$f":"IF(ISERROR(DI218*$CL218/1000),0,DI218*$CL218/1000)","v":0},null,{"$f":"IF(ISERROR(DK218*$CL218/1000),0,DK218*$CL218/1000)","v":0},null,{"$f":"IF(ISERROR(DM218*$CL218/1000),0,DM218*$CL218/1000)","v":0},null,0,null,0,null,0,null,0,null,0,null,{"$f":"IF(ISERROR(DY218*$CL218/1000),0,DY218*$CL218/1000)","v":0}]
[null,null,null,null,null,null,null,"",null,0,null,0,null,{"$f":"IF(ISERROR(M219*$D219/1000),0,M219*$D219/1000)","v":0},null,{"$f":"IF(ISERROR(O219*$D219/1000),0,O219*$D219/1000)","v":0},null,{"$f":"IF(ISERROR(Q219*$D219/1000),0,Q219*$D219/1000)","v":0},null,{"$f":"IF(ISERROR(S219*$D219/1000),0,S219*$D219/1000)","v":0},null,{"$f":"IF(ISERROR(U219*$D219/1000),0,U219*$D219/1000)","v":0},null,{"$f":"IF(ISERROR(W219*$D219/1000),0,W219*$D219/1000)","v":0},null,{"$f":"IF(ISERROR(Y219*$D219/1000),0,Y219*$D219/1000)","v":0},null,{"$f":"IF(ISERROR(AA219*$D219/1000),0,AA219*$D219/1000)","v":0},null,{"$f":"IF(ISERROR(AC219*$D219/1000),0,AC219*$D219/1000)","v":0},null,{"$f":"IF(ISERROR(AE219*$D219/1000),0,AE219*$D219/1000)","v":0},null,0,null,0,null,0,null,0,null,0,null,0,null,null,null,null,null,null,"",null,0,null,0,null,0,null,0,null,0,null,0,null,0,null,0,null,0,null,0,null,0,null,0,null,0,null,0,null,0,null,0,null,0,null,0,null,null,null,null,null,null,"",null,0,null,0,null,{"$f":"IF(ISERROR(CU219*$CL219/1000),0,CU219*$CL219/1000)","v":0},null,{"$f":"IF(ISERROR(CW219*$CL219/1000),0,CW219*$CL219/1000)","v":0},null,{"$f":"IF(ISERROR(CY219*$CL219/1000),0,CY219*$CL219/1000)","v":0},null,{"$f":"IF(ISERROR(DA219*$CL219/1000),0,DA219*$CL219/1000)","v":0},null,{"$f":"IF(ISERROR(DC219*$CL219/1000),0,DC219*$CL219/1000)","v":0},null,{"$f":"IF(ISERROR(DE219*$CL219/1000),0,DE219*$CL219/1000)","v":0},null,{"$f":"IF(ISERROR(DG219*$CL219/1000),0,DG219*$CL219/1000)","v":0},null,{"$f":"IF(ISERROR(DI219*$CL219/1000),0,DI219*$CL219/1000)","v":0},null,{"$f":"IF(ISERROR(DK219*$CL219/1000),0,DK219*$CL219/1000)","v":0},null,{"$f":"IF(ISERROR(DM219*$CL219/1000),0,DM219*$CL219/1000)","v":0},null,0,null,0,null,0,null,0,null,0,null,{"$f":"IF(ISERROR(DY219*$CL219/1000),0,DY219*$CL219/1000)","v":0}]
[null,null,null,null,null,null,null,"",null,0,null,0,null,{"$f":"IF(ISERROR(M220*$D220/1000),0,M220*$D220/1000)","v":0},null,{"$f":"IF(ISERROR(O220*$D220/1000),0,O220*$D220/1000)","v":0},null,{"$f":"IF(ISERROR(Q220*$D220/1000),0,Q220*$D220/1000)","v":0},null,{"$f":"IF(ISERROR(S220*$D220/1000),0,S220*$D220/1000)","v":0},null,{"$f":"IF(ISERROR(U220*$D220/1000),0,U220*$D220/1000)","v":0},null,{"$f":"IF(ISERROR(W220*$D220/1000),0,W220*$D220/1000)","v":0},null,{"$f":"IF(ISERROR(Y220*$D220/1000),0,Y220*$D220/1000)","v":0},null,{"$f":"IF(ISERROR(AA220*$D220/1000),0,AA220*$D220/1000)","v":0},null,{"$f":"IF(ISERROR(AC220*$D220/1000),0,AC220*$D220/1000)","v":0},null,{"$f":"IF(ISERROR(AE220*$D220/1000),0,AE220*$D220/1000)","v":0},null,0,null,0,null,0,null,0,null,0,null,0,null,null,null,null,null,null,"",null,0,null,0,null,0,null,0,null,0,null,0,null,0,null,0,null,0,null,0,null,0,null,0,null,0,null,0,null,0,null,0,null,0,null,0,null,null,null,null,null,null,"",null,0,null,0,null,{"$f":"IF(ISERROR(CU220*$CL220/1000),0,CU220*$CL220/1000)","v":0},null,{"$f":"IF(ISERROR(CW220*$CL220/1000),0,CW220*$CL220/1000)","v":0},null,{"$f":"IF(ISERROR(CY220*$CL220/1000),0,CY220*$CL220/1000)","v":0},null,{"$f":"IF(ISERROR(DA220*$CL220/1000),0,DA220*$CL220/1000)","v":0},null,{"$f":"IF(ISERROR(DC220*$CL220/1000),0,DC220*$CL220/1000)","v":0},null,{"$f":"IF(ISERROR(DE220*$CL220/1000),0,DE220*$CL220/1000)","v":0},null,{"$f":"IF(ISERROR(DG220*$CL220/1000),0,DG220*$CL220/1000)","v":0},null,{"$f":"IF(ISERROR(DI220*$CL220/1000),0,DI220*$CL220/1000)","v":0},null,{"$f":"IF(ISERROR(DK220*$CL220/1000),0,DK220*$CL220/1000)","v":0},null,{"$f":"IF(ISERROR(DM220*$CL220/1000),0,DM220*$CL220/1000)","v":0},null,0,null,0,null,0,null,0,null,0,null,{"$f":"IF(ISERROR(DY220*$CL220/1000),0,DY220*$CL220/1000)","v":0}]
[null,null,null,null,null,null,null,"",null,0,null,0,null,{"$f":"IF(ISERROR(M221*$D221/1000),0,M221*$D221/1000)","v":0},null,{"$f":"IF(ISERROR(O221*$D221/1000),0,O221*$D221/1000)","v":0},null,{"$f":"IF(ISERROR(Q221*$D221/1000),0,Q221*$D221/1000)","v":0},null,{"$f":"IF(ISERROR(S221*$D221/1000),0,S221*$D221/1000)","v":0},null,{"$f":"IF(ISERROR(U221*$D221/1000),0,U221*$D221/1000)","v":0},null,{"$f":"IF(ISERROR(W221*$D221/1000),0,W221*$D221/1000)","v":0},null,{"$f":"IF(ISERROR(Y221*$D221/1000),0,Y221*$D221/1000)","v":0},null,{"$f":"IF(ISERROR(AA221*$D221/1000),0,AA221*$D221/1000)","v":0},null,{"$f":"IF(ISERROR(AC221*$D221/1000),0,AC221*$D221/1000)","v":0},null,{"$f":"IF(ISERROR(AE221*$D221/1000),0,AE221*$D221/1000)","v":0},null,0,null,0,null,0,null,0,null,0,null,0,null,null,null,null,null,null,"",null,0,null,0,null,0,null,0,null,0,null,0,null,0,null,0,null,0,null,0,null,0,null,0,null,0,null,0,null,0,null,0,null,0,null,0,null,null,null,null,null,null,"",null,0,null,0,null,{"$f":"IF(ISERROR(CU221*$CL221/1000),0,CU221*$CL221/1000)","v":0},null,{"$f":"IF(ISERROR(CW221*$CL221/1000),0,CW221*$CL221/1000)","v":0},null,{"$f":"IF(ISERROR(CY221*$CL221/1000),0,CY221*$CL221/1000)","v":0},null,{"$f":"IF(ISERROR(DA221*$CL221/1000),0,DA221*$CL221/1000)","v":0},null,{"$f":"IF(ISERROR(DC221*$CL221/1000),0,DC221*$CL221/1000)","v":0},null,{"$f":"IF(ISERROR(DE221*$CL221/1000),0,DE221*$CL221/1000)","v":0},null,{"$f":"IF(ISERROR(DG221*$CL221/1000),0,DG221*$CL221/1000)","v":0},null,{"$f":"IF(ISERROR(DI221*$CL221/1000),0,DI221*$CL221/1000)","v":0},null,{"$f":"IF(ISERROR(DK221*$CL221/1000),0,DK221*$CL221/1000)","v":0},null,{"$f":"IF(ISERROR(DM221*$CL221/1000),0,DM221*$CL221/1000)","v":0},null,0,null,0,null,0,null,0,null,0,null,{"$f":"IF(ISERROR(DY221*$CL221/1000),0,DY221*$CL221/1000)","v":0}]
[null,null,null,null,null,null,null,"",null,0,null,0,null,{"$f":"IF(ISERROR(M222*$D222/1000),0,M222*$D222/1000)","v":0},null,{"$f":"IF(ISERROR(O222*$D222/1000),0,O222*$D222/1000)","v":0},null,{"$f":"IF(ISERROR(Q222*$D222/1000),0,Q222*$D222/1000)","v":0},null,{"$f":"IF(ISERROR(S222*$D222/1000),0,S222*$D222/1000)","v":0},null,{"$f":"IF(ISERROR(U222*$D222/1000),0,U222*$D222/1000)","v":0},null,{"$f":"IF(ISERROR(W222*$D222/1000),0,W222*$D222/1000)","v":0},null,{"$f":"IF(ISERROR(Y222*$D222/1000),0,Y222*$D222/1000)","v":0},null,{"$f":"IF(ISERROR(AA222*$D222/1000),0,AA222*$D222/1000)","v":0},null,{"$f":"IF(ISERROR(AC222*$D222/1000),0,AC222*$D222/1000)","v":0},null,{"$f":"IF(ISERROR(AE222*$D222/1000),0,AE222*$D222/1000)","v":0},null,0,null,0,null,0,null,0,null,0,null,0,null,null,null,null,null,null,"",null,0,null,0,null,0,null,0,null,0,null,0,null,0,null,0,null,0,null,0,null,0,null,0,null,0,null,0,null,0,null,0,null,0,null,0,null,null,null,null,null,null,"",null,0,null,0,null,{"$f":"IF(ISERROR(CU222*$CL222/1000),0,CU222*$CL222/1000)","v":0},null,{"$f":"IF(ISERROR(CW222*$CL222/1000),0,CW222*$CL222/1000)","v":0},null,{"$f":"IF(ISERROR(CY222*$CL222/1000),0,CY222*$CL222/1000)","v":0},null,{"$f":"IF(ISERROR(DA222*$CL222/1000),0,DA222*$CL222/1000)","v":0},null,{"$f":"IF(ISERROR(DC222*$CL222/1000),0,DC222*$CL222/1000)","v":0},null,{"$f":"IF(ISERROR(DE222*$CL222/1000),0,DE222*$CL222/1000)","v":0},null,{"$f":"IF(ISERROR(DG222*$CL222/1000),0,DG222*$CL222/1000)","v":0},null,{"$f":"IF(ISERROR(DI222*$CL222/1000),0,DI222*$CL222/1000)","v":0},null,{"$f":"IF(ISERROR(DK222*$CL222/1000),0,DK222*$CL222/1000)","v":0},null,{"$f":"IF(ISERROR(DM222*$CL222/1000),0,DM222*$CL222/1000)","v":0},null,0,null,0,null,0,null,0,null,0,null,{"$f":"IF(ISERROR(DY222*$CL222/1000),0,DY222*$CL222/1000)","v":0}]
[null,null,null,null,null,null,null,"",null,0,null,0,null,{"$f":"IF(ISERROR(M223*$D223/1000),0,M223*$D223/1000)","v":0},null,{"$f":"IF(ISERROR(O223*$D223/1000),0,O223*$D223/1000)","v":0},null,{"$f":"IF(ISERROR(Q223*$D223/1000),0,Q223*$D223/1000)","v":0},null,{"$f":"IF(ISERROR(S223*$D223/1000),0,S223*$D223/1000)","v":0},null,{"$f":"IF(ISERROR(U223*$D223/1000),0,U223*$D223/1000)","v":0},null,{"$f":"IF(ISERROR(W223*$D223/1000),0,W223*$D223/1000)","v":0},null,{"$f":"IF(ISERROR(Y223*$D223/1000),0,Y223*$D223/1000)","v":0},null,{"$f":"IF(ISERROR(AA223*$D223/1000),0,AA223*$D223/1000)","v":0},null,{"$f":"IF(ISERROR(AC223*$D223/1000),0,AC223*$D223/1000)","v":0},null,{"$f":"IF(ISERROR(AE223*$D223/1000),0,AE223*$D223/1000)","v":0},null,0,null,0,null,0,null,0,null,0,null,0,null,null,null,null,null,null,"",null,0,null,0,null,0,null,0,null,0,null,0,null,0,null,0,null,0,null,0,null,0,null,0,null,0,null,0,null,0,null,0,null,0,null,0,null,null,null,null,null,null,"",null,0,null,0,null,{"$f":"IF(ISERROR(CU223*$CL223/1000),0,CU223*$CL223/1000)","v":0},null,{"$f":"IF(ISERROR(CW223*$CL223/1000),0,CW223*$CL223/1000)","v":0},null,{"$f":"IF(ISERROR(CY223*$CL223/1000),0,CY223*$CL223/1000)","v":0},null,{"$f":"IF(ISERROR(DA223*$CL223/1000),0,DA223*$CL223/1000)","v":0},null,{"$f":"IF(ISERROR(DC223*$CL223/1000),0,DC223*$CL223/1000)","v":0},null,{"$f":"IF(ISERROR(DE223*$CL223/1000),0,DE223*$CL223/1000)","v":0},null,{"$f":"IF(ISERROR(DG223*$CL223/1000),0,DG223*$CL223/1000)","v":0},null,{"$f":"IF(ISERROR(DI223*$CL223/1000),0,DI223*$CL223/1000)","v":0},null,{"$f":"IF(ISERROR(DK223*$CL223/1000),0,DK223*$CL223/1000)","v":0},null,{"$f":"IF(ISERROR(DM223*$CL223/1000),0,DM223*$CL223/1000)","v":0},null,0,null,0,null,0,null,0,null,0,null,{"$f":"IF(ISERROR(DY223*$CL223/1000),0,DY223*$CL223/1000)","v":0}]
[null,null,null,null,null,null,null,"",null,0,null,0,null,{"$f":"IF(ISERROR(M224*$D224/1000),0,M224*$D224/1000)","v":0},null,{"$f":"IF(ISERROR(O224*$D224/1000),0,O224*$D224/1000)","v":0},null,{"$f":"IF(ISERROR(Q224*$D224/1000),0,Q224*$D224/1000)","v":0},null,{"$f":"IF(ISERROR(S224*$D224/1000),0,S224*$D224/1000)","v":0},null,{"$f":"IF(ISERROR(U224*$D224/1000),0,U224*$D224/1000)","v":0},null,{"$f":"IF(ISERROR(W224*$D224/1000),0,W224*$D224/1000)","v":0},null,{"$f":"IF(ISERROR(Y224*$D224/1000),0,Y224*$D224/1000)","v":0},null,{"$f":"IF(ISERROR(AA224*$D224/1000),0,AA224*$D224/1000)","v":0},null,{"$f":"IF(ISERROR(AC224*$D224/1000),0,AC224*$D224/1000)","v":0},null,{"$f":"IF(ISERROR(AE224*$D224/1000),0,AE224*$D224/1000)","v":0},null,0,null,0,null,0,null,0,null,0,null,0,null,null,null,null,null,null,"",null,0,null,0,null,0,null,0,null,0,null,0,null,0,null,0,null,0,null,0,null,0,null,0,null,0,null,0,null,0,null,0,null,0,null,0,null,null,null,null,null,null,"",null,0,null,0,null,{"$f":"IF(ISERROR(CU224*$CL224/1000),0,CU224*$CL224/1000)","v":0},null,{"$f":"IF(ISERROR(CW224*$CL224/1000),0,CW224*$CL224/1000)","v":0},null,{"$f":"IF(ISERROR(CY224*$CL224/1000),0,CY224*$CL224/1000)","v":0},null,{"$f":"IF(ISERROR(DA224*$CL224/1000),0,DA224*$CL224/1000)","v":0},null,{"$f":"IF(ISERROR(DC224*$CL224/1000),0,DC224*$CL224/1000)","v":0},null,{"$f":"IF(ISERROR(DE224*$CL224/1000),0,DE224*$CL224/1000)","v":0},null,{"$f":"IF(ISERROR(DG224*$CL224/1000),0,DG224*$CL224/1000)","v":0},null,{"$f":"IF(ISERROR(DI224*$CL224/1000),0,DI224*$CL224/1000)","v":0},null,{"$f":"IF(ISERROR(DK224*$CL224/1000),0,DK224*$CL224/1000)","v":0},null,{"$f":"IF(ISERROR(DM224*$CL224/1000),0,DM224*$CL224/1000)","v":0},null,0,null,0,null,0,null,0,null,0,null,{"$f":"IF(ISERROR(DY224*$CL224/1000),0,DY224*$CL224/1000)","v":0}]
[null,null,null,null,null,null,null,"",null,0,null,0,null,{"$f":"IF(ISERROR(M225*$D225/1000),0,M225*$D225/1000)","v":0},null,{"$f":"IF(ISERROR(O225*$D225/1000),0,O225*$D225/1000)","v":0},null,{"$f":"IF(ISERROR(Q225*$D225/1000),0,Q225*$D225/1000)","v":0},null,{"$f":"IF(ISERROR(S225*$D225/1000),0,S225*$D225/1000)","v":0},null,{"$f":"IF(ISERROR(U225*$D225/1000),0,U225*$D225/1000)","v":0},null,{"$f":"IF(ISERROR(W225*$D225/1000),0,W225*$D225/1000)","v":0},null,{"$f":"IF(ISERROR(Y225*$D225/1000),0,Y225*$D225/1000)","v":0},null,{"$f":"IF(ISERROR(AA225*$D225/1000),0,AA225*$D225/1000)","v":0},null,{"$f":"IF(ISERROR(AC225*$D225/1000),0,AC225*$D225/1000)","v":0},null,{"$f":"IF(ISERROR(AE225*$D225/1000),0,AE225*$D225/1000)","v":0},null,0,null,0,null,0,null,0,null,0,null,0,null,null,null,null,null,null,"",null,0,null,0,null,0,null,0,null,0,null,0,null,0,null,0,null,0,null,0,null,0,null,0,null,0,null,0,null,0,null,0,null,0,null,0,null,null,null,null,null,null,"",null,0,null,0,null,{"$f":"IF(ISERROR(CU225*$CL225/1000),0,CU225*$CL225/1000)","v":0},null,{"$f":"IF(ISERROR(CW225*$CL225/1000),0,CW225*$CL225/1000)","v":0},null,{"$f":"IF(ISERROR(CY225*$CL225/1000),0,CY225*$CL225/1000)","v":0},null,{"$f":"IF(ISERROR(DA225*$CL225/1000),0,DA225*$CL225/1000)","v":0},null,{"$f":"IF(ISERROR(DC225*$CL225/1000),0,DC225*$CL225/1000)","v":0},null,{"$f":"IF(ISERROR(DE225*$CL225/1000),0,DE225*$CL225/1000)","v":0},null,{"$f":"IF(ISERROR(DG225*$CL225/1000),0,DG225*$CL225/1000)","v":0},null,{"$f":"IF(ISERROR(DI225*$CL225/1000),0,DI225*$CL225/1000)","v":0},null,{"$f":"IF(ISERROR(DK225*$CL225/1000),0,DK225*$CL225/1000)","v":0},null,{"$f":"IF(ISERROR(DM225*$CL225/1000),0,DM225*$CL225/1000)","v":0},null,0,null,0,null,0,null,0,null,0,null,{"$f":"IF(ISERROR(DY225*$CL225/1000),0,DY225*$CL225/1000)","v":0}]
[null,null,null,null,null,null,null,"",null,0,null,0,null,{"$f":"IF(ISERROR(M226*$D226/1000),0,M226*$D226/1000)","v":0},null,{"$f":"IF(ISERROR(O226*$D226/1000),0,O226*$D226/1000)","v":0},null,{"$f":"IF(ISERROR(Q226*$D226/1000),0,Q226*$D226/1000)","v":0},null,{"$f":"IF(ISERROR(S226*$D226/1000),0,S226*$D226/1000)","v":0},null,{"$f":"IF(ISERROR(U226*$D226/1000),0,U226*$D226/1000)","v":0},null,{"$f":"IF(ISERROR(W226*$D226/1000),0,W226*$D226/1000)","v":0},null,{"$f":"IF(ISERROR(Y226*$D226/1000),0,Y226*$D226/1000)","v":0},null,{"$f":"IF(ISERROR(AA226*$D226/1000),0,AA226*$D226/1000)","v":0},null,{"$f":"IF(ISERROR(AC226*$D226/1000),0,AC226*$D226/1000)","v":0},null,{"$f":"IF(ISERROR(AE226*$D226/1000),0,AE226*$D226/1000)","v":0},null,0,null,0,null,0,null,0,null,0,null,0,null,null,null,null,null,null,"",null,0,null,0,null,0,null,0,null,0,null,0,null,0,null,0,null,0,null,0,null,0,null,0,null,0,null,0,null,0,null,0,null,0,null,0,null,null,null,null,null,null,"",null,0,null,0,null,{"$f":"IF(ISERROR(CU226*$CL226/1000),0,CU226*$CL226/1000)","v":0},null,{"$f":"IF(ISERROR(CW226*$CL226/1000),0,CW226*$CL226/1000)","v":0},null,{"$f":"IF(ISERROR(CY226*$CL226/1000),0,CY226*$CL226/1000)","v":0},null,{"$f":"IF(ISERROR(DA226*$CL226/1000),0,DA226*$CL226/1000)","v":0},null,{"$f":"IF(ISERROR(DC226*$CL226/1000),0,DC226*$CL226/1000)","v":0},null,{"$f":"IF(ISERROR(DE226*$CL226/1000),0,DE226*$CL226/1000)","v":0},null,{"$f":"IF(ISERROR(DG226*$CL226/1000),0,DG226*$CL226/1000)","v":0},null,{"$f":"IF(ISERROR(DI226*$CL226/1000),0,DI226*$CL226/1000)","v":0},null,{"$f":"IF(ISERROR(DK226*$CL226/1000),0,DK226*$CL226/1000)","v":0},null,{"$f":"IF(ISERROR(DM226*$CL226/1000),0,DM226*$CL226/1000)","v":0},null,0,null,0,null,0,null,0,null,0,null,{"$f":"IF(ISERROR(DY226*$CL226/1000),0,DY226*$CL226/1000)","v":0}]
[null,null,null,null,null,null,null,"",null,0,null,0,null,{"$f":"IF(ISERROR(M227*$D227/1000),0,M227*$D227/1000)","v":0},null,{"$f":"IF(ISERROR(O227*$D227/1000),0,O227*$D227/1000)","v":0},null,{"$f":"IF(ISERROR(Q227*$D227/1000),0,Q227*$D227/1000)","v":0},null,{"$f":"IF(ISERROR(S227*$D227/1000),0,S227*$D227/1000)","v":0},null,{"$f":"IF(ISERROR(U227*$D227/1000),0,U227*$D227/1000)","v":0},null,{"$f":"IF(ISERROR(W227*$D227/1000),0,W227*$D227/1000)","v":0},null,{"$f":"IF(ISERROR(Y227*$D227/1000),0,Y227*$D227/1000)","v":0},null,{"$f":"IF(ISERROR(AA227*$D227/1000),0,AA227*$D227/1000)","v":0},null,{"$f":"IF(ISERROR(AC227*$D227/1000),0,AC227*$D227/1000)","v":0},null,{"$f":"IF(ISERROR(AE227*$D227/1000),0,AE227*$D227/1000)","v":0},null,0,null,0,null,0,null,0,null,0,null,0,null,null,null,null,null,null,"",null,0,null,0,null,0,null,0,null,0,null,0,null,0,null,0,null,0,null,0,null,0,null,0,null,0,null,0,null,0,null,0,null,0,null,0,null,null,null,null,null,null,"",null,0,null,0,null,{"$f":"IF(ISERROR(CU227*$CL227/1000),0,CU227*$CL227/1000)","v":0},null,{"$f":"IF(ISERROR(CW227*$CL227/1000),0,CW227*$CL227/1000)","v":0},null,{"$f":"IF(ISERROR(CY227*$CL227/1000),0,CY227*$CL227/1000)","v":0},null,{"$f":"IF(ISERROR(DA227*$CL227/1000),0,DA227*$CL227/1000)","v":0},null,{"$f":"IF(ISERROR(DC227*$CL227/1000),0,DC227*$CL227/1000)","v":0},null,{"$f":"IF(ISERROR(DE227*$CL227/1000),0,DE227*$CL227/1000)","v":0},null,{"$f":"IF(ISERROR(DG227*$CL227/1000),0,DG227*$CL227/1000)","v":0},null,{"$f":"IF(ISERROR(DI227*$CL227/1000),0,DI227*$CL227/1000)","v":0},null,{"$f":"IF(ISERROR(DK227*$CL227/1000),0,DK227*$CL227/1000)","v":0},null,{"$f":"IF(ISERROR(DM227*$CL227/1000),0,DM227*$CL227/1000)","v":0},null,0,null,0,null,0,null,0,null,0,null,{"$f":"IF(ISERROR(DY227*$CL227/1000),0,DY227*$CL227/1000)","v":0}]
[null,null,null,null,null,null,null,"",null,0,null,0,null,{"$f":"IF(ISERROR(M228*$D228/1000),0,M228*$D228/1000)","v":0},null,{"$f":"IF(ISERROR(O228*$D228/1000),0,O228*$D228/1000)","v":0},null,{"$f":"IF(ISERROR(Q228*$D228/1000),0,Q228*$D228/1000)","v":0},null,{"$f":"IF(ISERROR(S228*$D228/1000),0,S228*$D228/1000)","v":0},null,{"$f":"IF(ISERROR(U228*$D228/1000),0,U228*$D228/1000)","v":0},null,{"$f":"IF(ISERROR(W228*$D228/1000),0,W228*$D228/1000)","v":0},null,{"$f":"IF(ISERROR(Y228*$D228/1000),0,Y228*$D228/1000)","v":0},null,{"$f":"IF(ISERROR(AA228*$D228/1000),0,AA228*$D228/1000)","v":0},null,{"$f":"IF(ISERROR(AC228*$D228/1000),0,AC228*$D228/1000)","v":0},null,{"$f":"IF(ISERROR(AE228*$D228/1000),0,AE228*$D228/1000)","v":0},null,0,null,0,null,0,null,0,null,0,null,0,null,null,null,null,null,null,"",null,0,null,0,null,0,null,0,null,0,null,0,null,0,null,0,null,0,null,0,null,0,null,0,null,0,null,0,null,0,null,0,null,0,null,0,null,null,null,null,null,null,"",null,0,null,0,null,{"$f":"IF(ISERROR(CU228*$CL228/1000),0,CU228*$CL228/1000)","v":0},null,{"$f":"IF(ISERROR(CW228*$CL228/1000),0,CW228*$CL228/1000)","v":0},null,{"$f":"IF(ISERROR(CY228*$CL228/1000),0,CY228*$CL228/1000)","v":0},null,{"$f":"IF(ISERROR(DA228*$CL228/1000),0,DA228*$CL228/1000)","v":0},null,{"$f":"IF(ISERROR(DC228*$CL228/1000),0,DC228*$CL228/1000)","v":0},null,{"$f":"IF(ISERROR(DE228*$CL228/1000),0,DE228*$CL228/1000)","v":0},null,{"$f":"IF(ISERROR(DG228*$CL228/1000),0,DG228*$CL228/1000)","v":0},null,{"$f":"IF(ISERROR(DI228*$CL228/1000),0,DI228*$CL228/1000)","v":0},null,{"$f":"IF(ISERROR(DK228*$CL228/1000),0,DK228*$CL228/1000)","v":0},null,{"$f":"IF(ISERROR(DM228*$CL228/1000),0,DM228*$CL228/1000)","v":0},null,0,null,0,null,0,null,0,null,0,null,{"$f":"IF(ISERROR(DY228*$CL228/1000),0,DY228*$CL228/1000)","v":0}]
[null,null,null,null,null,null,null,"",null,0,null,0,null,{"$f":"IF(ISERROR(M229*$D229/1000),0,M229*$D229/1000)","v":0},null,{"$f":"IF(ISERROR(O229*$D229/1000),0,O229*$D229/1000)","v":0},null,{"$f":"IF(ISERROR(Q229*$D229/1000),0,Q229*$D229/1000)","v":0},null,{"$f":"IF(ISERROR(S229*$D229/1000),0,S229*$D229/1000)","v":0},null,{"$f":"IF(ISERROR(U229*$D229/1000),0,U229*$D229/1000)","v":0},null,{"$f":"IF(ISERROR(W229*$D229/1000),0,W229*$D229/1000)","v":0},null,{"$f":"IF(ISERROR(Y229*$D229/1000),0,Y229*$D229/1000)","v":0},null,{"$f":"IF(ISERROR(AA229*$D229/1000),0,AA229*$D229/1000)","v":0},null,{"$f":"IF(ISERROR(AC229*$D229/1000),0,AC229*$D229/1000)","v":0},null,{"$f":"IF(ISERROR(AE229*$D229/1000),0,AE229*$D229/1000)","v":0},null,0,null,0,null,0,null,0,null,0,null,0,null,null,null,null,null,null,"",null,0,null,0,null,0,null,0,null,0,null,0,null,0,null,0,null,0,null,0,null,0,null,0,null,0,null,0,null,0,null,0,null,0,null,0,null,null,null,null,null,null,"",null,0,null,0,null,{"$f":"IF(ISERROR(CU229*$CL229/1000),0,CU229*$CL229/1000)","v":0},null,{"$f":"IF(ISERROR(CW229*$CL229/1000),0,CW229*$CL229/1000)","v":0},null,{"$f":"IF(ISERROR(CY229*$CL229/1000),0,CY229*$CL229/1000)","v":0},null,{"$f":"IF(ISERROR(DA229*$CL229/1000),0,DA229*$CL229/1000)","v":0},null,{"$f":"IF(ISERROR(DC229*$CL229/1000),0,DC229*$CL229/1000)","v":0},null,{"$f":"IF(ISERROR(DE229*$CL229/1000),0,DE229*$CL229/1000)","v":0},null,{"$f":"IF(ISERROR(DG229*$CL229/1000),0,DG229*$CL229/1000)","v":0},null,{"$f":"IF(ISERROR(DI229*$CL229/1000),0,DI229*$CL229/1000)","v":0},null,{"$f":"IF(ISERROR(DK229*$CL229/1000),0,DK229*$CL229/1000)","v":0},null,{"$f":"IF(ISERROR(DM229*$CL229/1000),0,DM229*$CL229/1000)","v":0},null,0,null,0,null,0,null,0,null,0,null,{"$f":"IF(ISERROR(DY229*$CL229/1000),0,DY229*$CL229/1000)","v":0}]
[null,"Août",null,null,null,null,null,"",null,0,null,0,null,{"$f":"IF(ISERROR(M230*$D230/1000),0,M230*$D230/1000)","v":0},null,{"$f":"IF(ISERROR(O230*$D230/1000),0,O230*$D230/1000)","v":0},null,{"$f":"IF(ISERROR(Q230*$D230/1000),0,Q230*$D230/1000)","v":0},null,{"$f":"IF(ISERROR(S230*$D230/1000),0,S230*$D230/1000)","v":0},null,{"$f":"IF(ISERROR(U230*$D230/1000),0,U230*$D230/1000)","v":0},null,{"$f":"IF(ISERROR(W230*$D230/1000),0,W230*$D230/1000)","v":0},null,{"$f":"IF(ISERROR(Y230*$D230/1000),0,Y230*$D230/1000)","v":0},null,{"$f":"IF(ISERROR(AA230*$D230/1000),0,AA230*$D230/1000)","v":0},null,{"$f":"IF(ISERROR(AC230*$D230/1000),0,AC230*$D230/1000)","v":0},null,{"$f":"IF(ISERROR(AE230*$D230/1000),0,AE230*$D230/1000)","v":0},null,0,null,0,null,0,null,0,null,0,null,0,null,null,null,null,null,null,"",null,0,null,0,null,0,null,0,null,0,null,0,null,0,null,0,null,0,null,0,null,0,null,0,null,0,null,0,null,0,null,0,null,0,null,0,null,null,null,null,null,null,"",null,0,null,0,null,{"$f":"IF(ISERROR(CU230*$CL230/1000),0,CU230*$CL230/1000)","v":0},null,{"$f":"IF(ISERROR(CW230*$CL230/1000),0,CW230*$CL230/1000)","v":0},null,{"$f":"IF(ISERROR(CY230*$CL230/1000),0,CY230*$CL230/1000)","v":0},null,{"$f":"IF(ISERROR(DA230*$CL230/1000),0,DA230*$CL230/1000)","v":0},null,{"$f":"IF(ISERROR(DC230*$CL230/1000),0,DC230*$CL230/1000)","v":0},null,{"$f":"IF(ISERROR(DE230*$CL230/1000),0,DE230*$CL230/1000)","v":0},null,{"$f":"IF(ISERROR(DG230*$CL230/1000),0,DG230*$CL230/1000)","v":0},null,{"$f":"IF(ISERROR(DI230*$CL230/1000),0,DI230*$CL230/1000)","v":0},null,{"$f":"IF(ISERROR(DK230*$CL230/1000),0,DK230*$CL230/1000)","v":0},null,{"$f":"IF(ISERROR(DM230*$CL230/1000),0,DM230*$CL230/1000)","v":0},null,0,null,0,null,0,null,0,null,0,null,{"$f":"IF(ISERROR(DY230*$CL230/1000),0,DY230*$CL230/1000)","v":0}]
[null,null,null,null,null,null,null,"",null,0,null,0,null,{"$f":"IF(ISERROR(M231*$D231/1000),0,M231*$D231/1000)","v":0},null,{"$f":"IF(ISERROR(O231*$D231/1000),0,O231*$D231/1000)","v":0},null,{"$f":"IF(ISERROR(Q231*$D231/1000),0,Q231*$D231/1000)","v":0},null,{"$f":"IF(ISERROR(S231*$D231/1000),0,S231*$D231/1000)","v":0},null,{"$f":"IF(ISERROR(U231*$D231/1000),0,U231*$D231/1000)","v":0},null,{"$f":"IF(ISERROR(W231*$D231/1000),0,W231*$D231/1000)","v":0},null,{"$f":"IF(ISERROR(Y231*$D231/1000),0,Y231*$D231/1000)","v":0},null,{"$f":"IF(ISERROR(AA231*$D231/1000),0,AA231*$D231/1000)","v":0},null,{"$f":"IF(ISERROR(AC231*$D231/1000),0,AC231*$D231/1000)","v":0},null,{"$f":"IF(ISERROR(AE231*$D231/1000),0,AE231*$D231/1000)","v":0},null,0,null,0,null,0,null,0,null,0,null,0,null,null,null,null,null,null,"",null,0,null,0,null,0,null,0,null,0,null,0,null,0,null,0,null,0,null,0,null,0,null,0,null,0,null,0,null,0,null,0,null,0,null,0,null,null,null,null,null,null,"",null,0,null,0,null,{"$f":"IF(ISERROR(CU231*$CL231/1000),0,CU231*$CL231/1000)","v":0},null,{"$f":"IF(ISERROR(CW231*$CL231/1000),0,CW231*$CL231/1000)","v":0},null,{"$f":"IF(ISERROR(CY231*$CL231/1000),0,CY231*$CL231/1000)","v":0},null,{"$f":"IF(ISERROR(DA231*$CL231/1000),0,DA231*$CL231/1000)","v":0},null,{"$f":"IF(ISERROR(DC231*$CL231/1000),0,DC231*$CL231/1000)","v":0},null,{"$f":"IF(ISERROR(DE231*$CL231/1000),0,DE231*$CL231/1000)","v":0},null,{"$f":"IF(ISERROR(DG231*$CL231/1000),0,DG231*$CL231/1000)","v":0},null,{"$f":"IF(ISERROR(DI231*$CL231/1000),0,DI231*$CL231/1000)","v":0},null,{"$f":"IF(ISERROR(DK231*$CL231/1000),0,DK231*$CL231/1000)","v":0},null,{"$f":"IF(ISERROR(DM231*$CL231/1000),0,DM231*$CL231/1000)","v":0},null,0,null,0,null,0,null,0,null,0,null,{"$f":"IF(ISERROR(DY231*$CL231/1000),0,DY231*$CL231/1000)","v":0}]
[null,null,null,null,null,null,null,"",null,0,null,0,null,{"$f":"IF(ISERROR(M232*$D232/1000),0,M232*$D232/1000)","v":0},null,{"$f":"IF(ISERROR(O232*$D232/1000),0,O232*$D232/1000)","v":0},null,{"$f":"IF(ISERROR(Q232*$D232/1000),0,Q232*$D232/1000)","v":0},null,{"$f":"IF(ISERROR(S232*$D232/1000),0,S232*$D232/1000)","v":0},null,{"$f":"IF(ISERROR(U232*$D232/1000),0,U232*$D232/1000)","v":0},null,{"$f":"IF(ISERROR(W232*$D232/1000),0,W232*$D232/1000)","v":0},null,{"$f":"IF(ISERROR(Y232*$D232/1000),0,Y232*$D232/1000)","v":0},null,{"$f":"IF(ISERROR(AA232*$D232/1000),0,AA232*$D232/1000)","v":0},null,{"$f":"IF(ISERROR(AC232*$D232/1000),0,AC232*$D232/1000)","v":0},null,{"$f":"IF(ISERROR(AE232*$D232/1000),0,AE232*$D232/1000)","v":0},null,0,null,0,null,0,null,0,null,0,null,0,null,null,null,null,null,null,"",null,0,null,0,null,0,null,0,null,0,null,0,null,0,null,0,null,0,null,0,null,0,null,0,null,0,null,0,null,0,null,0,null,0,null,0,null,null,null,null,null,null,"",null,0,null,0,null,{"$f":"IF(ISERROR(CU232*$CL232/1000),0,CU232*$CL232/1000)","v":0},null,{"$f":"IF(ISERROR(CW232*$CL232/1000),0,CW232*$CL232/1000)","v":0},null,{"$f":"IF(ISERROR(CY232*$CL232/1000),0,CY232*$CL232/1000)","v":0},null,{"$f":"IF(ISERROR(DA232*$CL232/1000),0,DA232*$CL232/1000)","v":0},null,{"$f":"IF(ISERROR(DC232*$CL232/1000),0,DC232*$CL232/1000)","v":0},null,{"$f":"IF(ISERROR(DE232*$CL232/1000),0,DE232*$CL232/1000)","v":0},null,{"$f":"IF(ISERROR(DG232*$CL232/1000),0,DG232*$CL232/1000)","v":0},null,{"$f":"IF(ISERROR(DI232*$CL232/1000),0,DI232*$CL232/1000)","v":0},null,{"$f":"IF(ISERROR(DK232*$CL232/1000),0,DK232*$CL232/1000)","v":0},null,{"$f":"IF(ISERROR(DM232*$CL232/1000),0,DM232*$CL232/1000)","v":0},null,0,null,0,null,0,null,0,null,0,null,{"$f":"IF(ISERROR(DY232*$CL232/1000),0,DY232*$CL232/1000)","v":0}]
[null,null,null,null,null,null,null,"",null,0,null,0,null,{"$f":"IF(ISERROR(M233*$D233/1000),0,M233*$D233/1000)","v":0},null,{"$f":"IF(ISERROR(O233*$D233/1000),0,O233*$D233/1000)","v":0},null,{"$f":"IF(ISERROR(Q233*$D233/1000),0,Q233*$D233/1000)","v":0},null,{"$f":"IF(ISERROR(S233*$D233/1000),0,S233*$D233/1000)","v":0},null,{"$f":"IF(ISERROR(U233*$D233/1000),0,U233*$D233/1000)","v":0},null,{"$f":"IF(ISERROR(W233*$D233/1000),0,W233*$D233/1000)","v":0},null,{"$f":"IF(ISERROR(Y233*$D233/1000),0,Y233*$D233/1000)","v":0},null,{"$f":"IF(ISERROR(AA233*$D233/1000),0,AA233*$D233/1000)","v":0},null,{"$f":"IF(ISERROR(AC233*$D233/1000),0,AC233*$D233/1000)","v":0},null,{"$f":"IF(ISERROR(AE233*$D233/1000),0,AE233*$D233/1000)","v":0},null,0,null,0,null,0,null,0,null,0,null,0,null,null,null,null,null,null,"",null,0,null,0,null,0,null,0,null,0,null,0,null,0,null,0,null,0,null,0,null,0,null,0,null,0,null,0,null,0,null,0,null,0,null,0,null,null,null,null,null,null,"",null,0,null,0,null,{"$f":"IF(ISERROR(CU233*$CL233/1000),0,CU233*$CL233/1000)","v":0},null,{"$f":"IF(ISERROR(CW233*$CL233/1000),0,CW233*$CL233/1000)","v":0},null,{"$f":"IF(ISERROR(CY233*$CL233/1000),0,CY233*$CL233/1000)","v":0},null,{"$f":"IF(ISERROR(DA233*$CL233/1000),0,DA233*$CL233/1000)","v":0},null,{"$f":"IF(ISERROR(DC233*$CL233/1000),0,DC233*$CL233/1000)","v":0},null,{"$f":"IF(ISERROR(DE233*$CL233/1000),0,DE233*$CL233/1000)","v":0},null,{"$f":"IF(ISERROR(DG233*$CL233/1000),0,DG233*$CL233/1000)","v":0},null,{"$f":"IF(ISERROR(DI233*$CL233/1000),0,DI233*$CL233/1000)","v":0},null,{"$f":"IF(ISERROR(DK233*$CL233/1000),0,DK233*$CL233/1000)","v":0},null,{"$f":"IF(ISERROR(DM233*$CL233/1000),0,DM233*$CL233/1000)","v":0},null,0,null,0,null,0,null,0,null,0,null,{"$f":"IF(ISERROR(DY233*$CL233/1000),0,DY233*$CL233/1000)","v":0}]
[null,null,null,null,null,null,null,"",null,0,null,0,null,{"$f":"IF(ISERROR(M234*$D234/1000),0,M234*$D234/1000)","v":0},null,{"$f":"IF(ISERROR(O234*$D234/1000),0,O234*$D234/1000)","v":0},null,{"$f":"IF(ISERROR(Q234*$D234/1000),0,Q234*$D234/1000)","v":0},null,{"$f":"IF(ISERROR(S234*$D234/1000),0,S234*$D234/1000)","v":0},null,{"$f":"IF(ISERROR(U234*$D234/1000),0,U234*$D234/1000)","v":0},null,{"$f":"IF(ISERROR(W234*$D234/1000),0,W234*$D234/1000)","v":0},null,{"$f":"IF(ISERROR(Y234*$D234/1000),0,Y234*$D234/1000)","v":0},null,{"$f":"IF(ISERROR(AA234*$D234/1000),0,AA234*$D234/1000)","v":0},null,{"$f":"IF(ISERROR(AC234*$D234/1000),0,AC234*$D234/1000)","v":0},null,{"$f":"IF(ISERROR(AE234*$D234/1000),0,AE234*$D234/1000)","v":0},null,0,null,0,null,0,null,0,null,0,null,0,null,null,null,null,null,null,"",null,0,null,0,null,0,null,0,null,0,null,0,null,0,null,0,null,0,null,0,null,0,null,0,null,0,null,0,null,0,null,0,null,0,null,0,null,null,null,null,null,null,"",null,0,null,0,null,{"$f":"IF(ISERROR(CU234*$CL234/1000),0,CU234*$CL234/1000)","v":0},null,{"$f":"IF(ISERROR(CW234*$CL234/1000),0,CW234*$CL234/1000)","v":0},null,{"$f":"IF(ISERROR(CY234*$CL234/1000),0,CY234*$CL234/1000)","v":0},null,{"$f":"IF(ISERROR(DA234*$CL234/1000),0,DA234*$CL234/1000)","v":0},null,{"$f":"IF(ISERROR(DC234*$CL234/1000),0,DC234*$CL234/1000)","v":0},null,{"$f":"IF(ISERROR(DE234*$CL234/1000),0,DE234*$CL234/1000)","v":0},null,{"$f":"IF(ISERROR(DG234*$CL234/1000),0,DG234*$CL234/1000)","v":0},null,{"$f":"IF(ISERROR(DI234*$CL234/1000),0,DI234*$CL234/1000)","v":0},null,{"$f":"IF(ISERROR(DK234*$CL234/1000),0,DK234*$CL234/1000)","v":0},null,{"$f":"IF(ISERROR(DM234*$CL234/1000),0,DM234*$CL234/1000)","v":0},null,0,null,0,null,0,null,0,null,0,null,{"$f":"IF(ISERROR(DY234*$CL234/1000),0,DY234*$CL234/1000)","v":0}]
[null,null,null,null,null,null,null,"",null,0,null,0,null,{"$f":"IF(ISERROR(M235*$D235/1000),0,M235*$D235/1000)","v":0},null,{"$f":"IF(ISERROR(O235*$D235/1000),0,O235*$D235/1000)","v":0},null,{"$f":"IF(ISERROR(Q235*$D235/1000),0,Q235*$D235/1000)","v":0},null,{"$f":"IF(ISERROR(S235*$D235/1000),0,S235*$D235/1000)","v":0},null,{"$f":"IF(ISERROR(U235*$D235/1000),0,U235*$D235/1000)","v":0},null,{"$f":"IF(ISERROR(W235*$D235/1000),0,W235*$D235/1000)","v":0},null,{"$f":"IF(ISERROR(Y235*$D235/1000),0,Y235*$D235/1000)","v":0},null,{"$f":"IF(ISERROR(AA235*$D235/1000),0,AA235*$D235/1000)","v":0},null,{"$f":"IF(ISERROR(AC235*$D235/1000),0,AC235*$D235/1000)","v":0},null,{"$f":"IF(ISERROR(AE235*$D235/1000),0,AE235*$D235/1000)","v":0},null,0,null,0,null,0,null,0,null,0,null,0,null,null,null,null,null,null,"",null,0,null,0,null,0,null,0,null,0,null,0,null,0,null,0,null,0,null,0,null,0,null,0,null,0,null,0,null,0,null,0,null,0,null,0,null,null,null,null,null,null,"",null,0,null,0,null,{"$f":"IF(ISERROR(CU235*$CL235/1000),0,CU235*$CL235/1000)","v":0},null,{"$f":"IF(ISERROR(CW235*$CL235/1000),0,CW235*$CL235/1000)","v":0},null,{"$f":"IF(ISERROR(CY235*$CL235/1000),0,CY235*$CL235/1000)","v":0},null,{"$f":"IF(ISERROR(DA235*$CL235/1000),0,DA235*$CL235/1000)","v":0},null,{"$f":"IF(ISERROR(DC235*$CL235/1000),0,DC235*$CL235/1000)","v":0},null,{"$f":"IF(ISERROR(DE235*$CL235/1000),0,DE235*$CL235/1000)","v":0},null,{"$f":"IF(ISERROR(DG235*$CL235/1000),0,DG235*$CL235/1000)","v":0},null,{"$f":"IF(ISERROR(DI235*$CL235/1000),0,DI235*$CL235/1000)","v":0},null,{"$f":"IF(ISERROR(DK235*$CL235/1000),0,DK235*$CL235/1000)","v":0},null,{"$f":"IF(ISERROR(DM235*$CL235/1000),0,DM235*$CL235/1000)","v":0},null,0,null,0,null,0,null,0,null,0,null,{"$f":"IF(ISERROR(DY235*$CL235/1000),0,DY235*$CL235/1000)","v":0}]
[null,null,null,null,null,null,null,"",null,0,null,0,null,{"$f":"IF(ISERROR(M236*$D236/1000),0,M236*$D236/1000)","v":0},null,{"$f":"IF(ISERROR(O236*$D236/1000),0,O236*$D236/1000)","v":0},null,{"$f":"IF(ISERROR(Q236*$D236/1000),0,Q236*$D236/1000)","v":0},null,{"$f":"IF(ISERROR(S236*$D236/1000),0,S236*$D236/1000)","v":0},null,{"$f":"IF(ISERROR(U236*$D236/1000),0,U236*$D236/1000)","v":0},null,{"$f":"IF(ISERROR(W236*$D236/1000),0,W236*$D236/1000)","v":0},null,{"$f":"IF(ISERROR(Y236*$D236/1000),0,Y236*$D236/1000)","v":0},null,{"$f":"IF(ISERROR(AA236*$D236/1000),0,AA236*$D236/1000)","v":0},null,{"$f":"IF(ISERROR(AC236*$D236/1000),0,AC236*$D236/1000)","v":0},null,{"$f":"IF(ISERROR(AE236*$D236/1000),0,AE236*$D236/1000)","v":0},null,0,null,0,null,0,null,0,null,0,null,0,null,null,null,null,null,null,"",null,0,null,0,null,0,null,0,null,0,null,0,null,0,null,0,null,0,null,0,null,0,null,0,null,0,null,0,null,0,null,0,null,0,null,0,null,null,null,null,null,null,"",null,0,null,0,null,{"$f":"IF(ISERROR(CU236*$CL236/1000),0,CU236*$CL236/1000)","v":0},null,{"$f":"IF(ISERROR(CW236*$CL236/1000),0,CW236*$CL236/1000)","v":0},null,{"$f":"IF(ISERROR(CY236*$CL236/1000),0,CY236*$CL236/1000)","v":0},null,{"$f":"IF(ISERROR(DA236*$CL236/1000),0,DA236*$CL236/1000)","v":0},null,{"$f":"IF(ISERROR(DC236*$CL236/1000),0,DC236*$CL236/1000)","v":0},null,{"$f":"IF(ISERROR(DE236*$CL236/1000),0,DE236*$CL236/1000)","v":0},null,{"$f":"IF(ISERROR(DG236*$CL236/1000),0,DG236*$CL236/1000)","v":0},null,{"$f":"IF(ISERROR(DI236*$CL236/1000),0,DI236*$CL236/1000)","v":0},null,{"$f":"IF(ISERROR(DK236*$CL236/1000),0,DK236*$CL236/1000)","v":0},null,{"$f":"IF(ISERROR(DM236*$CL236/1000),0,DM236*$CL236/1000)","v":0},null,0,null,0,null,0,null,0,null,0,null,{"$f":"IF(ISERROR(DY236*$CL236/1000),0,DY236*$CL236/1000)","v":0}]
[null,null,null,null,null,null,null,"",null,0,null,0,null,{"$f":"IF(ISERROR(M237*$D237/1000),0,M237*$D237/1000)","v":0},null,{"$f":"IF(ISERROR(O237*$D237/1000),0,O237*$D237/1000)","v":0},null,{"$f":"IF(ISERROR(Q237*$D237/1000),0,Q237*$D237/1000)","v":0},null,{"$f":"IF(ISERROR(S237*$D237/1000),0,S237*$D237/1000)","v":0},null,{"$f":"IF(ISERROR(U237*$D237/1000),0,U237*$D237/1000)","v":0},null,{"$f":"IF(ISERROR(W237*$D237/1000),0,W237*$D237/1000)","v":0},null,{"$f":"IF(ISERROR(Y237*$D237/1000),0,Y237*$D237/1000)","v":0},null,{"$f":"IF(ISERROR(AA237*$D237/1000),0,AA237*$D237/1000)","v":0},null,{"$f":"IF(ISERROR(AC237*$D237/1000),0,AC237*$D237/1000)","v":0},null,{"$f":"IF(ISERROR(AE237*$D237/1000),0,AE237*$D237/1000)","v":0},null,0,null,0,null,0,null,0,null,0,null,0,null,null,null,null,null,null,"",null,0,null,0,null,0,null,0,null,0,null,0,null,0,null,0,null,0,null,0,null,0,null,0,null,0,null,0,null,0,null,0,null,0,null,0,null,null,null,null,null,null,"",null,0,null,0,null,{"$f":"IF(ISERROR(CU237*$CL237/1000),0,CU237*$CL237/1000)","v":0},null,{"$f":"IF(ISERROR(CW237*$CL237/1000),0,CW237*$CL237/1000)","v":0},null,{"$f":"IF(ISERROR(CY237*$CL237/1000),0,CY237*$CL237/1000)","v":0},null,{"$f":"IF(ISERROR(DA237*$CL237/1000),0,DA237*$CL237/1000)","v":0},null,{"$f":"IF(ISERROR(DC237*$CL237/1000),0,DC237*$CL237/1000)","v":0},null,{"$f":"IF(ISERROR(DE237*$CL237/1000),0,DE237*$CL237/1000)","v":0},null,{"$f":"IF(ISERROR(DG237*$CL237/1000),0,DG237*$CL237/1000)","v":0},null,{"$f":"IF(ISERROR(DI237*$CL237/1000),0,DI237*$CL237/1000)","v":0},null,{"$f":"IF(ISERROR(DK237*$CL237/1000),0,DK237*$CL237/1000)","v":0},null,{"$f":"IF(ISERROR(DM237*$CL237/1000),0,DM237*$CL237/1000)","v":0},null,0,null,0,null,0,null,0,null,0,null,{"$f":"IF(ISERROR(DY237*$CL237/1000),0,DY237*$CL237/1000)","v":0}]
[null,null,null,null,null,null,null,"",null,0,null,0,null,{"$f":"IF(ISERROR(M238*$D238/1000),0,M238*$D238/1000)","v":0},null,{"$f":"IF(ISERROR(O238*$D238/1000),0,O238*$D238/1000)","v":0},null,{"$f":"IF(ISERROR(Q238*$D238/1000),0,Q238*$D238/1000)","v":0},null,{"$f":"IF(ISERROR(S238*$D238/1000),0,S238*$D238/1000)","v":0},null,{"$f":"IF(ISERROR(U238*$D238/1000),0,U238*$D238/1000)","v":0},null,{"$f":"IF(ISERROR(W238*$D238/1000),0,W238*$D238/1000)","v":0},null,{"$f":"IF(ISERROR(Y238*$D238/1000),0,Y238*$D238/1000)","v":0},null,{"$f":"IF(ISERROR(AA238*$D238/1000),0,AA238*$D238/1000)","v":0},null,{"$f":"IF(ISERROR(AC238*$D238/1000),0,AC238*$D238/1000)","v":0},null,{"$f":"IF(ISERROR(AE238*$D238/1000),0,AE238*$D238/1000)","v":0},null,0,null,0,null,0,null,0,null,0,null,0,null,null,null,null,null,null,"",null,0,null,0,null,0,null,0,null,0,null,0,null,0,null,0,null,0,null,0,null,0,null,0,null,0,null,0,null,0,null,0,null,0,null,0,null,null,null,null,null,null,"",null,0,null,0,null,{"$f":"IF(ISERROR(CU238*$CL238/1000),0,CU238*$CL238/1000)","v":0},null,{"$f":"IF(ISERROR(CW238*$CL238/1000),0,CW238*$CL238/1000)","v":0},null,{"$f":"IF(ISERROR(CY238*$CL238/1000),0,CY238*$CL238/1000)","v":0},null,{"$f":"IF(ISERROR(DA238*$CL238/1000),0,DA238*$CL238/1000)","v":0},null,{"$f":"IF(ISERROR(DC238*$CL238/1000),0,DC238*$CL238/1000)","v":0},null,{"$f":"IF(ISERROR(DE238*$CL238/1000),0,DE238*$CL238/1000)","v":0},null,{"$f":"IF(ISERROR(DG238*$CL238/1000),0,DG238*$CL238/1000)","v":0},null,{"$f":"IF(ISERROR(DI238*$CL238/1000),0,DI238*$CL238/1000)","v":0},null,{"$f":"IF(ISERROR(DK238*$CL238/1000),0,DK238*$CL238/1000)","v":0},null,{"$f":"IF(ISERROR(DM238*$CL238/1000),0,DM238*$CL238/1000)","v":0},null,0,null,0,null,0,null,0,null,0,null,{"$f":"IF(ISERROR(DY238*$CL238/1000),0,DY238*$CL238/1000)","v":0}]
[null,null,null,null,null,null,null,"",null,0,null,0,null,{"$f":"IF(ISERROR(M239*$D239/1000),0,M239*$D239/1000)","v":0},null,{"$f":"IF(ISERROR(O239*$D239/1000),0,O239*$D239/1000)","v":0},null,{"$f":"IF(ISERROR(Q239*$D239/1000),0,Q239*$D239/1000)","v":0},null,{"$f":"IF(ISERROR(S239*$D239/1000),0,S239*$D239/1000)","v":0},null,{"$f":"IF(ISERROR(U239*$D239/1000),0,U239*$D239/1000)","v":0},null,{"$f":"IF(ISERROR(W239*$D239/1000),0,W239*$D239/1000)","v":0},null,{"$f":"IF(ISERROR(Y239*$D239/1000),0,Y239*$D239/1000)","v":0},null,{"$f":"IF(ISERROR(AA239*$D239/1000),0,AA239*$D239/1000)","v":0},null,{"$f":"IF(ISERROR(AC239*$D239/1000),0,AC239*$D239/1000)","v":0},null,{"$f":"IF(ISERROR(AE239*$D239/1000),0,AE239*$D239/1000)","v":0},null,0,null,0,null,0,null,0,null,0,null,0,null,null,null,null,null,null,"",null,0,null,0,null,0,null,0,null,0,null,0,null,0,null,0,null,0,null,0,null,0,null,0,null,0,null,0,null,0,null,0,null,0,null,0,null,null,null,null,null,null,"",null,0,null,0,null,{"$f":"IF(ISERROR(CU239*$CL239/1000),0,CU239*$CL239/1000)","v":0},null,{"$f":"IF(ISERROR(CW239*$CL239/1000),0,CW239*$CL239/1000)","v":0},null,{"$f":"IF(ISERROR(CY239*$CL239/1000),0,CY239*$CL239/1000)","v":0},null,{"$f":"IF(ISERROR(DA239*$CL239/1000),0,DA239*$CL239/1000)","v":0},null,{"$f":"IF(ISERROR(DC239*$CL239/1000),0,DC239*$CL239/1000)","v":0},null,{"$f":"IF(ISERROR(DE239*$CL239/1000),0,DE239*$CL239/1000)","v":0},null,{"$f":"IF(ISERROR(DG239*$CL239/1000),0,DG239*$CL239/1000)","v":0},null,{"$f":"IF(ISERROR(DI239*$CL239/1000),0,DI239*$CL239/1000)","v":0},null,{"$f":"IF(ISERROR(DK239*$CL239/1000),0,DK239*$CL239/1000)","v":0},null,{"$f":"IF(ISERROR(DM239*$CL239/1000),0,DM239*$CL239/1000)","v":0},null,0,null,0,null,0,null,0,null,0,null,{"$f":"IF(ISERROR(DY239*$CL239/1000),0,DY239*$CL239/1000)","v":0}]
[null,null,null,null,null,null,null,"",null,0,null,0,null,{"$f":"IF(ISERROR(M240*$D240/1000),0,M240*$D240/1000)","v":0},null,{"$f":"IF(ISERROR(O240*$D240/1000),0,O240*$D240/1000)","v":0},null,{"$f":"IF(ISERROR(Q240*$D240/1000),0,Q240*$D240/1000)","v":0},null,{"$f":"IF(ISERROR(S240*$D240/1000),0,S240*$D240/1000)","v":0},null,{"$f":"IF(ISERROR(U240*$D240/1000),0,U240*$D240/1000)","v":0},null,{"$f":"IF(ISERROR(W240*$D240/1000),0,W240*$D240/1000)","v":0},null,{"$f":"IF(ISERROR(Y240*$D240/1000),0,Y240*$D240/1000)","v":0},null,{"$f":"IF(ISERROR(AA240*$D240/1000),0,AA240*$D240/1000)","v":0},null,{"$f":"IF(ISERROR(AC240*$D240/1000),0,AC240*$D240/1000)","v":0},null,{"$f":"IF(ISERROR(AE240*$D240/1000),0,AE240*$D240/1000)","v":0},null,0,null,0,null,0,null,0,null,0,null,0,null,null,null,null,null,null,"",null,0,null,0,null,0,null,0,null,0,null,0,null,0,null,0,null,0,null,0,null,0,null,0,null,0,null,0,null,0,null,0,null,0,null,0,null,null,null,null,null,null,"",null,0,null,0,null,{"$f":"IF(ISERROR(CU240*$CL240/1000),0,CU240*$CL240/1000)","v":0},null,{"$f":"IF(ISERROR(CW240*$CL240/1000),0,CW240*$CL240/1000)","v":0},null,{"$f":"IF(ISERROR(CY240*$CL240/1000),0,CY240*$CL240/1000)","v":0},null,{"$f":"IF(ISERROR(DA240*$CL240/1000),0,DA240*$CL240/1000)","v":0},null,{"$f":"IF(ISERROR(DC240*$CL240/1000),0,DC240*$CL240/1000)","v":0},null,{"$f":"IF(ISERROR(DE240*$CL240/1000),0,DE240*$CL240/1000)","v":0},null,{"$f":"IF(ISERROR(DG240*$CL240/1000),0,DG240*$CL240/1000)","v":0},null,{"$f":"IF(ISERROR(DI240*$CL240/1000),0,DI240*$CL240/1000)","v":0},null,{"$f":"IF(ISERROR(DK240*$CL240/1000),0,DK240*$CL240/1000)","v":0},null,{"$f":"IF(ISERROR(DM240*$CL240/1000),0,DM240*$CL240/1000)","v":0},null,0,null,0,null,0,null,0,null,0,null,{"$f":"IF(ISERROR(DY240*$CL240/1000),0,DY240*$CL240/1000)","v":0}]
[null,null,null,null,null,null,null,"",null,0,null,0,null,{"$f":"IF(ISERROR(M241*$D241/1000),0,M241*$D241/1000)","v":0},null,{"$f":"IF(ISERROR(O241*$D241/1000),0,O241*$D241/1000)","v":0},null,{"$f":"IF(ISERROR(Q241*$D241/1000),0,Q241*$D241/1000)","v":0},null,{"$f":"IF(ISERROR(S241*$D241/1000),0,S241*$D241/1000)","v":0},null,{"$f":"IF(ISERROR(U241*$D241/1000),0,U241*$D241/1000)","v":0},null,{"$f":"IF(ISERROR(W241*$D241/1000),0,W241*$D241/1000)","v":0},null,{"$f":"IF(ISERROR(Y241*$D241/1000),0,Y241*$D241/1000)","v":0},null,{"$f":"IF(ISERROR(AA241*$D241/1000),0,AA241*$D241/1000)","v":0},null,{"$f":"IF(ISERROR(AC241*$D241/1000),0,AC241*$D241/1000)","v":0},null,{"$f":"IF(ISERROR(AE241*$D241/1000),0,AE241*$D241/1000)","v":0},null,0,null,0,null,0,null,0,null,0,null,0,null,null,null,null,null,null,"",null,0,null,0,null,0,null,0,null,0,null,0,null,0,null,0,null,0,null,0,null,0,null,0,null,0,null,0,null,0,null,0,null,0,null,0,null,null,null,null,null,null,"",null,0,null,0,null,{"$f":"IF(ISERROR(CU241*$CL241/1000),0,CU241*$CL241/1000)","v":0},null,{"$f":"IF(ISERROR(CW241*$CL241/1000),0,CW241*$CL241/1000)","v":0},null,{"$f":"IF(ISERROR(CY241*$CL241/1000),0,CY241*$CL241/1000)","v":0},null,{"$f":"IF(ISERROR(DA241*$CL241/1000),0,DA241*$CL241/1000)","v":0},null,{"$f":"IF(ISERROR(DC241*$CL241/1000),0,DC241*$CL241/1000)","v":0},null,{"$f":"IF(ISERROR(DE241*$CL241/1000),0,DE241*$CL241/1000)","v":0},null,{"$f":"IF(ISERROR(DG241*$CL241/1000),0,DG241*$CL241/1000)","v":0},null,{"$f":"IF(ISERROR(DI241*$CL241/1000),0,DI241*$CL241/1000)","v":0},null,{"$f":"IF(ISERROR(DK241*$CL241/1000),0,DK241*$CL241/1000)","v":0},null,{"$f":"IF(ISERROR(DM241*$CL241/1000),0,DM241*$CL241/1000)","v":0},null,0,null,0,null,0,null,0,null,0,null,{"$f":"IF(ISERROR(DY241*$CL241/1000),0,DY241*$CL241/1000)","v":0}]
[null,null,null,null,null,null,null,"",null,0,null,0,null,{"$f":"IF(ISERROR(M242*$D242/1000),0,M242*$D242/1000)","v":0},null,{"$f":"IF(ISERROR(O242*$D242/1000),0,O242*$D242/1000)","v":0},null,{"$f":"IF(ISERROR(Q242*$D242/1000),0,Q242*$D242/1000)","v":0},null,{"$f":"IF(ISERROR(S242*$D242/1000),0,S242*$D242/1000)","v":0},null,{"$f":"IF(ISERROR(U242*$D242/1000),0,U242*$D242/1000)","v":0},null,{"$f":"IF(ISERROR(W242*$D242/1000),0,W242*$D242/1000)","v":0},null,{"$f":"IF(ISERROR(Y242*$D242/1000),0,Y242*$D242/1000)","v":0},null,{"$f":"IF(ISERROR(AA242*$D242/1000),0,AA242*$D242/1000)","v":0},null,{"$f":"IF(ISERROR(AC242*$D242/1000),0,AC242*$D242/1000)","v":0},null,{"$f":"IF(ISERROR(AE242*$D242/1000),0,AE242*$D242/1000)","v":0},null,0,null,0,null,0,null,0,null,0,null,0,null,null,null,null,null,null,"",null,0,null,0,null,0,null,0,null,0,null,0,null,0,null,0,null,0,null,0,null,0,null,0,null,0,null,0,null,0,null,0,null,0,null,0,null,null,null,null,null,null,"",null,0,null,0,null,{"$f":"IF(ISERROR(CU242*$CL242/1000),0,CU242*$CL242/1000)","v":0},null,{"$f":"IF(ISERROR(CW242*$CL242/1000),0,CW242*$CL242/1000)","v":0},null,{"$f":"IF(ISERROR(CY242*$CL242/1000),0,CY242*$CL242/1000)","v":0},null,{"$f":"IF(ISERROR(DA242*$CL242/1000),0,DA242*$CL242/1000)","v":0},null,{"$f":"IF(ISERROR(DC242*$CL242/1000),0,DC242*$CL242/1000)","v":0},null,{"$f":"IF(ISERROR(DE242*$CL242/1000),0,DE242*$CL242/1000)","v":0},null,{"$f":"IF(ISERROR(DG242*$CL242/1000),0,DG242*$CL242/1000)","v":0},null,{"$f":"IF(ISERROR(DI242*$CL242/1000),0,DI242*$CL242/1000)","v":0},null,{"$f":"IF(ISERROR(DK242*$CL242/1000),0,DK242*$CL242/1000)","v":0},null,{"$f":"IF(ISERROR(DM242*$CL242/1000),0,DM242*$CL242/1000)","v":0},null,0,null,0,null,0,null,0,null,0,null,{"$f":"IF(ISERROR(DY242*$CL242/1000),0,DY242*$CL242/1000)","v":0}]
[null,null,null,null,null,null,null,"",null,0,null,0,null,{"$f":"IF(ISERROR(M243*$D243/1000),0,M243*$D243/1000)","v":0},null,{"$f":"IF(ISERROR(O243*$D243/1000),0,O243*$D243/1000)","v":0},null,{"$f":"IF(ISERROR(Q243*$D243/1000),0,Q243*$D243/1000)","v":0},null,{"$f":"IF(ISERROR(S243*$D243/1000),0,S243*$D243/1000)","v":0},null,{"$f":"IF(ISERROR(U243*$D243/1000),0,U243*$D243/1000)","v":0},null,{"$f":"IF(ISERROR(W243*$D243/1000),0,W243*$D243/1000)","v":0},null,{"$f":"IF(ISERROR(Y243*$D243/1000),0,Y243*$D243/1000)","v":0},null,{"$f":"IF(ISERROR(AA243*$D243/1000),0,AA243*$D243/1000)","v":0},null,{"$f":"IF(ISERROR(AC243*$D243/1000),0,AC243*$D243/1000)","v":0},null,{"$f":"IF(ISERROR(AE243*$D243/1000),0,AE243*$D243/1000)","v":0},null,0,null,0,null,0,null,0,null,0,null,0,null,null,null,null,null,null,"",null,0,null,0,null,0,null,0,null,0,null,0,null,0,null,0,null,0,null,0,null,0,null,0,null,0,null,0,null,0,null,0,null,0,null,0,null,null,null,null,null,null,"",null,0,null,0,null,{"$f":"IF(ISERROR(CU243*$CL243/1000),0,CU243*$CL243/1000)","v":0},null,{"$f":"IF(ISERROR(CW243*$CL243/1000),0,CW243*$CL243/1000)","v":0},null,{"$f":"IF(ISERROR(CY243*$CL243/1000),0,CY243*$CL243/1000)","v":0},null,{"$f":"IF(ISERROR(DA243*$CL243/1000),0,DA243*$CL243/1000)","v":0},null,{"$f":"IF(ISERROR(DC243*$CL243/1000),0,DC243*$CL243/1000)","v":0},null,{"$f":"IF(ISERROR(DE243*$CL243/1000),0,DE243*$CL243/1000)","v":0},null,{"$f":"IF(ISERROR(DG243*$CL243/1000),0,DG243*$CL243/1000)","v":0},null,{"$f":"IF(ISERROR(DI243*$CL243/1000),0,DI243*$CL243/1000)","v":0},null,{"$f":"IF(ISERROR(DK243*$CL243/1000),0,DK243*$CL243/1000)","v":0},null,{"$f":"IF(ISERROR(DM243*$CL243/1000),0,DM243*$CL243/1000)","v":0},null,0,null,0,null,0,null,0,null,0,null,{"$f":"IF(ISERROR(DY243*$CL243/1000),0,DY243*$CL243/1000)","v":0}]
[null,null,null,null,null,null,null,"",null,0,null,0,null,{"$f":"IF(ISERROR(M244*$D244/1000),0,M244*$D244/1000)","v":0},null,{"$f":"IF(ISERROR(O244*$D244/1000),0,O244*$D244/1000)","v":0},null,{"$f":"IF(ISERROR(Q244*$D244/1000),0,Q244*$D244/1000)","v":0},null,{"$f":"IF(ISERROR(S244*$D244/1000),0,S244*$D244/1000)","v":0},null,{"$f":"IF(ISERROR(U244*$D244/1000),0,U244*$D244/1000)","v":0},null,{"$f":"IF(ISERROR(W244*$D244/1000),0,W244*$D244/1000)","v":0},null,{"$f":"IF(ISERROR(Y244*$D244/1000),0,Y244*$D244/1000)","v":0},null,{"$f":"IF(ISERROR(AA244*$D244/1000),0,AA244*$D244/1000)","v":0},null,{"$f":"IF(ISERROR(AC244*$D244/1000),0,AC244*$D244/1000)","v":0},null,{"$f":"IF(ISERROR(AE244*$D244/1000),0,AE244*$D244/1000)","v":0},null,0,null,0,null,0,null,0,null,0,null,0,null,null,null,null,null,null,"",null,0,null,0,null,0,null,0,null,0,null,0,null,0,null,0,null,0,null,0,null,0,null,0,null,0,null,0,null,0,null,0,null,0,null,0,null,null,null,null,null,null,"",null,0,null,0,null,{"$f":"IF(ISERROR(CU244*$CL244/1000),0,CU244*$CL244/1000)","v":0},null,{"$f":"IF(ISERROR(CW244*$CL244/1000),0,CW244*$CL244/1000)","v":0},null,{"$f":"IF(ISERROR(CY244*$CL244/1000),0,CY244*$CL244/1000)","v":0},null,{"$f":"IF(ISERROR(DA244*$CL244/1000),0,DA244*$CL244/1000)","v":0},null,{"$f":"IF(ISERROR(DC244*$CL244/1000),0,DC244*$CL244/1000)","v":0},null,{"$f":"IF(ISERROR(DE244*$CL244/1000),0,DE244*$CL244/1000)","v":0},null,{"$f":"IF(ISERROR(DG244*$CL244/1000),0,DG244*$CL244/1000)","v":0},null,{"$f":"IF(ISERROR(DI244*$CL244/1000),0,DI244*$CL244/1000)","v":0},null,{"$f":"IF(ISERROR(DK244*$CL244/1000),0,DK244*$CL244/1000)","v":0},null,{"$f":"IF(ISERROR(DM244*$CL244/1000),0,DM244*$CL244/1000)","v":0},null,0,null,0,null,0,null,0,null,0,null,{"$f":"IF(ISERROR(DY244*$CL244/1000),0,DY244*$CL244/1000)","v":0}]
[null,null,null,null,null,null,null,"",null,0,null,0,null,{"$f":"IF(ISERROR(M245*$D245/1000),0,M245*$D245/1000)","v":0},null,{"$f":"IF(ISERROR(O245*$D245/1000),0,O245*$D245/1000)","v":0},null,{"$f":"IF(ISERROR(Q245*$D245/1000),0,Q245*$D245/1000)","v":0},null,{"$f":"IF(ISERROR(S245*$D245/1000),0,S245*$D245/1000)","v":0},null,{"$f":"IF(ISERROR(U245*$D245/1000),0,U245*$D245/1000)","v":0},null,{"$f":"IF(ISERROR(W245*$D245/1000),0,W245*$D245/1000)","v":0},null,{"$f":"IF(ISERROR(Y245*$D245/1000),0,Y245*$D245/1000)","v":0},null,{"$f":"IF(ISERROR(AA245*$D245/1000),0,AA245*$D245/1000)","v":0},null,{"$f":"IF(ISERROR(AC245*$D245/1000),0,AC245*$D245/1000)","v":0},null,{"$f":"IF(ISERROR(AE245*$D245/1000),0,AE245*$D245/1000)","v":0},null,0,null,0,null,0,null,0,null,0,null,0,null,null,null,null,null,null,"",null,0,null,0,null,0,null,0,null,0,null,0,null,0,null,0,null,0,null,0,null,0,null,0,null,0,null,0,null,0,null,0,null,0,null,0,null,null,null,null,null,null,"",null,0,null,0,null,{"$f":"IF(ISERROR(CU245*$CL245/1000),0,CU245*$CL245/1000)","v":0},null,{"$f":"IF(ISERROR(CW245*$CL245/1000),0,CW245*$CL245/1000)","v":0},null,{"$f":"IF(ISERROR(CY245*$CL245/1000),0,CY245*$CL245/1000)","v":0},null,{"$f":"IF(ISERROR(DA245*$CL245/1000),0,DA245*$CL245/1000)","v":0},null,{"$f":"IF(ISERROR(DC245*$CL245/1000),0,DC245*$CL245/1000)","v":0},null,{"$f":"IF(ISERROR(DE245*$CL245/1000),0,DE245*$CL245/1000)","v":0},null,{"$f":"IF(ISERROR(DG245*$CL245/1000),0,DG245*$CL245/1000)","v":0},null,{"$f":"IF(ISERROR(DI245*$CL245/1000),0,DI245*$CL245/1000)","v":0},null,{"$f":"IF(ISERROR(DK245*$CL245/1000),0,DK245*$CL245/1000)","v":0},null,{"$f":"IF(ISERROR(DM245*$CL245/1000),0,DM245*$CL245/1000)","v":0},null,0,null,0,null,0,null,0,null,0,null,{"$f":"IF(ISERROR(DY245*$CL245/1000),0,DY245*$CL245/1000)","v":0}]
[null,null,null,null,null,null,null,"",null,0,null,0,null,{"$f":"IF(ISERROR(M246*$D246/1000),0,M246*$D246/1000)","v":0},null,{"$f":"IF(ISERROR(O246*$D246/1000),0,O246*$D246/1000)","v":0},null,{"$f":"IF(ISERROR(Q246*$D246/1000),0,Q246*$D246/1000)","v":0},null,{"$f":"IF(ISERROR(S246*$D246/1000),0,S246*$D246/1000)","v":0},null,{"$f":"IF(ISERROR(U246*$D246/1000),0,U246*$D246/1000)","v":0},null,{"$f":"IF(ISERROR(W246*$D246/1000),0,W246*$D246/1000)","v":0},null,{"$f":"IF(ISERROR(Y246*$D246/1000),0,Y246*$D246/1000)","v":0},null,{"$f":"IF(ISERROR(AA246*$D246/1000),0,AA246*$D246/1000)","v":0},null,{"$f":"IF(ISERROR(AC246*$D246/1000),0,AC246*$D246/1000)","v":0},null,{"$f":"IF(ISERROR(AE246*$D246/1000),0,AE246*$D246/1000)","v":0},null,0,null,0,null,0,null,0,null,0,null,0,null,null,null,null,null,null,"",null,0,null,0,null,0,null,0,null,0,null,0,null,0,null,0,null,0,null,0,null,0,null,0,null,0,null,0,null,0,null,0,null,0,null,0,null,null,null,null,null,null,"",null,0,null,0,null,{"$f":"IF(ISERROR(CU246*$CL246/1000),0,CU246*$CL246/1000)","v":0},null,{"$f":"IF(ISERROR(CW246*$CL246/1000),0,CW246*$CL246/1000)","v":0},null,{"$f":"IF(ISERROR(CY246*$CL246/1000),0,CY246*$CL246/1000)","v":0},null,{"$f":"IF(ISERROR(DA246*$CL246/1000),0,DA246*$CL246/1000)","v":0},null,{"$f":"IF(ISERROR(DC246*$CL246/1000),0,DC246*$CL246/1000)","v":0},null,{"$f":"IF(ISERROR(DE246*$CL246/1000),0,DE246*$CL246/1000)","v":0},null,{"$f":"IF(ISERROR(DG246*$CL246/1000),0,DG246*$CL246/1000)","v":0},null,{"$f":"IF(ISERROR(DI246*$CL246/1000),0,DI246*$CL246/1000)","v":0},null,{"$f":"IF(ISERROR(DK246*$CL246/1000),0,DK246*$CL246/1000)","v":0},null,{"$f":"IF(ISERROR(DM246*$CL246/1000),0,DM246*$CL246/1000)","v":0},null,0,null,0,null,0,null,0,null,0,null,{"$f":"IF(ISERROR(DY246*$CL246/1000),0,DY246*$CL246/1000)","v":0}]
[null,null,null,null,null,null,null,"",null,0,null,0,null,{"$f":"IF(ISERROR(M247*$D247/1000),0,M247*$D247/1000)","v":0},null,{"$f":"IF(ISERROR(O247*$D247/1000),0,O247*$D247/1000)","v":0},null,{"$f":"IF(ISERROR(Q247*$D247/1000),0,Q247*$D247/1000)","v":0},null,{"$f":"IF(ISERROR(S247*$D247/1000),0,S247*$D247/1000)","v":0},null,{"$f":"IF(ISERROR(U247*$D247/1000),0,U247*$D247/1000)","v":0},null,{"$f":"IF(ISERROR(W247*$D247/1000),0,W247*$D247/1000)","v":0},null,{"$f":"IF(ISERROR(Y247*$D247/1000),0,Y247*$D247/1000)","v":0},null,{"$f":"IF(ISERROR(AA247*$D247/1000),0,AA247*$D247/1000)","v":0},null,{"$f":"IF(ISERROR(AC247*$D247/1000),0,AC247*$D247/1000)","v":0},null,{"$f":"IF(ISERROR(AE247*$D247/1000),0,AE247*$D247/1000)","v":0},null,0,null,0,null,0,null,0,null,0,null,0,null,null,null,null,null,null,"",null,0,null,0,null,0,null,0,null,0,null,0,null,0,null,0,null,0,null,0,null,0,null,0,null,0,null,0,null,0,null,0,null,0,null,0,null,null,null,null,null,null,"",null,0,null,0,null,{"$f":"IF(ISERROR(CU247*$CL247/1000),0,CU247*$CL247/1000)","v":0},null,{"$f":"IF(ISERROR(CW247*$CL247/1000),0,CW247*$CL247/1000)","v":0},null,{"$f":"IF(ISERROR(CY247*$CL247/1000),0,CY247*$CL247/1000)","v":0},null,{"$f":"IF(ISERROR(DA247*$CL247/1000),0,DA247*$CL247/1000)","v":0},null,{"$f":"IF(ISERROR(DC247*$CL247/1000),0,DC247*$CL247/1000)","v":0},null,{"$f":"IF(ISERROR(DE247*$CL247/1000),0,DE247*$CL247/1000)","v":0},null,{"$f":"IF(ISERROR(DG247*$CL247/1000),0,DG247*$CL247/1000)","v":0},null,{"$f":"IF(ISERROR(DI247*$CL247/1000),0,DI247*$CL247/1000)","v":0},null,{"$f":"IF(ISERROR(DK247*$CL247/1000),0,DK247*$CL247/1000)","v":0},null,{"$f":"IF(ISERROR(DM247*$CL247/1000),0,DM247*$CL247/1000)","v":0},null,0,null,0,null,0,null,0,null,0,null,{"$f":"IF(ISERROR(DY247*$CL247/1000),0,DY247*$CL247/1000)","v":0}]
[null,null,null,null,null,null,null,"",null,0,null,0,null,{"$f":"IF(ISERROR(M248*$D248/1000),0,M248*$D248/1000)","v":0},null,{"$f":"IF(ISERROR(O248*$D248/1000),0,O248*$D248/1000)","v":0},null,{"$f":"IF(ISERROR(Q248*$D248/1000),0,Q248*$D248/1000)","v":0},null,{"$f":"IF(ISERROR(S248*$D248/1000),0,S248*$D248/1000)","v":0},null,{"$f":"IF(ISERROR(U248*$D248/1000),0,U248*$D248/1000)","v":0},null,{"$f":"IF(ISERROR(W248*$D248/1000),0,W248*$D248/1000)","v":0},null,{"$f":"IF(ISERROR(Y248*$D248/1000),0,Y248*$D248/1000)","v":0},null,{"$f":"IF(ISERROR(AA248*$D248/1000),0,AA248*$D248/1000)","v":0},null,{"$f":"IF(ISERROR(AC248*$D248/1000),0,AC248*$D248/1000)","v":0},null,{"$f":"IF(ISERROR(AE248*$D248/1000),0,AE248*$D248/1000)","v":0},null,0,null,0,null,0,null,0,null,0,null,0,null,null,null,null,null,null,"",null,0,null,0,null,0,null,0,null,0,null,0,null,0,null,0,null,0,null,0,null,0,null,0,null,0,null,0,null,0,null,0,null,0,null,0,null,null,null,null,null,null,"",null,0,null,0,null,{"$f":"IF(ISERROR(CU248*$CL248/1000),0,CU248*$CL248/1000)","v":0},null,{"$f":"IF(ISERROR(CW248*$CL248/1000),0,CW248*$CL248/1000)","v":0},null,{"$f":"IF(ISERROR(CY248*$CL248/1000),0,CY248*$CL248/1000)","v":0},null,{"$f":"IF(ISERROR(DA248*$CL248/1000),0,DA248*$CL248/1000)","v":0},null,{"$f":"IF(ISERROR(DC248*$CL248/1000),0,DC248*$CL248/1000)","v":0},null,{"$f":"IF(ISERROR(DE248*$CL248/1000),0,DE248*$CL248/1000)","v":0},null,{"$f":"IF(ISERROR(DG248*$CL248/1000),0,DG248*$CL248/1000)","v":0},null,{"$f":"IF(ISERROR(DI248*$CL248/1000),0,DI248*$CL248/1000)","v":0},null,{"$f":"IF(ISERROR(DK248*$CL248/1000),0,DK248*$CL248/1000)","v":0},null,{"$f":"IF(ISERROR(DM248*$CL248/1000),0,DM248*$CL248/1000)","v":0},null,0,null,0,null,0,null,0,null,0,null,{"$f":"IF(ISERROR(DY248*$CL248/1000),0,DY248*$CL248/1000)","v":0}]
[null,null,null,null,null,null,null,"",null,0,null,0,null,{"$f":"IF(ISERROR(M249*$D249/1000),0,M249*$D249/1000)","v":0},null,{"$f":"IF(ISERROR(O249*$D249/1000),0,O249*$D249/1000)","v":0},null,{"$f":"IF(ISERROR(Q249*$D249/1000),0,Q249*$D249/1000)","v":0},null,{"$f":"IF(ISERROR(S249*$D249/1000),0,S249*$D249/1000)","v":0},null,{"$f":"IF(ISERROR(U249*$D249/1000),0,U249*$D249/1000)","v":0},null,{"$f":"IF(ISERROR(W249*$D249/1000),0,W249*$D249/1000)","v":0},null,{"$f":"IF(ISERROR(Y249*$D249/1000),0,Y249*$D249/1000)","v":0},null,{"$f":"IF(ISERROR(AA249*$D249/1000),0,AA249*$D249/1000)","v":0},null,{"$f":"IF(ISERROR(AC249*$D249/1000),0,AC249*$D249/1000)","v":0},null,{"$f":"IF(ISERROR(AE249*$D249/1000),0,AE249*$D249/1000)","v":0},null,0,null,0,null,0,null,0,null,0,null,0,null,null,null,null,null,null,"",null,0,null,0,null,0,null,0,null,0,null,0,null,0,null,0,null,0,null,0,null,0,null,0,null,0,null,0,null,0,null,0,null,0,null,0,null,null,null,null,null,null,"",null,0,null,0,null,{"$f":"IF(ISERROR(CU249*$CL249/1000),0,CU249*$CL249/1000)","v":0},null,{"$f":"IF(ISERROR(CW249*$CL249/1000),0,CW249*$CL249/1000)","v":0},null,{"$f":"IF(ISERROR(CY249*$CL249/1000),0,CY249*$CL249/1000)","v":0},null,{"$f":"IF(ISERROR(DA249*$CL249/1000),0,DA249*$CL249/1000)","v":0},null,{"$f":"IF(ISERROR(DC249*$CL249/1000),0,DC249*$CL249/1000)","v":0},null,{"$f":"IF(ISERROR(DE249*$CL249/1000),0,DE249*$CL249/1000)","v":0},null,{"$f":"IF(ISERROR(DG249*$CL249/1000),0,DG249*$CL249/1000)","v":0},null,{"$f":"IF(ISERROR(DI249*$CL249/1000),0,DI249*$CL249/1000)","v":0},null,{"$f":"IF(ISERROR(DK249*$CL249/1000),0,DK249*$CL249/1000)","v":0},null,{"$f":"IF(ISERROR(DM249*$CL249/1000),0,DM249*$CL249/1000)","v":0},null,0,null,0,null,0,null,0,null,0,null,{"$f":"IF(ISERROR(DY249*$CL249/1000),0,DY249*$CL249/1000)","v":0}]
[null,null,null,null,null,null,null,"",null,0,null,0,null,{"$f":"IF(ISERROR(M250*$D250/1000),0,M250*$D250/1000)","v":0},null,{"$f":"IF(ISERROR(O250*$D250/1000),0,O250*$D250/1000)","v":0},null,{"$f":"IF(ISERROR(Q250*$D250/1000),0,Q250*$D250/1000)","v":0},null,{"$f":"IF(ISERROR(S250*$D250/1000),0,S250*$D250/1000)","v":0},null,{"$f":"IF(ISERROR(U250*$D250/1000),0,U250*$D250/1000)","v":0},null,{"$f":"IF(ISERROR(W250*$D250/1000),0,W250*$D250/1000)","v":0},null,{"$f":"IF(ISERROR(Y250*$D250/1000),0,Y250*$D250/1000)","v":0},null,{"$f":"IF(ISERROR(AA250*$D250/1000),0,AA250*$D250/1000)","v":0},null,{"$f":"IF(ISERROR(AC250*$D250/1000),0,AC250*$D250/1000)","v":0},null,{"$f":"IF(ISERROR(AE250*$D250/1000),0,AE250*$D250/1000)","v":0},null,0,null,0,null,0,null,0,null,0,null,0,null,null,null,null,null,null,"",null,0,null,0,null,0,null,0,null,0,null,0,null,0,null,0,null,0,null,0,null,0,null,0,null,0,null,0,null,0,null,0,null,0,null,0,null,null,null,null,null,null,"",null,0,null,0,null,{"$f":"IF(ISERROR(CU250*$CL250/1000),0,CU250*$CL250/1000)","v":0},null,{"$f":"IF(ISERROR(CW250*$CL250/1000),0,CW250*$CL250/1000)","v":0},null,{"$f":"IF(ISERROR(CY250*$CL250/1000),0,CY250*$CL250/1000)","v":0},null,{"$f":"IF(ISERROR(DA250*$CL250/1000),0,DA250*$CL250/1000)","v":0},null,{"$f":"IF(ISERROR(DC250*$CL250/1000),0,DC250*$CL250/1000)","v":0},null,{"$f":"IF(ISERROR(DE250*$CL250/1000),0,DE250*$CL250/1000)","v":0},null,{"$f":"IF(ISERROR(DG250*$CL250/1000),0,DG250*$CL250/1000)","v":0},null,{"$f":"IF(ISERROR(DI250*$CL250/1000),0,DI250*$CL250/1000)","v":0},null,{"$f":"IF(ISERROR(DK250*$CL250/1000),0,DK250*$CL250/1000)","v":0},null,{"$f":"IF(ISERROR(DM250*$CL250/1000),0,DM250*$CL250/1000)","v":0},null,0,null,0,null,0,null,0,null,0,null,{"$f":"IF(ISERROR(DY250*$CL250/1000),0,DY250*$CL250/1000)","v":0}]
[null,null,null,null,null,null,null,"",null,0,null,0,null,{"$f":"IF(ISERROR(M251*$D251/1000),0,M251*$D251/1000)","v":0},null,{"$f":"IF(ISERROR(O251*$D251/1000),0,O251*$D251/1000)","v":0},null,{"$f":"IF(ISERROR(Q251*$D251/1000),0,Q251*$D251/1000)","v":0},null,{"$f":"IF(ISERROR(S251*$D251/1000),0,S251*$D251/1000)","v":0},null,{"$f":"IF(ISERROR(U251*$D251/1000),0,U251*$D251/1000)","v":0},null,{"$f":"IF(ISERROR(W251*$D251/1000),0,W251*$D251/1000)","v":0},null,{"$f":"IF(ISERROR(Y251*$D251/1000),0,Y251*$D251/1000)","v":0},null,{"$f":"IF(ISERROR(AA251*$D251/1000),0,AA251*$D251/1000)","v":0},null,{"$f":"IF(ISERROR(AC251*$D251/1000),0,AC251*$D251/1000)","v":0},null,{"$f":"IF(ISERROR(AE251*$D251/1000),0,AE251*$D251/1000)","v":0},null,0,null,0,null,0,null,0,null,0,null,0,null,null,null,null,null,null,"",null,0,null,0,null,0,null,0,null,0,null,0,null,0,null,0,null,0,null,0,null,0,null,0,null,0,null,0,null,0,null,0,null,0,null,0,null,null,null,null,null,null,"",null,0,null,0,null,{"$f":"IF(ISERROR(CU251*$CL251/1000),0,CU251*$CL251/1000)","v":0},null,{"$f":"IF(ISERROR(CW251*$CL251/1000),0,CW251*$CL251/1000)","v":0},null,{"$f":"IF(ISERROR(CY251*$CL251/1000),0,CY251*$CL251/1000)","v":0},null,{"$f":"IF(ISERROR(DA251*$CL251/1000),0,DA251*$CL251/1000)","v":0},null,{"$f":"IF(ISERROR(DC251*$CL251/1000),0,DC251*$CL251/1000)","v":0},null,{"$f":"IF(ISERROR(DE251*$CL251/1000),0,DE251*$CL251/1000)","v":0},null,{"$f":"IF(ISERROR(DG251*$CL251/1000),0,DG251*$CL251/1000)","v":0},null,{"$f":"IF(ISERROR(DI251*$CL251/1000),0,DI251*$CL251/1000)","v":0},null,{"$f":"IF(ISERROR(DK251*$CL251/1000),0,DK251*$CL251/1000)","v":0},null,{"$f":"IF(ISERROR(DM251*$CL251/1000),0,DM251*$CL251/1000)","v":0},null,0,null,0,null,0,null,0,null,0,null,{"$f":"IF(ISERROR(DY251*$CL251/1000),0,DY251*$CL251/1000)","v":0}]
[null,null,null,null,null,null,null,"",null,0,null,0,null,{"$f":"IF(ISERROR(M252*$D252/1000),0,M252*$D252/1000)","v":0},null,{"$f":"IF(ISERROR(O252*$D252/1000),0,O252*$D252/1000)","v":0},null,{"$f":"IF(ISERROR(Q252*$D252/1000),0,Q252*$D252/1000)","v":0},null,{"$f":"IF(ISERROR(S252*$D252/1000),0,S252*$D252/1000)","v":0},null,{"$f":"IF(ISERROR(U252*$D252/1000),0,U252*$D252/1000)","v":0},null,{"$f":"IF(ISERROR(W252*$D252/1000),0,W252*$D252/1000)","v":0},null,{"$f":"IF(ISERROR(Y252*$D252/1000),0,Y252*$D252/1000)","v":0},null,{"$f":"IF(ISERROR(AA252*$D252/1000),0,AA252*$D252/1000)","v":0},null,{"$f":"IF(ISERROR(AC252*$D252/1000),0,AC252*$D252/1000)","v":0},null,{"$f":"IF(ISERROR(AE252*$D252/1000),0,AE252*$D252/1000)","v":0},null,0,null,0,null,0,null,0,null,0,null,0,null,null,null,null,null,null,"",null,0,null,0,null,0,null,0,null,0,null,0,null,0,null,0,null,0,null,0,null,0,null,0,null,0,null,0,null,0,null,0,null,0,null,0,null,null,null,null,null,null,"",null,0,null,0,null,{"$f":"IF(ISERROR(CU252*$CL252/1000),0,CU252*$CL252/1000)","v":0},null,{"$f":"IF(ISERROR(CW252*$CL252/1000),0,CW252*$CL252/1000)","v":0},null,{"$f":"IF(ISERROR(CY252*$CL252/1000),0,CY252*$CL252/1000)","v":0},null,{"$f":"IF(ISERROR(DA252*$CL252/1000),0,DA252*$CL252/1000)","v":0},null,{"$f":"IF(ISERROR(DC252*$CL252/1000),0,DC252*$CL252/1000)","v":0},null,{"$f":"IF(ISERROR(DE252*$CL252/1000),0,DE252*$CL252/1000)","v":0},null,{"$f":"IF(ISERROR(DG252*$CL252/1000),0,DG252*$CL252/1000)","v":0},null,{"$f":"IF(ISERROR(DI252*$CL252/1000),0,DI252*$CL252/1000)","v":0},null,{"$f":"IF(ISERROR(DK252*$CL252/1000),0,DK252*$CL252/1000)","v":0},null,{"$f":"IF(ISERROR(DM252*$CL252/1000),0,DM252*$CL252/1000)","v":0},null,0,null,0,null,0,null,0,null,0,null,{"$f":"IF(ISERROR(DY252*$CL252/1000),0,DY252*$CL252/1000)","v":0}]
[null,null,null,null,null,null,null,"",null,0,null,0,null,{"$f":"IF(ISERROR(M253*$D253/1000),0,M253*$D253/1000)","v":0},null,{"$f":"IF(ISERROR(O253*$D253/1000),0,O253*$D253/1000)","v":0},null,{"$f":"IF(ISERROR(Q253*$D253/1000),0,Q253*$D253/1000)","v":0},null,{"$f":"IF(ISERROR(S253*$D253/1000),0,S253*$D253/1000)","v":0},null,{"$f":"IF(ISERROR(U253*$D253/1000),0,U253*$D253/1000)","v":0},null,{"$f":"IF(ISERROR(W253*$D253/1000),0,W253*$D253/1000)","v":0},null,{"$f":"IF(ISERROR(Y253*$D253/1000),0,Y253*$D253/1000)","v":0},null,{"$f":"IF(ISERROR(AA253*$D253/1000),0,AA253*$D253/1000)","v":0},null,{"$f":"IF(ISERROR(AC253*$D253/1000),0,AC253*$D253/1000)","v":0},null,{"$f":"IF(ISERROR(AE253*$D253/1000),0,AE253*$D253/1000)","v":0},null,0,null,0,null,0,null,0,null,0,null,0,null,null,null,null,null,null,"",null,0,null,0,null,0,null,0,null,0,null,0,null,0,null,0,null,0,null,0,null,0,null,0,null,0,null,0,null,0,null,0,null,0,null,0,null,null,null,null,null,null,"",null,0,null,0,null,{"$f":"IF(ISERROR(CU253*$CL253/1000),0,CU253*$CL253/1000)","v":0},null,{"$f":"IF(ISERROR(CW253*$CL253/1000),0,CW253*$CL253/1000)","v":0},null,{"$f":"IF(ISERROR(CY253*$CL253/1000),0,CY253*$CL253/1000)","v":0},null,{"$f":"IF(ISERROR(DA253*$CL253/1000),0,DA253*$CL253/1000)","v":0},null,{"$f":"IF(ISERROR(DC253*$CL253/1000),0,DC253*$CL253/1000)","v":0},null,{"$f":"IF(ISERROR(DE253*$CL253/1000),0,DE253*$CL253/1000)","v":0},null,{"$f":"IF(ISERROR(DG253*$CL253/1000),0,DG253*$CL253/1000)","v":0},null,{"$f":"IF(ISERROR(DI253*$CL253/1000),0,DI253*$CL253/1000)","v":0},null,{"$f":"IF(ISERROR(DK253*$CL253/1000),0,DK253*$CL253/1000)","v":0},null,{"$f":"IF(ISERROR(DM253*$CL253/1000),0,DM253*$CL253/1000)","v":0},null,0,null,0,null,0,null,0,null,0,null,{"$f":"IF(ISERROR(DY253*$CL253/1000),0,DY253*$CL253/1000)","v":0}]
[null,null,null,null,null,null,null,"",null,0,null,0,null,{"$f":"IF(ISERROR(M254*$D254/1000),0,M254*$D254/1000)","v":0},null,{"$f":"IF(ISERROR(O254*$D254/1000),0,O254*$D254/1000)","v":0},null,{"$f":"IF(ISERROR(Q254*$D254/1000),0,Q254*$D254/1000)","v":0},null,{"$f":"IF(ISERROR(S254*$D254/1000),0,S254*$D254/1000)","v":0},null,{"$f":"IF(ISERROR(U254*$D254/1000),0,U254*$D254/1000)","v":0},null,{"$f":"IF(ISERROR(W254*$D254/1000),0,W254*$D254/1000)","v":0},null,{"$f":"IF(ISERROR(Y254*$D254/1000),0,Y254*$D254/1000)","v":0},null,{"$f":"IF(ISERROR(AA254*$D254/1000),0,AA254*$D254/1000)","v":0},null,{"$f":"IF(ISERROR(AC254*$D254/1000),0,AC254*$D254/1000)","v":0},null,{"$f":"IF(ISERROR(AE254*$D254/1000),0,AE254*$D254/1000)","v":0},null,0,null,0,null,0,null,0,null,0,null,0,null,null,null,null,null,null,"",null,0,null,0,null,0,null,0,null,0,null,0,null,0,null,0,null,0,null,0,null,0,null,0,null,0,null,0,null,0,null,0,null,0,null,0,null,null,null,null,null,null,"",null,0,null,0,null,{"$f":"IF(ISERROR(CU254*$CL254/1000),0,CU254*$CL254/1000)","v":0},null,{"$f":"IF(ISERROR(CW254*$CL254/1000),0,CW254*$CL254/1000)","v":0},null,{"$f":"IF(ISERROR(CY254*$CL254/1000),0,CY254*$CL254/1000)","v":0},null,{"$f":"IF(ISERROR(DA254*$CL254/1000),0,DA254*$CL254/1000)","v":0},null,{"$f":"IF(ISERROR(DC254*$CL254/1000),0,DC254*$CL254/1000)","v":0},null,{"$f":"IF(ISERROR(DE254*$CL254/1000),0,DE254*$CL254/1000)","v":0},null,{"$f":"IF(ISERROR(DG254*$CL254/1000),0,DG254*$CL254/1000)","v":0},null,{"$f":"IF(ISERROR(DI254*$CL254/1000),0,DI254*$CL254/1000)","v":0},null,{"$f":"IF(ISERROR(DK254*$CL254/1000),0,DK254*$CL254/1000)","v":0},null,{"$f":"IF(ISERROR(DM254*$CL254/1000),0,DM254*$CL254/1000)","v":0},null,0,null,0,null,0,null,0,null,0,null,{"$f":"IF(ISERROR(DY254*$CL254/1000),0,DY254*$CL254/1000)","v":0}]
[null,null,null,null,null,null,null,"",null,0,null,0,null,{"$f":"IF(ISERROR(M255*$D255/1000),0,M255*$D255/1000)","v":0},null,{"$f":"IF(ISERROR(O255*$D255/1000),0,O255*$D255/1000)","v":0},null,{"$f":"IF(ISERROR(Q255*$D255/1000),0,Q255*$D255/1000)","v":0},null,{"$f":"IF(ISERROR(S255*$D255/1000),0,S255*$D255/1000)","v":0},null,{"$f":"IF(ISERROR(U255*$D255/1000),0,U255*$D255/1000)","v":0},null,{"$f":"IF(ISERROR(W255*$D255/1000),0,W255*$D255/1000)","v":0},null,{"$f":"IF(ISERROR(Y255*$D255/1000),0,Y255*$D255/1000)","v":0},null,{"$f":"IF(ISERROR(AA255*$D255/1000),0,AA255*$D255/1000)","v":0},null,{"$f":"IF(ISERROR(AC255*$D255/1000),0,AC255*$D255/1000)","v":0},null,{"$f":"IF(ISERROR(AE255*$D255/1000),0,AE255*$D255/1000)","v":0},null,0,null,0,null,0,null,0,null,0,null,0,null,null,null,null,null,null,"",null,0,null,0,null,0,null,0,null,0,null,0,null,0,null,0,null,0,null,0,null,0,null,0,null,0,null,0,null,0,null,0,null,0,null,0,null,null,null,null,null,null,"",null,0,null,0,null,{"$f":"IF(ISERROR(CU255*$CL255/1000),0,CU255*$CL255/1000)","v":0},null,{"$f":"IF(ISERROR(CW255*$CL255/1000),0,CW255*$CL255/1000)","v":0},null,{"$f":"IF(ISERROR(CY255*$CL255/1000),0,CY255*$CL255/1000)","v":0},null,{"$f":"IF(ISERROR(DA255*$CL255/1000),0,DA255*$CL255/1000)","v":0},null,{"$f":"IF(ISERROR(DC255*$CL255/1000),0,DC255*$CL255/1000)","v":0},null,{"$f":"IF(ISERROR(DE255*$CL255/1000),0,DE255*$CL255/1000)","v":0},null,{"$f":"IF(ISERROR(DG255*$CL255/1000),0,DG255*$CL255/1000)","v":0},null,{"$f":"IF(ISERROR(DI255*$CL255/1000),0,DI255*$CL255/1000)","v":0},null,{"$f":"IF(ISERROR(DK255*$CL255/1000),0,DK255*$CL255/1000)","v":0},null,{"$f":"IF(ISERROR(DM255*$CL255/1000),0,DM255*$CL255/1000)","v":0},null,0,null,0,null,0,null,0,null,0,null,{"$f":"IF(ISERROR(DY255*$CL255/1000),0,DY255*$CL255/1000)","v":0}]
[null,null,null,null,null,null,null,"",null,0,null,0,null,{"$f":"IF(ISERROR(M256*$D256/1000),0,M256*$D256/1000)","v":0},null,{"$f":"IF(ISERROR(O256*$D256/1000),0,O256*$D256/1000)","v":0},null,{"$f":"IF(ISERROR(Q256*$D256/1000),0,Q256*$D256/1000)","v":0},null,{"$f":"IF(ISERROR(S256*$D256/1000),0,S256*$D256/1000)","v":0},null,{"$f":"IF(ISERROR(U256*$D256/1000),0,U256*$D256/1000)","v":0},null,{"$f":"IF(ISERROR(W256*$D256/1000),0,W256*$D256/1000)","v":0},null,{"$f":"IF(ISERROR(Y256*$D256/1000),0,Y256*$D256/1000)","v":0},null,{"$f":"IF(ISERROR(AA256*$D256/1000),0,AA256*$D256/1000)","v":0},null,{"$f":"IF(ISERROR(AC256*$D256/1000),0,AC256*$D256/1000)","v":0},null,{"$f":"IF(ISERROR(AE256*$D256/1000),0,AE256*$D256/1000)","v":0},null,0,null,0,null,0,null,0,null,0,null,0,null,null,null,null,null,null,"",null,0,null,0,null,0,null,0,null,0,null,0,null,0,null,0,null,0,null,0,null,0,null,0,null,0,null,0,null,0,null,0,null,0,null,0,null,null,null,null,null,null,"",null,0,null,0,null,{"$f":"IF(ISERROR(CU256*$CL256/1000),0,CU256*$CL256/1000)","v":0},null,{"$f":"IF(ISERROR(CW256*$CL256/1000),0,CW256*$CL256/1000)","v":0},null,{"$f":"IF(ISERROR(CY256*$CL256/1000),0,CY256*$CL256/1000)","v":0},null,{"$f":"IF(ISERROR(DA256*$CL256/1000),0,DA256*$CL256/1000)","v":0},null,{"$f":"IF(ISERROR(DC256*$CL256/1000),0,DC256*$CL256/1000)","v":0},null,{"$f":"IF(ISERROR(DE256*$CL256/1000),0,DE256*$CL256/1000)","v":0},null,{"$f":"IF(ISERROR(DG256*$CL256/1000),0,DG256*$CL256/1000)","v":0},null,{"$f":"IF(ISERROR(DI256*$CL256/1000),0,DI256*$CL256/1000)","v":0},null,{"$f":"IF(ISERROR(DK256*$CL256/1000),0,DK256*$CL256/1000)","v":0},null,{"$f":"IF(ISERROR(DM256*$CL256/1000),0,DM256*$CL256/1000)","v":0},null,0,null,0,null,0,null,0,null,0,null,{"$f":"IF(ISERROR(DY256*$CL256/1000),0,DY256*$CL256/1000)","v":0}]
[null,null,null,null,null,null,null,"",null,0,null,0,null,{"$f":"IF(ISERROR(M257*$D257/1000),0,M257*$D257/1000)","v":0},null,{"$f":"IF(ISERROR(O257*$D257/1000),0,O257*$D257/1000)","v":0},null,{"$f":"IF(ISERROR(Q257*$D257/1000),0,Q257*$D257/1000)","v":0},null,{"$f":"IF(ISERROR(S257*$D257/1000),0,S257*$D257/1000)","v":0},null,{"$f":"IF(ISERROR(U257*$D257/1000),0,U257*$D257/1000)","v":0},null,{"$f":"IF(ISERROR(W257*$D257/1000),0,W257*$D257/1000)","v":0},null,{"$f":"IF(ISERROR(Y257*$D257/1000),0,Y257*$D257/1000)","v":0},null,{"$f":"IF(ISERROR(AA257*$D257/1000),0,AA257*$D257/1000)","v":0},null,{"$f":"IF(ISERROR(AC257*$D257/1000),0,AC257*$D257/1000)","v":0},null,{"$f":"IF(ISERROR(AE257*$D257/1000),0,AE257*$D257/1000)","v":0},null,0,null,0,null,0,null,0,null,0,null,0,null,null,null,null,null,null,"",null,0,null,0,null,0,null,0,null,0,null,0,null,0,null,0,null,0,null,0,null,0,null,0,null,0,null,0,null,0,null,0,null,0,null,0,null,null,null,null,null,null,"",null,0,null,0,null,{"$f":"IF(ISERROR(CU257*$CL257/1000),0,CU257*$CL257/1000)","v":0},null,{"$f":"IF(ISERROR(CW257*$CL257/1000),0,CW257*$CL257/1000)","v":0},null,{"$f":"IF(ISERROR(CY257*$CL257/1000),0,CY257*$CL257/1000)","v":0},null,{"$f":"IF(ISERROR(DA257*$CL257/1000),0,DA257*$CL257/1000)","v":0},null,{"$f":"IF(ISERROR(DC257*$CL257/1000),0,DC257*$CL257/1000)","v":0},null,{"$f":"IF(ISERROR(DE257*$CL257/1000),0,DE257*$CL257/1000)","v":0},null,{"$f":"IF(ISERROR(DG257*$CL257/1000),0,DG257*$CL257/1000)","v":0},null,{"$f":"IF(ISERROR(DI257*$CL257/1000),0,DI257*$CL257/1000)","v":0},null,{"$f":"IF(ISERROR(DK257*$CL257/1000),0,DK257*$CL257/1000)","v":0},null,{"$f":"IF(ISERROR(DM257*$CL257/1000),0,DM257*$CL257/1000)","v":0},null,0,null,0,null,0,null,0,null,0,null,{"$f":"IF(ISERROR(DY257*$CL257/1000),0,DY257*$CL257/1000)","v":0}]
[null,null,null,null,null,null,null,"",null,0,null,0,null,{"$f":"IF(ISERROR(M258*$D258/1000),0,M258*$D258/1000)","v":0},null,{"$f":"IF(ISERROR(O258*$D258/1000),0,O258*$D258/1000)","v":0},null,{"$f":"IF(ISERROR(Q258*$D258/1000),0,Q258*$D258/1000)","v":0},null,{"$f":"IF(ISERROR(S258*$D258/1000),0,S258*$D258/1000)","v":0},null,{"$f":"IF(ISERROR(U258*$D258/1000),0,U258*$D258/1000)","v":0},null,{"$f":"IF(ISERROR(W258*$D258/1000),0,W258*$D258/1000)","v":0},null,{"$f":"IF(ISERROR(Y258*$D258/1000),0,Y258*$D258/1000)","v":0},null,{"$f":"IF(ISERROR(AA258*$D258/1000),0,AA258*$D258/1000)","v":0},null,{"$f":"IF(ISERROR(AC258*$D258/1000),0,AC258*$D258/1000)","v":0},null,{"$f":"IF(ISERROR(AE258*$D258/1000),0,AE258*$D258/1000)","v":0},null,0,null,0,null,0,null,0,null,0,null,0,null,null,null,null,null,null,"",null,0,null,0,null,0,null,0,null,0,null,0,null,0,null,0,null,0,null,0,null,0,null,0,null,0,null,0,null,0,null,0,null,0,null,0,null,null,null,null,null,null,"",null,0,null,0,null,{"$f":"IF(ISERROR(CU258*$CL258/1000),0,CU258*$CL258/1000)","v":0},null,{"$f":"IF(ISERROR(CW258*$CL258/1000),0,CW258*$CL258/1000)","v":0},null,{"$f":"IF(ISERROR(CY258*$CL258/1000),0,CY258*$CL258/1000)","v":0},null,{"$f":"IF(ISERROR(DA258*$CL258/1000),0,DA258*$CL258/1000)","v":0},null,{"$f":"IF(ISERROR(DC258*$CL258/1000),0,DC258*$CL258/1000)","v":0},null,{"$f":"IF(ISERROR(DE258*$CL258/1000),0,DE258*$CL258/1000)","v":0},null,{"$f":"IF(ISERROR(DG258*$CL258/1000),0,DG258*$CL258/1000)","v":0},null,{"$f":"IF(ISERROR(DI258*$CL258/1000),0,DI258*$CL258/1000)","v":0},null,{"$f":"IF(ISERROR(DK258*$CL258/1000),0,DK258*$CL258/1000)","v":0},null,{"$f":"IF(ISERROR(DM258*$CL258/1000),0,DM258*$CL258/1000)","v":0},null,0,null,0,null,0,null,0,null,0,null,{"$f":"IF(ISERROR(DY258*$CL258/1000),0,DY258*$CL258/1000)","v":0}]
[null,null,null,null,null,null,null,"",null,0,null,0,null,{"$f":"IF(ISERROR(M259*$D259/1000),0,M259*$D259/1000)","v":0},null,{"$f":"IF(ISERROR(O259*$D259/1000),0,O259*$D259/1000)","v":0},null,{"$f":"IF(ISERROR(Q259*$D259/1000),0,Q259*$D259/1000)","v":0},null,{"$f":"IF(ISERROR(S259*$D259/1000),0,S259*$D259/1000)","v":0},null,{"$f":"IF(ISERROR(U259*$D259/1000),0,U259*$D259/1000)","v":0},null,{"$f":"IF(ISERROR(W259*$D259/1000),0,W259*$D259/1000)","v":0},null,{"$f":"IF(ISERROR(Y259*$D259/1000),0,Y259*$D259/1000)","v":0},null,{"$f":"IF(ISERROR(AA259*$D259/1000),0,AA259*$D259/1000)","v":0},null,{"$f":"IF(ISERROR(AC259*$D259/1000),0,AC259*$D259/1000)","v":0},null,{"$f":"IF(ISERROR(AE259*$D259/1000),0,AE259*$D259/1000)","v":0},null,0,null,0,null,0,null,0,null,0,null,0,null,null,null,null,null,null,"",null,0,null,0,null,0,null,0,null,0,null,0,null,0,null,0,null,0,null,0,null,0,null,0,null,0,null,0,null,0,null,0,null,0,null,0,null,null,null,null,null,null,"",null,0,null,0,null,{"$f":"IF(ISERROR(CU259*$CL259/1000),0,CU259*$CL259/1000)","v":0},null,{"$f":"IF(ISERROR(CW259*$CL259/1000),0,CW259*$CL259/1000)","v":0},null,{"$f":"IF(ISERROR(CY259*$CL259/1000),0,CY259*$CL259/1000)","v":0},null,{"$f":"IF(ISERROR(DA259*$CL259/1000),0,DA259*$CL259/1000)","v":0},null,{"$f":"IF(ISERROR(DC259*$CL259/1000),0,DC259*$CL259/1000)","v":0},null,{"$f":"IF(ISERROR(DE259*$CL259/1000),0,DE259*$CL259/1000)","v":0},null,{"$f":"IF(ISERROR(DG259*$CL259/1000),0,DG259*$CL259/1000)","v":0},null,{"$f":"IF(ISERROR(DI259*$CL259/1000),0,DI259*$CL259/1000)","v":0},null,{"$f":"IF(ISERROR(DK259*$CL259/1000),0,DK259*$CL259/1000)","v":0},null,{"$f":"IF(ISERROR(DM259*$CL259/1000),0,DM259*$CL259/1000)","v":0},null,0,null,0,null,0,null,0,null,0,null,{"$f":"IF(ISERROR(DY259*$CL259/1000),0,DY259*$CL259/1000)","v":0}]
[null,null,null,null,null,null,null,"",null,0,null,0,null,{"$f":"IF(ISERROR(M260*$D260/1000),0,M260*$D260/1000)","v":0},null,{"$f":"IF(ISERROR(O260*$D260/1000),0,O260*$D260/1000)","v":0},null,{"$f":"IF(ISERROR(Q260*$D260/1000),0,Q260*$D260/1000)","v":0},null,{"$f":"IF(ISERROR(S260*$D260/1000),0,S260*$D260/1000)","v":0},null,{"$f":"IF(ISERROR(U260*$D260/1000),0,U260*$D260/1000)","v":0},null,{"$f":"IF(ISERROR(W260*$D260/1000),0,W260*$D260/1000)","v":0},null,{"$f":"IF(ISERROR(Y260*$D260/1000),0,Y260*$D260/1000)","v":0},null,{"$f":"IF(ISERROR(AA260*$D260/1000),0,AA260*$D260/1000)","v":0},null,{"$f":"IF(ISERROR(AC260*$D260/1000),0,AC260*$D260/1000)","v":0},null,{"$f":"IF(ISERROR(AE260*$D260/1000),0,AE260*$D260/1000)","v":0},null,0,null,0,null,0,null,0,null,0,null,0,null,null,null,null,null,null,"",null,0,null,0,null,0,null,0,null,0,null,0,null,0,null,0,null,0,null,0,null,0,null,0,null,0,null,0,null,0,null,0,null,0,null,0,null,null,null,null,null,null,"",null,0,null,0,null,{"$f":"IF(ISERROR(CU260*$CL260/1000),0,CU260*$CL260/1000)","v":0},null,{"$f":"IF(ISERROR(CW260*$CL260/1000),0,CW260*$CL260/1000)","v":0},null,{"$f":"IF(ISERROR(CY260*$CL260/1000),0,CY260*$CL260/1000)","v":0},null,{"$f":"IF(ISERROR(DA260*$CL260/1000),0,DA260*$CL260/1000)","v":0},null,{"$f":"IF(ISERROR(DC260*$CL260/1000),0,DC260*$CL260/1000)","v":0},null,{"$f":"IF(ISERROR(DE260*$CL260/1000),0,DE260*$CL260/1000)","v":0},null,{"$f":"IF(ISERROR(DG260*$CL260/1000),0,DG260*$CL260/1000)","v":0},null,{"$f":"IF(ISERROR(DI260*$CL260/1000),0,DI260*$CL260/1000)","v":0},null,{"$f":"IF(ISERROR(DK260*$CL260/1000),0,DK260*$CL260/1000)","v":0},null,{"$f":"IF(ISERROR(DM260*$CL260/1000),0,DM260*$CL260/1000)","v":0},null,0,null,0,null,0,null,0,null,0,null,{"$f":"IF(ISERROR(DY260*$CL260/1000),0,DY260*$CL260/1000)","v":0}]
[null,"Septembre",null,null,null,null,null,"",null,0,null,0,null,{"$f":"IF(ISERROR(M261*$D261/1000),0,M261*$D261/1000)","v":0},null,{"$f":"IF(ISERROR(O261*$D261/1000),0,O261*$D261/1000)","v":0},null,{"$f":"IF(ISERROR(Q261*$D261/1000),0,Q261*$D261/1000)","v":0},null,{"$f":"IF(ISERROR(S261*$D261/1000),0,S261*$D261/1000)","v":0},null,{"$f":"IF(ISERROR(U261*$D261/1000),0,U261*$D261/1000)","v":0},null,{"$f":"IF(ISERROR(W261*$D261/1000),0,W261*$D261/1000)","v":0},null,{"$f":"IF(ISERROR(Y261*$D261/1000),0,Y261*$D261/1000)","v":0},null,{"$f":"IF(ISERROR(AA261*$D261/1000),0,AA261*$D261/1000)","v":0},null,{"$f":"IF(ISERROR(AC261*$D261/1000),0,AC261*$D261/1000)","v":0},null,{"$f":"IF(ISERROR(AE261*$D261/1000),0,AE261*$D261/1000)","v":0},null,0,null,0,null,0,null,0,null,0,null,0,null,null,null,null,null,null,"",null,0,null,0,null,0,null,0,null,0,null,0,null,0,null,0,null,0,null,0,null,0,null,0,null,0,null,0,null,0,null,0,null,0,null,0,null,null,null,null,null,null,"",null,0,null,0,null,{"$f":"IF(ISERROR(CU261*$CL261/1000),0,CU261*$CL261/1000)","v":0},null,{"$f":"IF(ISERROR(CW261*$CL261/1000),0,CW261*$CL261/1000)","v":0},null,{"$f":"IF(ISERROR(CY261*$CL261/1000),0,CY261*$CL261/1000)","v":0},null,{"$f":"IF(ISERROR(DA261*$CL261/1000),0,DA261*$CL261/1000)","v":0},null,{"$f":"IF(ISERROR(DC261*$CL261/1000),0,DC261*$CL261/1000)","v":0},null,{"$f":"IF(ISERROR(DE261*$CL261/1000),0,DE261*$CL261/1000)","v":0},null,{"$f":"IF(ISERROR(DG261*$CL261/1000),0,DG261*$CL261/1000)","v":0},null,{"$f":"IF(ISERROR(DI261*$CL261/1000),0,DI261*$CL261/1000)","v":0},null,{"$f":"IF(ISERROR(DK261*$CL261/1000),0,DK261*$CL261/1000)","v":0},null,{"$f":"IF(ISERROR(DM261*$CL261/1000),0,DM261*$CL261/1000)","v":0},null,0,null,0,null,0,null,0,null,0,null,{"$f":"IF(ISERROR(DY261*$CL261/1000),0,DY261*$CL261/1000)","v":0}]
[null,null,null,null,null,null,null,"",null,0,null,0,null,{"$f":"IF(ISERROR(M262*$D262/1000),0,M262*$D262/1000)","v":0},null,{"$f":"IF(ISERROR(O262*$D262/1000),0,O262*$D262/1000)","v":0},null,{"$f":"IF(ISERROR(Q262*$D262/1000),0,Q262*$D262/1000)","v":0},null,{"$f":"IF(ISERROR(S262*$D262/1000),0,S262*$D262/1000)","v":0},null,{"$f":"IF(ISERROR(U262*$D262/1000),0,U262*$D262/1000)","v":0},null,{"$f":"IF(ISERROR(W262*$D262/1000),0,W262*$D262/1000)","v":0},null,{"$f":"IF(ISERROR(Y262*$D262/1000),0,Y262*$D262/1000)","v":0},null,{"$f":"IF(ISERROR(AA262*$D262/1000),0,AA262*$D262/1000)","v":0},null,{"$f":"IF(ISERROR(AC262*$D262/1000),0,AC262*$D262/1000)","v":0},null,{"$f":"IF(ISERROR(AE262*$D262/1000),0,AE262*$D262/1000)","v":0},null,0,null,0,null,0,null,0,null,0,null,0,null,null,null,null,null,null,"",null,0,null,0,null,0,null,0,null,0,null,0,null,0,null,0,null,0,null,0,null,0,null,0,null,0,null,0,null,0,null,0,null,0,null,0,null,null,null,null,null,null,"",null,0,null,0,null,{"$f":"IF(ISERROR(CU262*$CL262/1000),0,CU262*$CL262/1000)","v":0},null,{"$f":"IF(ISERROR(CW262*$CL262/1000),0,CW262*$CL262/1000)","v":0},null,{"$f":"IF(ISERROR(CY262*$CL262/1000),0,CY262*$CL262/1000)","v":0},null,{"$f":"IF(ISERROR(DA262*$CL262/1000),0,DA262*$CL262/1000)","v":0},null,{"$f":"IF(ISERROR(DC262*$CL262/1000),0,DC262*$CL262/1000)","v":0},null,{"$f":"IF(ISERROR(DE262*$CL262/1000),0,DE262*$CL262/1000)","v":0},null,{"$f":"IF(ISERROR(DG262*$CL262/1000),0,DG262*$CL262/1000)","v":0},null,{"$f":"IF(ISERROR(DI262*$CL262/1000),0,DI262*$CL262/1000)","v":0},null,{"$f":"IF(ISERROR(DK262*$CL262/1000),0,DK262*$CL262/1000)","v":0},null,{"$f":"IF(ISERROR(DM262*$CL262/1000),0,DM262*$CL262/1000)","v":0},null,0,null,0,null,0,null,0,null,0,null,{"$f":"IF(ISERROR(DY262*$CL262/1000),0,DY262*$CL262/1000)","v":0}]
[null,null,null,null,null,null,null,"",null,0,null,0,null,{"$f":"IF(ISERROR(M263*$D263/1000),0,M263*$D263/1000)","v":0},null,{"$f":"IF(ISERROR(O263*$D263/1000),0,O263*$D263/1000)","v":0},null,{"$f":"IF(ISERROR(Q263*$D263/1000),0,Q263*$D263/1000)","v":0},null,{"$f":"IF(ISERROR(S263*$D263/1000),0,S263*$D263/1000)","v":0},null,{"$f":"IF(ISERROR(U263*$D263/1000),0,U263*$D263/1000)","v":0},null,{"$f":"IF(ISERROR(W263*$D263/1000),0,W263*$D263/1000)","v":0},null,{"$f":"IF(ISERROR(Y263*$D263/1000),0,Y263*$D263/1000)","v":0},null,{"$f":"IF(ISERROR(AA263*$D263/1000),0,AA263*$D263/1000)","v":0},null,{"$f":"IF(ISERROR(AC263*$D263/1000),0,AC263*$D263/1000)","v":0},null,{"$f":"IF(ISERROR(AE263*$D263/1000),0,AE263*$D263/1000)","v":0},null,0,null,0,null,0,null,0,null,0,null,0,null,null,null,null,null,null,"",null,0,null,0,null,0,null,0,null,0,null,0,null,0,null,0,null,0,null,0,null,0,null,0,null,0,null,0,null,0,null,0,null,0,null,0,null,null,null,null,null,null,"",null,0,null,0,null,{"$f":"IF(ISERROR(CU263*$CL263/1000),0,CU263*$CL263/1000)","v":0},null,{"$f":"IF(ISERROR(CW263*$CL263/1000),0,CW263*$CL263/1000)","v":0},null,{"$f":"IF(ISERROR(CY263*$CL263/1000),0,CY263*$CL263/1000)","v":0},null,{"$f":"IF(ISERROR(DA263*$CL263/1000),0,DA263*$CL263/1000)","v":0},null,{"$f":"IF(ISERROR(DC263*$CL263/1000),0,DC263*$CL263/1000)","v":0},null,{"$f":"IF(ISERROR(DE263*$CL263/1000),0,DE263*$CL263/1000)","v":0},null,{"$f":"IF(ISERROR(DG263*$CL263/1000),0,DG263*$CL263/1000)","v":0},null,{"$f":"IF(ISERROR(DI263*$CL263/1000),0,DI263*$CL263/1000)","v":0},null,{"$f":"IF(ISERROR(DK263*$CL263/1000),0,DK263*$CL263/1000)","v":0},null,{"$f":"IF(ISERROR(DM263*$CL263/1000),0,DM263*$CL263/1000)","v":0},null,0,null,0,null,0,null,0,null,0,null,{"$f":"IF(ISERROR(DY263*$CL263/1000),0,DY263*$CL263/1000)","v":0}]
[null,null,null,null,null,null,null,"",null,0,null,0,null,{"$f":"IF(ISERROR(M264*$D264/1000),0,M264*$D264/1000)","v":0},null,{"$f":"IF(ISERROR(O264*$D264/1000),0,O264*$D264/1000)","v":0},null,{"$f":"IF(ISERROR(Q264*$D264/1000),0,Q264*$D264/1000)","v":0},null,{"$f":"IF(ISERROR(S264*$D264/1000),0,S264*$D264/1000)","v":0},null,{"$f":"IF(ISERROR(U264*$D264/1000),0,U264*$D264/1000)","v":0},null,{"$f":"IF(ISERROR(W264*$D264/1000),0,W264*$D264/1000)","v":0},null,{"$f":"IF(ISERROR(Y264*$D264/1000),0,Y264*$D264/1000)","v":0},null,{"$f":"IF(ISERROR(AA264*$D264/1000),0,AA264*$D264/1000)","v":0},null,{"$f":"IF(ISERROR(AC264*$D264/1000),0,AC264*$D264/1000)","v":0},null,{"$f":"IF(ISERROR(AE264*$D264/1000),0,AE264*$D264/1000)","v":0},null,0,null,0,null,0,null,0,null,0,null,0,null,null,null,null,null,null,"",null,0,null,0,null,0,null,0,null,0,null,0,null,0,null,0,null,0,null,0,null,0,null,0,null,0,null,0,null,0,null,0,null,0,null,0,null,null,null,null,null,null,"",null,0,null,0,null,{"$f":"IF(ISERROR(CU264*$CL264/1000),0,CU264*$CL264/1000)","v":0},null,{"$f":"IF(ISERROR(CW264*$CL264/1000),0,CW264*$CL264/1000)","v":0},null,{"$f":"IF(ISERROR(CY264*$CL264/1000),0,CY264*$CL264/1000)","v":0},null,{"$f":"IF(ISERROR(DA264*$CL264/1000),0,DA264*$CL264/1000)","v":0},null,{"$f":"IF(ISERROR(DC264*$CL264/1000),0,DC264*$CL264/1000)","v":0},null,{"$f":"IF(ISERROR(DE264*$CL264/1000),0,DE264*$CL264/1000)","v":0},null,{"$f":"IF(ISERROR(DG264*$CL264/1000),0,DG264*$CL264/1000)","v":0},null,{"$f":"IF(ISERROR(DI264*$CL264/1000),0,DI264*$CL264/1000)","v":0},null,{"$f":"IF(ISERROR(DK264*$CL264/1000),0,DK264*$CL264/1000)","v":0},null,{"$f":"IF(ISERROR(DM264*$CL264/1000),0,DM264*$CL264/1000)","v":0},null,0,null,0,null,0,null,0,null,0,null,{"$f":"IF(ISERROR(DY264*$CL264/1000),0,DY264*$CL264/1000)","v":0}]
[null,null,null,null,null,null,null,"",null,0,null,0,null,{"$f":"IF(ISERROR(M265*$D265/1000),0,M265*$D265/1000)","v":0},null,{"$f":"IF(ISERROR(O265*$D265/1000),0,O265*$D265/1000)","v":0},null,{"$f":"IF(ISERROR(Q265*$D265/1000),0,Q265*$D265/1000)","v":0},null,{"$f":"IF(ISERROR(S265*$D265/1000),0,S265*$D265/1000)","v":0},null,{"$f":"IF(ISERROR(U265*$D265/1000),0,U265*$D265/1000)","v":0},null,{"$f":"IF(ISERROR(W265*$D265/1000),0,W265*$D265/1000)","v":0},null,{"$f":"IF(ISERROR(Y265*$D265/1000),0,Y265*$D265/1000)","v":0},null,{"$f":"IF(ISERROR(AA265*$D265/1000),0,AA265*$D265/1000)","v":0},null,{"$f":"IF(ISERROR(AC265*$D265/1000),0,AC265*$D265/1000)","v":0},null,{"$f":"IF(ISERROR(AE265*$D265/1000),0,AE265*$D265/1000)","v":0},null,0,null,0,null,0,null,0,null,0,null,0,null,null,null,null,null,null,"",null,0,null,0,null,0,null,0,null,0,null,0,null,0,null,0,null,0,null,0,null,0,null,0,null,0,null,0,null,0,null,0,null,0,null,0,null,null,null,null,null,null,"",null,0,null,0,null,{"$f":"IF(ISERROR(CU265*$CL265/1000),0,CU265*$CL265/1000)","v":0},null,{"$f":"IF(ISERROR(CW265*$CL265/1000),0,CW265*$CL265/1000)","v":0},null,{"$f":"IF(ISERROR(CY265*$CL265/1000),0,CY265*$CL265/1000)","v":0},null,{"$f":"IF(ISERROR(DA265*$CL265/1000),0,DA265*$CL265/1000)","v":0},null,{"$f":"IF(ISERROR(DC265*$CL265/1000),0,DC265*$CL265/1000)","v":0},null,{"$f":"IF(ISERROR(DE265*$CL265/1000),0,DE265*$CL265/1000)","v":0},null,{"$f":"IF(ISERROR(DG265*$CL265/1000),0,DG265*$CL265/1000)","v":0},null,{"$f":"IF(ISERROR(DI265*$CL265/1000),0,DI265*$CL265/1000)","v":0},null,{"$f":"IF(ISERROR(DK265*$CL265/1000),0,DK265*$CL265/1000)","v":0},null,{"$f":"IF(ISERROR(DM265*$CL265/1000),0,DM265*$CL265/1000)","v":0},null,0,null,0,null,0,null,0,null,0,null,{"$f":"IF(ISERROR(DY265*$CL265/1000),0,DY265*$CL265/1000)","v":0}]
[null,null,null,null,null,null,null,"",null,0,null,0,null,{"$f":"IF(ISERROR(M266*$D266/1000),0,M266*$D266/1000)","v":0},null,{"$f":"IF(ISERROR(O266*$D266/1000),0,O266*$D266/1000)","v":0},null,{"$f":"IF(ISERROR(Q266*$D266/1000),0,Q266*$D266/1000)","v":0},null,{"$f":"IF(ISERROR(S266*$D266/1000),0,S266*$D266/1000)","v":0},null,{"$f":"IF(ISERROR(U266*$D266/1000),0,U266*$D266/1000)","v":0},null,{"$f":"IF(ISERROR(W266*$D266/1000),0,W266*$D266/1000)","v":0},null,{"$f":"IF(ISERROR(Y266*$D266/1000),0,Y266*$D266/1000)","v":0},null,{"$f":"IF(ISERROR(AA266*$D266/1000),0,AA266*$D266/1000)","v":0},null,{"$f":"IF(ISERROR(AC266*$D266/1000),0,AC266*$D266/1000)","v":0},null,{"$f":"IF(ISERROR(AE266*$D266/1000),0,AE266*$D266/1000)","v":0},null,0,null,0,null,0,null,0,null,0,null,0,null,null,null,null,null,null,"",null,0,null,0,null,0,null,0,null,0,null,0,null,0,null,0,null,0,null,0,null,0,null,0,null,0,null,0,null,0,null,0,null,0,null,0,null,null,null,null,null,null,"",null,0,null,0,null,{"$f":"IF(ISERROR(CU266*$CL266/1000),0,CU266*$CL266/1000)","v":0},null,{"$f":"IF(ISERROR(CW266*$CL266/1000),0,CW266*$CL266/1000)","v":0},null,{"$f":"IF(ISERROR(CY266*$CL266/1000),0,CY266*$CL266/1000)","v":0},null,{"$f":"IF(ISERROR(DA266*$CL266/1000),0,DA266*$CL266/1000)","v":0},null,{"$f":"IF(ISERROR(DC266*$CL266/1000),0,DC266*$CL266/1000)","v":0},null,{"$f":"IF(ISERROR(DE266*$CL266/1000),0,DE266*$CL266/1000)","v":0},null,{"$f":"IF(ISERROR(DG266*$CL266/1000),0,DG266*$CL266/1000)","v":0},null,{"$f":"IF(ISERROR(DI266*$CL266/1000),0,DI266*$CL266/1000)","v":0},null,{"$f":"IF(ISERROR(DK266*$CL266/1000),0,DK266*$CL266/1000)","v":0},null,{"$f":"IF(ISERROR(DM266*$CL266/1000),0,DM266*$CL266/1000)","v":0},null,0,null,0,null,0,null,0,null,0,null,{"$f":"IF(ISERROR(DY266*$CL266/1000),0,DY266*$CL266/1000)","v":0}]
[null,null,null,null,null,null,null,"",null,0,null,0,null,{"$f":"IF(ISERROR(M267*$D267/1000),0,M267*$D267/1000)","v":0},null,{"$f":"IF(ISERROR(O267*$D267/1000),0,O267*$D267/1000)","v":0},null,{"$f":"IF(ISERROR(Q267*$D267/1000),0,Q267*$D267/1000)","v":0},null,{"$f":"IF(ISERROR(S267*$D267/1000),0,S267*$D267/1000)","v":0},null,{"$f":"IF(ISERROR(U267*$D267/1000),0,U267*$D267/1000)","v":0},null,{"$f":"IF(ISERROR(W267*$D267/1000),0,W267*$D267/1000)","v":0},null,{"$f":"IF(ISERROR(Y267*$D267/1000),0,Y267*$D267/1000)","v":0},null,{"$f":"IF(ISERROR(AA267*$D267/1000),0,AA267*$D267/1000)","v":0},null,{"$f":"IF(ISERROR(AC267*$D267/1000),0,AC267*$D267/1000)","v":0},null,{"$f":"IF(ISERROR(AE267*$D267/1000),0,AE267*$D267/1000)","v":0},null,0,null,0,null,0,null,0,null,0,null,0,null,null,null,null,null,null,"",null,0,null,0,null,0,null,0,null,0,null,0,null,0,null,0,null,0,null,0,null,0,null,0,null,0,null,0,null,0,null,0,null,0,null,0,null,null,null,null,null,null,"",null,0,null,0,null,{"$f":"IF(ISERROR(CU267*$CL267/1000),0,CU267*$CL267/1000)","v":0},null,{"$f":"IF(ISERROR(CW267*$CL267/1000),0,CW267*$CL267/1000)","v":0},null,{"$f":"IF(ISERROR(CY267*$CL267/1000),0,CY267*$CL267/1000)","v":0},null,{"$f":"IF(ISERROR(DA267*$CL267/1000),0,DA267*$CL267/1000)","v":0},null,{"$f":"IF(ISERROR(DC267*$CL267/1000),0,DC267*$CL267/1000)","v":0},null,{"$f":"IF(ISERROR(DE267*$CL267/1000),0,DE267*$CL267/1000)","v":0},null,{"$f":"IF(ISERROR(DG267*$CL267/1000),0,DG267*$CL267/1000)","v":0},null,{"$f":"IF(ISERROR(DI267*$CL267/1000),0,DI267*$CL267/1000)","v":0},null,{"$f":"IF(ISERROR(DK267*$CL267/1000),0,DK267*$CL267/1000)","v":0},null,{"$f":"IF(ISERROR(DM267*$CL267/1000),0,DM267*$CL267/1000)","v":0},null,0,null,0,null,0,null,0,null,0,null,{"$f":"IF(ISERROR(DY267*$CL267/1000),0,DY267*$CL267/1000)","v":0}]
[null,null,null,null,null,null,null,"",null,0,null,0,null,{"$f":"IF(ISERROR(M268*$D268/1000),0,M268*$D268/1000)","v":0},null,{"$f":"IF(ISERROR(O268*$D268/1000),0,O268*$D268/1000)","v":0},null,{"$f":"IF(ISERROR(Q268*$D268/1000),0,Q268*$D268/1000)","v":0},null,{"$f":"IF(ISERROR(S268*$D268/1000),0,S268*$D268/1000)","v":0},null,{"$f":"IF(ISERROR(U268*$D268/1000),0,U268*$D268/1000)","v":0},null,{"$f":"IF(ISERROR(W268*$D268/1000),0,W268*$D268/1000)","v":0},null,{"$f":"IF(ISERROR(Y268*$D268/1000),0,Y268*$D268/1000)","v":0},null,{"$f":"IF(ISERROR(AA268*$D268/1000),0,AA268*$D268/1000)","v":0},null,{"$f":"IF(ISERROR(AC268*$D268/1000),0,AC268*$D268/1000)","v":0},null,{"$f":"IF(ISERROR(AE268*$D268/1000),0,AE268*$D268/1000)","v":0},null,0,null,0,null,0,null,0,null,0,null,0,null,null,null,null,null,null,"",null,0,null,0,null,0,null,0,null,0,null,0,null,0,null,0,null,0,null,0,null,0,null,0,null,0,null,0,null,0,null,0,null,0,null,0,null,null,null,null,null,null,"",null,0,null,0,null,{"$f":"IF(ISERROR(CU268*$CL268/1000),0,CU268*$CL268/1000)","v":0},null,{"$f":"IF(ISERROR(CW268*$CL268/1000),0,CW268*$CL268/1000)","v":0},null,{"$f":"IF(ISERROR(CY268*$CL268/1000),0,CY268*$CL268/1000)","v":0},null,{"$f":"IF(ISERROR(DA268*$CL268/1000),0,DA268*$CL268/1000)","v":0},null,{"$f":"IF(ISERROR(DC268*$CL268/1000),0,DC268*$CL268/1000)","v":0},null,{"$f":"IF(ISERROR(DE268*$CL268/1000),0,DE268*$CL268/1000)","v":0},null,{"$f":"IF(ISERROR(DG268*$CL268/1000),0,DG268*$CL268/1000)","v":0},null,{"$f":"IF(ISERROR(DI268*$CL268/1000),0,DI268*$CL268/1000)","v":0},null,{"$f":"IF(ISERROR(DK268*$CL268/1000),0,DK268*$CL268/1000)","v":0},null,{"$f":"IF(ISERROR(DM268*$CL268/1000),0,DM268*$CL268/1000)","v":0},null,0,null,0,null,0,null,0,null,0,null,{"$f":"IF(ISERROR(DY268*$CL268/1000),0,DY268*$CL268/1000)","v":0}]
[null,null,null,null,null,null,null,"",null,0,null,0,null,{"$f":"IF(ISERROR(M269*$D269/1000),0,M269*$D269/1000)","v":0},null,{"$f":"IF(ISERROR(O269*$D269/1000),0,O269*$D269/1000)","v":0},null,{"$f":"IF(ISERROR(Q269*$D269/1000),0,Q269*$D269/1000)","v":0},null,{"$f":"IF(ISERROR(S269*$D269/1000),0,S269*$D269/1000)","v":0},null,{"$f":"IF(ISERROR(U269*$D269/1000),0,U269*$D269/1000)","v":0},null,{"$f":"IF(ISERROR(W269*$D269/1000),0,W269*$D269/1000)","v":0},null,{"$f":"IF(ISERROR(Y269*$D269/1000),0,Y269*$D269/1000)","v":0},null,{"$f":"IF(ISERROR(AA269*$D269/1000),0,AA269*$D269/1000)","v":0},null,{"$f":"IF(ISERROR(AC269*$D269/1000),0,AC269*$D269/1000)","v":0},null,{"$f":"IF(ISERROR(AE269*$D269/1000),0,AE269*$D269/1000)","v":0},null,0,null,0,null,0,null,0,null,0,null,0,null,null,null,null,null,null,"",null,0,null,0,null,0,null,0,null,0,null,0,null,0,null,0,null,0,null,0,null,0,null,0,null,0,null,0,null,0,null,0,null,0,null,0,null,null,null,null,null,null,"",null,0,null,0,null,{"$f":"IF(ISERROR(CU269*$CL269/1000),0,CU269*$CL269/1000)","v":0},null,{"$f":"IF(ISERROR(CW269*$CL269/1000),0,CW269*$CL269/1000)","v":0},null,{"$f":"IF(ISERROR(CY269*$CL269/1000),0,CY269*$CL269/1000)","v":0},null,{"$f":"IF(ISERROR(DA269*$CL269/1000),0,DA269*$CL269/1000)","v":0},null,{"$f":"IF(ISERROR(DC269*$CL269/1000),0,DC269*$CL269/1000)","v":0},null,{"$f":"IF(ISERROR(DE269*$CL269/1000),0,DE269*$CL269/1000)","v":0},null,{"$f":"IF(ISERROR(DG269*$CL269/1000),0,DG269*$CL269/1000)","v":0},null,{"$f":"IF(ISERROR(DI269*$CL269/1000),0,DI269*$CL269/1000)","v":0},null,{"$f":"IF(ISERROR(DK269*$CL269/1000),0,DK269*$CL269/1000)","v":0},null,{"$f":"IF(ISERROR(DM269*$CL269/1000),0,DM269*$CL269/1000)","v":0},null,0,null,0,null,0,null,0,null,0,null,{"$f":"IF(ISERROR(DY269*$CL269/1000),0,DY269*$CL269/1000)","v":0}]
[null,null,null,null,null,null,null,"",null,0,null,0,null,{"$f":"IF(ISERROR(M270*$D270/1000),0,M270*$D270/1000)","v":0},null,{"$f":"IF(ISERROR(O270*$D270/1000),0,O270*$D270/1000)","v":0},null,{"$f":"IF(ISERROR(Q270*$D270/1000),0,Q270*$D270/1000)","v":0},null,{"$f":"IF(ISERROR(S270*$D270/1000),0,S270*$D270/1000)","v":0},null,{"$f":"IF(ISERROR(U270*$D270/1000),0,U270*$D270/1000)","v":0},null,{"$f":"IF(ISERROR(W270*$D270/1000),0,W270*$D270/1000)","v":0},null,{"$f":"IF(ISERROR(Y270*$D270/1000),0,Y270*$D270/1000)","v":0},null,{"$f":"IF(ISERROR(AA270*$D270/1000),0,AA270*$D270/1000)","v":0},null,{"$f":"IF(ISERROR(AC270*$D270/1000),0,AC270*$D270/1000)","v":0},null,{"$f":"IF(ISERROR(AE270*$D270/1000),0,AE270*$D270/1000)","v":0},null,0,null,0,null,0,null,0,null,0,null,0,null,null,null,null,null,null,"",null,0,null,0,null,0,null,0,null,0,null,0,null,0,null,0,null,0,null,0,null,0,null,0,null,0,null,0,null,0,null,0,null,0,null,0,null,null,null,null,null,null,"",null,0,null,0,null,{"$f":"IF(ISERROR(CU270*$CL270/1000),0,CU270*$CL270/1000)","v":0},null,{"$f":"IF(ISERROR(CW270*$CL270/1000),0,CW270*$CL270/1000)","v":0},null,{"$f":"IF(ISERROR(CY270*$CL270/1000),0,CY270*$CL270/1000)","v":0},null,{"$f":"IF(ISERROR(DA270*$CL270/1000),0,DA270*$CL270/1000)","v":0},null,{"$f":"IF(ISERROR(DC270*$CL270/1000),0,DC270*$CL270/1000)","v":0},null,{"$f":"IF(ISERROR(DE270*$CL270/1000),0,DE270*$CL270/1000)","v":0},null,{"$f":"IF(ISERROR(DG270*$CL270/1000),0,DG270*$CL270/1000)","v":0},null,{"$f":"IF(ISERROR(DI270*$CL270/1000),0,DI270*$CL270/1000)","v":0},null,{"$f":"IF(ISERROR(DK270*$CL270/1000),0,DK270*$CL270/1000)","v":0},null,{"$f":"IF(ISERROR(DM270*$CL270/1000),0,DM270*$CL270/1000)","v":0},null,0,null,0,null,0,null,0,null,0,null,{"$f":"IF(ISERROR(DY270*$CL270/1000),0,DY270*$CL270/1000)","v":0}]
[null,null,null,null,null,null,null,"",null,0,null,0,null,{"$f":"IF(ISERROR(M271*$D271/1000),0,M271*$D271/1000)","v":0},null,{"$f":"IF(ISERROR(O271*$D271/1000),0,O271*$D271/1000)","v":0},null,{"$f":"IF(ISERROR(Q271*$D271/1000),0,Q271*$D271/1000)","v":0},null,{"$f":"IF(ISERROR(S271*$D271/1000),0,S271*$D271/1000)","v":0},null,{"$f":"IF(ISERROR(U271*$D271/1000),0,U271*$D271/1000)","v":0},null,{"$f":"IF(ISERROR(W271*$D271/1000),0,W271*$D271/1000)","v":0},null,{"$f":"IF(ISERROR(Y271*$D271/1000),0,Y271*$D271/1000)","v":0},null,{"$f":"IF(ISERROR(AA271*$D271/1000),0,AA271*$D271/1000)","v":0},null,{"$f":"IF(ISERROR(AC271*$D271/1000),0,AC271*$D271/1000)","v":0},null,{"$f":"IF(ISERROR(AE271*$D271/1000),0,AE271*$D271/1000)","v":0},null,0,null,0,null,0,null,0,null,0,null,0,null,null,null,null,null,null,"",null,{"$f":"IF(ISERROR(AZ271*$AU271/1000),0,AZ271*$AU271/1000)","v":0},null,{"$f":"IF(ISERROR(BB271*$AU271/1000),0,BB271*$AU271/1000)","v":0},null,{"$f":"IF(ISERROR(BD271*$AU271/1000),0,BD271*$AU271/1000)","v":0},null,{"$f":"IF(ISERROR(BF271*$AU271/1000),0,BF271*$AU271/1000)","v":0},null,{"$f":"IF(ISERROR(BH271*$AU271/1000),0,BH271*$AU271/1000)","v":0},null,{"$f":"IF(ISERROR(BJ271*$AU271/1000),0,BJ271*$AU271/1000)","v":0},null,{"$f":"IF(ISERROR(BL271*$AU271/1000),0,BL271*$AU271/1000)","v":0},null,{"$f":"IF(ISERROR(BN271*$AU271/1000),0,BN271*$AU271/1000)","v":0},null,{"$f":"IF(ISERROR(BP271*$AU271/1000),0,BP271*$AU271/1000)","v":0},null,{"$f":"IF(ISERROR(BR271*$AU271/1000),0,BR271*$AU271/1000)","v":0},null,{"$f":"IF(ISERROR(BT271*$AU271/1000),0,BT271*$AU271/1000)","v":0},null,{"$f":"IF(ISERROR(BV271*$AU271/1000),0,BV271*$AU271/1000)","v":0},null,{"$f":"IF(ISERROR(BX271*$AU271/1000),0,BX271*$AU271/1000)","v":0},null,{"$f":"IF(ISERROR(BZ271*$AU271/1000),0,BZ271*$AU271/1000)","v":0},null,{"$f":"IF(ISERROR(CB271*$AU271/1000),0,CB271*$AU271/1000)","v":0},null,{"$f":"IF(ISERROR(CD271*$AU271/1000),0,CD271*$AU271/1000)","v":0},null,{"$f":"IF(ISERROR(CF271*$AU271/1000),0,CF271*$AU271/1000)","v":0},null,{"$f":"IF(ISERROR(CH271*$AU271/1000),0,CH271*$AU271/1000)","v":0},null,null,null,null,null,null,"",null,0,null,0,null,{"$f":"IF(ISERROR(CU271*$CL271/1000),0,CU271*$CL271/1000)","v":0},null,{"$f":"IF(ISERROR(CW271*$CL271/1000),0,CW271*$CL271/1000)","v":0},null,{"$f":"IF(ISERROR(CY271*$CL271/1000),0,CY271*$CL271/1000)","v":0},null,{"$f":"IF(ISERROR(DA271*$CL271/1000),0,DA271*$CL271/1000)","v":0},null,{"$f":"IF(ISERROR(DC271*$CL271/1000),0,DC271*$CL271/1000)","v":0},null,{"$f":"IF(ISERROR(DE271*$CL271/1000),0,DE271*$CL271/1000)","v":0},null,{"$f":"IF(ISERROR(DG271*$CL271/1000),0,DG271*$CL271/1000)","v":0},null,{"$f":"IF(ISERROR(DI271*$CL271/1000),0,DI271*$CL271/1000)","v":0},null,{"$f":"IF(ISERROR(DK271*$CL271/1000),0,DK271*$CL271/1000)","v":0},null,{"$f":"IF(ISERROR(DM271*$CL271/1000),0,DM271*$CL271/1000)","v":0},null,0,null,0,null,0,null,0,null,0,null,{"$f":"IF(ISERROR(DY271*$CL271/1000),0,DY271*$CL271/1000)","v":0}]
[null,null,null,null,null,null,null,{"$f":"IF(ISTEXT(G272),1,IF(ISBLANK(G272),\"\",IF(ISNONTEXT(G272),G272)))","v":""},null,{"$f":"IF(ISERROR(I272*$D272/1000),0,I272*$D272/1000)","v":0},null,0,null,{"$f":"IF(ISERROR(M272*$D272/1000),0,M272*$D272/1000)","v":0},null,{"$f":"IF(ISERROR(O272*$D272/1000),0,O272*$D272/1000)","v":0},null,{"$f":"IF(ISERROR(Q272*$D272/1000),0,Q272*$D272/1000)","v":0},null,{"$f":"IF(ISERROR(S272*$D272/1000),0,S272*$D272/1000)","v":0},null,{"$f":"IF(ISERROR(U272*$D272/1000),0,U272*$D272/1000)","v":0},null,{"$f":"IF(ISERROR(W272*$D272/1000),0,W272*$D272/1000)","v":0},null,{"$f":"IF(ISERROR(Y272*$D272/1000),0,Y272*$D272/1000)","v":0},null,{"$f":"IF(ISERROR(AA272*$D272/1000),0,AA272*$D272/1000)","v":0},null,{"$f":"IF(ISERROR(AC272*$D272/1000),0,AC272*$D272/1000)","v":0},null,{"$f":"IF(ISERROR(AE272*$D272/1000),0,AE272*$D272/1000)","v":0},null,{"$f":"IF(ISERROR(AG272*$D272/1000),0,AG272*$D272/1000)","v":0},null,{"$f":"IF(ISERROR(AI272*$D272/1000),0,AI272*$D272/1000)","v":0},null,{"$f":"IF(ISERROR(AK272*$D272/1000),0,AK272*$D272/1000)","v":0},null,{"$f":"IF(ISERROR(AM272*$D272/1000),0,AM272*$D272/1000)","v":0},null,{"$f":"IF(ISERROR(AO272*$D272/1000),0,AO272*$D272/1000)","v":0},null,{"$f":"IF(ISERROR(AQ272*$D272/1000),0,AQ272*$D272/1000)","v":0},null,null,null,null,null,null,{"$f":"IF(ISTEXT(AX272),1,IF(ISBLANK(AX272),\"\",IF(ISNONTEXT(AX272),AX272)))","v":""},null,0,null,0,null,0,null,0,null,0,null,0,null,0,null,0,null,0,null,0,null,0,null,0,null,0,null,0,null,0,null,0,null,0,null,0,null,null,null,null,null,null,{"$f":"IF(ISTEXT(CO272),1,IF(ISBLANK(CO272),\"\",IF(ISNONTEXT(CO272),CO272)))","v":""},null,{"$f":"IF(ISERROR(CQ272*$CL272/1000),0,CQ272*$CL272/1000)","v":0},null,0,null,{"$f":"IF(ISERROR(CU272*$CL272/1000),0,CU272*$CL272/1000)","v":0},null,{"$f":"IF(ISERROR(CW272*$CL272/1000),0,CW272*$CL272/1000)","v":0},null,{"$f":"IF(ISERROR(CY272*$CL272/1000),0,CY272*$CL272/1000)","v":0},null,{"$f":"IF(ISERROR(DA272*$CL272/1000),0,DA272*$CL272/1000)","v":0},null,{"$f":"IF(ISERROR(DC272*$CL272/1000),0,DC272*$CL272/1000)","v":0},null,{"$f":"IF(ISERROR(DE272*$CL272/1000),0,DE272*$CL272/1000)","v":0},null,{"$f":"IF(ISERROR(DG272*$CL272/1000),0,DG272*$CL272/1000)","v":0},null,{"$f":"IF(ISERROR(DI272*$CL272/1000),0,DI272*$CL272/1000)","v":0},null,{"$f":"IF(ISERROR(DK272*$CL272/1000),0,DK272*$CL272/1000)","v":0},null,{"$f":"IF(ISERROR(DM272*$CL272/1000),0,DM272*$CL272/1000)","v":0},null,{"$f":"IF(ISERROR(DO272*$CL272/1000),0,DO272*$CL272/1000)","v":0},null,{"$f":"IF(ISERROR(DQ272*$CL272/1000),0,DQ272*$CL272/1000)","v":0},null,{"$f":"IF(ISERROR(DS272*$CL272/1000),0,DS272*$CL272/1000)","v":0},null,{"$f":"IF(ISERROR(DU272*$CL272/1000),0,DU272*$CL272/1000)","v":0},null,{"$f":"IF(ISERROR(DW272*$CL272/1000),0,DW272*$CL272/1000)","v":0},null,{"$f":"IF(ISERROR(DY272*$CL272/1000),0,DY272*$CL272/1000)","v":0}]
[null,null,null,null,null,null,null,"",null,0,null,0,null,{"$f":"IF(ISERROR(M273*$D273/1000),0,M273*$D273/1000)","v":0},null,{"$f":"IF(ISERROR(O273*$D273/1000),0,O273*$D273/1000)","v":0},null,{"$f":"IF(ISERROR(Q273*$D273/1000),0,Q273*$D273/1000)","v":0},null,{"$f":"IF(ISERROR(S273*$D273/1000),0,S273*$D273/1000)","v":0},null,{"$f":"IF(ISERROR(U273*$D273/1000),0,U273*$D273/1000)","v":0},null,{"$f":"IF(ISERROR(W273*$D273/1000),0,W273*$D273/1000)","v":0},null,{"$f":"IF(ISERROR(Y273*$D273/1000),0,Y273*$D273/1000)","v":0},null,{"$f":"IF(ISERROR(AA273*$D273/1000),0,AA273*$D273/1000)","v":0},null,{"$f":"IF(ISERROR(AC273*$D273/1000),0,AC273*$D273/1000)","v":0},null,{"$f":"IF(ISERROR(AE273*$D273/1000),0,AE273*$D273/1000)","v":0},null,0,null,0,null,0,null,0,null,0,null,0,null,null,null,null,null,null,"",null,0,null,0,null,0,null,0,null,0,null,0,null,0,null,0,null,0,null,0,null,0,null,0,null,0,null,0,null,0,null,0,null,0,null,0,null,null,null,null,null,null,"",null,0,null,0,null,{"$f":"IF(ISERROR(CU273*$CL273/1000),0,CU273*$CL273/1000)","v":0},null,{"$f":"IF(ISERROR(CW273*$CL273/1000),0,CW273*$CL273/1000)","v":0},null,{"$f":"IF(ISERROR(CY273*$CL273/1000),0,CY273*$CL273/1000)","v":0},null,{"$f":"IF(ISERROR(DA273*$CL273/1000),0,DA273*$CL273/1000)","v":0},null,{"$f":"IF(ISERROR(DC273*$CL273/1000),0,DC273*$CL273/1000)","v":0},null,{"$f":"IF(ISERROR(DE273*$CL273/1000),0,DE273*$CL273/1000)","v":0},null,{"$f":"IF(ISERROR(DG273*$CL273/1000),0,DG273*$CL273/1000)","v":0},null,{"$f":"IF(ISERROR(DI273*$CL273/1000),0,DI273*$CL273/1000)","v":0},null,{"$f":"IF(ISERROR(DK273*$CL273/1000),0,DK273*$CL273/1000)","v":0},null,{"$f":"IF(ISERROR(DM273*$CL273/1000),0,DM273*$CL273/1000)","v":0},null,0,null,0,null,0,null,0,null,0,null,{"$f":"IF(ISERROR(DY273*$CL273/1000),0,DY273*$CL273/1000)","v":0}]
[null,null,null,null,null,null,null,"",null,0,null,0,null,{"$f":"IF(ISERROR(M274*$D274/1000),0,M274*$D274/1000)","v":0},null,{"$f":"IF(ISERROR(O274*$D274/1000),0,O274*$D274/1000)","v":0},null,{"$f":"IF(ISERROR(Q274*$D274/1000),0,Q274*$D274/1000)","v":0},null,{"$f":"IF(ISERROR(S274*$D274/1000),0,S274*$D274/1000)","v":0},null,{"$f":"IF(ISERROR(U274*$D274/1000),0,U274*$D274/1000)","v":0},null,{"$f":"IF(ISERROR(W274*$D274/1000),0,W274*$D274/1000)","v":0},null,{"$f":"IF(ISERROR(Y274*$D274/1000),0,Y274*$D274/1000)","v":0},null,{"$f":"IF(ISERROR(AA274*$D274/1000),0,AA274*$D274/1000)","v":0},null,{"$f":"IF(ISERROR(AC274*$D274/1000),0,AC274*$D274/1000)","v":0},null,{"$f":"IF(ISERROR(AE274*$D274/1000),0,AE274*$D274/1000)","v":0},null,0,null,0,null,0,null,0,null,0,null,0,null,null,null,null,null,null,"",null,0,null,0,null,0,null,0,null,0,null,0,null,0,null,0,null,0,null,0,null,0,null,0,null,0,null,0,null,0,null,0,null,0,null,0,null,null,null,null,null,null,"",null,0,null,0,null,{"$f":"IF(ISERROR(CU274*$CL274/1000),0,CU274*$CL274/1000)","v":0},null,{"$f":"IF(ISERROR(CW274*$CL274/1000),0,CW274*$CL274/1000)","v":0},null,{"$f":"IF(ISERROR(CY274*$CL274/1000),0,CY274*$CL274/1000)","v":0},null,{"$f":"IF(ISERROR(DA274*$CL274/1000),0,DA274*$CL274/1000)","v":0},null,{"$f":"IF(ISERROR(DC274*$CL274/1000),0,DC274*$CL274/1000)","v":0},null,{"$f":"IF(ISERROR(DE274*$CL274/1000),0,DE274*$CL274/1000)","v":0},null,{"$f":"IF(ISERROR(DG274*$CL274/1000),0,DG274*$CL274/1000)","v":0},null,{"$f":"IF(ISERROR(DI274*$CL274/1000),0,DI274*$CL274/1000)","v":0},null,{"$f":"IF(ISERROR(DK274*$CL274/1000),0,DK274*$CL274/1000)","v":0},null,{"$f":"IF(ISERROR(DM274*$CL274/1000),0,DM274*$CL274/1000)","v":0},null,0,null,0,null,0,null,0,null,0,null,{"$f":"IF(ISERROR(DY274*$CL274/1000),0,DY274*$CL274/1000)","v":0}]
[null,null,null,null,null,null,null,"",null,0,null,0,null,{"$f":"IF(ISERROR(M275*$D275/1000),0,M275*$D275/1000)","v":0},null,{"$f":"IF(ISERROR(O275*$D275/1000),0,O275*$D275/1000)","v":0},null,{"$f":"IF(ISERROR(Q275*$D275/1000),0,Q275*$D275/1000)","v":0},null,{"$f":"IF(ISERROR(S275*$D275/1000),0,S275*$D275/1000)","v":0},null,{"$f":"IF(ISERROR(U275*$D275/1000),0,U275*$D275/1000)","v":0},null,{"$f":"IF(ISERROR(W275*$D275/1000),0,W275*$D275/1000)","v":0},null,{"$f":"IF(ISERROR(Y275*$D275/1000),0,Y275*$D275/1000)","v":0},null,{"$f":"IF(ISERROR(AA275*$D275/1000),0,AA275*$D275/1000)","v":0},null,{"$f":"IF(ISERROR(AC275*$D275/1000),0,AC275*$D275/1000)","v":0},null,{"$f":"IF(ISERROR(AE275*$D275/1000),0,AE275*$D275/1000)","v":0},null,0,null,0,null,0,null,0,null,0,null,0,null,null,null,null,null,null,"",null,0,null,0,null,0,null,0,null,0,null,0,null,0,null,0,null,0,null,0,null,0,null,0,null,0,null,0,null,0,null,0,null,0,null,0,null,null,null,null,null,null,"",null,0,null,0,null,{"$f":"IF(ISERROR(CU275*$CL275/1000),0,CU275*$CL275/1000)","v":0},null,{"$f":"IF(ISERROR(CW275*$CL275/1000),0,CW275*$CL275/1000)","v":0},null,{"$f":"IF(ISERROR(CY275*$CL275/1000),0,CY275*$CL275/1000)","v":0},null,{"$f":"IF(ISERROR(DA275*$CL275/1000),0,DA275*$CL275/1000)","v":0},null,{"$f":"IF(ISERROR(DC275*$CL275/1000),0,DC275*$CL275/1000)","v":0},null,{"$f":"IF(ISERROR(DE275*$CL275/1000),0,DE275*$CL275/1000)","v":0},null,{"$f":"IF(ISERROR(DG275*$CL275/1000),0,DG275*$CL275/1000)","v":0},null,{"$f":"IF(ISERROR(DI275*$CL275/1000),0,DI275*$CL275/1000)","v":0},null,{"$f":"IF(ISERROR(DK275*$CL275/1000),0,DK275*$CL275/1000)","v":0},null,{"$f":"IF(ISERROR(DM275*$CL275/1000),0,DM275*$CL275/1000)","v":0},null,0,null,0,null,0,null,0,null,0,null,{"$f":"IF(ISERROR(DY275*$CL275/1000),0,DY275*$CL275/1000)","v":0}]
[null,null,null,null,null,null,null,"",null,0,null,0,null,{"$f":"IF(ISERROR(M276*$D276/1000),0,M276*$D276/1000)","v":0},null,{"$f":"IF(ISERROR(O276*$D276/1000),0,O276*$D276/1000)","v":0},null,{"$f":"IF(ISERROR(Q276*$D276/1000),0,Q276*$D276/1000)","v":0},null,{"$f":"IF(ISERROR(S276*$D276/1000),0,S276*$D276/1000)","v":0},null,{"$f":"IF(ISERROR(U276*$D276/1000),0,U276*$D276/1000)","v":0},null,{"$f":"IF(ISERROR(W276*$D276/1000),0,W276*$D276/1000)","v":0},null,{"$f":"IF(ISERROR(Y276*$D276/1000),0,Y276*$D276/1000)","v":0},null,{"$f":"IF(ISERROR(AA276*$D276/1000),0,AA276*$D276/1000)","v":0},null,{"$f":"IF(ISERROR(AC276*$D276/1000),0,AC276*$D276/1000)","v":0},null,{"$f":"IF(ISERROR(AE276*$D276/1000),0,AE276*$D276/1000)","v":0},null,0,null,0,null,0,null,0,null,0,null,0,null,null,null,null,null,null,"",null,0,null,0,null,0,null,0,null,0,null,0,null,0,null,0,null,0,null,0,null,0,null,0,null,0,null,0,null,0,null,0,null,0,null,0,null,null,null,null,null,null,"",null,0,null,0,null,{"$f":"IF(ISERROR(CU276*$CL276/1000),0,CU276*$CL276/1000)","v":0},null,{"$f":"IF(ISERROR(CW276*$CL276/1000),0,CW276*$CL276/1000)","v":0},null,{"$f":"IF(ISERROR(CY276*$CL276/1000),0,CY276*$CL276/1000)","v":0},null,{"$f":"IF(ISERROR(DA276*$CL276/1000),0,DA276*$CL276/1000)","v":0},null,{"$f":"IF(ISERROR(DC276*$CL276/1000),0,DC276*$CL276/1000)","v":0},null,{"$f":"IF(ISERROR(DE276*$CL276/1000),0,DE276*$CL276/1000)","v":0},null,{"$f":"IF(ISERROR(DG276*$CL276/1000),0,DG276*$CL276/1000)","v":0},null,{"$f":"IF(ISERROR(DI276*$CL276/1000),0,DI276*$CL276/1000)","v":0},null,{"$f":"IF(ISERROR(DK276*$CL276/1000),0,DK276*$CL276/1000)","v":0},null,{"$f":"IF(ISERROR(DM276*$CL276/1000),0,DM276*$CL276/1000)","v":0},null,0,null,0,null,0,null,0,null,0,null,{"$f":"IF(ISERROR(DY276*$CL276/1000),0,DY276*$CL276/1000)","v":0}]
[null,null,null,null,null,null,null,"",null,0,null,0,null,{"$f":"IF(ISERROR(M277*$D277/1000),0,M277*$D277/1000)","v":0},null,{"$f":"IF(ISERROR(O277*$D277/1000),0,O277*$D277/1000)","v":0},null,{"$f":"IF(ISERROR(Q277*$D277/1000),0,Q277*$D277/1000)","v":0},null,{"$f":"IF(ISERROR(S277*$D277/1000),0,S277*$D277/1000)","v":0},null,{"$f":"IF(ISERROR(U277*$D277/1000),0,U277*$D277/1000)","v":0},null,{"$f":"IF(ISERROR(W277*$D277/1000),0,W277*$D277/1000)","v":0},null,{"$f":"IF(ISERROR(Y277*$D277/1000),0,Y277*$D277/1000)","v":0},null,{"$f":"IF(ISERROR(AA277*$D277/1000),0,AA277*$D277/1000)","v":0},null,{"$f":"IF(ISERROR(AC277*$D277/1000),0,AC277*$D277/1000)","v":0},null,{"$f":"IF(ISERROR(AE277*$D277/1000),0,AE277*$D277/1000)","v":0},null,0,null,0,null,0,null,0,null,0,null,0,null,null,null,null,null,null,"",null,0,null,0,null,0,null,0,null,0,null,0,null,0,null,0,null,0,null,0,null,0,null,0,null,0,null,0,null,0,null,0,null,0,null,0,null,null,null,null,null,null,"",null,0,null,0,null,{"$f":"IF(ISERROR(CU277*$CL277/1000),0,CU277*$CL277/1000)","v":0},null,{"$f":"IF(ISERROR(CW277*$CL277/1000),0,CW277*$CL277/1000)","v":0},null,{"$f":"IF(ISERROR(CY277*$CL277/1000),0,CY277*$CL277/1000)","v":0},null,{"$f":"IF(ISERROR(DA277*$CL277/1000),0,DA277*$CL277/1000)","v":0},null,{"$f":"IF(ISERROR(DC277*$CL277/1000),0,DC277*$CL277/1000)","v":0},null,{"$f":"IF(ISERROR(DE277*$CL277/1000),0,DE277*$CL277/1000)","v":0},null,{"$f":"IF(ISERROR(DG277*$CL277/1000),0,DG277*$CL277/1000)","v":0},null,{"$f":"IF(ISERROR(DI277*$CL277/1000),0,DI277*$CL277/1000)","v":0},null,{"$f":"IF(ISERROR(DK277*$CL277/1000),0,DK277*$CL277/1000)","v":0},null,{"$f":"IF(ISERROR(DM277*$CL277/1000),0,DM277*$CL277/1000)","v":0},null,0,null,0,null,0,null,0,null,0,null,{"$f":"IF(ISERROR(DY277*$CL277/1000),0,DY277*$CL277/1000)","v":0}]
[null,null,null,null,null,null,null,"",null,0,null,0,null,{"$f":"IF(ISERROR(M278*$D278/1000),0,M278*$D278/1000)","v":0},null,{"$f":"IF(ISERROR(O278*$D278/1000),0,O278*$D278/1000)","v":0},null,{"$f":"IF(ISERROR(Q278*$D278/1000),0,Q278*$D278/1000)","v":0},null,{"$f":"IF(ISERROR(S278*$D278/1000),0,S278*$D278/1000)","v":0},null,{"$f":"IF(ISERROR(U278*$D278/1000),0,U278*$D278/1000)","v":0},null,{"$f":"IF(ISERROR(W278*$D278/1000),0,W278*$D278/1000)","v":0},null,{"$f":"IF(ISERROR(Y278*$D278/1000),0,Y278*$D278/1000)","v":0},null,{"$f":"IF(ISERROR(AA278*$D278/1000),0,AA278*$D278/1000)","v":0},null,{"$f":"IF(ISERROR(AC278*$D278/1000),0,AC278*$D278/1000)","v":0},null,{"$f":"IF(ISERROR(AE278*$D278/1000),0,AE278*$D278/1000)","v":0},null,0,null,0,null,0,null,0,null,0,null,0,null,null,null,null,null,null,"",null,0,null,0,null,0,null,0,null,0,null,0,null,0,null,0,null,0,null,0,null,0,null,0,null,0,null,0,null,0,null,0,null,0,null,0,null,null,null,null,null,null,"",null,0,null,0,null,{"$f":"IF(ISERROR(CU278*$CL278/1000),0,CU278*$CL278/1000)","v":0},null,{"$f":"IF(ISERROR(CW278*$CL278/1000),0,CW278*$CL278/1000)","v":0},null,{"$f":"IF(ISERROR(CY278*$CL278/1000),0,CY278*$CL278/1000)","v":0},null,{"$f":"IF(ISERROR(DA278*$CL278/1000),0,DA278*$CL278/1000)","v":0},null,{"$f":"IF(ISERROR(DC278*$CL278/1000),0,DC278*$CL278/1000)","v":0},null,{"$f":"IF(ISERROR(DE278*$CL278/1000),0,DE278*$CL278/1000)","v":0},null,{"$f":"IF(ISERROR(DG278*$CL278/1000),0,DG278*$CL278/1000)","v":0},null,{"$f":"IF(ISERROR(DI278*$CL278/1000),0,DI278*$CL278/1000)","v":0},null,{"$f":"IF(ISERROR(DK278*$CL278/1000),0,DK278*$CL278/1000)","v":0},null,{"$f":"IF(ISERROR(DM278*$CL278/1000),0,DM278*$CL278/1000)","v":0},null,0,null,0,null,0,null,0,null,0,null,{"$f":"IF(ISERROR(DY278*$CL278/1000),0,DY278*$CL278/1000)","v":0}]
[null,null,null,null,null,null,null,"",null,0,null,0,null,{"$f":"IF(ISERROR(M279*$D279/1000),0,M279*$D279/1000)","v":0},null,{"$f":"IF(ISERROR(O279*$D279/1000),0,O279*$D279/1000)","v":0},null,{"$f":"IF(ISERROR(Q279*$D279/1000),0,Q279*$D279/1000)","v":0},null,{"$f":"IF(ISERROR(S279*$D279/1000),0,S279*$D279/1000)","v":0},null,{"$f":"IF(ISERROR(U279*$D279/1000),0,U279*$D279/1000)","v":0},null,{"$f":"IF(ISERROR(W279*$D279/1000),0,W279*$D279/1000)","v":0},null,{"$f":"IF(ISERROR(Y279*$D279/1000),0,Y279*$D279/1000)","v":0},null,{"$f":"IF(ISERROR(AA279*$D279/1000),0,AA279*$D279/1000)","v":0},null,{"$f":"IF(ISERROR(AC279*$D279/1000),0,AC279*$D279/1000)","v":0},null,{"$f":"IF(ISERROR(AE279*$D279/1000),0,AE279*$D279/1000)","v":0},null,0,null,0,null,0,null,0,null,0,null,0,null,null,null,null,null,null,"",null,0,null,0,null,0,null,0,null,0,null,0,null,0,null,0,null,0,null,0,null,0,null,0,null,0,null,0,null,0,null,0,null,0,null,0,null,null,null,null,null,null,"",null,0,null,0,null,{"$f":"IF(ISERROR(CU279*$CL279/1000),0,CU279*$CL279/1000)","v":0},null,{"$f":"IF(ISERROR(CW279*$CL279/1000),0,CW279*$CL279/1000)","v":0},null,{"$f":"IF(ISERROR(CY279*$CL279/1000),0,CY279*$CL279/1000)","v":0},null,{"$f":"IF(ISERROR(DA279*$CL279/1000),0,DA279*$CL279/1000)","v":0},null,{"$f":"IF(ISERROR(DC279*$CL279/1000),0,DC279*$CL279/1000)","v":0},null,{"$f":"IF(ISERROR(DE279*$CL279/1000),0,DE279*$CL279/1000)","v":0},null,{"$f":"IF(ISERROR(DG279*$CL279/1000),0,DG279*$CL279/1000)","v":0},null,{"$f":"IF(ISERROR(DI279*$CL279/1000),0,DI279*$CL279/1000)","v":0},null,{"$f":"IF(ISERROR(DK279*$CL279/1000),0,DK279*$CL279/1000)","v":0},null,{"$f":"IF(ISERROR(DM279*$CL279/1000),0,DM279*$CL279/1000)","v":0},null,0,null,0,null,0,null,0,null,0,null,{"$f":"IF(ISERROR(DY279*$CL279/1000),0,DY279*$CL279/1000)","v":0}]
[null,null,null,null,null,null,null,"",null,0,null,0,null,{"$f":"IF(ISERROR(M280*$D280/1000),0,M280*$D280/1000)","v":0},null,{"$f":"IF(ISERROR(O280*$D280/1000),0,O280*$D280/1000)","v":0},null,{"$f":"IF(ISERROR(Q280*$D280/1000),0,Q280*$D280/1000)","v":0},null,{"$f":"IF(ISERROR(S280*$D280/1000),0,S280*$D280/1000)","v":0},null,{"$f":"IF(ISERROR(U280*$D280/1000),0,U280*$D280/1000)","v":0},null,{"$f":"IF(ISERROR(W280*$D280/1000),0,W280*$D280/1000)","v":0},null,{"$f":"IF(ISERROR(Y280*$D280/1000),0,Y280*$D280/1000)","v":0},null,{"$f":"IF(ISERROR(AA280*$D280/1000),0,AA280*$D280/1000)","v":0},null,{"$f":"IF(ISERROR(AC280*$D280/1000),0,AC280*$D280/1000)","v":0},null,{"$f":"IF(ISERROR(AE280*$D280/1000),0,AE280*$D280/1000)","v":0},null,0,null,0,null,0,null,0,null,0,null,0,null,null,null,null,null,null,"",null,0,null,0,null,0,null,0,null,0,null,0,null,0,null,0,null,0,null,0,null,0,null,0,null,0,null,0,null,0,null,0,null,0,null,0,null,null,null,null,null,null,"",null,0,null,0,null,{"$f":"IF(ISERROR(CU280*$CL280/1000),0,CU280*$CL280/1000)","v":0},null,{"$f":"IF(ISERROR(CW280*$CL280/1000),0,CW280*$CL280/1000)","v":0},null,{"$f":"IF(ISERROR(CY280*$CL280/1000),0,CY280*$CL280/1000)","v":0},null,{"$f":"IF(ISERROR(DA280*$CL280/1000),0,DA280*$CL280/1000)","v":0},null,{"$f":"IF(ISERROR(DC280*$CL280/1000),0,DC280*$CL280/1000)","v":0},null,{"$f":"IF(ISERROR(DE280*$CL280/1000),0,DE280*$CL280/1000)","v":0},null,{"$f":"IF(ISERROR(DG280*$CL280/1000),0,DG280*$CL280/1000)","v":0},null,{"$f":"IF(ISERROR(DI280*$CL280/1000),0,DI280*$CL280/1000)","v":0},null,{"$f":"IF(ISERROR(DK280*$CL280/1000),0,DK280*$CL280/1000)","v":0},null,{"$f":"IF(ISERROR(DM280*$CL280/1000),0,DM280*$CL280/1000)","v":0},null,0,null,0,null,0,null,0,null,0,null,{"$f":"IF(ISERROR(DY280*$CL280/1000),0,DY280*$CL280/1000)","v":0}]
[null,null,null,null,null,null,null,"",null,0,null,0,null,{"$f":"IF(ISERROR(M281*$D281/1000),0,M281*$D281/1000)","v":0},null,{"$f":"IF(ISERROR(O281*$D281/1000),0,O281*$D281/1000)","v":0},null,{"$f":"IF(ISERROR(Q281*$D281/1000),0,Q281*$D281/1000)","v":0},null,{"$f":"IF(ISERROR(S281*$D281/1000),0,S281*$D281/1000)","v":0},null,{"$f":"IF(ISERROR(U281*$D281/1000),0,U281*$D281/1000)","v":0},null,{"$f":"IF(ISERROR(W281*$D281/1000),0,W281*$D281/1000)","v":0},null,{"$f":"IF(ISERROR(Y281*$D281/1000),0,Y281*$D281/1000)","v":0},null,{"$f":"IF(ISERROR(AA281*$D281/1000),0,AA281*$D281/1000)","v":0},null,{"$f":"IF(ISERROR(AC281*$D281/1000),0,AC281*$D281/1000)","v":0},null,{"$f":"IF(ISERROR(AE281*$D281/1000),0,AE281*$D281/1000)","v":0},null,0,null,0,null,0,null,0,null,0,null,0,null,null,null,null,null,null,"",null,0,null,0,null,0,null,0,null,0,null,0,null,0,null,0,null,0,null,0,null,0,null,0,null,0,null,0,null,0,null,0,null,0,null,0,null,null,null,null,null,null,"",null,0,null,0,null,{"$f":"IF(ISERROR(CU281*$CL281/1000),0,CU281*$CL281/1000)","v":0},null,{"$f":"IF(ISERROR(CW281*$CL281/1000),0,CW281*$CL281/1000)","v":0},null,{"$f":"IF(ISERROR(CY281*$CL281/1000),0,CY281*$CL281/1000)","v":0},null,{"$f":"IF(ISERROR(DA281*$CL281/1000),0,DA281*$CL281/1000)","v":0},null,{"$f":"IF(ISERROR(DC281*$CL281/1000),0,DC281*$CL281/1000)","v":0},null,{"$f":"IF(ISERROR(DE281*$CL281/1000),0,DE281*$CL281/1000)","v":0},null,{"$f":"IF(ISERROR(DG281*$CL281/1000),0,DG281*$CL281/1000)","v":0},null,{"$f":"IF(ISERROR(DI281*$CL281/1000),0,DI281*$CL281/1000)","v":0},null,{"$f":"IF(ISERROR(DK281*$CL281/1000),0,DK281*$CL281/1000)","v":0},null,{"$f":"IF(ISERROR(DM281*$CL281/1000),0,DM281*$CL281/1000)","v":0},null,0,null,0,null,0,null,0,null,0,null,{"$f":"IF(ISERROR(DY281*$CL281/1000),0,DY281*$CL281/1000)","v":0}]
[null,null,null,null,null,null,null,"",null,0,null,0,null,{"$f":"IF(ISERROR(M282*$D282/1000),0,M282*$D282/1000)","v":0},null,{"$f":"IF(ISERROR(O282*$D282/1000),0,O282*$D282/1000)","v":0},null,{"$f":"IF(ISERROR(Q282*$D282/1000),0,Q282*$D282/1000)","v":0},null,{"$f":"IF(ISERROR(S282*$D282/1000),0,S282*$D282/1000)","v":0},null,{"$f":"IF(ISERROR(U282*$D282/1000),0,U282*$D282/1000)","v":0},null,{"$f":"IF(ISERROR(W282*$D282/1000),0,W282*$D282/1000)","v":0},null,{"$f":"IF(ISERROR(Y282*$D282/1000),0,Y282*$D282/1000)","v":0},null,{"$f":"IF(ISERROR(AA282*$D282/1000),0,AA282*$D282/1000)","v":0},null,{"$f":"IF(ISERROR(AC282*$D282/1000),0,AC282*$D282/1000)","v":0},null,{"$f":"IF(ISERROR(AE282*$D282/1000),0,AE282*$D282/1000)","v":0},null,0,null,0,null,0,null,0,null,0,null,0,null,null,null,null,null,null,"",null,0,null,0,null,0,null,0,null,0,null,0,null,0,null,0,null,0,null,0,null,0,null,0,null,0,null,0,null,0,null,0,null,0,null,0,null,null,null,null,null,null,"",null,0,null,0,null,{"$f":"IF(ISERROR(CU282*$CL282/1000),0,CU282*$CL282/1000)","v":0},null,{"$f":"IF(ISERROR(CW282*$CL282/1000),0,CW282*$CL282/1000)","v":0},null,{"$f":"IF(ISERROR(CY282*$CL282/1000),0,CY282*$CL282/1000)","v":0},null,{"$f":"IF(ISERROR(DA282*$CL282/1000),0,DA282*$CL282/1000)","v":0},null,{"$f":"IF(ISERROR(DC282*$CL282/1000),0,DC282*$CL282/1000)","v":0},null,{"$f":"IF(ISERROR(DE282*$CL282/1000),0,DE282*$CL282/1000)","v":0},null,{"$f":"IF(ISERROR(DG282*$CL282/1000),0,DG282*$CL282/1000)","v":0},null,{"$f":"IF(ISERROR(DI282*$CL282/1000),0,DI282*$CL282/1000)","v":0},null,{"$f":"IF(ISERROR(DK282*$CL282/1000),0,DK282*$CL282/1000)","v":0},null,{"$f":"IF(ISERROR(DM282*$CL282/1000),0,DM282*$CL282/1000)","v":0},null,0,null,0,null,0,null,0,null,0,null,{"$f":"IF(ISERROR(DY282*$CL282/1000),0,DY282*$CL282/1000)","v":0}]
[null,null,null,null,null,null,null,"",null,0,null,0,null,{"$f":"IF(ISERROR(M283*$D283/1000),0,M283*$D283/1000)","v":0},null,{"$f":"IF(ISERROR(O283*$D283/1000),0,O283*$D283/1000)","v":0},null,{"$f":"IF(ISERROR(Q283*$D283/1000),0,Q283*$D283/1000)","v":0},null,{"$f":"IF(ISERROR(S283*$D283/1000),0,S283*$D283/1000)","v":0},null,{"$f":"IF(ISERROR(U283*$D283/1000),0,U283*$D283/1000)","v":0},null,{"$f":"IF(ISERROR(W283*$D283/1000),0,W283*$D283/1000)","v":0},null,{"$f":"IF(ISERROR(Y283*$D283/1000),0,Y283*$D283/1000)","v":0},null,{"$f":"IF(ISERROR(AA283*$D283/1000),0,AA283*$D283/1000)","v":0},null,{"$f":"IF(ISERROR(AC283*$D283/1000),0,AC283*$D283/1000)","v":0},null,{"$f":"IF(ISERROR(AE283*$D283/1000),0,AE283*$D283/1000)","v":0},null,0,null,0,null,0,null,0,null,0,null,0,null,null,null,null,null,null,"",null,0,null,0,null,0,null,0,null,0,null,0,null,0,null,0,null,0,null,0,null,0,null,0,null,0,null,0,null,0,null,0,null,0,null,0,null,null,null,null,null,null,"",null,0,null,0,null,{"$f":"IF(ISERROR(CU283*$CL283/1000),0,CU283*$CL283/1000)","v":0},null,{"$f":"IF(ISERROR(CW283*$CL283/1000),0,CW283*$CL283/1000)","v":0},null,{"$f":"IF(ISERROR(CY283*$CL283/1000),0,CY283*$CL283/1000)","v":0},null,{"$f":"IF(ISERROR(DA283*$CL283/1000),0,DA283*$CL283/1000)","v":0},null,{"$f":"IF(ISERROR(DC283*$CL283/1000),0,DC283*$CL283/1000)","v":0},null,{"$f":"IF(ISERROR(DE283*$CL283/1000),0,DE283*$CL283/1000)","v":0},null,{"$f":"IF(ISERROR(DG283*$CL283/1000),0,DG283*$CL283/1000)","v":0},null,{"$f":"IF(ISERROR(DI283*$CL283/1000),0,DI283*$CL283/1000)","v":0},null,{"$f":"IF(ISERROR(DK283*$CL283/1000),0,DK283*$CL283/1000)","v":0},null,{"$f":"IF(ISERROR(DM283*$CL283/1000),0,DM283*$CL283/1000)","v":0},null,0,null,0,null,0,null,0,null,0,null,{"$f":"IF(ISERROR(DY283*$CL283/1000),0,DY283*$CL283/1000)","v":0}]
[null,null,null,null,null,null,null,"",null,0,null,0,null,{"$f":"IF(ISERROR(M284*$D284/1000),0,M284*$D284/1000)","v":0},null,{"$f":"IF(ISERROR(O284*$D284/1000),0,O284*$D284/1000)","v":0},null,{"$f":"IF(ISERROR(Q284*$D284/1000),0,Q284*$D284/1000)","v":0},null,{"$f":"IF(ISERROR(S284*$D284/1000),0,S284*$D284/1000)","v":0},null,{"$f":"IF(ISERROR(U284*$D284/1000),0,U284*$D284/1000)","v":0},null,{"$f":"IF(ISERROR(W284*$D284/1000),0,W284*$D284/1000)","v":0},null,{"$f":"IF(ISERROR(Y284*$D284/1000),0,Y284*$D284/1000)","v":0},null,{"$f":"IF(ISERROR(AA284*$D284/1000),0,AA284*$D284/1000)","v":0},null,{"$f":"IF(ISERROR(AC284*$D284/1000),0,AC284*$D284/1000)","v":0},null,{"$f":"IF(ISERROR(AE284*$D284/1000),0,AE284*$D284/1000)","v":0},null,0,null,0,null,0,null,0,null,0,null,0,null,null,null,null,null,null,"",null,0,null,0,null,0,null,0,null,0,null,0,null,0,null,0,null,0,null,0,null,0,null,0,null,0,null,0,null,0,null,0,null,0,null,0,null,null,null,null,null,null,"",null,0,null,0,null,{"$f":"IF(ISERROR(CU284*$CL284/1000),0,CU284*$CL284/1000)","v":0},null,{"$f":"IF(ISERROR(CW284*$CL284/1000),0,CW284*$CL284/1000)","v":0},null,{"$f":"IF(ISERROR(CY284*$CL284/1000),0,CY284*$CL284/1000)","v":0},null,{"$f":"IF(ISERROR(DA284*$CL284/1000),0,DA284*$CL284/1000)","v":0},null,{"$f":"IF(ISERROR(DC284*$CL284/1000),0,DC284*$CL284/1000)","v":0},null,{"$f":"IF(ISERROR(DE284*$CL284/1000),0,DE284*$CL284/1000)","v":0},null,{"$f":"IF(ISERROR(DG284*$CL284/1000),0,DG284*$CL284/1000)","v":0},null,{"$f":"IF(ISERROR(DI284*$CL284/1000),0,DI284*$CL284/1000)","v":0},null,{"$f":"IF(ISERROR(DK284*$CL284/1000),0,DK284*$CL284/1000)","v":0},null,{"$f":"IF(ISERROR(DM284*$CL284/1000),0,DM284*$CL284/1000)","v":0},null,0,null,0,null,0,null,0,null,0,null,{"$f":"IF(ISERROR(DY284*$CL284/1000),0,DY284*$CL284/1000)","v":0}]
[null,null,null,null,null,null,null,"",null,0,null,0,null,{"$f":"IF(ISERROR(M285*$D285/1000),0,M285*$D285/1000)","v":0},null,{"$f":"IF(ISERROR(O285*$D285/1000),0,O285*$D285/1000)","v":0},null,{"$f":"IF(ISERROR(Q285*$D285/1000),0,Q285*$D285/1000)","v":0},null,{"$f":"IF(ISERROR(S285*$D285/1000),0,S285*$D285/1000)","v":0},null,{"$f":"IF(ISERROR(U285*$D285/1000),0,U285*$D285/1000)","v":0},null,{"$f":"IF(ISERROR(W285*$D285/1000),0,W285*$D285/1000)","v":0},null,{"$f":"IF(ISERROR(Y285*$D285/1000),0,Y285*$D285/1000)","v":0},null,{"$f":"IF(ISERROR(AA285*$D285/1000),0,AA285*$D285/1000)","v":0},null,{"$f":"IF(ISERROR(AC285*$D285/1000),0,AC285*$D285/1000)","v":0},null,{"$f":"IF(ISERROR(AE285*$D285/1000),0,AE285*$D285/1000)","v":0},null,0,null,0,null,0,null,0,null,0,null,0,null,null,null,null,null,null,"",null,0,null,0,null,0,null,0,null,0,null,0,null,0,null,0,null,0,null,0,null,0,null,0,null,0,null,0,null,0,null,0,null,0,null,0,null,null,null,null,null,null,"",null,0,null,0,null,{"$f":"IF(ISERROR(CU285*$CL285/1000),0,CU285*$CL285/1000)","v":0},null,{"$f":"IF(ISERROR(CW285*$CL285/1000),0,CW285*$CL285/1000)","v":0},null,{"$f":"IF(ISERROR(CY285*$CL285/1000),0,CY285*$CL285/1000)","v":0},null,{"$f":"IF(ISERROR(DA285*$CL285/1000),0,DA285*$CL285/1000)","v":0},null,{"$f":"IF(ISERROR(DC285*$CL285/1000),0,DC285*$CL285/1000)","v":0},null,{"$f":"IF(ISERROR(DE285*$CL285/1000),0,DE285*$CL285/1000)","v":0},null,{"$f":"IF(ISERROR(DG285*$CL285/1000),0,DG285*$CL285/1000)","v":0},null,{"$f":"IF(ISERROR(DI285*$CL285/1000),0,DI285*$CL285/1000)","v":0},null,{"$f":"IF(ISERROR(DK285*$CL285/1000),0,DK285*$CL285/1000)","v":0},null,{"$f":"IF(ISERROR(DM285*$CL285/1000),0,DM285*$CL285/1000)","v":0},null,0,null,0,null,0,null,0,null,0,null,{"$f":"IF(ISERROR(DY285*$CL285/1000),0,DY285*$CL285/1000)","v":0}]
[null,null,null,null,null,null,null,"",null,0,null,0,null,{"$f":"IF(ISERROR(M286*$D286/1000),0,M286*$D286/1000)","v":0},null,{"$f":"IF(ISERROR(O286*$D286/1000),0,O286*$D286/1000)","v":0},null,{"$f":"IF(ISERROR(Q286*$D286/1000),0,Q286*$D286/1000)","v":0},null,{"$f":"IF(ISERROR(S286*$D286/1000),0,S286*$D286/1000)","v":0},null,{"$f":"IF(ISERROR(U286*$D286/1000),0,U286*$D286/1000)","v":0},null,{"$f":"IF(ISERROR(W286*$D286/1000),0,W286*$D286/1000)","v":0},null,{"$f":"IF(ISERROR(Y286*$D286/1000),0,Y286*$D286/1000)","v":0},null,{"$f":"IF(ISERROR(AA286*$D286/1000),0,AA286*$D286/1000)","v":0},null,{"$f":"IF(ISERROR(AC286*$D286/1000),0,AC286*$D286/1000)","v":0},null,{"$f":"IF(ISERROR(AE286*$D286/1000),0,AE286*$D286/1000)","v":0},null,0,null,0,null,0,null,0,null,0,null,0,null,null,null,null,null,null,"",null,0,null,0,null,0,null,0,null,0,null,0,null,0,null,0,null,0,null,0,null,0,null,0,null,0,null,0,null,0,null,0,null,0,null,0,null,null,null,null,null,null,"",null,0,null,0,null,{"$f":"IF(ISERROR(CU286*$CL286/1000),0,CU286*$CL286/1000)","v":0},null,{"$f":"IF(ISERROR(CW286*$CL286/1000),0,CW286*$CL286/1000)","v":0},null,{"$f":"IF(ISERROR(CY286*$CL286/1000),0,CY286*$CL286/1000)","v":0},null,{"$f":"IF(ISERROR(DA286*$CL286/1000),0,DA286*$CL286/1000)","v":0},null,{"$f":"IF(ISERROR(DC286*$CL286/1000),0,DC286*$CL286/1000)","v":0},null,{"$f":"IF(ISERROR(DE286*$CL286/1000),0,DE286*$CL286/1000)","v":0},null,{"$f":"IF(ISERROR(DG286*$CL286/1000),0,DG286*$CL286/1000)","v":0},null,{"$f":"IF(ISERROR(DI286*$CL286/1000),0,DI286*$CL286/1000)","v":0},null,{"$f":"IF(ISERROR(DK286*$CL286/1000),0,DK286*$CL286/1000)","v":0},null,{"$f":"IF(ISERROR(DM286*$CL286/1000),0,DM286*$CL286/1000)","v":0},null,0,null,0,null,0,null,0,null,0,null,{"$f":"IF(ISERROR(DY286*$CL286/1000),0,DY286*$CL286/1000)","v":0}]
[null,null,null,null,null,null,null,"",null,0,null,0,null,{"$f":"IF(ISERROR(M287*$D287/1000),0,M287*$D287/1000)","v":0},null,{"$f":"IF(ISERROR(O287*$D287/1000),0,O287*$D287/1000)","v":0},null,{"$f":"IF(ISERROR(Q287*$D287/1000),0,Q287*$D287/1000)","v":0},null,{"$f":"IF(ISERROR(S287*$D287/1000),0,S287*$D287/1000)","v":0},null,{"$f":"IF(ISERROR(U287*$D287/1000),0,U287*$D287/1000)","v":0},null,{"$f":"IF(ISERROR(W287*$D287/1000),0,W287*$D287/1000)","v":0},null,{"$f":"IF(ISERROR(Y287*$D287/1000),0,Y287*$D287/1000)","v":0},null,{"$f":"IF(ISERROR(AA287*$D287/1000),0,AA287*$D287/1000)","v":0},null,{"$f":"IF(ISERROR(AC287*$D287/1000),0,AC287*$D287/1000)","v":0},null,{"$f":"IF(ISERROR(AE287*$D287/1000),0,AE287*$D287/1000)","v":0},null,0,null,0,null,0,null,0,null,0,null,0,null,null,null,null,null,null,"",null,0,null,0,null,0,null,0,null,0,null,0,null,0,null,0,null,0,null,0,null,0,null,0,null,0,null,0,null,0,null,0,null,0,null,0,null,null,null,null,null,null,"",null,0,null,0,null,{"$f":"IF(ISERROR(CU287*$CL287/1000),0,CU287*$CL287/1000)","v":0},null,{"$f":"IF(ISERROR(CW287*$CL287/1000),0,CW287*$CL287/1000)","v":0},null,{"$f":"IF(ISERROR(CY287*$CL287/1000),0,CY287*$CL287/1000)","v":0},null,{"$f":"IF(ISERROR(DA287*$CL287/1000),0,DA287*$CL287/1000)","v":0},null,{"$f":"IF(ISERROR(DC287*$CL287/1000),0,DC287*$CL287/1000)","v":0},null,{"$f":"IF(ISERROR(DE287*$CL287/1000),0,DE287*$CL287/1000)","v":0},null,{"$f":"IF(ISERROR(DG287*$CL287/1000),0,DG287*$CL287/1000)","v":0},null,{"$f":"IF(ISERROR(DI287*$CL287/1000),0,DI287*$CL287/1000)","v":0},null,{"$f":"IF(ISERROR(DK287*$CL287/1000),0,DK287*$CL287/1000)","v":0},null,{"$f":"IF(ISERROR(DM287*$CL287/1000),0,DM287*$CL287/1000)","v":0},null,0,null,0,null,0,null,0,null,0,null,{"$f":"IF(ISERROR(DY287*$CL287/1000),0,DY287*$CL287/1000)","v":0}]
[null,null,null,null,null,null,null,"",null,0,null,0,null,{"$f":"IF(ISERROR(M288*$D288/1000),0,M288*$D288/1000)","v":0},null,{"$f":"IF(ISERROR(O288*$D288/1000),0,O288*$D288/1000)","v":0},null,{"$f":"IF(ISERROR(Q288*$D288/1000),0,Q288*$D288/1000)","v":0},null,{"$f":"IF(ISERROR(S288*$D288/1000),0,S288*$D288/1000)","v":0},null,{"$f":"IF(ISERROR(U288*$D288/1000),0,U288*$D288/1000)","v":0},null,{"$f":"IF(ISERROR(W288*$D288/1000),0,W288*$D288/1000)","v":0},null,{"$f":"IF(ISERROR(Y288*$D288/1000),0,Y288*$D288/1000)","v":0},null,{"$f":"IF(ISERROR(AA288*$D288/1000),0,AA288*$D288/1000)","v":0},null,{"$f":"IF(ISERROR(AC288*$D288/1000),0,AC288*$D288/1000)","v":0},null,{"$f":"IF(ISERROR(AE288*$D288/1000),0,AE288*$D288/1000)","v":0},null,0,null,0,null,0,null,0,null,0,null,0,null,null,null,null,null,null,"",null,0,null,0,null,0,null,0,null,0,null,0,null,0,null,0,null,0,null,0,null,0,null,0,null,0,null,0,null,0,null,0,null,0,null,0,null,null,null,null,null,null,"",null,0,null,0,null,{"$f":"IF(ISERROR(CU288*$CL288/1000),0,CU288*$CL288/1000)","v":0},null,{"$f":"IF(ISERROR(CW288*$CL288/1000),0,CW288*$CL288/1000)","v":0},null,{"$f":"IF(ISERROR(CY288*$CL288/1000),0,CY288*$CL288/1000)","v":0},null,{"$f":"IF(ISERROR(DA288*$CL288/1000),0,DA288*$CL288/1000)","v":0},null,{"$f":"IF(ISERROR(DC288*$CL288/1000),0,DC288*$CL288/1000)","v":0},null,{"$f":"IF(ISERROR(DE288*$CL288/1000),0,DE288*$CL288/1000)","v":0},null,{"$f":"IF(ISERROR(DG288*$CL288/1000),0,DG288*$CL288/1000)","v":0},null,{"$f":"IF(ISERROR(DI288*$CL288/1000),0,DI288*$CL288/1000)","v":0},null,{"$f":"IF(ISERROR(DK288*$CL288/1000),0,DK288*$CL288/1000)","v":0},null,{"$f":"IF(ISERROR(DM288*$CL288/1000),0,DM288*$CL288/1000)","v":0},null,0,null,0,null,0,null,0,null,0,null,{"$f":"IF(ISERROR(DY288*$CL288/1000),0,DY288*$CL288/1000)","v":0}]
[null,null,null,null,null,null,null,"",null,0,null,0,null,{"$f":"IF(ISERROR(M289*$D289/1000),0,M289*$D289/1000)","v":0},null,{"$f":"IF(ISERROR(O289*$D289/1000),0,O289*$D289/1000)","v":0},null,{"$f":"IF(ISERROR(Q289*$D289/1000),0,Q289*$D289/1000)","v":0},null,{"$f":"IF(ISERROR(S289*$D289/1000),0,S289*$D289/1000)","v":0},null,{"$f":"IF(ISERROR(U289*$D289/1000),0,U289*$D289/1000)","v":0},null,{"$f":"IF(ISERROR(W289*$D289/1000),0,W289*$D289/1000)","v":0},null,{"$f":"IF(ISERROR(Y289*$D289/1000),0,Y289*$D289/1000)","v":0},null,{"$f":"IF(ISERROR(AA289*$D289/1000),0,AA289*$D289/1000)","v":0},null,{"$f":"IF(ISERROR(AC289*$D289/1000),0,AC289*$D289/1000)","v":0},null,{"$f":"IF(ISERROR(AE289*$D289/1000),0,AE289*$D289/1000)","v":0},null,0,null,0,null,0,null,0,null,0,null,0,null,null,null,null,null,null,"",null,0,null,0,null,0,null,0,null,0,null,0,null,0,null,0,null,0,null,0,null,0,null,0,null,0,null,0,null,0,null,0,null,0,null,0,null,null,null,null,null,null,"",null,0,null,0,null,{"$f":"IF(ISERROR(CU289*$CL289/1000),0,CU289*$CL289/1000)","v":0},null,{"$f":"IF(ISERROR(CW289*$CL289/1000),0,CW289*$CL289/1000)","v":0},null,{"$f":"IF(ISERROR(CY289*$CL289/1000),0,CY289*$CL289/1000)","v":0},null,{"$f":"IF(ISERROR(DA289*$CL289/1000),0,DA289*$CL289/1000)","v":0},null,{"$f":"IF(ISERROR(DC289*$CL289/1000),0,DC289*$CL289/1000)","v":0},null,{"$f":"IF(ISERROR(DE289*$CL289/1000),0,DE289*$CL289/1000)","v":0},null,{"$f":"IF(ISERROR(DG289*$CL289/1000),0,DG289*$CL289/1000)","v":0},null,{"$f":"IF(ISERROR(DI289*$CL289/1000),0,DI289*$CL289/1000)","v":0},null,{"$f":"IF(ISERROR(DK289*$CL289/1000),0,DK289*$CL289/1000)","v":0},null,{"$f":"IF(ISERROR(DM289*$CL289/1000),0,DM289*$CL289/1000)","v":0},null,0,null,0,null,0,null,0,null,0,null,{"$f":"IF(ISERROR(DY289*$CL289/1000),0,DY289*$CL289/1000)","v":0}]
[null,null,null,null,null,null,null,"",null,0,null,0,null,{"$f":"IF(ISERROR(M290*$D290/1000),0,M290*$D290/1000)","v":0},null,{"$f":"IF(ISERROR(O290*$D290/1000),0,O290*$D290/1000)","v":0},null,{"$f":"IF(ISERROR(Q290*$D290/1000),0,Q290*$D290/1000)","v":0},null,{"$f":"IF(ISERROR(S290*$D290/1000),0,S290*$D290/1000)","v":0},null,{"$f":"IF(ISERROR(U290*$D290/1000),0,U290*$D290/1000)","v":0},null,{"$f":"IF(ISERROR(W290*$D290/1000),0,W290*$D290/1000)","v":0},null,{"$f":"IF(ISERROR(Y290*$D290/1000),0,Y290*$D290/1000)","v":0},null,{"$f":"IF(ISERROR(AA290*$D290/1000),0,AA290*$D290/1000)","v":0},null,{"$f":"IF(ISERROR(AC290*$D290/1000),0,AC290*$D290/1000)","v":0},null,{"$f":"IF(ISERROR(AE290*$D290/1000),0,AE290*$D290/1000)","v":0},null,0,null,0,null,0,null,0,null,0,null,0,null,null,null,null,null,null,"",null,0,null,0,null,0,null,0,null,0,null,0,null,0,null,0,null,0,null,0,null,0,null,0,null,0,null,0,null,0,null,0,null,0,null,0,null,null,null,null,null,null,"",null,0,null,0,null,{"$f":"IF(ISERROR(CU290*$CL290/1000),0,CU290*$CL290/1000)","v":0},null,{"$f":"IF(ISERROR(CW290*$CL290/1000),0,CW290*$CL290/1000)","v":0},null,{"$f":"IF(ISERROR(CY290*$CL290/1000),0,CY290*$CL290/1000)","v":0},null,{"$f":"IF(ISERROR(DA290*$CL290/1000),0,DA290*$CL290/1000)","v":0},null,{"$f":"IF(ISERROR(DC290*$CL290/1000),0,DC290*$CL290/1000)","v":0},null,{"$f":"IF(ISERROR(DE290*$CL290/1000),0,DE290*$CL290/1000)","v":0},null,{"$f":"IF(ISERROR(DG290*$CL290/1000),0,DG290*$CL290/1000)","v":0},null,{"$f":"IF(ISERROR(DI290*$CL290/1000),0,DI290*$CL290/1000)","v":0},null,{"$f":"IF(ISERROR(DK290*$CL290/1000),0,DK290*$CL290/1000)","v":0},null,{"$f":"IF(ISERROR(DM290*$CL290/1000),0,DM290*$CL290/1000)","v":0},null,0,null,0,null,0,null,0,null,0,null,{"$f":"IF(ISERROR(DY290*$CL290/1000),0,DY290*$CL290/1000)","v":0}]
[null,null,null,null,null,null,null,"",null,0,null,0,null,{"$f":"IF(ISERROR(M291*$D291/1000),0,M291*$D291/1000)","v":0},null,{"$f":"IF(ISERROR(O291*$D291/1000),0,O291*$D291/1000)","v":0},null,{"$f":"IF(ISERROR(Q291*$D291/1000),0,Q291*$D291/1000)","v":0},null,{"$f":"IF(ISERROR(S291*$D291/1000),0,S291*$D291/1000)","v":0},null,{"$f":"IF(ISERROR(U291*$D291/1000),0,U291*$D291/1000)","v":0},null,{"$f":"IF(ISERROR(W291*$D291/1000),0,W291*$D291/1000)","v":0},null,{"$f":"IF(ISERROR(Y291*$D291/1000),0,Y291*$D291/1000)","v":0},null,{"$f":"IF(ISERROR(AA291*$D291/1000),0,AA291*$D291/1000)","v":0},null,{"$f":"IF(ISERROR(AC291*$D291/1000),0,AC291*$D291/1000)","v":0},null,{"$f":"IF(ISERROR(AE291*$D291/1000),0,AE291*$D291/1000)","v":0},null,0,null,0,null,0,null,0,null,0,null,0,null,null,null,null,null,null,"",null,0,null,0,null,0,null,0,null,0,null,0,null,0,null,0,null,0,null,0,null,0,null,0,null,0,null,0,null,0,null,0,null,0,null,0,null,null,null,null,null,null,"",null,0,null,0,null,{"$f":"IF(ISERROR(CU291*$CL291/1000),0,CU291*$CL291/1000)","v":0},null,{"$f":"IF(ISERROR(CW291*$CL291/1000),0,CW291*$CL291/1000)","v":0},null,{"$f":"IF(ISERROR(CY291*$CL291/1000),0,CY291*$CL291/1000)","v":0},null,{"$f":"IF(ISERROR(DA291*$CL291/1000),0,DA291*$CL291/1000)","v":0},null,{"$f":"IF(ISERROR(DC291*$CL291/1000),0,DC291*$CL291/1000)","v":0},null,{"$f":"IF(ISERROR(DE291*$CL291/1000),0,DE291*$CL291/1000)","v":0},null,{"$f":"IF(ISERROR(DG291*$CL291/1000),0,DG291*$CL291/1000)","v":0},null,{"$f":"IF(ISERROR(DI291*$CL291/1000),0,DI291*$CL291/1000)","v":0},null,{"$f":"IF(ISERROR(DK291*$CL291/1000),0,DK291*$CL291/1000)","v":0},null,{"$f":"IF(ISERROR(DM291*$CL291/1000),0,DM291*$CL291/1000)","v":0},null,0,null,0,null,0,null,0,null,0,null,{"$f":"IF(ISERROR(DY291*$CL291/1000),0,DY291*$CL291/1000)","v":0}]
[null,"Octobre",null,null,null,null,null,"",null,0,null,0,null,{"$f":"IF(ISERROR(M292*$D292/1000),0,M292*$D292/1000)","v":0},null,{"$f":"IF(ISERROR(O292*$D292/1000),0,O292*$D292/1000)","v":0},null,{"$f":"IF(ISERROR(Q292*$D292/1000),0,Q292*$D292/1000)","v":0},null,{"$f":"IF(ISERROR(S292*$D292/1000),0,S292*$D292/1000)","v":0},null,{"$f":"IF(ISERROR(U292*$D292/1000),0,U292*$D292/1000)","v":0},null,{"$f":"IF(ISERROR(W292*$D292/1000),0,W292*$D292/1000)","v":0},null,{"$f":"IF(ISERROR(Y292*$D292/1000),0,Y292*$D292/1000)","v":0},null,{"$f":"IF(ISERROR(AA292*$D292/1000),0,AA292*$D292/1000)","v":0},null,{"$f":"IF(ISERROR(AC292*$D292/1000),0,AC292*$D292/1000)","v":0},null,{"$f":"IF(ISERROR(AE292*$D292/1000),0,AE292*$D292/1000)","v":0},null,0,null,0,null,0,null,0,null,0,null,0,null,null,null,null,null,null,"",null,0,null,0,null,0,null,0,null,0,null,0,null,0,null,0,null,0,null,0,null,0,null,0,null,0,null,0,null,0,null,0,null,0,null,0,null,null,null,null,null,null,"",null,0,null,0,null,{"$f":"IF(ISERROR(CU292*$CL292/1000),0,CU292*$CL292/1000)","v":0},null,{"$f":"IF(ISERROR(CW292*$CL292/1000),0,CW292*$CL292/1000)","v":0},null,{"$f":"IF(ISERROR(CY292*$CL292/1000),0,CY292*$CL292/1000)","v":0},null,{"$f":"IF(ISERROR(DA292*$CL292/1000),0,DA292*$CL292/1000)","v":0},null,{"$f":"IF(ISERROR(DC292*$CL292/1000),0,DC292*$CL292/1000)","v":0},null,{"$f":"IF(ISERROR(DE292*$CL292/1000),0,DE292*$CL292/1000)","v":0},null,{"$f":"IF(ISERROR(DG292*$CL292/1000),0,DG292*$CL292/1000)","v":0},null,{"$f":"IF(ISERROR(DI292*$CL292/1000),0,DI292*$CL292/1000)","v":0},null,{"$f":"IF(ISERROR(DK292*$CL292/1000),0,DK292*$CL292/1000)","v":0},null,{"$f":"IF(ISERROR(DM292*$CL292/1000),0,DM292*$CL292/1000)","v":0},null,0,null,0,null,0,null,0,null,0,null,{"$f":"IF(ISERROR(DY292*$CL292/1000),0,DY292*$CL292/1000)","v":0}]
[null,null,null,null,null,null,null,"",null,0,null,0,null,{"$f":"IF(ISERROR(M293*$D293/1000),0,M293*$D293/1000)","v":0},null,{"$f":"IF(ISERROR(O293*$D293/1000),0,O293*$D293/1000)","v":0},null,{"$f":"IF(ISERROR(Q293*$D293/1000),0,Q293*$D293/1000)","v":0},null,{"$f":"IF(ISERROR(S293*$D293/1000),0,S293*$D293/1000)","v":0},null,{"$f":"IF(ISERROR(U293*$D293/1000),0,U293*$D293/1000)","v":0},null,{"$f":"IF(ISERROR(W293*$D293/1000),0,W293*$D293/1000)","v":0},null,{"$f":"IF(ISERROR(Y293*$D293/1000),0,Y293*$D293/1000)","v":0},null,{"$f":"IF(ISERROR(AA293*$D293/1000),0,AA293*$D293/1000)","v":0},null,{"$f":"IF(ISERROR(AC293*$D293/1000),0,AC293*$D293/1000)","v":0},null,{"$f":"IF(ISERROR(AE293*$D293/1000),0,AE293*$D293/1000)","v":0},null,0,null,0,null,0,null,0,null,0,null,0,null,null,null,null,null,null,"",null,0,null,0,null,0,null,0,null,0,null,0,null,0,null,0,null,0,null,0,null,0,null,0,null,0,null,0,null,0,null,0,null,0,null,0,null,null,null,null,null,null,"",null,0,null,0,null,{"$f":"IF(ISERROR(CU293*$CL293/1000),0,CU293*$CL293/1000)","v":0},null,{"$f":"IF(ISERROR(CW293*$CL293/1000),0,CW293*$CL293/1000)","v":0},null,{"$f":"IF(ISERROR(CY293*$CL293/1000),0,CY293*$CL293/1000)","v":0},null,{"$f":"IF(ISERROR(DA293*$CL293/1000),0,DA293*$CL293/1000)","v":0},null,{"$f":"IF(ISERROR(DC293*$CL293/1000),0,DC293*$CL293/1000)","v":0},null,{"$f":"IF(ISERROR(DE293*$CL293/1000),0,DE293*$CL293/1000)","v":0},null,{"$f":"IF(ISERROR(DG293*$CL293/1000),0,DG293*$CL293/1000)","v":0},null,{"$f":"IF(ISERROR(DI293*$CL293/1000),0,DI293*$CL293/1000)","v":0},null,{"$f":"IF(ISERROR(DK293*$CL293/1000),0,DK293*$CL293/1000)","v":0},null,{"$f":"IF(ISERROR(DM293*$CL293/1000),0,DM293*$CL293/1000)","v":0},null,0,null,0,null,0,null,0,null,0,null,{"$f":"IF(ISERROR(DY293*$CL293/1000),0,DY293*$CL293/1000)","v":0}]
[null,null,null,null,null,null,null,"",null,0,null,0,null,{"$f":"IF(ISERROR(M294*$D294/1000),0,M294*$D294/1000)","v":0},null,{"$f":"IF(ISERROR(O294*$D294/1000),0,O294*$D294/1000)","v":0},null,{"$f":"IF(ISERROR(Q294*$D294/1000),0,Q294*$D294/1000)","v":0},null,{"$f":"IF(ISERROR(S294*$D294/1000),0,S294*$D294/1000)","v":0},null,{"$f":"IF(ISERROR(U294*$D294/1000),0,U294*$D294/1000)","v":0},null,{"$f":"IF(ISERROR(W294*$D294/1000),0,W294*$D294/1000)","v":0},null,{"$f":"IF(ISERROR(Y294*$D294/1000),0,Y294*$D294/1000)","v":0},null,{"$f":"IF(ISERROR(AA294*$D294/1000),0,AA294*$D294/1000)","v":0},null,{"$f":"IF(ISERROR(AC294*$D294/1000),0,AC294*$D294/1000)","v":0},null,{"$f":"IF(ISERROR(AE294*$D294/1000),0,AE294*$D294/1000)","v":0},null,0,null,0,null,0,null,0,null,0,null,0,null,null,null,null,null,null,"",null,0,null,0,null,0,null,0,null,0,null,0,null,0,null,0,null,0,null,0,null,0,null,0,null,0,null,0,null,0,null,0,null,0,null,0,null,null,null,null,null,null,"",null,0,null,0,null,{"$f":"IF(ISERROR(CU294*$CL294/1000),0,CU294*$CL294/1000)","v":0},null,{"$f":"IF(ISERROR(CW294*$CL294/1000),0,CW294*$CL294/1000)","v":0},null,{"$f":"IF(ISERROR(CY294*$CL294/1000),0,CY294*$CL294/1000)","v":0},null,{"$f":"IF(ISERROR(DA294*$CL294/1000),0,DA294*$CL294/1000)","v":0},null,{"$f":"IF(ISERROR(DC294*$CL294/1000),0,DC294*$CL294/1000)","v":0},null,{"$f":"IF(ISERROR(DE294*$CL294/1000),0,DE294*$CL294/1000)","v":0},null,{"$f":"IF(ISERROR(DG294*$CL294/1000),0,DG294*$CL294/1000)","v":0},null,{"$f":"IF(ISERROR(DI294*$CL294/1000),0,DI294*$CL294/1000)","v":0},null,{"$f":"IF(ISERROR(DK294*$CL294/1000),0,DK294*$CL294/1000)","v":0},null,{"$f":"IF(ISERROR(DM294*$CL294/1000),0,DM294*$CL294/1000)","v":0},null,0,null,0,null,0,null,0,null,0,null,{"$f":"IF(ISERROR(DY294*$CL294/1000),0,DY294*$CL294/1000)","v":0}]
[null,null,null,null,null,null,null,"",null,0,null,0,null,{"$f":"IF(ISERROR(M295*$D295/1000),0,M295*$D295/1000)","v":0},null,{"$f":"IF(ISERROR(O295*$D295/1000),0,O295*$D295/1000)","v":0},null,{"$f":"IF(ISERROR(Q295*$D295/1000),0,Q295*$D295/1000)","v":0},null,{"$f":"IF(ISERROR(S295*$D295/1000),0,S295*$D295/1000)","v":0},null,{"$f":"IF(ISERROR(U295*$D295/1000),0,U295*$D295/1000)","v":0},null,{"$f":"IF(ISERROR(W295*$D295/1000),0,W295*$D295/1000)","v":0},null,{"$f":"IF(ISERROR(Y295*$D295/1000),0,Y295*$D295/1000)","v":0},null,{"$f":"IF(ISERROR(AA295*$D295/1000),0,AA295*$D295/1000)","v":0},null,{"$f":"IF(ISERROR(AC295*$D295/1000),0,AC295*$D295/1000)","v":0},null,{"$f":"IF(ISERROR(AE295*$D295/1000),0,AE295*$D295/1000)","v":0},null,0,null,0,null,0,null,0,null,0,null,0,null,null,null,null,null,null,"",null,0,null,0,null,0,null,0,null,0,null,0,null,0,null,0,null,0,null,0,null,0,null,0,null,0,null,0,null,0,null,0,null,0,null,0,null,null,null,null,null,null,"",null,0,null,0,null,{"$f":"IF(ISERROR(CU295*$CL295/1000),0,CU295*$CL295/1000)","v":0},null,{"$f":"IF(ISERROR(CW295*$CL295/1000),0,CW295*$CL295/1000)","v":0},null,{"$f":"IF(ISERROR(CY295*$CL295/1000),0,CY295*$CL295/1000)","v":0},null,{"$f":"IF(ISERROR(DA295*$CL295/1000),0,DA295*$CL295/1000)","v":0},null,{"$f":"IF(ISERROR(DC295*$CL295/1000),0,DC295*$CL295/1000)","v":0},null,{"$f":"IF(ISERROR(DE295*$CL295/1000),0,DE295*$CL295/1000)","v":0},null,{"$f":"IF(ISERROR(DG295*$CL295/1000),0,DG295*$CL295/1000)","v":0},null,{"$f":"IF(ISERROR(DI295*$CL295/1000),0,DI295*$CL295/1000)","v":0},null,{"$f":"IF(ISERROR(DK295*$CL295/1000),0,DK295*$CL295/1000)","v":0},null,{"$f":"IF(ISERROR(DM295*$CL295/1000),0,DM295*$CL295/1000)","v":0},null,0,null,0,null,0,null,0,null,0,null,{"$f":"IF(ISERROR(DY295*$CL295/1000),0,DY295*$CL295/1000)","v":0}]
[null,null,null,null,null,null,null,"",null,0,null,0,null,{"$f":"IF(ISERROR(M296*$D296/1000),0,M296*$D296/1000)","v":0},null,{"$f":"IF(ISERROR(O296*$D296/1000),0,O296*$D296/1000)","v":0},null,{"$f":"IF(ISERROR(Q296*$D296/1000),0,Q296*$D296/1000)","v":0},null,{"$f":"IF(ISERROR(S296*$D296/1000),0,S296*$D296/1000)","v":0},null,{"$f":"IF(ISERROR(U296*$D296/1000),0,U296*$D296/1000)","v":0},null,{"$f":"IF(ISERROR(W296*$D296/1000),0,W296*$D296/1000)","v":0},null,{"$f":"IF(ISERROR(Y296*$D296/1000),0,Y296*$D296/1000)","v":0},null,{"$f":"IF(ISERROR(AA296*$D296/1000),0,AA296*$D296/1000)","v":0},null,{"$f":"IF(ISERROR(AC296*$D296/1000),0,AC296*$D296/1000)","v":0},null,{"$f":"IF(ISERROR(AE296*$D296/1000),0,AE296*$D296/1000)","v":0},null,0,null,0,null,0,null,0,null,0,null,0,null,null,null,null,null,null,"",null,0,null,0,null,0,null,0,null,0,null,0,null,0,null,0,null,0,null,0,null,0,null,0,null,0,null,0,null,0,null,0,null,0,null,0,null,null,null,null,null,null,"",null,0,null,0,null,{"$f":"IF(ISERROR(CU296*$CL296/1000),0,CU296*$CL296/1000)","v":0},null,{"$f":"IF(ISERROR(CW296*$CL296/1000),0,CW296*$CL296/1000)","v":0},null,{"$f":"IF(ISERROR(CY296*$CL296/1000),0,CY296*$CL296/1000)","v":0},null,{"$f":"IF(ISERROR(DA296*$CL296/1000),0,DA296*$CL296/1000)","v":0},null,{"$f":"IF(ISERROR(DC296*$CL296/1000),0,DC296*$CL296/1000)","v":0},null,{"$f":"IF(ISERROR(DE296*$CL296/1000),0,DE296*$CL296/1000)","v":0},null,{"$f":"IF(ISERROR(DG296*$CL296/1000),0,DG296*$CL296/1000)","v":0},null,{"$f":"IF(ISERROR(DI296*$CL296/1000),0,DI296*$CL296/1000)","v":0},null,{"$f":"IF(ISERROR(DK296*$CL296/1000),0,DK296*$CL296/1000)","v":0},null,{"$f":"IF(ISERROR(DM296*$CL296/1000),0,DM296*$CL296/1000)","v":0},null,0,null,0,null,0,null,0,null,0,null,{"$f":"IF(ISERROR(DY296*$CL296/1000),0,DY296*$CL296/1000)","v":0}]
[null,null,null,null,null,null,null,"",null,0,null,0,null,{"$f":"IF(ISERROR(M297*$D297/1000),0,M297*$D297/1000)","v":0},null,{"$f":"IF(ISERROR(O297*$D297/1000),0,O297*$D297/1000)","v":0},null,{"$f":"IF(ISERROR(Q297*$D297/1000),0,Q297*$D297/1000)","v":0},null,{"$f":"IF(ISERROR(S297*$D297/1000),0,S297*$D297/1000)","v":0},null,{"$f":"IF(ISERROR(U297*$D297/1000),0,U297*$D297/1000)","v":0},null,{"$f":"IF(ISERROR(W297*$D297/1000),0,W297*$D297/1000)","v":0},null,{"$f":"IF(ISERROR(Y297*$D297/1000),0,Y297*$D297/1000)","v":0},null,{"$f":"IF(ISERROR(AA297*$D297/1000),0,AA297*$D297/1000)","v":0},null,{"$f":"IF(ISERROR(AC297*$D297/1000),0,AC297*$D297/1000)","v":0},null,{"$f":"IF(ISERROR(AE297*$D297/1000),0,AE297*$D297/1000)","v":0},null,0,null,0,null,0,null,0,null,0,null,0,null,null,null,null,null,null,"",null,0,null,0,null,0,null,0,null,0,null,0,null,0,null,0,null,0,null,0,null,0,null,0,null,0,null,0,null,0,null,0,null,0,null,0,null,null,null,null,null,null,"",null,0,null,0,null,{"$f":"IF(ISERROR(CU297*$CL297/1000),0,CU297*$CL297/1000)","v":0},null,{"$f":"IF(ISERROR(CW297*$CL297/1000),0,CW297*$CL297/1000)","v":0},null,{"$f":"IF(ISERROR(CY297*$CL297/1000),0,CY297*$CL297/1000)","v":0},null,{"$f":"IF(ISERROR(DA297*$CL297/1000),0,DA297*$CL297/1000)","v":0},null,{"$f":"IF(ISERROR(DC297*$CL297/1000),0,DC297*$CL297/1000)","v":0},null,{"$f":"IF(ISERROR(DE297*$CL297/1000),0,DE297*$CL297/1000)","v":0},null,{"$f":"IF(ISERROR(DG297*$CL297/1000),0,DG297*$CL297/1000)","v":0},null,{"$f":"IF(ISERROR(DI297*$CL297/1000),0,DI297*$CL297/1000)","v":0},null,{"$f":"IF(ISERROR(DK297*$CL297/1000),0,DK297*$CL297/1000)","v":0},null,{"$f":"IF(ISERROR(DM297*$CL297/1000),0,DM297*$CL297/1000)","v":0},null,0,null,0,null,0,null,0,null,0,null,{"$f":"IF(ISERROR(DY297*$CL297/1000),0,DY297*$CL297/1000)","v":0}]
[null,null,null,null,null,null,null,"",null,0,null,0,null,{"$f":"IF(ISERROR(M298*$D298/1000),0,M298*$D298/1000)","v":0},null,{"$f":"IF(ISERROR(O298*$D298/1000),0,O298*$D298/1000)","v":0},null,{"$f":"IF(ISERROR(Q298*$D298/1000),0,Q298*$D298/1000)","v":0},null,{"$f":"IF(ISERROR(S298*$D298/1000),0,S298*$D298/1000)","v":0},null,{"$f":"IF(ISERROR(U298*$D298/1000),0,U298*$D298/1000)","v":0},null,{"$f":"IF(ISERROR(W298*$D298/1000),0,W298*$D298/1000)","v":0},null,{"$f":"IF(ISERROR(Y298*$D298/1000),0,Y298*$D298/1000)","v":0},null,{"$f":"IF(ISERROR(AA298*$D298/1000),0,AA298*$D298/1000)","v":0},null,{"$f":"IF(ISERROR(AC298*$D298/1000),0,AC298*$D298/1000)","v":0},null,{"$f":"IF(ISERROR(AE298*$D298/1000),0,AE298*$D298/1000)","v":0},null,0,null,0,null,0,null,0,null,0,null,0,null,null,null,null,null,null,"",null,0,null,0,null,0,null,0,null,0,null,0,null,0,null,0,null,0,null,0,null,0,null,0,null,0,null,0,null,0,null,0,null,0,null,0,null,null,null,null,null,null,"",null,0,null,0,null,{"$f":"IF(ISERROR(CU298*$CL298/1000),0,CU298*$CL298/1000)","v":0},null,{"$f":"IF(ISERROR(CW298*$CL298/1000),0,CW298*$CL298/1000)","v":0},null,{"$f":"IF(ISERROR(CY298*$CL298/1000),0,CY298*$CL298/1000)","v":0},null,{"$f":"IF(ISERROR(DA298*$CL298/1000),0,DA298*$CL298/1000)","v":0},null,{"$f":"IF(ISERROR(DC298*$CL298/1000),0,DC298*$CL298/1000)","v":0},null,{"$f":"IF(ISERROR(DE298*$CL298/1000),0,DE298*$CL298/1000)","v":0},null,{"$f":"IF(ISERROR(DG298*$CL298/1000),0,DG298*$CL298/1000)","v":0},null,{"$f":"IF(ISERROR(DI298*$CL298/1000),0,DI298*$CL298/1000)","v":0},null,{"$f":"IF(ISERROR(DK298*$CL298/1000),0,DK298*$CL298/1000)","v":0},null,{"$f":"IF(ISERROR(DM298*$CL298/1000),0,DM298*$CL298/1000)","v":0},null,0,null,0,null,0,null,0,null,0,null,{"$f":"IF(ISERROR(DY298*$CL298/1000),0,DY298*$CL298/1000)","v":0}]
[null,null,null,null,null,null,null,"",null,0,null,0,null,{"$f":"IF(ISERROR(M299*$D299/1000),0,M299*$D299/1000)","v":0},null,{"$f":"IF(ISERROR(O299*$D299/1000),0,O299*$D299/1000)","v":0},null,{"$f":"IF(ISERROR(Q299*$D299/1000),0,Q299*$D299/1000)","v":0},null,{"$f":"IF(ISERROR(S299*$D299/1000),0,S299*$D299/1000)","v":0},null,{"$f":"IF(ISERROR(U299*$D299/1000),0,U299*$D299/1000)","v":0},null,{"$f":"IF(ISERROR(W299*$D299/1000),0,W299*$D299/1000)","v":0},null,{"$f":"IF(ISERROR(Y299*$D299/1000),0,Y299*$D299/1000)","v":0},null,{"$f":"IF(ISERROR(AA299*$D299/1000),0,AA299*$D299/1000)","v":0},null,{"$f":"IF(ISERROR(AC299*$D299/1000),0,AC299*$D299/1000)","v":0},null,{"$f":"IF(ISERROR(AE299*$D299/1000),0,AE299*$D299/1000)","v":0},null,0,null,0,null,0,null,0,null,0,null,0,null,null,null,null,null,null,"",null,0,null,0,null,0,null,0,null,0,null,0,null,0,null,0,null,0,null,0,null,0,null,0,null,0,null,0,null,0,null,0,null,0,null,0,null,null,null,null,null,null,"",null,0,null,0,null,{"$f":"IF(ISERROR(CU299*$CL299/1000),0,CU299*$CL299/1000)","v":0},null,{"$f":"IF(ISERROR(CW299*$CL299/1000),0,CW299*$CL299/1000)","v":0},null,{"$f":"IF(ISERROR(CY299*$CL299/1000),0,CY299*$CL299/1000)","v":0},null,{"$f":"IF(ISERROR(DA299*$CL299/1000),0,DA299*$CL299/1000)","v":0},null,{"$f":"IF(ISERROR(DC299*$CL299/1000),0,DC299*$CL299/1000)","v":0},null,{"$f":"IF(ISERROR(DE299*$CL299/1000),0,DE299*$CL299/1000)","v":0},null,{"$f":"IF(ISERROR(DG299*$CL299/1000),0,DG299*$CL299/1000)","v":0},null,{"$f":"IF(ISERROR(DI299*$CL299/1000),0,DI299*$CL299/1000)","v":0},null,{"$f":"IF(ISERROR(DK299*$CL299/1000),0,DK299*$CL299/1000)","v":0},null,{"$f":"IF(ISERROR(DM299*$CL299/1000),0,DM299*$CL299/1000)","v":0},null,0,null,0,null,0,null,0,null,0,null,{"$f":"IF(ISERROR(DY299*$CL299/1000),0,DY299*$CL299/1000)","v":0}]
[null,null,null,null,null,null,null,"",null,0,null,0,null,{"$f":"IF(ISERROR(M300*$D300/1000),0,M300*$D300/1000)","v":0},null,{"$f":"IF(ISERROR(O300*$D300/1000),0,O300*$D300/1000)","v":0},null,{"$f":"IF(ISERROR(Q300*$D300/1000),0,Q300*$D300/1000)","v":0},null,{"$f":"IF(ISERROR(S300*$D300/1000),0,S300*$D300/1000)","v":0},null,{"$f":"IF(ISERROR(U300*$D300/1000),0,U300*$D300/1000)","v":0},null,{"$f":"IF(ISERROR(W300*$D300/1000),0,W300*$D300/1000)","v":0},null,{"$f":"IF(ISERROR(Y300*$D300/1000),0,Y300*$D300/1000)","v":0},null,{"$f":"IF(ISERROR(AA300*$D300/1000),0,AA300*$D300/1000)","v":0},null,{"$f":"IF(ISERROR(AC300*$D300/1000),0,AC300*$D300/1000)","v":0},null,{"$f":"IF(ISERROR(AE300*$D300/1000),0,AE300*$D300/1000)","v":0},null,0,null,0,null,0,null,0,null,0,null,0,null,null,null,null,null,null,"",null,0,null,0,null,0,null,0,null,0,null,0,null,0,null,0,null,0,null,0,null,0,null,0,null,0,null,0,null,0,null,0,null,0,null,0,null,null,null,null,null,null,"",null,0,null,0,null,{"$f":"IF(ISERROR(CU300*$CL300/1000),0,CU300*$CL300/1000)","v":0},null,{"$f":"IF(ISERROR(CW300*$CL300/1000),0,CW300*$CL300/1000)","v":0},null,{"$f":"IF(ISERROR(CY300*$CL300/1000),0,CY300*$CL300/1000)","v":0},null,{"$f":"IF(ISERROR(DA300*$CL300/1000),0,DA300*$CL300/1000)","v":0},null,{"$f":"IF(ISERROR(DC300*$CL300/1000),0,DC300*$CL300/1000)","v":0},null,{"$f":"IF(ISERROR(DE300*$CL300/1000),0,DE300*$CL300/1000)","v":0},null,{"$f":"IF(ISERROR(DG300*$CL300/1000),0,DG300*$CL300/1000)","v":0},null,{"$f":"IF(ISERROR(DI300*$CL300/1000),0,DI300*$CL300/1000)","v":0},null,{"$f":"IF(ISERROR(DK300*$CL300/1000),0,DK300*$CL300/1000)","v":0},null,{"$f":"IF(ISERROR(DM300*$CL300/1000),0,DM300*$CL300/1000)","v":0},null,0,null,0,null,0,null,0,null,0,null,{"$f":"IF(ISERROR(DY300*$CL300/1000),0,DY300*$CL300/1000)","v":0}]
[null,null,null,null,null,null,null,"",null,0,null,0,null,{"$f":"IF(ISERROR(M301*$D301/1000),0,M301*$D301/1000)","v":0},null,{"$f":"IF(ISERROR(O301*$D301/1000),0,O301*$D301/1000)","v":0},null,{"$f":"IF(ISERROR(Q301*$D301/1000),0,Q301*$D301/1000)","v":0},null,{"$f":"IF(ISERROR(S301*$D301/1000),0,S301*$D301/1000)","v":0},null,{"$f":"IF(ISERROR(U301*$D301/1000),0,U301*$D301/1000)","v":0},null,{"$f":"IF(ISERROR(W301*$D301/1000),0,W301*$D301/1000)","v":0},null,{"$f":"IF(ISERROR(Y301*$D301/1000),0,Y301*$D301/1000)","v":0},null,{"$f":"IF(ISERROR(AA301*$D301/1000),0,AA301*$D301/1000)","v":0},null,{"$f":"IF(ISERROR(AC301*$D301/1000),0,AC301*$D301/1000)","v":0},null,{"$f":"IF(ISERROR(AE301*$D301/1000),0,AE301*$D301/1000)","v":0},null,0,null,0,null,0,null,0,null,0,null,0,null,null,null,null,null,null,"",null,0,null,0,null,0,null,0,null,0,null,0,null,0,null,0,null,0,null,0,null,0,null,0,null,0,null,0,null,0,null,0,null,0,null,0,null,null,null,null,null,null,"",null,0,null,0,null,{"$f":"IF(ISERROR(CU301*$CL301/1000),0,CU301*$CL301/1000)","v":0},null,{"$f":"IF(ISERROR(CW301*$CL301/1000),0,CW301*$CL301/1000)","v":0},null,{"$f":"IF(ISERROR(CY301*$CL301/1000),0,CY301*$CL301/1000)","v":0},null,{"$f":"IF(ISERROR(DA301*$CL301/1000),0,DA301*$CL301/1000)","v":0},null,{"$f":"IF(ISERROR(DC301*$CL301/1000),0,DC301*$CL301/1000)","v":0},null,{"$f":"IF(ISERROR(DE301*$CL301/1000),0,DE301*$CL301/1000)","v":0},null,{"$f":"IF(ISERROR(DG301*$CL301/1000),0,DG301*$CL301/1000)","v":0},null,{"$f":"IF(ISERROR(DI301*$CL301/1000),0,DI301*$CL301/1000)","v":0},null,{"$f":"IF(ISERROR(DK301*$CL301/1000),0,DK301*$CL301/1000)","v":0},null,{"$f":"IF(ISERROR(DM301*$CL301/1000),0,DM301*$CL301/1000)","v":0},null,0,null,0,null,0,null,0,null,0,null,{"$f":"IF(ISERROR(DY301*$CL301/1000),0,DY301*$CL301/1000)","v":0}]
[null,null,null,null,null,null,null,"",null,0,null,0,null,{"$f":"IF(ISERROR(M302*$D302/1000),0,M302*$D302/1000)","v":0},null,{"$f":"IF(ISERROR(O302*$D302/1000),0,O302*$D302/1000)","v":0},null,{"$f":"IF(ISERROR(Q302*$D302/1000),0,Q302*$D302/1000)","v":0},null,{"$f":"IF(ISERROR(S302*$D302/1000),0,S302*$D302/1000)","v":0},null,{"$f":"IF(ISERROR(U302*$D302/1000),0,U302*$D302/1000)","v":0},null,{"$f":"IF(ISERROR(W302*$D302/1000),0,W302*$D302/1000)","v":0},null,{"$f":"IF(ISERROR(Y302*$D302/1000),0,Y302*$D302/1000)","v":0},null,{"$f":"IF(ISERROR(AA302*$D302/1000),0,AA302*$D302/1000)","v":0},null,{"$f":"IF(ISERROR(AC302*$D302/1000),0,AC302*$D302/1000)","v":0},null,{"$f":"IF(ISERROR(AE302*$D302/1000),0,AE302*$D302/1000)","v":0},null,0,null,0,null,0,null,0,null,0,null,0,null,null,null,null,null,null,"",null,0,null,0,null,0,null,0,null,0,null,0,null,0,null,0,null,0,null,0,null,0,null,0,null,0,null,0,null,0,null,0,null,0,null,0,null,null,null,null,null,null,"",null,0,null,0,null,{"$f":"IF(ISERROR(CU302*$CL302/1000),0,CU302*$CL302/1000)","v":0},null,{"$f":"IF(ISERROR(CW302*$CL302/1000),0,CW302*$CL302/1000)","v":0},null,{"$f":"IF(ISERROR(CY302*$CL302/1000),0,CY302*$CL302/1000)","v":0},null,{"$f":"IF(ISERROR(DA302*$CL302/1000),0,DA302*$CL302/1000)","v":0},null,{"$f":"IF(ISERROR(DC302*$CL302/1000),0,DC302*$CL302/1000)","v":0},null,{"$f":"IF(ISERROR(DE302*$CL302/1000),0,DE302*$CL302/1000)","v":0},null,{"$f":"IF(ISERROR(DG302*$CL302/1000),0,DG302*$CL302/1000)","v":0},null,{"$f":"IF(ISERROR(DI302*$CL302/1000),0,DI302*$CL302/1000)","v":0},null,{"$f":"IF(ISERROR(DK302*$CL302/1000),0,DK302*$CL302/1000)","v":0},null,{"$f":"IF(ISERROR(DM302*$CL302/1000),0,DM302*$CL302/1000)","v":0},null,0,null,0,null,0,null,0,null,0,null,{"$f":"IF(ISERROR(DY302*$CL302/1000),0,DY302*$CL302/1000)","v":0}]
[null,null,null,null,null,null,null,"",null,0,null,0,null,{"$f":"IF(ISERROR(M303*$D303/1000),0,M303*$D303/1000)","v":0},null,{"$f":"IF(ISERROR(O303*$D303/1000),0,O303*$D303/1000)","v":0},null,{"$f":"IF(ISERROR(Q303*$D303/1000),0,Q303*$D303/1000)","v":0},null,{"$f":"IF(ISERROR(S303*$D303/1000),0,S303*$D303/1000)","v":0},null,{"$f":"IF(ISERROR(U303*$D303/1000),0,U303*$D303/1000)","v":0},null,{"$f":"IF(ISERROR(W303*$D303/1000),0,W303*$D303/1000)","v":0},null,{"$f":"IF(ISERROR(Y303*$D303/1000),0,Y303*$D303/1000)","v":0},null,{"$f":"IF(ISERROR(AA303*$D303/1000),0,AA303*$D303/1000)","v":0},null,{"$f":"IF(ISERROR(AC303*$D303/1000),0,AC303*$D303/1000)","v":0},null,{"$f":"IF(ISERROR(AE303*$D303/1000),0,AE303*$D303/1000)","v":0},null,0,null,0,null,0,null,0,null,0,null,0,null,null,null,null,null,null,"",null,0,null,0,null,0,null,0,null,0,null,0,null,0,null,0,null,0,null,0,null,0,null,0,null,0,null,0,null,0,null,0,null,0,null,0,null,null,null,null,null,null,"",null,0,null,0,null,{"$f":"IF(ISERROR(CU303*$CL303/1000),0,CU303*$CL303/1000)","v":0},null,{"$f":"IF(ISERROR(CW303*$CL303/1000),0,CW303*$CL303/1000)","v":0},null,{"$f":"IF(ISERROR(CY303*$CL303/1000),0,CY303*$CL303/1000)","v":0},null,{"$f":"IF(ISERROR(DA303*$CL303/1000),0,DA303*$CL303/1000)","v":0},null,{"$f":"IF(ISERROR(DC303*$CL303/1000),0,DC303*$CL303/1000)","v":0},null,{"$f":"IF(ISERROR(DE303*$CL303/1000),0,DE303*$CL303/1000)","v":0},null,{"$f":"IF(ISERROR(DG303*$CL303/1000),0,DG303*$CL303/1000)","v":0},null,{"$f":"IF(ISERROR(DI303*$CL303/1000),0,DI303*$CL303/1000)","v":0},null,{"$f":"IF(ISERROR(DK303*$CL303/1000),0,DK303*$CL303/1000)","v":0},null,{"$f":"IF(ISERROR(DM303*$CL303/1000),0,DM303*$CL303/1000)","v":0},null,0,null,0,null,0,null,0,null,0,null,{"$f":"IF(ISERROR(DY303*$CL303/1000),0,DY303*$CL303/1000)","v":0}]
[null,null,null,null,null,null,null,"",null,0,null,0,null,{"$f":"IF(ISERROR(M304*$D304/1000),0,M304*$D304/1000)","v":0},null,{"$f":"IF(ISERROR(O304*$D304/1000),0,O304*$D304/1000)","v":0},null,{"$f":"IF(ISERROR(Q304*$D304/1000),0,Q304*$D304/1000)","v":0},null,{"$f":"IF(ISERROR(S304*$D304/1000),0,S304*$D304/1000)","v":0},null,{"$f":"IF(ISERROR(U304*$D304/1000),0,U304*$D304/1000)","v":0},null,{"$f":"IF(ISERROR(W304*$D304/1000),0,W304*$D304/1000)","v":0},null,{"$f":"IF(ISERROR(Y304*$D304/1000),0,Y304*$D304/1000)","v":0},null,{"$f":"IF(ISERROR(AA304*$D304/1000),0,AA304*$D304/1000)","v":0},null,{"$f":"IF(ISERROR(AC304*$D304/1000),0,AC304*$D304/1000)","v":0},null,{"$f":"IF(ISERROR(AE304*$D304/1000),0,AE304*$D304/1000)","v":0},null,0,null,0,null,0,null,0,null,0,null,0,null,null,null,null,null,null,"",null,0,null,0,null,0,null,0,null,0,null,0,null,0,null,0,null,0,null,0,null,0,null,0,null,0,null,0,null,0,null,0,null,0,null,0,null,null,null,null,null,null,"",null,0,null,0,null,{"$f":"IF(ISERROR(CU304*$CL304/1000),0,CU304*$CL304/1000)","v":0},null,{"$f":"IF(ISERROR(CW304*$CL304/1000),0,CW304*$CL304/1000)","v":0},null,{"$f":"IF(ISERROR(CY304*$CL304/1000),0,CY304*$CL304/1000)","v":0},null,{"$f":"IF(ISERROR(DA304*$CL304/1000),0,DA304*$CL304/1000)","v":0},null,{"$f":"IF(ISERROR(DC304*$CL304/1000),0,DC304*$CL304/1000)","v":0},null,{"$f":"IF(ISERROR(DE304*$CL304/1000),0,DE304*$CL304/1000)","v":0},null,{"$f":"IF(ISERROR(DG304*$CL304/1000),0,DG304*$CL304/1000)","v":0},null,{"$f":"IF(ISERROR(DI304*$CL304/1000),0,DI304*$CL304/1000)","v":0},null,{"$f":"IF(ISERROR(DK304*$CL304/1000),0,DK304*$CL304/1000)","v":0},null,{"$f":"IF(ISERROR(DM304*$CL304/1000),0,DM304*$CL304/1000)","v":0},null,0,null,0,null,0,null,0,null,0,null,{"$f":"IF(ISERROR(DY304*$CL304/1000),0,DY304*$CL304/1000)","v":0}]
[null,null,null,null,null,null,null,"",null,0,null,0,null,{"$f":"IF(ISERROR(M305*$D305/1000),0,M305*$D305/1000)","v":0},null,{"$f":"IF(ISERROR(O305*$D305/1000),0,O305*$D305/1000)","v":0},null,{"$f":"IF(ISERROR(Q305*$D305/1000),0,Q305*$D305/1000)","v":0},null,{"$f":"IF(ISERROR(S305*$D305/1000),0,S305*$D305/1000)","v":0},null,{"$f":"IF(ISERROR(U305*$D305/1000),0,U305*$D305/1000)","v":0},null,{"$f":"IF(ISERROR(W305*$D305/1000),0,W305*$D305/1000)","v":0},null,{"$f":"IF(ISERROR(Y305*$D305/1000),0,Y305*$D305/1000)","v":0},null,{"$f":"IF(ISERROR(AA305*$D305/1000),0,AA305*$D305/1000)","v":0},null,{"$f":"IF(ISERROR(AC305*$D305/1000),0,AC305*$D305/1000)","v":0},null,{"$f":"IF(ISERROR(AE305*$D305/1000),0,AE305*$D305/1000)","v":0},null,0,null,0,null,0,null,0,null,0,null,0,null,null,null,null,null,null,"",null,0,null,0,null,0,null,0,null,0,null,0,null,0,null,0,null,0,null,0,null,0,null,0,null,0,null,0,null,0,null,0,null,0,null,0,null,null,null,null,null,null,"",null,0,null,0,null,{"$f":"IF(ISERROR(CU305*$CL305/1000),0,CU305*$CL305/1000)","v":0},null,{"$f":"IF(ISERROR(CW305*$CL305/1000),0,CW305*$CL305/1000)","v":0},null,{"$f":"IF(ISERROR(CY305*$CL305/1000),0,CY305*$CL305/1000)","v":0},null,{"$f":"IF(ISERROR(DA305*$CL305/1000),0,DA305*$CL305/1000)","v":0},null,{"$f":"IF(ISERROR(DC305*$CL305/1000),0,DC305*$CL305/1000)","v":0},null,{"$f":"IF(ISERROR(DE305*$CL305/1000),0,DE305*$CL305/1000)","v":0},null,{"$f":"IF(ISERROR(DG305*$CL305/1000),0,DG305*$CL305/1000)","v":0},null,{"$f":"IF(ISERROR(DI305*$CL305/1000),0,DI305*$CL305/1000)","v":0},null,{"$f":"IF(ISERROR(DK305*$CL305/1000),0,DK305*$CL305/1000)","v":0},null,{"$f":"IF(ISERROR(DM305*$CL305/1000),0,DM305*$CL305/1000)","v":0},null,0,null,0,null,0,null,0,null,0,null,{"$f":"IF(ISERROR(DY305*$CL305/1000),0,DY305*$CL305/1000)","v":0}]
[null,null,null,null,null,null,null,"",null,0,null,0,null,{"$f":"IF(ISERROR(M306*$D306/1000),0,M306*$D306/1000)","v":0},null,{"$f":"IF(ISERROR(O306*$D306/1000),0,O306*$D306/1000)","v":0},null,{"$f":"IF(ISERROR(Q306*$D306/1000),0,Q306*$D306/1000)","v":0},null,{"$f":"IF(ISERROR(S306*$D306/1000),0,S306*$D306/1000)","v":0},null,{"$f":"IF(ISERROR(U306*$D306/1000),0,U306*$D306/1000)","v":0},null,{"$f":"IF(ISERROR(W306*$D306/1000),0,W306*$D306/1000)","v":0},null,{"$f":"IF(ISERROR(Y306*$D306/1000),0,Y306*$D306/1000)","v":0},null,{"$f":"IF(ISERROR(AA306*$D306/1000),0,AA306*$D306/1000)","v":0},null,{"$f":"IF(ISERROR(AC306*$D306/1000),0,AC306*$D306/1000)","v":0},null,{"$f":"IF(ISERROR(AE306*$D306/1000),0,AE306*$D306/1000)","v":0},null,0,null,0,null,0,null,0,null,0,null,0,null,null,null,null,null,null,"",null,0,null,0,null,0,null,0,null,0,null,0,null,0,null,0,null,0,null,0,null,0,null,0,null,0,null,0,null,0,null,0,null,0,null,0,null,null,null,null,null,null,"",null,0,null,0,null,{"$f":"IF(ISERROR(CU306*$CL306/1000),0,CU306*$CL306/1000)","v":0},null,{"$f":"IF(ISERROR(CW306*$CL306/1000),0,CW306*$CL306/1000)","v":0},null,{"$f":"IF(ISERROR(CY306*$CL306/1000),0,CY306*$CL306/1000)","v":0},null,{"$f":"IF(ISERROR(DA306*$CL306/1000),0,DA306*$CL306/1000)","v":0},null,{"$f":"IF(ISERROR(DC306*$CL306/1000),0,DC306*$CL306/1000)","v":0},null,{"$f":"IF(ISERROR(DE306*$CL306/1000),0,DE306*$CL306/1000)","v":0},null,{"$f":"IF(ISERROR(DG306*$CL306/1000),0,DG306*$CL306/1000)","v":0},null,{"$f":"IF(ISERROR(DI306*$CL306/1000),0,DI306*$CL306/1000)","v":0},null,{"$f":"IF(ISERROR(DK306*$CL306/1000),0,DK306*$CL306/1000)","v":0},null,{"$f":"IF(ISERROR(DM306*$CL306/1000),0,DM306*$CL306/1000)","v":0},null,0,null,0,null,0,null,0,null,0,null,{"$f":"IF(ISERROR(DY306*$CL306/1000),0,DY306*$CL306/1000)","v":0}]
[null,null,null,null,null,null,null,"",null,0,null,0,null,{"$f":"IF(ISERROR(M307*$D307/1000),0,M307*$D307/1000)","v":0},null,{"$f":"IF(ISERROR(O307*$D307/1000),0,O307*$D307/1000)","v":0},null,{"$f":"IF(ISERROR(Q307*$D307/1000),0,Q307*$D307/1000)","v":0},null,{"$f":"IF(ISERROR(S307*$D307/1000),0,S307*$D307/1000)","v":0},null,{"$f":"IF(ISERROR(U307*$D307/1000),0,U307*$D307/1000)","v":0},null,{"$f":"IF(ISERROR(W307*$D307/1000),0,W307*$D307/1000)","v":0},null,{"$f":"IF(ISERROR(Y307*$D307/1000),0,Y307*$D307/1000)","v":0},null,{"$f":"IF(ISERROR(AA307*$D307/1000),0,AA307*$D307/1000)","v":0},null,{"$f":"IF(ISERROR(AC307*$D307/1000),0,AC307*$D307/1000)","v":0},null,{"$f":"IF(ISERROR(AE307*$D307/1000),0,AE307*$D307/1000)","v":0},null,0,null,0,null,0,null,0,null,0,null,0,null,null,null,null,null,null,"",null,0,null,0,null,0,null,0,null,0,null,0,null,0,null,0,null,0,null,0,null,0,null,0,null,0,null,0,null,0,null,0,null,0,null,0,null,null,null,null,null,null,"",null,0,null,0,null,{"$f":"IF(ISERROR(CU307*$CL307/1000),0,CU307*$CL307/1000)","v":0},null,{"$f":"IF(ISERROR(CW307*$CL307/1000),0,CW307*$CL307/1000)","v":0},null,{"$f":"IF(ISERROR(CY307*$CL307/1000),0,CY307*$CL307/1000)","v":0},null,{"$f":"IF(ISERROR(DA307*$CL307/1000),0,DA307*$CL307/1000)","v":0},null,{"$f":"IF(ISERROR(DC307*$CL307/1000),0,DC307*$CL307/1000)","v":0},null,{"$f":"IF(ISERROR(DE307*$CL307/1000),0,DE307*$CL307/1000)","v":0},null,{"$f":"IF(ISERROR(DG307*$CL307/1000),0,DG307*$CL307/1000)","v":0},null,{"$f":"IF(ISERROR(DI307*$CL307/1000),0,DI307*$CL307/1000)","v":0},null,{"$f":"IF(ISERROR(DK307*$CL307/1000),0,DK307*$CL307/1000)","v":0},null,{"$f":"IF(ISERROR(DM307*$CL307/1000),0,DM307*$CL307/1000)","v":0},null,0,null,0,null,0,null,0,null,0,null,{"$f":"IF(ISERROR(DY307*$CL307/1000),0,DY307*$CL307/1000)","v":0}]
[null,null,null,null,null,null,null,"",null,0,null,0,null,{"$f":"IF(ISERROR(M308*$D308/1000),0,M308*$D308/1000)","v":0},null,{"$f":"IF(ISERROR(O308*$D308/1000),0,O308*$D308/1000)","v":0},null,{"$f":"IF(ISERROR(Q308*$D308/1000),0,Q308*$D308/1000)","v":0},null,{"$f":"IF(ISERROR(S308*$D308/1000),0,S308*$D308/1000)","v":0},null,{"$f":"IF(ISERROR(U308*$D308/1000),0,U308*$D308/1000)","v":0},null,{"$f":"IF(ISERROR(W308*$D308/1000),0,W308*$D308/1000)","v":0},null,{"$f":"IF(ISERROR(Y308*$D308/1000),0,Y308*$D308/1000)","v":0},null,{"$f":"IF(ISERROR(AA308*$D308/1000),0,AA308*$D308/1000)","v":0},null,{"$f":"IF(ISERROR(AC308*$D308/1000),0,AC308*$D308/1000)","v":0},null,{"$f":"IF(ISERROR(AE308*$D308/1000),0,AE308*$D308/1000)","v":0},null,0,null,0,null,0,null,0,null,0,null,0,null,null,null,null,null,null,"",null,0,null,0,null,0,null,0,null,0,null,0,null,0,null,0,null,0,null,0,null,0,null,0,null,0,null,0,null,0,null,0,null,0,null,0,null,null,null,null,null,null,"",null,0,null,0,null,{"$f":"IF(ISERROR(CU308*$CL308/1000),0,CU308*$CL308/1000)","v":0},null,{"$f":"IF(ISERROR(CW308*$CL308/1000),0,CW308*$CL308/1000)","v":0},null,{"$f":"IF(ISERROR(CY308*$CL308/1000),0,CY308*$CL308/1000)","v":0},null,{"$f":"IF(ISERROR(DA308*$CL308/1000),0,DA308*$CL308/1000)","v":0},null,{"$f":"IF(ISERROR(DC308*$CL308/1000),0,DC308*$CL308/1000)","v":0},null,{"$f":"IF(ISERROR(DE308*$CL308/1000),0,DE308*$CL308/1000)","v":0},null,{"$f":"IF(ISERROR(DG308*$CL308/1000),0,DG308*$CL308/1000)","v":0},null,{"$f":"IF(ISERROR(DI308*$CL308/1000),0,DI308*$CL308/1000)","v":0},null,{"$f":"IF(ISERROR(DK308*$CL308/1000),0,DK308*$CL308/1000)","v":0},null,{"$f":"IF(ISERROR(DM308*$CL308/1000),0,DM308*$CL308/1000)","v":0},null,0,null,0,null,0,null,0,null,0,null,{"$f":"IF(ISERROR(DY308*$CL308/1000),0,DY308*$CL308/1000)","v":0}]
[null,null,null,null,null,null,null,"",null,0,null,0,null,{"$f":"IF(ISERROR(M309*$D309/1000),0,M309*$D309/1000)","v":0},null,{"$f":"IF(ISERROR(O309*$D309/1000),0,O309*$D309/1000)","v":0},null,{"$f":"IF(ISERROR(Q309*$D309/1000),0,Q309*$D309/1000)","v":0},null,{"$f":"IF(ISERROR(S309*$D309/1000),0,S309*$D309/1000)","v":0},null,{"$f":"IF(ISERROR(U309*$D309/1000),0,U309*$D309/1000)","v":0},null,{"$f":"IF(ISERROR(W309*$D309/1000),0,W309*$D309/1000)","v":0},null,{"$f":"IF(ISERROR(Y309*$D309/1000),0,Y309*$D309/1000)","v":0},null,{"$f":"IF(ISERROR(AA309*$D309/1000),0,AA309*$D309/1000)","v":0},null,{"$f":"IF(ISERROR(AC309*$D309/1000),0,AC309*$D309/1000)","v":0},null,{"$f":"IF(ISERROR(AE309*$D309/1000),0,AE309*$D309/1000)","v":0},null,0,null,0,null,0,null,0,null,0,null,0,null,null,null,null,null,null,"",null,0,null,0,null,0,null,0,null,0,null,0,null,0,null,0,null,0,null,0,null,0,null,0,null,0,null,0,null,0,null,0,null,0,null,0,null,null,null,null,null,null,"",null,0,null,0,null,{"$f":"IF(ISERROR(CU309*$CL309/1000),0,CU309*$CL309/1000)","v":0},null,{"$f":"IF(ISERROR(CW309*$CL309/1000),0,CW309*$CL309/1000)","v":0},null,{"$f":"IF(ISERROR(CY309*$CL309/1000),0,CY309*$CL309/1000)","v":0},null,{"$f":"IF(ISERROR(DA309*$CL309/1000),0,DA309*$CL309/1000)","v":0},null,{"$f":"IF(ISERROR(DC309*$CL309/1000),0,DC309*$CL309/1000)","v":0},null,{"$f":"IF(ISERROR(DE309*$CL309/1000),0,DE309*$CL309/1000)","v":0},null,{"$f":"IF(ISERROR(DG309*$CL309/1000),0,DG309*$CL309/1000)","v":0},null,{"$f":"IF(ISERROR(DI309*$CL309/1000),0,DI309*$CL309/1000)","v":0},null,{"$f":"IF(ISERROR(DK309*$CL309/1000),0,DK309*$CL309/1000)","v":0},null,{"$f":"IF(ISERROR(DM309*$CL309/1000),0,DM309*$CL309/1000)","v":0},null,0,null,0,null,0,null,0,null,0,null,{"$f":"IF(ISERROR(DY309*$CL309/1000),0,DY309*$CL309/1000)","v":0}]
[null,null,null,null,null,null,null,"",null,0,null,0,null,{"$f":"IF(ISERROR(M310*$D310/1000),0,M310*$D310/1000)","v":0},null,{"$f":"IF(ISERROR(O310*$D310/1000),0,O310*$D310/1000)","v":0},null,{"$f":"IF(ISERROR(Q310*$D310/1000),0,Q310*$D310/1000)","v":0},null,{"$f":"IF(ISERROR(S310*$D310/1000),0,S310*$D310/1000)","v":0},null,{"$f":"IF(ISERROR(U310*$D310/1000),0,U310*$D310/1000)","v":0},null,{"$f":"IF(ISERROR(W310*$D310/1000),0,W310*$D310/1000)","v":0},null,{"$f":"IF(ISERROR(Y310*$D310/1000),0,Y310*$D310/1000)","v":0},null,{"$f":"IF(ISERROR(AA310*$D310/1000),0,AA310*$D310/1000)","v":0},null,{"$f":"IF(ISERROR(AC310*$D310/1000),0,AC310*$D310/1000)","v":0},null,{"$f":"IF(ISERROR(AE310*$D310/1000),0,AE310*$D310/1000)","v":0},null,0,null,0,null,0,null,0,null,0,null,0,null,null,null,null,null,null,"",null,0,null,0,null,0,null,0,null,0,null,0,null,0,null,0,null,0,null,0,null,0,null,0,null,0,null,0,null,0,null,0,null,0,null,0,null,null,null,null,null,null,"",null,0,null,0,null,{"$f":"IF(ISERROR(CU310*$CL310/1000),0,CU310*$CL310/1000)","v":0},null,{"$f":"IF(ISERROR(CW310*$CL310/1000),0,CW310*$CL310/1000)","v":0},null,{"$f":"IF(ISERROR(CY310*$CL310/1000),0,CY310*$CL310/1000)","v":0},null,{"$f":"IF(ISERROR(DA310*$CL310/1000),0,DA310*$CL310/1000)","v":0},null,{"$f":"IF(ISERROR(DC310*$CL310/1000),0,DC310*$CL310/1000)","v":0},null,{"$f":"IF(ISERROR(DE310*$CL310/1000),0,DE310*$CL310/1000)","v":0},null,{"$f":"IF(ISERROR(DG310*$CL310/1000),0,DG310*$CL310/1000)","v":0},null,{"$f":"IF(ISERROR(DI310*$CL310/1000),0,DI310*$CL310/1000)","v":0},null,{"$f":"IF(ISERROR(DK310*$CL310/1000),0,DK310*$CL310/1000)","v":0},null,{"$f":"IF(ISERROR(DM310*$CL310/1000),0,DM310*$CL310/1000)","v":0},null,0,null,0,null,0,null,0,null,0,null,{"$f":"IF(ISERROR(DY310*$CL310/1000),0,DY310*$CL310/1000)","v":0}]
[null,null,null,null,null,null,null,"",null,0,null,0,null,{"$f":"IF(ISERROR(M311*$D311/1000),0,M311*$D311/1000)","v":0},null,{"$f":"IF(ISERROR(O311*$D311/1000),0,O311*$D311/1000)","v":0},null,{"$f":"IF(ISERROR(Q311*$D311/1000),0,Q311*$D311/1000)","v":0},null,{"$f":"IF(ISERROR(S311*$D311/1000),0,S311*$D311/1000)","v":0},null,{"$f":"IF(ISERROR(U311*$D311/1000),0,U311*$D311/1000)","v":0},null,{"$f":"IF(ISERROR(W311*$D311/1000),0,W311*$D311/1000)","v":0},null,{"$f":"IF(ISERROR(Y311*$D311/1000),0,Y311*$D311/1000)","v":0},null,{"$f":"IF(ISERROR(AA311*$D311/1000),0,AA311*$D311/1000)","v":0},null,{"$f":"IF(ISERROR(AC311*$D311/1000),0,AC311*$D311/1000)","v":0},null,{"$f":"IF(ISERROR(AE311*$D311/1000),0,AE311*$D311/1000)","v":0},null,0,null,0,null,0,null,0,null,0,null,0,null,null,null,null,null,null,"",null,0,null,0,null,0,null,0,null,0,null,0,null,0,null,0,null,0,null,0,null,0,null,0,null,0,null,0,null,0,null,0,null,0,null,0,null,null,null,null,null,null,"",null,0,null,0,null,{"$f":"IF(ISERROR(CU311*$CL311/1000),0,CU311*$CL311/1000)","v":0},null,{"$f":"IF(ISERROR(CW311*$CL311/1000),0,CW311*$CL311/1000)","v":0},null,{"$f":"IF(ISERROR(CY311*$CL311/1000),0,CY311*$CL311/1000)","v":0},null,{"$f":"IF(ISERROR(DA311*$CL311/1000),0,DA311*$CL311/1000)","v":0},null,{"$f":"IF(ISERROR(DC311*$CL311/1000),0,DC311*$CL311/1000)","v":0},null,{"$f":"IF(ISERROR(DE311*$CL311/1000),0,DE311*$CL311/1000)","v":0},null,{"$f":"IF(ISERROR(DG311*$CL311/1000),0,DG311*$CL311/1000)","v":0},null,{"$f":"IF(ISERROR(DI311*$CL311/1000),0,DI311*$CL311/1000)","v":0},null,{"$f":"IF(ISERROR(DK311*$CL311/1000),0,DK311*$CL311/1000)","v":0},null,{"$f":"IF(ISERROR(DM311*$CL311/1000),0,DM311*$CL311/1000)","v":0},null,0,null,0,null,0,null,0,null,0,null,{"$f":"IF(ISERROR(DY311*$CL311/1000),0,DY311*$CL311/1000)","v":0}]
[null,null,null,null,null,null,null,"",null,0,null,0,null,{"$f":"IF(ISERROR(M312*$D312/1000),0,M312*$D312/1000)","v":0},null,{"$f":"IF(ISERROR(O312*$D312/1000),0,O312*$D312/1000)","v":0},null,{"$f":"IF(ISERROR(Q312*$D312/1000),0,Q312*$D312/1000)","v":0},null,{"$f":"IF(ISERROR(S312*$D312/1000),0,S312*$D312/1000)","v":0},null,{"$f":"IF(ISERROR(U312*$D312/1000),0,U312*$D312/1000)","v":0},null,{"$f":"IF(ISERROR(W312*$D312/1000),0,W312*$D312/1000)","v":0},null,{"$f":"IF(ISERROR(Y312*$D312/1000),0,Y312*$D312/1000)","v":0},null,{"$f":"IF(ISERROR(AA312*$D312/1000),0,AA312*$D312/1000)","v":0},null,{"$f":"IF(ISERROR(AC312*$D312/1000),0,AC312*$D312/1000)","v":0},null,{"$f":"IF(ISERROR(AE312*$D312/1000),0,AE312*$D312/1000)","v":0},null,0,null,0,null,0,null,0,null,0,null,0,null,null,null,null,null,null,"",null,0,null,0,null,0,null,0,null,0,null,0,null,0,null,0,null,0,null,0,null,0,null,0,null,0,null,0,null,0,null,0,null,0,null,0,null,null,null,null,null,null,"",null,0,null,0,null,{"$f":"IF(ISERROR(CU312*$CL312/1000),0,CU312*$CL312/1000)","v":0},null,{"$f":"IF(ISERROR(CW312*$CL312/1000),0,CW312*$CL312/1000)","v":0},null,{"$f":"IF(ISERROR(CY312*$CL312/1000),0,CY312*$CL312/1000)","v":0},null,{"$f":"IF(ISERROR(DA312*$CL312/1000),0,DA312*$CL312/1000)","v":0},null,{"$f":"IF(ISERROR(DC312*$CL312/1000),0,DC312*$CL312/1000)","v":0},null,{"$f":"IF(ISERROR(DE312*$CL312/1000),0,DE312*$CL312/1000)","v":0},null,{"$f":"IF(ISERROR(DG312*$CL312/1000),0,DG312*$CL312/1000)","v":0},null,{"$f":"IF(ISERROR(DI312*$CL312/1000),0,DI312*$CL312/1000)","v":0},null,{"$f":"IF(ISERROR(DK312*$CL312/1000),0,DK312*$CL312/1000)","v":0},null,{"$f":"IF(ISERROR(DM312*$CL312/1000),0,DM312*$CL312/1000)","v":0},null,0,null,0,null,0,null,0,null,0,null,{"$f":"IF(ISERROR(DY312*$CL312/1000),0,DY312*$CL312/1000)","v":0}]
[null,null,null,null,null,null,null,"",null,0,null,0,null,{"$f":"IF(ISERROR(M313*$D313/1000),0,M313*$D313/1000)","v":0},null,{"$f":"IF(ISERROR(O313*$D313/1000),0,O313*$D313/1000)","v":0},null,{"$f":"IF(ISERROR(Q313*$D313/1000),0,Q313*$D313/1000)","v":0},null,{"$f":"IF(ISERROR(S313*$D313/1000),0,S313*$D313/1000)","v":0},null,{"$f":"IF(ISERROR(U313*$D313/1000),0,U313*$D313/1000)","v":0},null,{"$f":"IF(ISERROR(W313*$D313/1000),0,W313*$D313/1000)","v":0},null,{"$f":"IF(ISERROR(Y313*$D313/1000),0,Y313*$D313/1000)","v":0},null,{"$f":"IF(ISERROR(AA313*$D313/1000),0,AA313*$D313/1000)","v":0},null,{"$f":"IF(ISERROR(AC313*$D313/1000),0,AC313*$D313/1000)","v":0},null,{"$f":"IF(ISERROR(AE313*$D313/1000),0,AE313*$D313/1000)","v":0},null,0,null,0,null,0,null,0,null,0,null,0,null,null,null,null,null,null,"",null,0,null,0,null,0,null,0,null,0,null,0,null,0,null,0,null,0,null,0,null,0,null,0,null,0,null,0,null,0,null,0,null,0,null,0,null,null,null,null,null,null,"",null,0,null,0,null,{"$f":"IF(ISERROR(CU313*$CL313/1000),0,CU313*$CL313/1000)","v":0},null,{"$f":"IF(ISERROR(CW313*$CL313/1000),0,CW313*$CL313/1000)","v":0},null,{"$f":"IF(ISERROR(CY313*$CL313/1000),0,CY313*$CL313/1000)","v":0},null,{"$f":"IF(ISERROR(DA313*$CL313/1000),0,DA313*$CL313/1000)","v":0},null,{"$f":"IF(ISERROR(DC313*$CL313/1000),0,DC313*$CL313/1000)","v":0},null,{"$f":"IF(ISERROR(DE313*$CL313/1000),0,DE313*$CL313/1000)","v":0},null,{"$f":"IF(ISERROR(DG313*$CL313/1000),0,DG313*$CL313/1000)","v":0},null,{"$f":"IF(ISERROR(DI313*$CL313/1000),0,DI313*$CL313/1000)","v":0},null,{"$f":"IF(ISERROR(DK313*$CL313/1000),0,DK313*$CL313/1000)","v":0},null,{"$f":"IF(ISERROR(DM313*$CL313/1000),0,DM313*$CL313/1000)","v":0},null,0,null,0,null,0,null,0,null,0,null,{"$f":"IF(ISERROR(DY313*$CL313/1000),0,DY313*$CL313/1000)","v":0}]
[null,null,null,null,null,null,null,"",null,0,null,0,null,{"$f":"IF(ISERROR(M314*$D314/1000),0,M314*$D314/1000)","v":0},null,{"$f":"IF(ISERROR(O314*$D314/1000),0,O314*$D314/1000)","v":0},null,{"$f":"IF(ISERROR(Q314*$D314/1000),0,Q314*$D314/1000)","v":0},null,{"$f":"IF(ISERROR(S314*$D314/1000),0,S314*$D314/1000)","v":0},null,{"$f":"IF(ISERROR(U314*$D314/1000),0,U314*$D314/1000)","v":0},null,{"$f":"IF(ISERROR(W314*$D314/1000),0,W314*$D314/1000)","v":0},null,{"$f":"IF(ISERROR(Y314*$D314/1000),0,Y314*$D314/1000)","v":0},null,{"$f":"IF(ISERROR(AA314*$D314/1000),0,AA314*$D314/1000)","v":0},null,{"$f":"IF(ISERROR(AC314*$D314/1000),0,AC314*$D314/1000)","v":0},null,{"$f":"IF(ISERROR(AE314*$D314/1000),0,AE314*$D314/1000)","v":0},null,0,null,0,null,0,null,0,null,0,null,0,null,null,null,null,null,null,"",null,0,null,0,null,0,null,0,null,0,null,0,null,0,null,0,null,0,null,0,null,0,null,0,null,0,null,0,null,0,null,0,null,0,null,0,null,null,null,null,null,null,"",null,0,null,0,null,{"$f":"IF(ISERROR(CU314*$CL314/1000),0,CU314*$CL314/1000)","v":0},null,{"$f":"IF(ISERROR(CW314*$CL314/1000),0,CW314*$CL314/1000)","v":0},null,{"$f":"IF(ISERROR(CY314*$CL314/1000),0,CY314*$CL314/1000)","v":0},null,{"$f":"IF(ISERROR(DA314*$CL314/1000),0,DA314*$CL314/1000)","v":0},null,{"$f":"IF(ISERROR(DC314*$CL314/1000),0,DC314*$CL314/1000)","v":0},null,{"$f":"IF(ISERROR(DE314*$CL314/1000),0,DE314*$CL314/1000)","v":0},null,{"$f":"IF(ISERROR(DG314*$CL314/1000),0,DG314*$CL314/1000)","v":0},null,{"$f":"IF(ISERROR(DI314*$CL314/1000),0,DI314*$CL314/1000)","v":0},null,{"$f":"IF(ISERROR(DK314*$CL314/1000),0,DK314*$CL314/1000)","v":0},null,{"$f":"IF(ISERROR(DM314*$CL314/1000),0,DM314*$CL314/1000)","v":0},null,0,null,0,null,0,null,0,null,0,null,{"$f":"IF(ISERROR(DY314*$CL314/1000),0,DY314*$CL314/1000)","v":0}]
[null,null,null,null,null,null,null,"",null,0,null,0,null,{"$f":"IF(ISERROR(M315*$D315/1000),0,M315*$D315/1000)","v":0},null,{"$f":"IF(ISERROR(O315*$D315/1000),0,O315*$D315/1000)","v":0},null,{"$f":"IF(ISERROR(Q315*$D315/1000),0,Q315*$D315/1000)","v":0},null,{"$f":"IF(ISERROR(S315*$D315/1000),0,S315*$D315/1000)","v":0},null,{"$f":"IF(ISERROR(U315*$D315/1000),0,U315*$D315/1000)","v":0},null,{"$f":"IF(ISERROR(W315*$D315/1000),0,W315*$D315/1000)","v":0},null,{"$f":"IF(ISERROR(Y315*$D315/1000),0,Y315*$D315/1000)","v":0},null,{"$f":"IF(ISERROR(AA315*$D315/1000),0,AA315*$D315/1000)","v":0},null,{"$f":"IF(ISERROR(AC315*$D315/1000),0,AC315*$D315/1000)","v":0},null,{"$f":"IF(ISERROR(AE315*$D315/1000),0,AE315*$D315/1000)","v":0},null,0,null,0,null,0,null,0,null,0,null,0,null,null,null,null,null,null,"",null,0,null,0,null,0,null,0,null,0,null,0,null,0,null,0,null,0,null,0,null,0,null,0,null,0,null,0,null,0,null,0,null,0,null,0,null,null,null,null,null,null,"",null,0,null,0,null,{"$f":"IF(ISERROR(CU315*$CL315/1000),0,CU315*$CL315/1000)","v":0},null,{"$f":"IF(ISERROR(CW315*$CL315/1000),0,CW315*$CL315/1000)","v":0},null,{"$f":"IF(ISERROR(CY315*$CL315/1000),0,CY315*$CL315/1000)","v":0},null,{"$f":"IF(ISERROR(DA315*$CL315/1000),0,DA315*$CL315/1000)","v":0},null,{"$f":"IF(ISERROR(DC315*$CL315/1000),0,DC315*$CL315/1000)","v":0},null,{"$f":"IF(ISERROR(DE315*$CL315/1000),0,DE315*$CL315/1000)","v":0},null,{"$f":"IF(ISERROR(DG315*$CL315/1000),0,DG315*$CL315/1000)","v":0},null,{"$f":"IF(ISERROR(DI315*$CL315/1000),0,DI315*$CL315/1000)","v":0},null,{"$f":"IF(ISERROR(DK315*$CL315/1000),0,DK315*$CL315/1000)","v":0},null,{"$f":"IF(ISERROR(DM315*$CL315/1000),0,DM315*$CL315/1000)","v":0},null,0,null,0,null,0,null,0,null,0,null,{"$f":"IF(ISERROR(DY315*$CL315/1000),0,DY315*$CL315/1000)","v":0}]
[null,null,null,null,null,null,null,"",null,0,null,0,null,{"$f":"IF(ISERROR(M316*$D316/1000),0,M316*$D316/1000)","v":0},null,{"$f":"IF(ISERROR(O316*$D316/1000),0,O316*$D316/1000)","v":0},null,{"$f":"IF(ISERROR(Q316*$D316/1000),0,Q316*$D316/1000)","v":0},null,{"$f":"IF(ISERROR(S316*$D316/1000),0,S316*$D316/1000)","v":0},null,{"$f":"IF(ISERROR(U316*$D316/1000),0,U316*$D316/1000)","v":0},null,{"$f":"IF(ISERROR(W316*$D316/1000),0,W316*$D316/1000)","v":0},null,{"$f":"IF(ISERROR(Y316*$D316/1000),0,Y316*$D316/1000)","v":0},null,{"$f":"IF(ISERROR(AA316*$D316/1000),0,AA316*$D316/1000)","v":0},null,{"$f":"IF(ISERROR(AC316*$D316/1000),0,AC316*$D316/1000)","v":0},null,{"$f":"IF(ISERROR(AE316*$D316/1000),0,AE316*$D316/1000)","v":0},null,0,null,0,null,0,null,0,null,0,null,0,null,null,null,null,null,null,"",null,0,null,0,null,0,null,0,null,0,null,0,null,0,null,0,null,0,null,0,null,0,null,0,null,0,null,0,null,0,null,0,null,0,null,0,null,null,null,null,null,null,"",null,0,null,0,null,{"$f":"IF(ISERROR(CU316*$CL316/1000),0,CU316*$CL316/1000)","v":0},null,{"$f":"IF(ISERROR(CW316*$CL316/1000),0,CW316*$CL316/1000)","v":0},null,{"$f":"IF(ISERROR(CY316*$CL316/1000),0,CY316*$CL316/1000)","v":0},null,{"$f":"IF(ISERROR(DA316*$CL316/1000),0,DA316*$CL316/1000)","v":0},null,{"$f":"IF(ISERROR(DC316*$CL316/1000),0,DC316*$CL316/1000)","v":0},null,{"$f":"IF(ISERROR(DE316*$CL316/1000),0,DE316*$CL316/1000)","v":0},null,{"$f":"IF(ISERROR(DG316*$CL316/1000),0,DG316*$CL316/1000)","v":0},null,{"$f":"IF(ISERROR(DI316*$CL316/1000),0,DI316*$CL316/1000)","v":0},null,{"$f":"IF(ISERROR(DK316*$CL316/1000),0,DK316*$CL316/1000)","v":0},null,{"$f":"IF(ISERROR(DM316*$CL316/1000),0,DM316*$CL316/1000)","v":0},null,0,null,0,null,0,null,0,null,0,null,{"$f":"IF(ISERROR(DY316*$CL316/1000),0,DY316*$CL316/1000)","v":0}]
[null,null,null,null,null,null,null,"",null,0,null,0,null,{"$f":"IF(ISERROR(M317*$D317/1000),0,M317*$D317/1000)","v":0},null,{"$f":"IF(ISERROR(O317*$D317/1000),0,O317*$D317/1000)","v":0},null,{"$f":"IF(ISERROR(Q317*$D317/1000),0,Q317*$D317/1000)","v":0},null,{"$f":"IF(ISERROR(S317*$D317/1000),0,S317*$D317/1000)","v":0},null,{"$f":"IF(ISERROR(U317*$D317/1000),0,U317*$D317/1000)","v":0},null,{"$f":"IF(ISERROR(W317*$D317/1000),0,W317*$D317/1000)","v":0},null,{"$f":"IF(ISERROR(Y317*$D317/1000),0,Y317*$D317/1000)","v":0},null,{"$f":"IF(ISERROR(AA317*$D317/1000),0,AA317*$D317/1000)","v":0},null,{"$f":"IF(ISERROR(AC317*$D317/1000),0,AC317*$D317/1000)","v":0},null,{"$f":"IF(ISERROR(AE317*$D317/1000),0,AE317*$D317/1000)","v":0},null,0,null,0,null,0,null,0,null,0,null,0,null,null,null,null,null,null,"",null,0,null,0,null,0,null,0,null,0,null,0,null,0,null,0,null,0,null,0,null,0,null,0,null,0,null,0,null,0,null,0,null,0,null,0,null,null,null,null,null,null,"",null,0,null,0,null,{"$f":"IF(ISERROR(CU317*$CL317/1000),0,CU317*$CL317/1000)","v":0},null,{"$f":"IF(ISERROR(CW317*$CL317/1000),0,CW317*$CL317/1000)","v":0},null,{"$f":"IF(ISERROR(CY317*$CL317/1000),0,CY317*$CL317/1000)","v":0},null,{"$f":"IF(ISERROR(DA317*$CL317/1000),0,DA317*$CL317/1000)","v":0},null,{"$f":"IF(ISERROR(DC317*$CL317/1000),0,DC317*$CL317/1000)","v":0},null,{"$f":"IF(ISERROR(DE317*$CL317/1000),0,DE317*$CL317/1000)","v":0},null,{"$f":"IF(ISERROR(DG317*$CL317/1000),0,DG317*$CL317/1000)","v":0},null,{"$f":"IF(ISERROR(DI317*$CL317/1000),0,DI317*$CL317/1000)","v":0},null,{"$f":"IF(ISERROR(DK317*$CL317/1000),0,DK317*$CL317/1000)","v":0},null,{"$f":"IF(ISERROR(DM317*$CL317/1000),0,DM317*$CL317/1000)","v":0},null,0,null,0,null,0,null,0,null,0,null,{"$f":"IF(ISERROR(DY317*$CL317/1000),0,DY317*$CL317/1000)","v":0}]
[null,null,null,null,null,null,null,"",null,0,null,0,null,{"$f":"IF(ISERROR(M318*$D318/1000),0,M318*$D318/1000)","v":0},null,{"$f":"IF(ISERROR(O318*$D318/1000),0,O318*$D318/1000)","v":0},null,{"$f":"IF(ISERROR(Q318*$D318/1000),0,Q318*$D318/1000)","v":0},null,{"$f":"IF(ISERROR(S318*$D318/1000),0,S318*$D318/1000)","v":0},null,{"$f":"IF(ISERROR(U318*$D318/1000),0,U318*$D318/1000)","v":0},null,{"$f":"IF(ISERROR(W318*$D318/1000),0,W318*$D318/1000)","v":0},null,{"$f":"IF(ISERROR(Y318*$D318/1000),0,Y318*$D318/1000)","v":0},null,{"$f":"IF(ISERROR(AA318*$D318/1000),0,AA318*$D318/1000)","v":0},null,{"$f":"IF(ISERROR(AC318*$D318/1000),0,AC318*$D318/1000)","v":0},null,{"$f":"IF(ISERROR(AE318*$D318/1000),0,AE318*$D318/1000)","v":0},null,0,null,0,null,0,null,0,null,0,null,0,null,null,null,null,null,null,"",null,0,null,0,null,0,null,0,null,0,null,0,null,0,null,0,null,0,null,0,null,0,null,0,null,0,null,0,null,0,null,0,null,0,null,0,null,null,null,null,null,null,"",null,0,null,0,null,{"$f":"IF(ISERROR(CU318*$CL318/1000),0,CU318*$CL318/1000)","v":0},null,{"$f":"IF(ISERROR(CW318*$CL318/1000),0,CW318*$CL318/1000)","v":0},null,{"$f":"IF(ISERROR(CY318*$CL318/1000),0,CY318*$CL318/1000)","v":0},null,{"$f":"IF(ISERROR(DA318*$CL318/1000),0,DA318*$CL318/1000)","v":0},null,{"$f":"IF(ISERROR(DC318*$CL318/1000),0,DC318*$CL318/1000)","v":0},null,{"$f":"IF(ISERROR(DE318*$CL318/1000),0,DE318*$CL318/1000)","v":0},null,{"$f":"IF(ISERROR(DG318*$CL318/1000),0,DG318*$CL318/1000)","v":0},null,{"$f":"IF(ISERROR(DI318*$CL318/1000),0,DI318*$CL318/1000)","v":0},null,{"$f":"IF(ISERROR(DK318*$CL318/1000),0,DK318*$CL318/1000)","v":0},null,{"$f":"IF(ISERROR(DM318*$CL318/1000),0,DM318*$CL318/1000)","v":0},null,0,null,0,null,0,null,0,null,0,null,{"$f":"IF(ISERROR(DY318*$CL318/1000),0,DY318*$CL318/1000)","v":0}]
[null,null,null,null,null,null,null,"",null,0,null,0,null,{"$f":"IF(ISERROR(M319*$D319/1000),0,M319*$D319/1000)","v":0},null,{"$f":"IF(ISERROR(O319*$D319/1000),0,O319*$D319/1000)","v":0},null,{"$f":"IF(ISERROR(Q319*$D319/1000),0,Q319*$D319/1000)","v":0},null,{"$f":"IF(ISERROR(S319*$D319/1000),0,S319*$D319/1000)","v":0},null,{"$f":"IF(ISERROR(U319*$D319/1000),0,U319*$D319/1000)","v":0},null,{"$f":"IF(ISERROR(W319*$D319/1000),0,W319*$D319/1000)","v":0},null,{"$f":"IF(ISERROR(Y319*$D319/1000),0,Y319*$D319/1000)","v":0},null,{"$f":"IF(ISERROR(AA319*$D319/1000),0,AA319*$D319/1000)","v":0},null,{"$f":"IF(ISERROR(AC319*$D319/1000),0,AC319*$D319/1000)","v":0},null,{"$f":"IF(ISERROR(AE319*$D319/1000),0,AE319*$D319/1000)","v":0},null,0,null,0,null,0,null,0,null,0,null,0,null,null,null,null,null,null,"",null,0,null,0,null,0,null,0,null,0,null,0,null,0,null,0,null,0,null,0,null,0,null,0,null,0,null,0,null,0,null,0,null,0,null,0,null,null,null,null,null,null,"",null,0,null,0,null,{"$f":"IF(ISERROR(CU319*$CL319/1000),0,CU319*$CL319/1000)","v":0},null,{"$f":"IF(ISERROR(CW319*$CL319/1000),0,CW319*$CL319/1000)","v":0},null,{"$f":"IF(ISERROR(CY319*$CL319/1000),0,CY319*$CL319/1000)","v":0},null,{"$f":"IF(ISERROR(DA319*$CL319/1000),0,DA319*$CL319/1000)","v":0},null,{"$f":"IF(ISERROR(DC319*$CL319/1000),0,DC319*$CL319/1000)","v":0},null,{"$f":"IF(ISERROR(DE319*$CL319/1000),0,DE319*$CL319/1000)","v":0},null,{"$f":"IF(ISERROR(DG319*$CL319/1000),0,DG319*$CL319/1000)","v":0},null,{"$f":"IF(ISERROR(DI319*$CL319/1000),0,DI319*$CL319/1000)","v":0},null,{"$f":"IF(ISERROR(DK319*$CL319/1000),0,DK319*$CL319/1000)","v":0},null,{"$f":"IF(ISERROR(DM319*$CL319/1000),0,DM319*$CL319/1000)","v":0},null,0,null,0,null,0,null,0,null,0,null,{"$f":"IF(ISERROR(DY319*$CL319/1000),0,DY319*$CL319/1000)","v":0}]
[null,null,null,null,null,null,null,"",null,0,null,0,null,{"$f":"IF(ISERROR(M320*$D320/1000),0,M320*$D320/1000)","v":0},null,{"$f":"IF(ISERROR(O320*$D320/1000),0,O320*$D320/1000)","v":0},null,{"$f":"IF(ISERROR(Q320*$D320/1000),0,Q320*$D320/1000)","v":0},null,{"$f":"IF(ISERROR(S320*$D320/1000),0,S320*$D320/1000)","v":0},null,{"$f":"IF(ISERROR(U320*$D320/1000),0,U320*$D320/1000)","v":0},null,{"$f":"IF(ISERROR(W320*$D320/1000),0,W320*$D320/1000)","v":0},null,{"$f":"IF(ISERROR(Y320*$D320/1000),0,Y320*$D320/1000)","v":0},null,{"$f":"IF(ISERROR(AA320*$D320/1000),0,AA320*$D320/1000)","v":0},null,{"$f":"IF(ISERROR(AC320*$D320/1000),0,AC320*$D320/1000)","v":0},null,{"$f":"IF(ISERROR(AE320*$D320/1000),0,AE320*$D320/1000)","v":0},null,0,null,0,null,0,null,0,null,0,null,0,null,null,null,null,null,null,"",null,0,null,0,null,0,null,0,null,0,null,0,null,0,null,0,null,0,null,0,null,0,null,0,null,0,null,0,null,0,null,0,null,0,null,0,null,null,null,null,null,null,"",null,0,null,0,null,{"$f":"IF(ISERROR(CU320*$CL320/1000),0,CU320*$CL320/1000)","v":0},null,{"$f":"IF(ISERROR(CW320*$CL320/1000),0,CW320*$CL320/1000)","v":0},null,{"$f":"IF(ISERROR(CY320*$CL320/1000),0,CY320*$CL320/1000)","v":0},null,{"$f":"IF(ISERROR(DA320*$CL320/1000),0,DA320*$CL320/1000)","v":0},null,{"$f":"IF(ISERROR(DC320*$CL320/1000),0,DC320*$CL320/1000)","v":0},null,{"$f":"IF(ISERROR(DE320*$CL320/1000),0,DE320*$CL320/1000)","v":0},null,{"$f":"IF(ISERROR(DG320*$CL320/1000),0,DG320*$CL320/1000)","v":0},null,{"$f":"IF(ISERROR(DI320*$CL320/1000),0,DI320*$CL320/1000)","v":0},null,{"$f":"IF(ISERROR(DK320*$CL320/1000),0,DK320*$CL320/1000)","v":0},null,{"$f":"IF(ISERROR(DM320*$CL320/1000),0,DM320*$CL320/1000)","v":0},null,0,null,0,null,0,null,0,null,0,null,{"$f":"IF(ISERROR(DY320*$CL320/1000),0,DY320*$CL320/1000)","v":0}]
[null,null,null,null,null,null,null,"",null,0,null,0,null,{"$f":"IF(ISERROR(M321*$D321/1000),0,M321*$D321/1000)","v":0},null,{"$f":"IF(ISERROR(O321*$D321/1000),0,O321*$D321/1000)","v":0},null,{"$f":"IF(ISERROR(Q321*$D321/1000),0,Q321*$D321/1000)","v":0},null,{"$f":"IF(ISERROR(S321*$D321/1000),0,S321*$D321/1000)","v":0},null,{"$f":"IF(ISERROR(U321*$D321/1000),0,U321*$D321/1000)","v":0},null,{"$f":"IF(ISERROR(W321*$D321/1000),0,W321*$D321/1000)","v":0},null,{"$f":"IF(ISERROR(Y321*$D321/1000),0,Y321*$D321/1000)","v":0},null,{"$f":"IF(ISERROR(AA321*$D321/1000),0,AA321*$D321/1000)","v":0},null,{"$f":"IF(ISERROR(AC321*$D321/1000),0,AC321*$D321/1000)","v":0},null,{"$f":"IF(ISERROR(AE321*$D321/1000),0,AE321*$D321/1000)","v":0},null,0,null,0,null,0,null,0,null,0,null,0,null,null,null,null,null,null,"",null,0,null,0,null,0,null,0,null,0,null,0,null,0,null,0,null,0,null,0,null,0,null,0,null,0,null,0,null,0,null,0,null,0,null,0,null,null,null,null,null,null,"",null,0,null,0,null,{"$f":"IF(ISERROR(CU321*$CL321/1000),0,CU321*$CL321/1000)","v":0},null,{"$f":"IF(ISERROR(CW321*$CL321/1000),0,CW321*$CL321/1000)","v":0},null,{"$f":"IF(ISERROR(CY321*$CL321/1000),0,CY321*$CL321/1000)","v":0},null,{"$f":"IF(ISERROR(DA321*$CL321/1000),0,DA321*$CL321/1000)","v":0},null,{"$f":"IF(ISERROR(DC321*$CL321/1000),0,DC321*$CL321/1000)","v":0},null,{"$f":"IF(ISERROR(DE321*$CL321/1000),0,DE321*$CL321/1000)","v":0},null,{"$f":"IF(ISERROR(DG321*$CL321/1000),0,DG321*$CL321/1000)","v":0},null,{"$f":"IF(ISERROR(DI321*$CL321/1000),0,DI321*$CL321/1000)","v":0},null,{"$f":"IF(ISERROR(DK321*$CL321/1000),0,DK321*$CL321/1000)","v":0},null,{"$f":"IF(ISERROR(DM321*$CL321/1000),0,DM321*$CL321/1000)","v":0},null,0,null,0,null,0,null,0,null,0,null,{"$f":"IF(ISERROR(DY321*$CL321/1000),0,DY321*$CL321/1000)","v":0}]
[null,null,null,null,null,null,null,"",null,0,null,0,null,{"$f":"IF(ISERROR(M322*$D322/1000),0,M322*$D322/1000)","v":0},null,{"$f":"IF(ISERROR(O322*$D322/1000),0,O322*$D322/1000)","v":0},null,{"$f":"IF(ISERROR(Q322*$D322/1000),0,Q322*$D322/1000)","v":0},null,{"$f":"IF(ISERROR(S322*$D322/1000),0,S322*$D322/1000)","v":0},null,{"$f":"IF(ISERROR(U322*$D322/1000),0,U322*$D322/1000)","v":0},null,{"$f":"IF(ISERROR(W322*$D322/1000),0,W322*$D322/1000)","v":0},null,{"$f":"IF(ISERROR(Y322*$D322/1000),0,Y322*$D322/1000)","v":0},null,{"$f":"IF(ISERROR(AA322*$D322/1000),0,AA322*$D322/1000)","v":0},null,{"$f":"IF(ISERROR(AC322*$D322/1000),0,AC322*$D322/1000)","v":0},null,{"$f":"IF(ISERROR(AE322*$D322/1000),0,AE322*$D322/1000)","v":0},null,0,null,0,null,0,null,0,null,0,null,0,null,null,null,null,null,null,"",null,0,null,0,null,0,null,0,null,0,null,0,null,0,null,0,null,0,null,0,null,0,null,0,null,0,null,0,null,0,null,0,null,0,null,0,null,null,null,null,null,null,"",null,0,null,0,null,{"$f":"IF(ISERROR(CU322*$CL322/1000),0,CU322*$CL322/1000)","v":0},null,{"$f":"IF(ISERROR(CW322*$CL322/1000),0,CW322*$CL322/1000)","v":0},null,{"$f":"IF(ISERROR(CY322*$CL322/1000),0,CY322*$CL322/1000)","v":0},null,{"$f":"IF(ISERROR(DA322*$CL322/1000),0,DA322*$CL322/1000)","v":0},null,{"$f":"IF(ISERROR(DC322*$CL322/1000),0,DC322*$CL322/1000)","v":0},null,{"$f":"IF(ISERROR(DE322*$CL322/1000),0,DE322*$CL322/1000)","v":0},null,{"$f":"IF(ISERROR(DG322*$CL322/1000),0,DG322*$CL322/1000)","v":0},null,{"$f":"IF(ISERROR(DI322*$CL322/1000),0,DI322*$CL322/1000)","v":0},null,{"$f":"IF(ISERROR(DK322*$CL322/1000),0,DK322*$CL322/1000)","v":0},null,{"$f":"IF(ISERROR(DM322*$CL322/1000),0,DM322*$CL322/1000)","v":0},null,0,null,0,null,0,null,0,null,0,null,{"$f":"IF(ISERROR(DY322*$CL322/1000),0,DY322*$CL322/1000)","v":0}]
[null,"Novembre",null,null,null,null,null,"",null,0,null,0,null,{"$f":"IF(ISERROR(M323*$D323/1000),0,M323*$D323/1000)","v":0},null,{"$f":"IF(ISERROR(O323*$D323/1000),0,O323*$D323/1000)","v":0},null,{"$f":"IF(ISERROR(Q323*$D323/1000),0,Q323*$D323/1000)","v":0},null,{"$f":"IF(ISERROR(S323*$D323/1000),0,S323*$D323/1000)","v":0},null,{"$f":"IF(ISERROR(U323*$D323/1000),0,U323*$D323/1000)","v":0},null,{"$f":"IF(ISERROR(W323*$D323/1000),0,W323*$D323/1000)","v":0},null,{"$f":"IF(ISERROR(Y323*$D323/1000),0,Y323*$D323/1000)","v":0},null,{"$f":"IF(ISERROR(AA323*$D323/1000),0,AA323*$D323/1000)","v":0},null,{"$f":"IF(ISERROR(AC323*$D323/1000),0,AC323*$D323/1000)","v":0},null,{"$f":"IF(ISERROR(AE323*$D323/1000),0,AE323*$D323/1000)","v":0},null,0,null,0,null,0,null,0,null,0,null,0,null,null,null,null,null,null,"",null,0,null,0,null,0,null,0,null,0,null,0,null,0,null,0,null,0,null,0,null,0,null,0,null,0,null,0,null,0,null,0,null,0,null,0,null,null,null,null,null,null,"",null,0,null,0,null,{"$f":"IF(ISERROR(CU323*$CL323/1000),0,CU323*$CL323/1000)","v":0},null,{"$f":"IF(ISERROR(CW323*$CL323/1000),0,CW323*$CL323/1000)","v":0},null,{"$f":"IF(ISERROR(CY323*$CL323/1000),0,CY323*$CL323/1000)","v":0},null,{"$f":"IF(ISERROR(DA323*$CL323/1000),0,DA323*$CL323/1000)","v":0},null,{"$f":"IF(ISERROR(DC323*$CL323/1000),0,DC323*$CL323/1000)","v":0},null,{"$f":"IF(ISERROR(DE323*$CL323/1000),0,DE323*$CL323/1000)","v":0},null,{"$f":"IF(ISERROR(DG323*$CL323/1000),0,DG323*$CL323/1000)","v":0},null,{"$f":"IF(ISERROR(DI323*$CL323/1000),0,DI323*$CL323/1000)","v":0},null,{"$f":"IF(ISERROR(DK323*$CL323/1000),0,DK323*$CL323/1000)","v":0},null,{"$f":"IF(ISERROR(DM323*$CL323/1000),0,DM323*$CL323/1000)","v":0},null,0,null,0,null,0,null,0,null,0,null,{"$f":"IF(ISERROR(DY323*$CL323/1000),0,DY323*$CL323/1000)","v":0}]
[null,null,null,null,null,null,null,"",null,0,null,0,null,{"$f":"IF(ISERROR(M324*$D324/1000),0,M324*$D324/1000)","v":0},null,{"$f":"IF(ISERROR(O324*$D324/1000),0,O324*$D324/1000)","v":0},null,{"$f":"IF(ISERROR(Q324*$D324/1000),0,Q324*$D324/1000)","v":0},null,{"$f":"IF(ISERROR(S324*$D324/1000),0,S324*$D324/1000)","v":0},null,{"$f":"IF(ISERROR(U324*$D324/1000),0,U324*$D324/1000)","v":0},null,{"$f":"IF(ISERROR(W324*$D324/1000),0,W324*$D324/1000)","v":0},null,{"$f":"IF(ISERROR(Y324*$D324/1000),0,Y324*$D324/1000)","v":0},null,{"$f":"IF(ISERROR(AA324*$D324/1000),0,AA324*$D324/1000)","v":0},null,{"$f":"IF(ISERROR(AC324*$D324/1000),0,AC324*$D324/1000)","v":0},null,{"$f":"IF(ISERROR(AE324*$D324/1000),0,AE324*$D324/1000)","v":0},null,0,null,0,null,0,null,0,null,0,null,0,null,null,null,null,null,null,"",null,0,null,0,null,0,null,0,null,0,null,0,null,0,null,0,null,0,null,0,null,0,null,0,null,0,null,0,null,0,null,0,null,0,null,0,null,null,null,null,null,null,"",null,0,null,0,null,{"$f":"IF(ISERROR(CU324*$CL324/1000),0,CU324*$CL324/1000)","v":0},null,{"$f":"IF(ISERROR(CW324*$CL324/1000),0,CW324*$CL324/1000)","v":0},null,{"$f":"IF(ISERROR(CY324*$CL324/1000),0,CY324*$CL324/1000)","v":0},null,{"$f":"IF(ISERROR(DA324*$CL324/1000),0,DA324*$CL324/1000)","v":0},null,{"$f":"IF(ISERROR(DC324*$CL324/1000),0,DC324*$CL324/1000)","v":0},null,{"$f":"IF(ISERROR(DE324*$CL324/1000),0,DE324*$CL324/1000)","v":0},null,{"$f":"IF(ISERROR(DG324*$CL324/1000),0,DG324*$CL324/1000)","v":0},null,{"$f":"IF(ISERROR(DI324*$CL324/1000),0,DI324*$CL324/1000)","v":0},null,{"$f":"IF(ISERROR(DK324*$CL324/1000),0,DK324*$CL324/1000)","v":0},null,{"$f":"IF(ISERROR(DM324*$CL324/1000),0,DM324*$CL324/1000)","v":0},null,0,null,0,null,0,null,0,null,0,null,{"$f":"IF(ISERROR(DY324*$CL324/1000),0,DY324*$CL324/1000)","v":0}]
[null,null,null,null,null,null,null,"",null,0,null,0,null,{"$f":"IF(ISERROR(M325*$D325/1000),0,M325*$D325/1000)","v":0},null,{"$f":"IF(ISERROR(O325*$D325/1000),0,O325*$D325/1000)","v":0},null,{"$f":"IF(ISERROR(Q325*$D325/1000),0,Q325*$D325/1000)","v":0},null,{"$f":"IF(ISERROR(S325*$D325/1000),0,S325*$D325/1000)","v":0},null,{"$f":"IF(ISERROR(U325*$D325/1000),0,U325*$D325/1000)","v":0},null,{"$f":"IF(ISERROR(W325*$D325/1000),0,W325*$D325/1000)","v":0},null,{"$f":"IF(ISERROR(Y325*$D325/1000),0,Y325*$D325/1000)","v":0},null,{"$f":"IF(ISERROR(AA325*$D325/1000),0,AA325*$D325/1000)","v":0},null,{"$f":"IF(ISERROR(AC325*$D325/1000),0,AC325*$D325/1000)","v":0},null,{"$f":"IF(ISERROR(AE325*$D325/1000),0,AE325*$D325/1000)","v":0},null,0,null,0,null,0,null,0,null,0,null,0,null,null,null,null,null,null,"",null,0,null,0,null,0,null,0,null,0,null,0,null,0,null,0,null,0,null,0,null,0,null,0,null,0,null,0,null,0,null,0,null,0,null,0,null,null,null,null,null,null,"",null,0,null,0,null,{"$f":"IF(ISERROR(CU325*$CL325/1000),0,CU325*$CL325/1000)","v":0},null,{"$f":"IF(ISERROR(CW325*$CL325/1000),0,CW325*$CL325/1000)","v":0},null,{"$f":"IF(ISERROR(CY325*$CL325/1000),0,CY325*$CL325/1000)","v":0},null,{"$f":"IF(ISERROR(DA325*$CL325/1000),0,DA325*$CL325/1000)","v":0},null,{"$f":"IF(ISERROR(DC325*$CL325/1000),0,DC325*$CL325/1000)","v":0},null,{"$f":"IF(ISERROR(DE325*$CL325/1000),0,DE325*$CL325/1000)","v":0},null,{"$f":"IF(ISERROR(DG325*$CL325/1000),0,DG325*$CL325/1000)","v":0},null,{"$f":"IF(ISERROR(DI325*$CL325/1000),0,DI325*$CL325/1000)","v":0},null,{"$f":"IF(ISERROR(DK325*$CL325/1000),0,DK325*$CL325/1000)","v":0},null,{"$f":"IF(ISERROR(DM325*$CL325/1000),0,DM325*$CL325/1000)","v":0},null,0,null,0,null,0,null,0,null,0,null,0]
[null,null,null,null,null,null,null,"",null,0,null,0,null,{"$f":"IF(ISERROR(M326*$D326/1000),0,M326*$D326/1000)","v":0},null,{"$f":"IF(ISERROR(O326*$D326/1000),0,O326*$D326/1000)","v":0},null,{"$f":"IF(ISERROR(Q326*$D326/1000),0,Q326*$D326/1000)","v":0},null,{"$f":"IF(ISERROR(S326*$D326/1000),0,S326*$D326/1000)","v":0},null,{"$f":"IF(ISERROR(U326*$D326/1000),0,U326*$D326/1000)","v":0},null,{"$f":"IF(ISERROR(W326*$D326/1000),0,W326*$D326/1000)","v":0},null,{"$f":"IF(ISERROR(Y326*$D326/1000),0,Y326*$D326/1000)","v":0},null,{"$f":"IF(ISERROR(AA326*$D326/1000),0,AA326*$D326/1000)","v":0},null,{"$f":"IF(ISERROR(AC326*$D326/1000),0,AC326*$D326/1000)","v":0},null,{"$f":"IF(ISERROR(AE326*$D326/1000),0,AE326*$D326/1000)","v":0},null,0,null,0,null,0,null,0,null,0,null,0,null,null,null,null,null,null,"",null,0,null,0,null,0,null,0,null,0,null,0,null,0,null,0,null,0,null,0,null,0,null,0,null,0,null,0,null,0,null,0,null,0,null,0,null,null,null,null,null,null,"",null,0,null,0,null,{"$f":"IF(ISERROR(CU326*$CL326/1000),0,CU326*$CL326/1000)","v":0},null,{"$f":"IF(ISERROR(CW326*$CL326/1000),0,CW326*$CL326/1000)","v":0},null,{"$f":"IF(ISERROR(CY326*$CL326/1000),0,CY326*$CL326/1000)","v":0},null,{"$f":"IF(ISERROR(DA326*$CL326/1000),0,DA326*$CL326/1000)","v":0},null,{"$f":"IF(ISERROR(DC326*$CL326/1000),0,DC326*$CL326/1000)","v":0},null,{"$f":"IF(ISERROR(DE326*$CL326/1000),0,DE326*$CL326/1000)","v":0},null,{"$f":"IF(ISERROR(DG326*$CL326/1000),0,DG326*$CL326/1000)","v":0},null,{"$f":"IF(ISERROR(DI326*$CL326/1000),0,DI326*$CL326/1000)","v":0},null,{"$f":"IF(ISERROR(DK326*$CL326/1000),0,DK326*$CL326/1000)","v":0},null,{"$f":"IF(ISERROR(DM326*$CL326/1000),0,DM326*$CL326/1000)","v":0},null,0,null,0,null,0,null,0,null,0,null,0]
[null,null,null,null,null,null,null,"",null,0,null,0,null,{"$f":"IF(ISERROR(M327*$D327/1000),0,M327*$D327/1000)","v":0},null,{"$f":"IF(ISERROR(O327*$D327/1000),0,O327*$D327/1000)","v":0},null,{"$f":"IF(ISERROR(Q327*$D327/1000),0,Q327*$D327/1000)","v":0},null,{"$f":"IF(ISERROR(S327*$D327/1000),0,S327*$D327/1000)","v":0},null,{"$f":"IF(ISERROR(U327*$D327/1000),0,U327*$D327/1000)","v":0},null,{"$f":"IF(ISERROR(W327*$D327/1000),0,W327*$D327/1000)","v":0},null,{"$f":"IF(ISERROR(Y327*$D327/1000),0,Y327*$D327/1000)","v":0},null,{"$f":"IF(ISERROR(AA327*$D327/1000),0,AA327*$D327/1000)","v":0},null,{"$f":"IF(ISERROR(AC327*$D327/1000),0,AC327*$D327/1000)","v":0},null,{"$f":"IF(ISERROR(AE327*$D327/1000),0,AE327*$D327/1000)","v":0},null,0,null,0,null,0,null,0,null,0,null,0,null,null,null,null,null,null,"",null,0,null,0,null,0,null,0,null,0,null,0,null,0,null,0,null,0,null,0,null,0,null,0,null,0,null,0,null,0,null,0,null,0,null,0,null,null,null,null,null,null,"",null,0,null,0,null,{"$f":"IF(ISERROR(CU327*$CL327/1000),0,CU327*$CL327/1000)","v":0},null,{"$f":"IF(ISERROR(CW327*$CL327/1000),0,CW327*$CL327/1000)","v":0},null,{"$f":"IF(ISERROR(CY327*$CL327/1000),0,CY327*$CL327/1000)","v":0},null,{"$f":"IF(ISERROR(DA327*$CL327/1000),0,DA327*$CL327/1000)","v":0},null,{"$f":"IF(ISERROR(DC327*$CL327/1000),0,DC327*$CL327/1000)","v":0},null,{"$f":"IF(ISERROR(DE327*$CL327/1000),0,DE327*$CL327/1000)","v":0},null,{"$f":"IF(ISERROR(DG327*$CL327/1000),0,DG327*$CL327/1000)","v":0},null,{"$f":"IF(ISERROR(DI327*$CL327/1000),0,DI327*$CL327/1000)","v":0},null,{"$f":"IF(ISERROR(DK327*$CL327/1000),0,DK327*$CL327/1000)","v":0},null,{"$f":"IF(ISERROR(DM327*$CL327/1000),0,DM327*$CL327/1000)","v":0},null,0,null,0,null,0,null,0,null,0,null,0]
[null,null,null,null,null,null,null,"",null,0,null,0,null,{"$f":"IF(ISERROR(M328*$D328/1000),0,M328*$D328/1000)","v":0},null,{"$f":"IF(ISERROR(O328*$D328/1000),0,O328*$D328/1000)","v":0},null,{"$f":"IF(ISERROR(Q328*$D328/1000),0,Q328*$D328/1000)","v":0},null,{"$f":"IF(ISERROR(S328*$D328/1000),0,S328*$D328/1000)","v":0},null,{"$f":"IF(ISERROR(U328*$D328/1000),0,U328*$D328/1000)","v":0},null,{"$f":"IF(ISERROR(W328*$D328/1000),0,W328*$D328/1000)","v":0},null,{"$f":"IF(ISERROR(Y328*$D328/1000),0,Y328*$D328/1000)","v":0},null,{"$f":"IF(ISERROR(AA328*$D328/1000),0,AA328*$D328/1000)","v":0},null,{"$f":"IF(ISERROR(AC328*$D328/1000),0,AC328*$D328/1000)","v":0},null,{"$f":"IF(ISERROR(AE328*$D328/1000),0,AE328*$D328/1000)","v":0},null,0,null,0,null,0,null,0,null,0,null,0,null,null,null,null,null,null,"",null,0,null,0,null,0,null,0,null,0,null,0,null,0,null,0,null,0,null,0,null,0,null,0,null,0,null,0,null,0,null,0,null,0,null,0,null,null,null,null,null,null,"",null,0,null,0,null,{"$f":"IF(ISERROR(CU328*$CL328/1000),0,CU328*$CL328/1000)","v":0},null,{"$f":"IF(ISERROR(CW328*$CL328/1000),0,CW328*$CL328/1000)","v":0},null,{"$f":"IF(ISERROR(CY328*$CL328/1000),0,CY328*$CL328/1000)","v":0},null,{"$f":"IF(ISERROR(DA328*$CL328/1000),0,DA328*$CL328/1000)","v":0},null,{"$f":"IF(ISERROR(DC328*$CL328/1000),0,DC328*$CL328/1000)","v":0},null,{"$f":"IF(ISERROR(DE328*$CL328/1000),0,DE328*$CL328/1000)","v":0},null,{"$f":"IF(ISERROR(DG328*$CL328/1000),0,DG328*$CL328/1000)","v":0},null,{"$f":"IF(ISERROR(DI328*$CL328/1000),0,DI328*$CL328/1000)","v":0},null,{"$f":"IF(ISERROR(DK328*$CL328/1000),0,DK328*$CL328/1000)","v":0},null,{"$f":"IF(ISERROR(DM328*$CL328/1000),0,DM328*$CL328/1000)","v":0},null,0,null,0,null,0,null,0,null,0,null,0]
[null,null,null,null,null,null,null,"",null,0,null,0,null,{"$f":"IF(ISERROR(M329*$D329/1000),0,M329*$D329/1000)","v":0},null,{"$f":"IF(ISERROR(O329*$D329/1000),0,O329*$D329/1000)","v":0},null,{"$f":"IF(ISERROR(Q329*$D329/1000),0,Q329*$D329/1000)","v":0},null,{"$f":"IF(ISERROR(S329*$D329/1000),0,S329*$D329/1000)","v":0},null,{"$f":"IF(ISERROR(U329*$D329/1000),0,U329*$D329/1000)","v":0},null,{"$f":"IF(ISERROR(W329*$D329/1000),0,W329*$D329/1000)","v":0},null,{"$f":"IF(ISERROR(Y329*$D329/1000),0,Y329*$D329/1000)","v":0},null,{"$f":"IF(ISERROR(AA329*$D329/1000),0,AA329*$D329/1000)","v":0},null,{"$f":"IF(ISERROR(AC329*$D329/1000),0,AC329*$D329/1000)","v":0},null,{"$f":"IF(ISERROR(AE329*$D329/1000),0,AE329*$D329/1000)","v":0},null,0,null,0,null,0,null,0,null,0,null,0,null,null,null,null,null,null,"",null,0,null,0,null,0,null,0,null,0,null,0,null,0,null,0,null,0,null,0,null,0,null,0,null,0,null,0,null,0,null,0,null,0,null,0,null,null,null,null,null,null,"",null,0,null,0,null,{"$f":"IF(ISERROR(CU329*$CL329/1000),0,CU329*$CL329/1000)","v":0},null,{"$f":"IF(ISERROR(CW329*$CL329/1000),0,CW329*$CL329/1000)","v":0},null,{"$f":"IF(ISERROR(CY329*$CL329/1000),0,CY329*$CL329/1000)","v":0},null,{"$f":"IF(ISERROR(DA329*$CL329/1000),0,DA329*$CL329/1000)","v":0},null,{"$f":"IF(ISERROR(DC329*$CL329/1000),0,DC329*$CL329/1000)","v":0},null,{"$f":"IF(ISERROR(DE329*$CL329/1000),0,DE329*$CL329/1000)","v":0},null,{"$f":"IF(ISERROR(DG329*$CL329/1000),0,DG329*$CL329/1000)","v":0},null,{"$f":"IF(ISERROR(DI329*$CL329/1000),0,DI329*$CL329/1000)","v":0},null,{"$f":"IF(ISERROR(DK329*$CL329/1000),0,DK329*$CL329/1000)","v":0},null,{"$f":"IF(ISERROR(DM329*$CL329/1000),0,DM329*$CL329/1000)","v":0},null,0,null,0,null,0,null,0,null,0,null,0]
[null,null,null,null,null,null,null,"",null,0,null,0,null,{"$f":"IF(ISERROR(M330*$D330/1000),0,M330*$D330/1000)","v":0},null,{"$f":"IF(ISERROR(O330*$D330/1000),0,O330*$D330/1000)","v":0},null,{"$f":"IF(ISERROR(Q330*$D330/1000),0,Q330*$D330/1000)","v":0},null,{"$f":"IF(ISERROR(S330*$D330/1000),0,S330*$D330/1000)","v":0},null,{"$f":"IF(ISERROR(U330*$D330/1000),0,U330*$D330/1000)","v":0},null,{"$f":"IF(ISERROR(W330*$D330/1000),0,W330*$D330/1000)","v":0},null,{"$f":"IF(ISERROR(Y330*$D330/1000),0,Y330*$D330/1000)","v":0},null,{"$f":"IF(ISERROR(AA330*$D330/1000),0,AA330*$D330/1000)","v":0},null,{"$f":"IF(ISERROR(AC330*$D330/1000),0,AC330*$D330/1000)","v":0},null,{"$f":"IF(ISERROR(AE330*$D330/1000),0,AE330*$D330/1000)","v":0},null,0,null,0,null,0,null,0,null,0,null,0,null,null,null,null,null,null,"",null,0,null,0,null,0,null,0,null,0,null,0,null,0,null,0,null,0,null,0,null,0,null,0,null,0,null,0,null,0,null,0,null,0,null,0,null,null,null,null,null,null,"",null,0,null,0,null,{"$f":"IF(ISERROR(CU330*$CL330/1000),0,CU330*$CL330/1000)","v":0},null,{"$f":"IF(ISERROR(CW330*$CL330/1000),0,CW330*$CL330/1000)","v":0},null,{"$f":"IF(ISERROR(CY330*$CL330/1000),0,CY330*$CL330/1000)","v":0},null,{"$f":"IF(ISERROR(DA330*$CL330/1000),0,DA330*$CL330/1000)","v":0},null,{"$f":"IF(ISERROR(DC330*$CL330/1000),0,DC330*$CL330/1000)","v":0},null,{"$f":"IF(ISERROR(DE330*$CL330/1000),0,DE330*$CL330/1000)","v":0},null,{"$f":"IF(ISERROR(DG330*$CL330/1000),0,DG330*$CL330/1000)","v":0},null,{"$f":"IF(ISERROR(DI330*$CL330/1000),0,DI330*$CL330/1000)","v":0},null,{"$f":"IF(ISERROR(DK330*$CL330/1000),0,DK330*$CL330/1000)","v":0},null,{"$f":"IF(ISERROR(DM330*$CL330/1000),0,DM330*$CL330/1000)","v":0},null,0,null,0,null,0,null,0,null,0,null,0]
[null,null,null,null,null,null,null,"",null,0,null,0,null,{"$f":"IF(ISERROR(M331*$D331/1000),0,M331*$D331/1000)","v":0},null,{"$f":"IF(ISERROR(O331*$D331/1000),0,O331*$D331/1000)","v":0},null,{"$f":"IF(ISERROR(Q331*$D331/1000),0,Q331*$D331/1000)","v":0},null,{"$f":"IF(ISERROR(S331*$D331/1000),0,S331*$D331/1000)","v":0},null,{"$f":"IF(ISERROR(U331*$D331/1000),0,U331*$D331/1000)","v":0},null,{"$f":"IF(ISERROR(W331*$D331/1000),0,W331*$D331/1000)","v":0},null,{"$f":"IF(ISERROR(Y331*$D331/1000),0,Y331*$D331/1000)","v":0},null,{"$f":"IF(ISERROR(AA331*$D331/1000),0,AA331*$D331/1000)","v":0},null,{"$f":"IF(ISERROR(AC331*$D331/1000),0,AC331*$D331/1000)","v":0},null,{"$f":"IF(ISERROR(AE331*$D331/1000),0,AE331*$D331/1000)","v":0},null,0,null,0,null,0,null,0,null,0,null,0,null,null,null,null,null,null,"",null,0,null,0,null,0,null,0,null,0,null,0,null,0,null,0,null,0,null,0,null,0,null,0,null,0,null,0,null,0,null,0,null,0,null,0,null,null,null,null,null,null,"",null,0,null,0,null,{"$f":"IF(ISERROR(CU331*$CL331/1000),0,CU331*$CL331/1000)","v":0},null,{"$f":"IF(ISERROR(CW331*$CL331/1000),0,CW331*$CL331/1000)","v":0},null,{"$f":"IF(ISERROR(CY331*$CL331/1000),0,CY331*$CL331/1000)","v":0},null,{"$f":"IF(ISERROR(DA331*$CL331/1000),0,DA331*$CL331/1000)","v":0},null,{"$f":"IF(ISERROR(DC331*$CL331/1000),0,DC331*$CL331/1000)","v":0},null,{"$f":"IF(ISERROR(DE331*$CL331/1000),0,DE331*$CL331/1000)","v":0},null,{"$f":"IF(ISERROR(DG331*$CL331/1000),0,DG331*$CL331/1000)","v":0},null,{"$f":"IF(ISERROR(DI331*$CL331/1000),0,DI331*$CL331/1000)","v":0},null,{"$f":"IF(ISERROR(DK331*$CL331/1000),0,DK331*$CL331/1000)","v":0},null,{"$f":"IF(ISERROR(DM331*$CL331/1000),0,DM331*$CL331/1000)","v":0},null,0,null,0,null,0,null,0,null,0,null,0]
[null,null,null,null,null,null,null,"",null,0,null,0,null,{"$f":"IF(ISERROR(M332*$D332/1000),0,M332*$D332/1000)","v":0},null,{"$f":"IF(ISERROR(O332*$D332/1000),0,O332*$D332/1000)","v":0},null,{"$f":"IF(ISERROR(Q332*$D332/1000),0,Q332*$D332/1000)","v":0},null,{"$f":"IF(ISERROR(S332*$D332/1000),0,S332*$D332/1000)","v":0},null,{"$f":"IF(ISERROR(U332*$D332/1000),0,U332*$D332/1000)","v":0},null,{"$f":"IF(ISERROR(W332*$D332/1000),0,W332*$D332/1000)","v":0},null,{"$f":"IF(ISERROR(Y332*$D332/1000),0,Y332*$D332/1000)","v":0},null,{"$f":"IF(ISERROR(AA332*$D332/1000),0,AA332*$D332/1000)","v":0},null,{"$f":"IF(ISERROR(AC332*$D332/1000),0,AC332*$D332/1000)","v":0},null,{"$f":"IF(ISERROR(AE332*$D332/1000),0,AE332*$D332/1000)","v":0},null,0,null,0,null,0,null,0,null,0,null,0,null,null,null,null,null,null,"",null,0,null,0,null,0,null,0,null,0,null,0,null,0,null,0,null,0,null,0,null,0,null,0,null,0,null,0,null,0,null,0,null,0,null,0,null,null,null,null,null,null,"",null,0,null,0,null,{"$f":"IF(ISERROR(CU332*$CL332/1000),0,CU332*$CL332/1000)","v":0},null,{"$f":"IF(ISERROR(CW332*$CL332/1000),0,CW332*$CL332/1000)","v":0},null,{"$f":"IF(ISERROR(CY332*$CL332/1000),0,CY332*$CL332/1000)","v":0},null,{"$f":"IF(ISERROR(DA332*$CL332/1000),0,DA332*$CL332/1000)","v":0},null,{"$f":"IF(ISERROR(DC332*$CL332/1000),0,DC332*$CL332/1000)","v":0},null,{"$f":"IF(ISERROR(DE332*$CL332/1000),0,DE332*$CL332/1000)","v":0},null,{"$f":"IF(ISERROR(DG332*$CL332/1000),0,DG332*$CL332/1000)","v":0},null,{"$f":"IF(ISERROR(DI332*$CL332/1000),0,DI332*$CL332/1000)","v":0},null,{"$f":"IF(ISERROR(DK332*$CL332/1000),0,DK332*$CL332/1000)","v":0},null,{"$f":"IF(ISERROR(DM332*$CL332/1000),0,DM332*$CL332/1000)","v":0},null,0,null,0,null,0,null,0,null,0,null,0]
[null,null,null,null,null,null,null,"",null,0,null,0,null,{"$f":"IF(ISERROR(M333*$D333/1000),0,M333*$D333/1000)","v":0},null,{"$f":"IF(ISERROR(O333*$D333/1000),0,O333*$D333/1000)","v":0},null,{"$f":"IF(ISERROR(Q333*$D333/1000),0,Q333*$D333/1000)","v":0},null,{"$f":"IF(ISERROR(S333*$D333/1000),0,S333*$D333/1000)","v":0},null,{"$f":"IF(ISERROR(U333*$D333/1000),0,U333*$D333/1000)","v":0},null,{"$f":"IF(ISERROR(W333*$D333/1000),0,W333*$D333/1000)","v":0},null,{"$f":"IF(ISERROR(Y333*$D333/1000),0,Y333*$D333/1000)","v":0},null,{"$f":"IF(ISERROR(AA333*$D333/1000),0,AA333*$D333/1000)","v":0},null,{"$f":"IF(ISERROR(AC333*$D333/1000),0,AC333*$D333/1000)","v":0},null,{"$f":"IF(ISERROR(AE333*$D333/1000),0,AE333*$D333/1000)","v":0},null,0,null,0,null,0,null,0,null,0,null,0,null,null,null,null,null,null,"",null,0,null,0,null,0,null,0,null,0,null,0,null,0,null,0,null,0,null,0,null,0,null,0,null,0,null,0,null,0,null,0,null,0,null,0,null,null,null,null,null,null,"",null,0,null,0,null,{"$f":"IF(ISERROR(CU333*$CL333/1000),0,CU333*$CL333/1000)","v":0},null,{"$f":"IF(ISERROR(CW333*$CL333/1000),0,CW333*$CL333/1000)","v":0},null,{"$f":"IF(ISERROR(CY333*$CL333/1000),0,CY333*$CL333/1000)","v":0},null,{"$f":"IF(ISERROR(DA333*$CL333/1000),0,DA333*$CL333/1000)","v":0},null,{"$f":"IF(ISERROR(DC333*$CL333/1000),0,DC333*$CL333/1000)","v":0},null,{"$f":"IF(ISERROR(DE333*$CL333/1000),0,DE333*$CL333/1000)","v":0},null,{"$f":"IF(ISERROR(DG333*$CL333/1000),0,DG333*$CL333/1000)","v":0},null,{"$f":"IF(ISERROR(DI333*$CL333/1000),0,DI333*$CL333/1000)","v":0},null,{"$f":"IF(ISERROR(DK333*$CL333/1000),0,DK333*$CL333/1000)","v":0},null,{"$f":"IF(ISERROR(DM333*$CL333/1000),0,DM333*$CL333/1000)","v":0},null,0,null,0,null,0,null,0,null,0,null,0]
[null,null,null,null,null,null,null,"",null,0,null,0,null,{"$f":"IF(ISERROR(M334*$D334/1000),0,M334*$D334/1000)","v":0},null,{"$f":"IF(ISERROR(O334*$D334/1000),0,O334*$D334/1000)","v":0},null,{"$f":"IF(ISERROR(Q334*$D334/1000),0,Q334*$D334/1000)","v":0},null,{"$f":"IF(ISERROR(S334*$D334/1000),0,S334*$D334/1000)","v":0},null,{"$f":"IF(ISERROR(U334*$D334/1000),0,U334*$D334/1000)","v":0},null,{"$f":"IF(ISERROR(W334*$D334/1000),0,W334*$D334/1000)","v":0},null,{"$f":"IF(ISERROR(Y334*$D334/1000),0,Y334*$D334/1000)","v":0},null,{"$f":"IF(ISERROR(AA334*$D334/1000),0,AA334*$D334/1000)","v":0},null,{"$f":"IF(ISERROR(AC334*$D334/1000),0,AC334*$D334/1000)","v":0},null,{"$f":"IF(ISERROR(AE334*$D334/1000),0,AE334*$D334/1000)","v":0},null,0,null,0,null,0,null,0,null,0,null,0,null,null,null,null,null,null,"",null,0,null,0,null,0,null,0,null,0,null,0,null,0,null,0,null,0,null,0,null,0,null,0,null,0,null,0,null,0,null,0,null,0,null,0,null,null,null,null,null,null,"",null,0,null,0,null,{"$f":"IF(ISERROR(CU334*$CL334/1000),0,CU334*$CL334/1000)","v":0},null,{"$f":"IF(ISERROR(CW334*$CL334/1000),0,CW334*$CL334/1000)","v":0},null,{"$f":"IF(ISERROR(CY334*$CL334/1000),0,CY334*$CL334/1000)","v":0},null,{"$f":"IF(ISERROR(DA334*$CL334/1000),0,DA334*$CL334/1000)","v":0},null,{"$f":"IF(ISERROR(DC334*$CL334/1000),0,DC334*$CL334/1000)","v":0},null,{"$f":"IF(ISERROR(DE334*$CL334/1000),0,DE334*$CL334/1000)","v":0},null,{"$f":"IF(ISERROR(DG334*$CL334/1000),0,DG334*$CL334/1000)","v":0},null,{"$f":"IF(ISERROR(DI334*$CL334/1000),0,DI334*$CL334/1000)","v":0},null,{"$f":"IF(ISERROR(DK334*$CL334/1000),0,DK334*$CL334/1000)","v":0},null,{"$f":"IF(ISERROR(DM334*$CL334/1000),0,DM334*$CL334/1000)","v":0},null,0,null,0,null,0,null,0,null,0,null,0]
[null,null,null,null,null,null,null,"",null,0,null,0,null,{"$f":"IF(ISERROR(M335*$D335/1000),0,M335*$D335/1000)","v":0},null,{"$f":"IF(ISERROR(O335*$D335/1000),0,O335*$D335/1000)","v":0},null,{"$f":"IF(ISERROR(Q335*$D335/1000),0,Q335*$D335/1000)","v":0},null,{"$f":"IF(ISERROR(S335*$D335/1000),0,S335*$D335/1000)","v":0},null,{"$f":"IF(ISERROR(U335*$D335/1000),0,U335*$D335/1000)","v":0},null,{"$f":"IF(ISERROR(W335*$D335/1000),0,W335*$D335/1000)","v":0},null,{"$f":"IF(ISERROR(Y335*$D335/1000),0,Y335*$D335/1000)","v":0},null,{"$f":"IF(ISERROR(AA335*$D335/1000),0,AA335*$D335/1000)","v":0},null,{"$f":"IF(ISERROR(AC335*$D335/1000),0,AC335*$D335/1000)","v":0},null,{"$f":"IF(ISERROR(AE335*$D335/1000),0,AE335*$D335/1000)","v":0},null,0,null,0,null,0,null,0,null,0,null,0,null,null,null,null,null,null,"",null,{"$f":"IF(ISERROR(AZ335*$AU335/1000),0,AZ335*$AU335/1000)","v":0},null,{"$f":"IF(ISERROR(BB335*$AU335/1000),0,BB335*$AU335/1000)","v":0},null,{"$f":"IF(ISERROR(BD335*$AU335/1000),0,BD335*$AU335/1000)","v":0},null,{"$f":"IF(ISERROR(BF335*$AU335/1000),0,BF335*$AU335/1000)","v":0},null,{"$f":"IF(ISERROR(BH335*$AU335/1000),0,BH335*$AU335/1000)","v":0},null,{"$f":"IF(ISERROR(BJ335*$AU335/1000),0,BJ335*$AU335/1000)","v":0},null,{"$f":"IF(ISERROR(BL335*$AU335/1000),0,BL335*$AU335/1000)","v":0},null,{"$f":"IF(ISERROR(BN335*$AU335/1000),0,BN335*$AU335/1000)","v":0},null,{"$f":"IF(ISERROR(BP335*$AU335/1000),0,BP335*$AU335/1000)","v":0},null,{"$f":"IF(ISERROR(BR335*$AU335/1000),0,BR335*$AU335/1000)","v":0},null,{"$f":"IF(ISERROR(BT335*$AU335/1000),0,BT335*$AU335/1000)","v":0},null,{"$f":"IF(ISERROR(BV335*$AU335/1000),0,BV335*$AU335/1000)","v":0},null,{"$f":"IF(ISERROR(BX335*$AU335/1000),0,BX335*$AU335/1000)","v":0},null,{"$f":"IF(ISERROR(BZ335*$AU335/1000),0,BZ335*$AU335/1000)","v":0},null,{"$f":"IF(ISERROR(CB335*$AU335/1000),0,CB335*$AU335/1000)","v":0},null,{"$f":"IF(ISERROR(CD335*$AU335/1000),0,CD335*$AU335/1000)","v":0},null,{"$f":"IF(ISERROR(CF335*$AU335/1000),0,CF335*$AU335/1000)","v":0},null,{"$f":"IF(ISERROR(CH335*$AU335/1000),0,CH335*$AU335/1000)","v":0},null,null,null,null,null,null,"",null,0,null,0,null,{"$f":"IF(ISERROR(CU335*$CL335/1000),0,CU335*$CL335/1000)","v":0},null,{"$f":"IF(ISERROR(CW335*$CL335/1000),0,CW335*$CL335/1000)","v":0},null,{"$f":"IF(ISERROR(CY335*$CL335/1000),0,CY335*$CL335/1000)","v":0},null,{"$f":"IF(ISERROR(DA335*$CL335/1000),0,DA335*$CL335/1000)","v":0},null,{"$f":"IF(ISERROR(DC335*$CL335/1000),0,DC335*$CL335/1000)","v":0},null,{"$f":"IF(ISERROR(DE335*$CL335/1000),0,DE335*$CL335/1000)","v":0},null,{"$f":"IF(ISERROR(DG335*$CL335/1000),0,DG335*$CL335/1000)","v":0},null,{"$f":"IF(ISERROR(DI335*$CL335/1000),0,DI335*$CL335/1000)","v":0},null,{"$f":"IF(ISERROR(DK335*$CL335/1000),0,DK335*$CL335/1000)","v":0},null,{"$f":"IF(ISERROR(DM335*$CL335/1000),0,DM335*$CL335/1000)","v":0},null,0,null,0,null,0,null,0,null,0,null,0]
[null,null,null,null,null,null,null,{"$f":"IF(ISTEXT(G336),1,IF(ISBLANK(G336),\"\",IF(ISNONTEXT(G336),G336)))","v":""},null,{"$f":"IF(ISERROR(I336*$D336/1000),0,I336*$D336/1000)","v":0},null,0,null,{"$f":"IF(ISERROR(M336*$D336/1000),0,M336*$D336/1000)","v":0},null,{"$f":"IF(ISERROR(O336*$D336/1000),0,O336*$D336/1000)","v":0},null,{"$f":"IF(ISERROR(Q336*$D336/1000),0,Q336*$D336/1000)","v":0},null,{"$f":"IF(ISERROR(S336*$D336/1000),0,S336*$D336/1000)","v":0},null,{"$f":"IF(ISERROR(U336*$D336/1000),0,U336*$D336/1000)","v":0},null,{"$f":"IF(ISERROR(W336*$D336/1000),0,W336*$D336/1000)","v":0},null,{"$f":"IF(ISERROR(Y336*$D336/1000),0,Y336*$D336/1000)","v":0},null,{"$f":"IF(ISERROR(AA336*$D336/1000),0,AA336*$D336/1000)","v":0},null,{"$f":"IF(ISERROR(AC336*$D336/1000),0,AC336*$D336/1000)","v":0},null,{"$f":"IF(ISERROR(AE336*$D336/1000),0,AE336*$D336/1000)","v":0},null,{"$f":"IF(ISERROR(AG336*$D336/1000),0,AG336*$D336/1000)","v":0},null,{"$f":"IF(ISERROR(AI336*$D336/1000),0,AI336*$D336/1000)","v":0},null,{"$f":"IF(ISERROR(AK336*$D336/1000),0,AK336*$D336/1000)","v":0},null,{"$f":"IF(ISERROR(AM336*$D336/1000),0,AM336*$D336/1000)","v":0},null,{"$f":"IF(ISERROR(AO336*$D336/1000),0,AO336*$D336/1000)","v":0},null,{"$f":"IF(ISERROR(AQ336*$D336/1000),0,AQ336*$D336/1000)","v":0},null,null,null,null,null,null,{"$f":"IF(ISTEXT(AX336),1,IF(ISBLANK(AX336),\"\",IF(ISNONTEXT(AX336),AX336)))","v":""},null,0,null,0,null,0,null,0,null,0,null,0,null,0,null,0,null,0,null,0,null,0,null,0,null,0,null,0,null,0,null,0,null,0,null,0,null,null,null,null,null,null,{"$f":"IF(ISTEXT(CO336),1,IF(ISBLANK(CO336),\"\",IF(ISNONTEXT(CO336),CO336)))","v":""},null,{"$f":"IF(ISERROR(CQ336*$CL336/1000),0,CQ336*$CL336/1000)","v":0},null,0,null,{"$f":"IF(ISERROR(CU336*$CL336/1000),0,CU336*$CL336/1000)","v":0},null,{"$f":"IF(ISERROR(CW336*$CL336/1000),0,CW336*$CL336/1000)","v":0},null,{"$f":"IF(ISERROR(CY336*$CL336/1000),0,CY336*$CL336/1000)","v":0},null,{"$f":"IF(ISERROR(DA336*$CL336/1000),0,DA336*$CL336/1000)","v":0},null,{"$f":"IF(ISERROR(DC336*$CL336/1000),0,DC336*$CL336/1000)","v":0},null,{"$f":"IF(ISERROR(DE336*$CL336/1000),0,DE336*$CL336/1000)","v":0},null,{"$f":"IF(ISERROR(DG336*$CL336/1000),0,DG336*$CL336/1000)","v":0},null,{"$f":"IF(ISERROR(DI336*$CL336/1000),0,DI336*$CL336/1000)","v":0},null,{"$f":"IF(ISERROR(DK336*$CL336/1000),0,DK336*$CL336/1000)","v":0},null,{"$f":"IF(ISERROR(DM336*$CL336/1000),0,DM336*$CL336/1000)","v":0},null,{"$f":"IF(ISERROR(DO336*$CL336/1000),0,DO336*$CL336/1000)","v":0},null,{"$f":"IF(ISERROR(DQ336*$CL336/1000),0,DQ336*$CL336/1000)","v":0},null,{"$f":"IF(ISERROR(DS336*$CL336/1000),0,DS336*$CL336/1000)","v":0},null,{"$f":"IF(ISERROR(DU336*$CL336/1000),0,DU336*$CL336/1000)","v":0},null,{"$f":"IF(ISERROR(DW336*$CL336/1000),0,DW336*$CL336/1000)","v":0},null,0]
[null,null,null,null,null,null,null,"",null,0,null,0,null,{"$f":"IF(ISERROR(M337*$D337/1000),0,M337*$D337/1000)","v":0},null,{"$f":"IF(ISERROR(O337*$D337/1000),0,O337*$D337/1000)","v":0},null,{"$f":"IF(ISERROR(Q337*$D337/1000),0,Q337*$D337/1000)","v":0},null,{"$f":"IF(ISERROR(S337*$D337/1000),0,S337*$D337/1000)","v":0},null,{"$f":"IF(ISERROR(U337*$D337/1000),0,U337*$D337/1000)","v":0},null,{"$f":"IF(ISERROR(W337*$D337/1000),0,W337*$D337/1000)","v":0},null,{"$f":"IF(ISERROR(Y337*$D337/1000),0,Y337*$D337/1000)","v":0},null,{"$f":"IF(ISERROR(AA337*$D337/1000),0,AA337*$D337/1000)","v":0},null,{"$f":"IF(ISERROR(AC337*$D337/1000),0,AC337*$D337/1000)","v":0},null,{"$f":"IF(ISERROR(AE337*$D337/1000),0,AE337*$D337/1000)","v":0},null,0,null,0,null,0,null,0,null,0,null,0,null,null,null,null,null,null,"",null,0,null,0,null,0,null,0,null,0,null,0,null,0,null,0,null,0,null,0,null,0,null,0,null,0,null,0,null,0,null,0,null,0,null,0,null,null,null,null,null,null,"",null,0,null,0,null,{"$f":"IF(ISERROR(CU337*$CL337/1000),0,CU337*$CL337/1000)","v":0},null,{"$f":"IF(ISERROR(CW337*$CL337/1000),0,CW337*$CL337/1000)","v":0},null,{"$f":"IF(ISERROR(CY337*$CL337/1000),0,CY337*$CL337/1000)","v":0},null,{"$f":"IF(ISERROR(DA337*$CL337/1000),0,DA337*$CL337/1000)","v":0},null,{"$f":"IF(ISERROR(DC337*$CL337/1000),0,DC337*$CL337/1000)","v":0},null,{"$f":"IF(ISERROR(DE337*$CL337/1000),0,DE337*$CL337/1000)","v":0},null,{"$f":"IF(ISERROR(DG337*$CL337/1000),0,DG337*$CL337/1000)","v":0},null,{"$f":"IF(ISERROR(DI337*$CL337/1000),0,DI337*$CL337/1000)","v":0},null,{"$f":"IF(ISERROR(DK337*$CL337/1000),0,DK337*$CL337/1000)","v":0},null,{"$f":"IF(ISERROR(DM337*$CL337/1000),0,DM337*$CL337/1000)","v":0},null,0,null,0,null,0,null,0,null,0,null,0]
[null,null,null,null,null,null,null,"",null,0,null,0,null,{"$f":"IF(ISERROR(M338*$D338/1000),0,M338*$D338/1000)","v":0},null,{"$f":"IF(ISERROR(O338*$D338/1000),0,O338*$D338/1000)","v":0},null,{"$f":"IF(ISERROR(Q338*$D338/1000),0,Q338*$D338/1000)","v":0},null,{"$f":"IF(ISERROR(S338*$D338/1000),0,S338*$D338/1000)","v":0},null,{"$f":"IF(ISERROR(U338*$D338/1000),0,U338*$D338/1000)","v":0},null,{"$f":"IF(ISERROR(W338*$D338/1000),0,W338*$D338/1000)","v":0},null,{"$f":"IF(ISERROR(Y338*$D338/1000),0,Y338*$D338/1000)","v":0},null,{"$f":"IF(ISERROR(AA338*$D338/1000),0,AA338*$D338/1000)","v":0},null,{"$f":"IF(ISERROR(AC338*$D338/1000),0,AC338*$D338/1000)","v":0},null,{"$f":"IF(ISERROR(AE338*$D338/1000),0,AE338*$D338/1000)","v":0},null,0,null,0,null,0,null,0,null,0,null,0,null,null,null,null,null,null,"",null,0,null,0,null,0,null,0,null,0,null,0,null,0,null,0,null,0,null,0,null,0,null,0,null,0,null,0,null,0,null,0,null,0,null,0,null,null,null,null,null,null,"",null,0,null,0,null,{"$f":"IF(ISERROR(CU338*$CL338/1000),0,CU338*$CL338/1000)","v":0},null,{"$f":"IF(ISERROR(CW338*$CL338/1000),0,CW338*$CL338/1000)","v":0},null,{"$f":"IF(ISERROR(CY338*$CL338/1000),0,CY338*$CL338/1000)","v":0},null,{"$f":"IF(ISERROR(DA338*$CL338/1000),0,DA338*$CL338/1000)","v":0},null,{"$f":"IF(ISERROR(DC338*$CL338/1000),0,DC338*$CL338/1000)","v":0},null,{"$f":"IF(ISERROR(DE338*$CL338/1000),0,DE338*$CL338/1000)","v":0},null,{"$f":"IF(ISERROR(DG338*$CL338/1000),0,DG338*$CL338/1000)","v":0},null,{"$f":"IF(ISERROR(DI338*$CL338/1000),0,DI338*$CL338/1000)","v":0},null,{"$f":"IF(ISERROR(DK338*$CL338/1000),0,DK338*$CL338/1000)","v":0},null,{"$f":"IF(ISERROR(DM338*$CL338/1000),0,DM338*$CL338/1000)","v":0},null,0,null,0,null,0,null,0,null,0,null,0]
[null,null,null,null,null,null,null,"",null,0,null,0,null,{"$f":"IF(ISERROR(M339*$D339/1000),0,M339*$D339/1000)","v":0},null,{"$f":"IF(ISERROR(O339*$D339/1000),0,O339*$D339/1000)","v":0},null,{"$f":"IF(ISERROR(Q339*$D339/1000),0,Q339*$D339/1000)","v":0},null,{"$f":"IF(ISERROR(S339*$D339/1000),0,S339*$D339/1000)","v":0},null,{"$f":"IF(ISERROR(U339*$D339/1000),0,U339*$D339/1000)","v":0},null,{"$f":"IF(ISERROR(W339*$D339/1000),0,W339*$D339/1000)","v":0},null,{"$f":"IF(ISERROR(Y339*$D339/1000),0,Y339*$D339/1000)","v":0},null,{"$f":"IF(ISERROR(AA339*$D339/1000),0,AA339*$D339/1000)","v":0},null,{"$f":"IF(ISERROR(AC339*$D339/1000),0,AC339*$D339/1000)","v":0},null,{"$f":"IF(ISERROR(AE339*$D339/1000),0,AE339*$D339/1000)","v":0},null,0,null,0,null,0,null,0,null,0,null,0,null,null,null,null,null,null,"",null,0,null,0,null,0,null,0,null,0,null,0,null,0,null,0,null,0,null,0,null,0,null,0,null,0,null,0,null,0,null,0,null,0,null,0,null,null,null,null,null,null,"",null,0,null,0,null,{"$f":"IF(ISERROR(CU339*$CL339/1000),0,CU339*$CL339/1000)","v":0},null,{"$f":"IF(ISERROR(CW339*$CL339/1000),0,CW339*$CL339/1000)","v":0},null,{"$f":"IF(ISERROR(CY339*$CL339/1000),0,CY339*$CL339/1000)","v":0},null,{"$f":"IF(ISERROR(DA339*$CL339/1000),0,DA339*$CL339/1000)","v":0},null,{"$f":"IF(ISERROR(DC339*$CL339/1000),0,DC339*$CL339/1000)","v":0},null,{"$f":"IF(ISERROR(DE339*$CL339/1000),0,DE339*$CL339/1000)","v":0},null,{"$f":"IF(ISERROR(DG339*$CL339/1000),0,DG339*$CL339/1000)","v":0},null,{"$f":"IF(ISERROR(DI339*$CL339/1000),0,DI339*$CL339/1000)","v":0},null,{"$f":"IF(ISERROR(DK339*$CL339/1000),0,DK339*$CL339/1000)","v":0},null,{"$f":"IF(ISERROR(DM339*$CL339/1000),0,DM339*$CL339/1000)","v":0},null,0,null,0,null,0,null,0,null,0,null,0]
[null,null,null,null,null,null,null,"",null,0,null,0,null,{"$f":"IF(ISERROR(M340*$D340/1000),0,M340*$D340/1000)","v":0},null,{"$f":"IF(ISERROR(O340*$D340/1000),0,O340*$D340/1000)","v":0},null,{"$f":"IF(ISERROR(Q340*$D340/1000),0,Q340*$D340/1000)","v":0},null,{"$f":"IF(ISERROR(S340*$D340/1000),0,S340*$D340/1000)","v":0},null,{"$f":"IF(ISERROR(U340*$D340/1000),0,U340*$D340/1000)","v":0},null,{"$f":"IF(ISERROR(W340*$D340/1000),0,W340*$D340/1000)","v":0},null,{"$f":"IF(ISERROR(Y340*$D340/1000),0,Y340*$D340/1000)","v":0},null,{"$f":"IF(ISERROR(AA340*$D340/1000),0,AA340*$D340/1000)","v":0},null,{"$f":"IF(ISERROR(AC340*$D340/1000),0,AC340*$D340/1000)","v":0},null,{"$f":"IF(ISERROR(AE340*$D340/1000),0,AE340*$D340/1000)","v":0},null,0,null,0,null,0,null,0,null,0,null,0,null,null,null,null,null,null,"",null,0,null,0,null,0,null,0,null,0,null,0,null,0,null,0,null,0,null,0,null,0,null,0,null,0,null,0,null,0,null,0,null,0,null,0,null,null,null,null,null,null,"",null,0,null,0,null,{"$f":"IF(ISERROR(CU340*$CL340/1000),0,CU340*$CL340/1000)","v":0},null,{"$f":"IF(ISERROR(CW340*$CL340/1000),0,CW340*$CL340/1000)","v":0},null,{"$f":"IF(ISERROR(CY340*$CL340/1000),0,CY340*$CL340/1000)","v":0},null,{"$f":"IF(ISERROR(DA340*$CL340/1000),0,DA340*$CL340/1000)","v":0},null,{"$f":"IF(ISERROR(DC340*$CL340/1000),0,DC340*$CL340/1000)","v":0},null,{"$f":"IF(ISERROR(DE340*$CL340/1000),0,DE340*$CL340/1000)","v":0},null,{"$f":"IF(ISERROR(DG340*$CL340/1000),0,DG340*$CL340/1000)","v":0},null,{"$f":"IF(ISERROR(DI340*$CL340/1000),0,DI340*$CL340/1000)","v":0},null,{"$f":"IF(ISERROR(DK340*$CL340/1000),0,DK340*$CL340/1000)","v":0},null,{"$f":"IF(ISERROR(DM340*$CL340/1000),0,DM340*$CL340/1000)","v":0},null,0,null,0,null,0,null,0,null,0,null,0]
[null,null,null,null,null,null,null,"",null,0,null,0,null,{"$f":"IF(ISERROR(M341*$D341/1000),0,M341*$D341/1000)","v":0},null,{"$f":"IF(ISERROR(O341*$D341/1000),0,O341*$D341/1000)","v":0},null,{"$f":"IF(ISERROR(Q341*$D341/1000),0,Q341*$D341/1000)","v":0},null,{"$f":"IF(ISERROR(S341*$D341/1000),0,S341*$D341/1000)","v":0},null,{"$f":"IF(ISERROR(U341*$D341/1000),0,U341*$D341/1000)","v":0},null,{"$f":"IF(ISERROR(W341*$D341/1000),0,W341*$D341/1000)","v":0},null,{"$f":"IF(ISERROR(Y341*$D341/1000),0,Y341*$D341/1000)","v":0},null,{"$f":"IF(ISERROR(AA341*$D341/1000),0,AA341*$D341/1000)","v":0},null,{"$f":"IF(ISERROR(AC341*$D341/1000),0,AC341*$D341/1000)","v":0},null,{"$f":"IF(ISERROR(AE341*$D341/1000),0,AE341*$D341/1000)","v":0},null,0,null,0,null,0,null,0,null,0,null,0,null,null,null,null,null,null,"",null,0,null,0,null,0,null,0,null,0,null,0,null,0,null,0,null,0,null,0,null,0,null,0,null,0,null,0,null,0,null,0,null,0,null,0,null,null,null,null,null,null,"",null,0,null,0,null,{"$f":"IF(ISERROR(CU341*$CL341/1000),0,CU341*$CL341/1000)","v":0},null,{"$f":"IF(ISERROR(CW341*$CL341/1000),0,CW341*$CL341/1000)","v":0},null,{"$f":"IF(ISERROR(CY341*$CL341/1000),0,CY341*$CL341/1000)","v":0},null,{"$f":"IF(ISERROR(DA341*$CL341/1000),0,DA341*$CL341/1000)","v":0},null,{"$f":"IF(ISERROR(DC341*$CL341/1000),0,DC341*$CL341/1000)","v":0},null,{"$f":"IF(ISERROR(DE341*$CL341/1000),0,DE341*$CL341/1000)","v":0},null,{"$f":"IF(ISERROR(DG341*$CL341/1000),0,DG341*$CL341/1000)","v":0},null,{"$f":"IF(ISERROR(DI341*$CL341/1000),0,DI341*$CL341/1000)","v":0},null,{"$f":"IF(ISERROR(DK341*$CL341/1000),0,DK341*$CL341/1000)","v":0},null,{"$f":"IF(ISERROR(DM341*$CL341/1000),0,DM341*$CL341/1000)","v":0},null,0,null,0,null,0,null,0,null,0,null,0]
[null,null,null,null,null,null,null,"",null,0,null,0,null,{"$f":"IF(ISERROR(M342*$D342/1000),0,M342*$D342/1000)","v":0},null,{"$f":"IF(ISERROR(O342*$D342/1000),0,O342*$D342/1000)","v":0},null,{"$f":"IF(ISERROR(Q342*$D342/1000),0,Q342*$D342/1000)","v":0},null,{"$f":"IF(ISERROR(S342*$D342/1000),0,S342*$D342/1000)","v":0},null,{"$f":"IF(ISERROR(U342*$D342/1000),0,U342*$D342/1000)","v":0},null,{"$f":"IF(ISERROR(W342*$D342/1000),0,W342*$D342/1000)","v":0},null,{"$f":"IF(ISERROR(Y342*$D342/1000),0,Y342*$D342/1000)","v":0},null,{"$f":"IF(ISERROR(AA342*$D342/1000),0,AA342*$D342/1000)","v":0},null,{"$f":"IF(ISERROR(AC342*$D342/1000),0,AC342*$D342/1000)","v":0},null,{"$f":"IF(ISERROR(AE342*$D342/1000),0,AE342*$D342/1000)","v":0},null,0,null,0,null,0,null,0,null,0,null,0,null,null,null,null,null,null,"",null,0,null,0,null,0,null,0,null,0,null,0,null,0,null,0,null,0,null,0,null,0,null,0,null,0,null,0,null,0,null,0,null,0,null,0,null,null,null,null,null,null,"",null,0,null,0,null,{"$f":"IF(ISERROR(CU342*$CL342/1000),0,CU342*$CL342/1000)","v":0},null,{"$f":"IF(ISERROR(CW342*$CL342/1000),0,CW342*$CL342/1000)","v":0},null,{"$f":"IF(ISERROR(CY342*$CL342/1000),0,CY342*$CL342/1000)","v":0},null,{"$f":"IF(ISERROR(DA342*$CL342/1000),0,DA342*$CL342/1000)","v":0},null,{"$f":"IF(ISERROR(DC342*$CL342/1000),0,DC342*$CL342/1000)","v":0},null,{"$f":"IF(ISERROR(DE342*$CL342/1000),0,DE342*$CL342/1000)","v":0},null,{"$f":"IF(ISERROR(DG342*$CL342/1000),0,DG342*$CL342/1000)","v":0},null,{"$f":"IF(ISERROR(DI342*$CL342/1000),0,DI342*$CL342/1000)","v":0},null,{"$f":"IF(ISERROR(DK342*$CL342/1000),0,DK342*$CL342/1000)","v":0},null,{"$f":"IF(ISERROR(DM342*$CL342/1000),0,DM342*$CL342/1000)","v":0},null,0,null,0,null,0,null,0,null,0,null,0]
[null,null,null,null,null,null,null,"",null,0,null,0,null,{"$f":"IF(ISERROR(M343*$D343/1000),0,M343*$D343/1000)","v":0},null,{"$f":"IF(ISERROR(O343*$D343/1000),0,O343*$D343/1000)","v":0},null,{"$f":"IF(ISERROR(Q343*$D343/1000),0,Q343*$D343/1000)","v":0},null,{"$f":"IF(ISERROR(S343*$D343/1000),0,S343*$D343/1000)","v":0},null,{"$f":"IF(ISERROR(U343*$D343/1000),0,U343*$D343/1000)","v":0},null,{"$f":"IF(ISERROR(W343*$D343/1000),0,W343*$D343/1000)","v":0},null,{"$f":"IF(ISERROR(Y343*$D343/1000),0,Y343*$D343/1000)","v":0},null,{"$f":"IF(ISERROR(AA343*$D343/1000),0,AA343*$D343/1000)","v":0},null,{"$f":"IF(ISERROR(AC343*$D343/1000),0,AC343*$D343/1000)","v":0},null,{"$f":"IF(ISERROR(AE343*$D343/1000),0,AE343*$D343/1000)","v":0},null,0,null,0,null,0,null,0,null,0,null,0,null,null,null,null,null,null,"",null,0,null,0,null,0,null,0,null,0,null,0,null,0,null,0,null,0,null,0,null,0,null,0,null,0,null,0,null,0,null,0,null,0,null,0,null,null,null,null,null,null,"",null,0,null,0,null,{"$f":"IF(ISERROR(CU343*$CL343/1000),0,CU343*$CL343/1000)","v":0},null,{"$f":"IF(ISERROR(CW343*$CL343/1000),0,CW343*$CL343/1000)","v":0},null,{"$f":"IF(ISERROR(CY343*$CL343/1000),0,CY343*$CL343/1000)","v":0},null,{"$f":"IF(ISERROR(DA343*$CL343/1000),0,DA343*$CL343/1000)","v":0},null,{"$f":"IF(ISERROR(DC343*$CL343/1000),0,DC343*$CL343/1000)","v":0},null,{"$f":"IF(ISERROR(DE343*$CL343/1000),0,DE343*$CL343/1000)","v":0},null,{"$f":"IF(ISERROR(DG343*$CL343/1000),0,DG343*$CL343/1000)","v":0},null,{"$f":"IF(ISERROR(DI343*$CL343/1000),0,DI343*$CL343/1000)","v":0},null,{"$f":"IF(ISERROR(DK343*$CL343/1000),0,DK343*$CL343/1000)","v":0},null,{"$f":"IF(ISERROR(DM343*$CL343/1000),0,DM343*$CL343/1000)","v":0},null,0,null,0,null,0,null,0,null,0,null,0]
[null,null,null,null,null,null,null,"",null,0,null,0,null,{"$f":"IF(ISERROR(M344*$D344/1000),0,M344*$D344/1000)","v":0},null,{"$f":"IF(ISERROR(O344*$D344/1000),0,O344*$D344/1000)","v":0},null,{"$f":"IF(ISERROR(Q344*$D344/1000),0,Q344*$D344/1000)","v":0},null,{"$f":"IF(ISERROR(S344*$D344/1000),0,S344*$D344/1000)","v":0},null,{"$f":"IF(ISERROR(U344*$D344/1000),0,U344*$D344/1000)","v":0},null,{"$f":"IF(ISERROR(W344*$D344/1000),0,W344*$D344/1000)","v":0},null,{"$f":"IF(ISERROR(Y344*$D344/1000),0,Y344*$D344/1000)","v":0},null,{"$f":"IF(ISERROR(AA344*$D344/1000),0,AA344*$D344/1000)","v":0},null,{"$f":"IF(ISERROR(AC344*$D344/1000),0,AC344*$D344/1000)","v":0},null,{"$f":"IF(ISERROR(AE344*$D344/1000),0,AE344*$D344/1000)","v":0},null,0,null,0,null,0,null,0,null,0,null,0,null,null,null,null,null,null,"",null,0,null,0,null,0,null,0,null,0,null,0,null,0,null,0,null,0,null,0,null,0,null,0,null,0,null,0,null,0,null,0,null,0,null,0,null,null,null,null,null,null,"",null,0,null,0,null,{"$f":"IF(ISERROR(CU344*$CL344/1000),0,CU344*$CL344/1000)","v":0},null,{"$f":"IF(ISERROR(CW344*$CL344/1000),0,CW344*$CL344/1000)","v":0},null,{"$f":"IF(ISERROR(CY344*$CL344/1000),0,CY344*$CL344/1000)","v":0},null,{"$f":"IF(ISERROR(DA344*$CL344/1000),0,DA344*$CL344/1000)","v":0},null,{"$f":"IF(ISERROR(DC344*$CL344/1000),0,DC344*$CL344/1000)","v":0},null,{"$f":"IF(ISERROR(DE344*$CL344/1000),0,DE344*$CL344/1000)","v":0},null,{"$f":"IF(ISERROR(DG344*$CL344/1000),0,DG344*$CL344/1000)","v":0},null,{"$f":"IF(ISERROR(DI344*$CL344/1000),0,DI344*$CL344/1000)","v":0},null,{"$f":"IF(ISERROR(DK344*$CL344/1000),0,DK344*$CL344/1000)","v":0},null,{"$f":"IF(ISERROR(DM344*$CL344/1000),0,DM344*$CL344/1000)","v":0},null,0,null,0,null,0,null,0,null,0,null,0]
[null,null,null,null,null,null,null,"",null,0,null,0,null,{"$f":"IF(ISERROR(M345*$D345/1000),0,M345*$D345/1000)","v":0},null,{"$f":"IF(ISERROR(O345*$D345/1000),0,O345*$D345/1000)","v":0},null,{"$f":"IF(ISERROR(Q345*$D345/1000),0,Q345*$D345/1000)","v":0},null,{"$f":"IF(ISERROR(S345*$D345/1000),0,S345*$D345/1000)","v":0},null,{"$f":"IF(ISERROR(U345*$D345/1000),0,U345*$D345/1000)","v":0},null,{"$f":"IF(ISERROR(W345*$D345/1000),0,W345*$D345/1000)","v":0},null,{"$f":"IF(ISERROR(Y345*$D345/1000),0,Y345*$D345/1000)","v":0},null,{"$f":"IF(ISERROR(AA345*$D345/1000),0,AA345*$D345/1000)","v":0},null,{"$f":"IF(ISERROR(AC345*$D345/1000),0,AC345*$D345/1000)","v":0},null,{"$f":"IF(ISERROR(AE345*$D345/1000),0,AE345*$D345/1000)","v":0},null,0,null,0,null,0,null,0,null,0,null,0,null,null,null,null,null,null,"",null,0,null,0,null,0,null,0,null,0,null,0,null,0,null,0,null,0,null,0,null,0,null,0,null,0,null,0,null,0,null,0,null,0,null,0,null,null,null,null,null,null,"",null,0,null,0,null,{"$f":"IF(ISERROR(CU345*$CL345/1000),0,CU345*$CL345/1000)","v":0},null,{"$f":"IF(ISERROR(CW345*$CL345/1000),0,CW345*$CL345/1000)","v":0},null,{"$f":"IF(ISERROR(CY345*$CL345/1000),0,CY345*$CL345/1000)","v":0},null,{"$f":"IF(ISERROR(DA345*$CL345/1000),0,DA345*$CL345/1000)","v":0},null,{"$f":"IF(ISERROR(DC345*$CL345/1000),0,DC345*$CL345/1000)","v":0},null,{"$f":"IF(ISERROR(DE345*$CL345/1000),0,DE345*$CL345/1000)","v":0},null,{"$f":"IF(ISERROR(DG345*$CL345/1000),0,DG345*$CL345/1000)","v":0},null,{"$f":"IF(ISERROR(DI345*$CL345/1000),0,DI345*$CL345/1000)","v":0},null,{"$f":"IF(ISERROR(DK345*$CL345/1000),0,DK345*$CL345/1000)","v":0},null,{"$f":"IF(ISERROR(DM345*$CL345/1000),0,DM345*$CL345/1000)","v":0},null,0,null,0,null,0,null,0,null,0,null,0]
[null,null,null,null,null,null,null,"",null,0,null,0,null,{"$f":"IF(ISERROR(M346*$D346/1000),0,M346*$D346/1000)","v":0},null,{"$f":"IF(ISERROR(O346*$D346/1000),0,O346*$D346/1000)","v":0},null,{"$f":"IF(ISERROR(Q346*$D346/1000),0,Q346*$D346/1000)","v":0},null,{"$f":"IF(ISERROR(S346*$D346/1000),0,S346*$D346/1000)","v":0},null,{"$f":"IF(ISERROR(U346*$D346/1000),0,U346*$D346/1000)","v":0},null,{"$f":"IF(ISERROR(W346*$D346/1000),0,W346*$D346/1000)","v":0},null,{"$f":"IF(ISERROR(Y346*$D346/1000),0,Y346*$D346/1000)","v":0},null,{"$f":"IF(ISERROR(AA346*$D346/1000),0,AA346*$D346/1000)","v":0},null,{"$f":"IF(ISERROR(AC346*$D346/1000),0,AC346*$D346/1000)","v":0},null,{"$f":"IF(ISERROR(AE346*$D346/1000),0,AE346*$D346/1000)","v":0},null,0,null,0,null,0,null,0,null,0,null,0,null,null,null,null,null,null,"",null,0,null,0,null,0,null,0,null,0,null,0,null,0,null,0,null,0,null,0,null,0,null,0,null,0,null,0,null,0,null,0,null,0,null,0,null,null,null,null,null,null,"",null,0,null,0,null,{"$f":"IF(ISERROR(CU346*$CL346/1000),0,CU346*$CL346/1000)","v":0},null,{"$f":"IF(ISERROR(CW346*$CL346/1000),0,CW346*$CL346/1000)","v":0},null,{"$f":"IF(ISERROR(CY346*$CL346/1000),0,CY346*$CL346/1000)","v":0},null,{"$f":"IF(ISERROR(DA346*$CL346/1000),0,DA346*$CL346/1000)","v":0},null,{"$f":"IF(ISERROR(DC346*$CL346/1000),0,DC346*$CL346/1000)","v":0},null,{"$f":"IF(ISERROR(DE346*$CL346/1000),0,DE346*$CL346/1000)","v":0},null,{"$f":"IF(ISERROR(DG346*$CL346/1000),0,DG346*$CL346/1000)","v":0},null,{"$f":"IF(ISERROR(DI346*$CL346/1000),0,DI346*$CL346/1000)","v":0},null,{"$f":"IF(ISERROR(DK346*$CL346/1000),0,DK346*$CL346/1000)","v":0},null,{"$f":"IF(ISERROR(DM346*$CL346/1000),0,DM346*$CL346/1000)","v":0},null,0,null,0,null,0,null,0,null,0,null,0]
[null,null,null,null,null,null,null,"",null,0,null,0,null,{"$f":"IF(ISERROR(M347*$D347/1000),0,M347*$D347/1000)","v":0},null,{"$f":"IF(ISERROR(O347*$D347/1000),0,O347*$D347/1000)","v":0},null,{"$f":"IF(ISERROR(Q347*$D347/1000),0,Q347*$D347/1000)","v":0},null,{"$f":"IF(ISERROR(S347*$D347/1000),0,S347*$D347/1000)","v":0},null,{"$f":"IF(ISERROR(U347*$D347/1000),0,U347*$D347/1000)","v":0},null,{"$f":"IF(ISERROR(W347*$D347/1000),0,W347*$D347/1000)","v":0},null,{"$f":"IF(ISERROR(Y347*$D347/1000),0,Y347*$D347/1000)","v":0},null,{"$f":"IF(ISERROR(AA347*$D347/1000),0,AA347*$D347/1000)","v":0},null,{"$f":"IF(ISERROR(AC347*$D347/1000),0,AC347*$D347/1000)","v":0},null,{"$f":"IF(ISERROR(AE347*$D347/1000),0,AE347*$D347/1000)","v":0},null,0,null,0,null,0,null,0,null,0,null,0,null,null,null,null,null,null,"",null,0,null,0,null,0,null,0,null,0,null,0,null,0,null,0,null,0,null,0,null,0,null,0,null,0,null,0,null,0,null,0,null,0,null,0,null,null,null,null,null,null,"",null,0,null,0,null,{"$f":"IF(ISERROR(CU347*$CL347/1000),0,CU347*$CL347/1000)","v":0},null,{"$f":"IF(ISERROR(CW347*$CL347/1000),0,CW347*$CL347/1000)","v":0},null,{"$f":"IF(ISERROR(CY347*$CL347/1000),0,CY347*$CL347/1000)","v":0},null,{"$f":"IF(ISERROR(DA347*$CL347/1000),0,DA347*$CL347/1000)","v":0},null,{"$f":"IF(ISERROR(DC347*$CL347/1000),0,DC347*$CL347/1000)","v":0},null,{"$f":"IF(ISERROR(DE347*$CL347/1000),0,DE347*$CL347/1000)","v":0},null,{"$f":"IF(ISERROR(DG347*$CL347/1000),0,DG347*$CL347/1000)","v":0},null,{"$f":"IF(ISERROR(DI347*$CL347/1000),0,DI347*$CL347/1000)","v":0},null,{"$f":"IF(ISERROR(DK347*$CL347/1000),0,DK347*$CL347/1000)","v":0},null,{"$f":"IF(ISERROR(DM347*$CL347/1000),0,DM347*$CL347/1000)","v":0},null,0,null,0,null,0,null,0,null,0,null,0]
[null,null,null,null,null,null,null,"",null,0,null,0,null,{"$f":"IF(ISERROR(M348*$D348/1000),0,M348*$D348/1000)","v":0},null,{"$f":"IF(ISERROR(O348*$D348/1000),0,O348*$D348/1000)","v":0},null,{"$f":"IF(ISERROR(Q348*$D348/1000),0,Q348*$D348/1000)","v":0},null,{"$f":"IF(ISERROR(S348*$D348/1000),0,S348*$D348/1000)","v":0},null,{"$f":"IF(ISERROR(U348*$D348/1000),0,U348*$D348/1000)","v":0},null,{"$f":"IF(ISERROR(W348*$D348/1000),0,W348*$D348/1000)","v":0},null,{"$f":"IF(ISERROR(Y348*$D348/1000),0,Y348*$D348/1000)","v":0},null,{"$f":"IF(ISERROR(AA348*$D348/1000),0,AA348*$D348/1000)","v":0},null,{"$f":"IF(ISERROR(AC348*$D348/1000),0,AC348*$D348/1000)","v":0},null,{"$f":"IF(ISERROR(AE348*$D348/1000),0,AE348*$D348/1000)","v":0},null,0,null,0,null,0,null,0,null,0,null,0,null,null,null,null,null,null,"",null,0,null,0,null,0,null,0,null,0,null,0,null,0,null,0,null,0,null,0,null,0,null,0,null,0,null,0,null,0,null,0,null,0,null,0,null,null,null,null,null,null,"",null,0,null,0,null,{"$f":"IF(ISERROR(CU348*$CL348/1000),0,CU348*$CL348/1000)","v":0},null,{"$f":"IF(ISERROR(CW348*$CL348/1000),0,CW348*$CL348/1000)","v":0},null,{"$f":"IF(ISERROR(CY348*$CL348/1000),0,CY348*$CL348/1000)","v":0},null,{"$f":"IF(ISERROR(DA348*$CL348/1000),0,DA348*$CL348/1000)","v":0},null,{"$f":"IF(ISERROR(DC348*$CL348/1000),0,DC348*$CL348/1000)","v":0},null,{"$f":"IF(ISERROR(DE348*$CL348/1000),0,DE348*$CL348/1000)","v":0},null,{"$f":"IF(ISERROR(DG348*$CL348/1000),0,DG348*$CL348/1000)","v":0},null,{"$f":"IF(ISERROR(DI348*$CL348/1000),0,DI348*$CL348/1000)","v":0},null,{"$f":"IF(ISERROR(DK348*$CL348/1000),0,DK348*$CL348/1000)","v":0},null,{"$f":"IF(ISERROR(DM348*$CL348/1000),0,DM348*$CL348/1000)","v":0},null,0,null,0,null,0,null,0,null,0,null,0]
[null,null,null,null,null,null,null,"",null,0,null,0,null,{"$f":"IF(ISERROR(M349*$D349/1000),0,M349*$D349/1000)","v":0},null,{"$f":"IF(ISERROR(O349*$D349/1000),0,O349*$D349/1000)","v":0},null,{"$f":"IF(ISERROR(Q349*$D349/1000),0,Q349*$D349/1000)","v":0},null,{"$f":"IF(ISERROR(S349*$D349/1000),0,S349*$D349/1000)","v":0},null,{"$f":"IF(ISERROR(U349*$D349/1000),0,U349*$D349/1000)","v":0},null,{"$f":"IF(ISERROR(W349*$D349/1000),0,W349*$D349/1000)","v":0},null,{"$f":"IF(ISERROR(Y349*$D349/1000),0,Y349*$D349/1000)","v":0},null,{"$f":"IF(ISERROR(AA349*$D349/1000),0,AA349*$D349/1000)","v":0},null,{"$f":"IF(ISERROR(AC349*$D349/1000),0,AC349*$D349/1000)","v":0},null,{"$f":"IF(ISERROR(AE349*$D349/1000),0,AE349*$D349/1000)","v":0},null,0,null,0,null,0,null,0,null,0,null,0,null,null,null,null,null,null,"",null,0,null,0,null,0,null,0,null,0,null,0,null,0,null,0,null,0,null,0,null,0,null,0,null,0,null,0,null,0,null,0,null,0,null,0,null,null,null,null,null,null,"",null,0,null,0,null,{"$f":"IF(ISERROR(CU349*$CL349/1000),0,CU349*$CL349/1000)","v":0},null,{"$f":"IF(ISERROR(CW349*$CL349/1000),0,CW349*$CL349/1000)","v":0},null,{"$f":"IF(ISERROR(CY349*$CL349/1000),0,CY349*$CL349/1000)","v":0},null,{"$f":"IF(ISERROR(DA349*$CL349/1000),0,DA349*$CL349/1000)","v":0},null,{"$f":"IF(ISERROR(DC349*$CL349/1000),0,DC349*$CL349/1000)","v":0},null,{"$f":"IF(ISERROR(DE349*$CL349/1000),0,DE349*$CL349/1000)","v":0},null,{"$f":"IF(ISERROR(DG349*$CL349/1000),0,DG349*$CL349/1000)","v":0},null,{"$f":"IF(ISERROR(DI349*$CL349/1000),0,DI349*$CL349/1000)","v":0},null,{"$f":"IF(ISERROR(DK349*$CL349/1000),0,DK349*$CL349/1000)","v":0},null,{"$f":"IF(ISERROR(DM349*$CL349/1000),0,DM349*$CL349/1000)","v":0},null,0,null,0,null,0,null,0,null,0,null,0]
[null,null,null,null,null,null,null,"",null,0,null,0,null,{"$f":"IF(ISERROR(M350*$D350/1000),0,M350*$D350/1000)","v":0},null,{"$f":"IF(ISERROR(O350*$D350/1000),0,O350*$D350/1000)","v":0},null,{"$f":"IF(ISERROR(Q350*$D350/1000),0,Q350*$D350/1000)","v":0},null,{"$f":"IF(ISERROR(S350*$D350/1000),0,S350*$D350/1000)","v":0},null,{"$f":"IF(ISERROR(U350*$D350/1000),0,U350*$D350/1000)","v":0},null,{"$f":"IF(ISERROR(W350*$D350/1000),0,W350*$D350/1000)","v":0},null,{"$f":"IF(ISERROR(Y350*$D350/1000),0,Y350*$D350/1000)","v":0},null,{"$f":"IF(ISERROR(AA350*$D350/1000),0,AA350*$D350/1000)","v":0},null,{"$f":"IF(ISERROR(AC350*$D350/1000),0,AC350*$D350/1000)","v":0},null,{"$f":"IF(ISERROR(AE350*$D350/1000),0,AE350*$D350/1000)","v":0},null,0,null,0,null,0,null,0,null,0,null,0,null,null,null,null,null,null,"",null,0,null,0,null,0,null,0,null,0,null,0,null,0,null,0,null,0,null,0,null,0,null,0,null,0,null,0,null,0,null,0,null,0,null,0,null,null,null,null,null,null,"",null,0,null,0,null,{"$f":"IF(ISERROR(CU350*$CL350/1000),0,CU350*$CL350/1000)","v":0},null,{"$f":"IF(ISERROR(CW350*$CL350/1000),0,CW350*$CL350/1000)","v":0},null,{"$f":"IF(ISERROR(CY350*$CL350/1000),0,CY350*$CL350/1000)","v":0},null,{"$f":"IF(ISERROR(DA350*$CL350/1000),0,DA350*$CL350/1000)","v":0},null,{"$f":"IF(ISERROR(DC350*$CL350/1000),0,DC350*$CL350/1000)","v":0},null,{"$f":"IF(ISERROR(DE350*$CL350/1000),0,DE350*$CL350/1000)","v":0},null,{"$f":"IF(ISERROR(DG350*$CL350/1000),0,DG350*$CL350/1000)","v":0},null,{"$f":"IF(ISERROR(DI350*$CL350/1000),0,DI350*$CL350/1000)","v":0},null,{"$f":"IF(ISERROR(DK350*$CL350/1000),0,DK350*$CL350/1000)","v":0},null,{"$f":"IF(ISERROR(DM350*$CL350/1000),0,DM350*$CL350/1000)","v":0},null,0,null,0,null,0,null,0,null,0,null,0]
[null,null,null,null,null,null,null,"",null,0,null,0,null,{"$f":"IF(ISERROR(M351*$D351/1000),0,M351*$D351/1000)","v":0},null,{"$f":"IF(ISERROR(O351*$D351/1000),0,O351*$D351/1000)","v":0},null,{"$f":"IF(ISERROR(Q351*$D351/1000),0,Q351*$D351/1000)","v":0},null,{"$f":"IF(ISERROR(S351*$D351/1000),0,S351*$D351/1000)","v":0},null,{"$f":"IF(ISERROR(U351*$D351/1000),0,U351*$D351/1000)","v":0},null,{"$f":"IF(ISERROR(W351*$D351/1000),0,W351*$D351/1000)","v":0},null,{"$f":"IF(ISERROR(Y351*$D351/1000),0,Y351*$D351/1000)","v":0},null,{"$f":"IF(ISERROR(AA351*$D351/1000),0,AA351*$D351/1000)","v":0},null,{"$f":"IF(ISERROR(AC351*$D351/1000),0,AC351*$D351/1000)","v":0},null,{"$f":"IF(ISERROR(AE351*$D351/1000),0,AE351*$D351/1000)","v":0},null,0,null,0,null,0,null,0,null,0,null,0,null,null,null,null,null,null,"",null,0,null,0,null,0,null,0,null,0,null,0,null,0,null,0,null,0,null,0,null,0,null,0,null,0,null,0,null,0,null,0,null,0,null,0,null,null,null,null,null,null,"",null,0,null,0,null,{"$f":"IF(ISERROR(CU351*$CL351/1000),0,CU351*$CL351/1000)","v":0},null,{"$f":"IF(ISERROR(CW351*$CL351/1000),0,CW351*$CL351/1000)","v":0},null,{"$f":"IF(ISERROR(CY351*$CL351/1000),0,CY351*$CL351/1000)","v":0},null,{"$f":"IF(ISERROR(DA351*$CL351/1000),0,DA351*$CL351/1000)","v":0},null,{"$f":"IF(ISERROR(DC351*$CL351/1000),0,DC351*$CL351/1000)","v":0},null,{"$f":"IF(ISERROR(DE351*$CL351/1000),0,DE351*$CL351/1000)","v":0},null,{"$f":"IF(ISERROR(DG351*$CL351/1000),0,DG351*$CL351/1000)","v":0},null,{"$f":"IF(ISERROR(DI351*$CL351/1000),0,DI351*$CL351/1000)","v":0},null,{"$f":"IF(ISERROR(DK351*$CL351/1000),0,DK351*$CL351/1000)","v":0},null,{"$f":"IF(ISERROR(DM351*$CL351/1000),0,DM351*$CL351/1000)","v":0},null,0,null,0,null,0,null,0,null,0,null,0]
[null,null,null,null,null,null,null,"",null,0,null,0,null,{"$f":"IF(ISERROR(M352*$D352/1000),0,M352*$D352/1000)","v":0},null,{"$f":"IF(ISERROR(O352*$D352/1000),0,O352*$D352/1000)","v":0},null,{"$f":"IF(ISERROR(Q352*$D352/1000),0,Q352*$D352/1000)","v":0},null,{"$f":"IF(ISERROR(S352*$D352/1000),0,S352*$D352/1000)","v":0},null,{"$f":"IF(ISERROR(U352*$D352/1000),0,U352*$D352/1000)","v":0},null,{"$f":"IF(ISERROR(W352*$D352/1000),0,W352*$D352/1000)","v":0},null,{"$f":"IF(ISERROR(Y352*$D352/1000),0,Y352*$D352/1000)","v":0},null,{"$f":"IF(ISERROR(AA352*$D352/1000),0,AA352*$D352/1000)","v":0},null,{"$f":"IF(ISERROR(AC352*$D352/1000),0,AC352*$D352/1000)","v":0},null,{"$f":"IF(ISERROR(AE352*$D352/1000),0,AE352*$D352/1000)","v":0},null,0,null,0,null,0,null,0,null,0,null,0,null,null,null,null,null,null,"",null,0,null,0,null,0,null,0,null,0,null,0,null,0,null,0,null,0,null,0,null,0,null,0,null,0,null,0,null,0,null,0,null,0,null,0,null,null,null,null,null,null,"",null,0,null,0,null,{"$f":"IF(ISERROR(CU352*$CL352/1000),0,CU352*$CL352/1000)","v":0},null,{"$f":"IF(ISERROR(CW352*$CL352/1000),0,CW352*$CL352/1000)","v":0},null,{"$f":"IF(ISERROR(CY352*$CL352/1000),0,CY352*$CL352/1000)","v":0},null,{"$f":"IF(ISERROR(DA352*$CL352/1000),0,DA352*$CL352/1000)","v":0},null,{"$f":"IF(ISERROR(DC352*$CL352/1000),0,DC352*$CL352/1000)","v":0},null,{"$f":"IF(ISERROR(DE352*$CL352/1000),0,DE352*$CL352/1000)","v":0},null,{"$f":"IF(ISERROR(DG352*$CL352/1000),0,DG352*$CL352/1000)","v":0},null,{"$f":"IF(ISERROR(DI352*$CL352/1000),0,DI352*$CL352/1000)","v":0},null,{"$f":"IF(ISERROR(DK352*$CL352/1000),0,DK352*$CL352/1000)","v":0},null,{"$f":"IF(ISERROR(DM352*$CL352/1000),0,DM352*$CL352/1000)","v":0},null,0,null,0,null,0,null,0,null,0,null,0]
[null,null,null,null,null,null,null,"",null,0,null,0,null,{"$f":"IF(ISERROR(M353*$D353/1000),0,M353*$D353/1000)","v":0},null,{"$f":"IF(ISERROR(O353*$D353/1000),0,O353*$D353/1000)","v":0},null,{"$f":"IF(ISERROR(Q353*$D353/1000),0,Q353*$D353/1000)","v":0},null,{"$f":"IF(ISERROR(S353*$D353/1000),0,S353*$D353/1000)","v":0},null,{"$f":"IF(ISERROR(U353*$D353/1000),0,U353*$D353/1000)","v":0},null,{"$f":"IF(ISERROR(W353*$D353/1000),0,W353*$D353/1000)","v":0},null,{"$f":"IF(ISERROR(Y353*$D353/1000),0,Y353*$D353/1000)","v":0},null,{"$f":"IF(ISERROR(AA353*$D353/1000),0,AA353*$D353/1000)","v":0},null,{"$f":"IF(ISERROR(AC353*$D353/1000),0,AC353*$D353/1000)","v":0},null,{"$f":"IF(ISERROR(AE353*$D353/1000),0,AE353*$D353/1000)","v":0},null,0,null,0,null,0,null,0,null,0,null,0,null,null,null,null,null,null,"",null,0,null,0,null,0,null,0,null,0,null,0,null,0,null,0,null,0,null,0,null,0,null,0,null,0,null,0,null,0,null,0,null,0,null,0,null,null,null,null,null,null,"",null,0,null,0,null,{"$f":"IF(ISERROR(CU353*$CL353/1000),0,CU353*$CL353/1000)","v":0},null,{"$f":"IF(ISERROR(CW353*$CL353/1000),0,CW353*$CL353/1000)","v":0},null,{"$f":"IF(ISERROR(CY353*$CL353/1000),0,CY353*$CL353/1000)","v":0},null,{"$f":"IF(ISERROR(DA353*$CL353/1000),0,DA353*$CL353/1000)","v":0},null,{"$f":"IF(ISERROR(DC353*$CL353/1000),0,DC353*$CL353/1000)","v":0},null,{"$f":"IF(ISERROR(DE353*$CL353/1000),0,DE353*$CL353/1000)","v":0},null,{"$f":"IF(ISERROR(DG353*$CL353/1000),0,DG353*$CL353/1000)","v":0},null,{"$f":"IF(ISERROR(DI353*$CL353/1000),0,DI353*$CL353/1000)","v":0},null,{"$f":"IF(ISERROR(DK353*$CL353/1000),0,DK353*$CL353/1000)","v":0},null,{"$f":"IF(ISERROR(DM353*$CL353/1000),0,DM353*$CL353/1000)","v":0},null,0,null,0,null,0,null,0,null,0,null,0]
[null,"Décembre",null,null,null,null,null,"",null,0,null,0,null,{"$f":"IF(ISERROR(M354*$D354/1000),0,M354*$D354/1000)","v":0},null,{"$f":"IF(ISERROR(O354*$D354/1000),0,O354*$D354/1000)","v":0},null,{"$f":"IF(ISERROR(Q354*$D354/1000),0,Q354*$D354/1000)","v":0},null,{"$f":"IF(ISERROR(S354*$D354/1000),0,S354*$D354/1000)","v":0},null,{"$f":"IF(ISERROR(U354*$D354/1000),0,U354*$D354/1000)","v":0},null,{"$f":"IF(ISERROR(W354*$D354/1000),0,W354*$D354/1000)","v":0},null,{"$f":"IF(ISERROR(Y354*$D354/1000),0,Y354*$D354/1000)","v":0},null,{"$f":"IF(ISERROR(AA354*$D354/1000),0,AA354*$D354/1000)","v":0},null,{"$f":"IF(ISERROR(AC354*$D354/1000),0,AC354*$D354/1000)","v":0},null,{"$f":"IF(ISERROR(AE354*$D354/1000),0,AE354*$D354/1000)","v":0},null,0,null,0,null,0,null,0,null,0,null,0,null,null,null,null,null,null,"",null,0,null,0,null,0,null,0,null,0,null,0,null,0,null,0,null,0,null,0,null,0,null,0,null,0,null,0,null,0,null,0,null,0,null,0,null,null,null,null,null,null,"",null,0,null,0,null,{"$f":"IF(ISERROR(CU354*$CL354/1000),0,CU354*$CL354/1000)","v":0},null,{"$f":"IF(ISERROR(CW354*$CL354/1000),0,CW354*$CL354/1000)","v":0},null,{"$f":"IF(ISERROR(CY354*$CL354/1000),0,CY354*$CL354/1000)","v":0},null,{"$f":"IF(ISERROR(DA354*$CL354/1000),0,DA354*$CL354/1000)","v":0},null,{"$f":"IF(ISERROR(DC354*$CL354/1000),0,DC354*$CL354/1000)","v":0},null,{"$f":"IF(ISERROR(DE354*$CL354/1000),0,DE354*$CL354/1000)","v":0},null,{"$f":"IF(ISERROR(DG354*$CL354/1000),0,DG354*$CL354/1000)","v":0},null,{"$f":"IF(ISERROR(DI354*$CL354/1000),0,DI354*$CL354/1000)","v":0},null,{"$f":"IF(ISERROR(DK354*$CL354/1000),0,DK354*$CL354/1000)","v":0},null,{"$f":"IF(ISERROR(DM354*$CL354/1000),0,DM354*$CL354/1000)","v":0},null,0,null,0,null,0,null,0,null,0,null,0]
[null,null,null,null,null,null,null,"",null,0,null,0,null,{"$f":"IF(ISERROR(M355*$D355/1000),0,M355*$D355/1000)","v":0},null,{"$f":"IF(ISERROR(O355*$D355/1000),0,O355*$D355/1000)","v":0},null,{"$f":"IF(ISERROR(Q355*$D355/1000),0,Q355*$D355/1000)","v":0},null,{"$f":"IF(ISERROR(S355*$D355/1000),0,S355*$D355/1000)","v":0},null,{"$f":"IF(ISERROR(U355*$D355/1000),0,U355*$D355/1000)","v":0},null,{"$f":"IF(ISERROR(W355*$D355/1000),0,W355*$D355/1000)","v":0},null,{"$f":"IF(ISERROR(Y355*$D355/1000),0,Y355*$D355/1000)","v":0},null,{"$f":"IF(ISERROR(AA355*$D355/1000),0,AA355*$D355/1000)","v":0},null,{"$f":"IF(ISERROR(AC355*$D355/1000),0,AC355*$D355/1000)","v":0},null,{"$f":"IF(ISERROR(AE355*$D355/1000),0,AE355*$D355/1000)","v":0},null,0,null,0,null,0,null,0,null,0,null,0,null,null,null,null,null,null,"",null,0,null,0,null,0,null,0,null,0,null,0,null,0,null,0,null,0,null,0,null,0,null,0,null,0,null,0,null,0,null,0,null,0,null,0,null,null,null,null,null,null,"",null,0,null,0,null,{"$f":"IF(ISERROR(CU355*$CL355/1000),0,CU355*$CL355/1000)","v":0},null,{"$f":"IF(ISERROR(CW355*$CL355/1000),0,CW355*$CL355/1000)","v":0},null,{"$f":"IF(ISERROR(CY355*$CL355/1000),0,CY355*$CL355/1000)","v":0},null,{"$f":"IF(ISERROR(DA355*$CL355/1000),0,DA355*$CL355/1000)","v":0},null,{"$f":"IF(ISERROR(DC355*$CL355/1000),0,DC355*$CL355/1000)","v":0},null,{"$f":"IF(ISERROR(DE355*$CL355/1000),0,DE355*$CL355/1000)","v":0},null,{"$f":"IF(ISERROR(DG355*$CL355/1000),0,DG355*$CL355/1000)","v":0},null,{"$f":"IF(ISERROR(DI355*$CL355/1000),0,DI355*$CL355/1000)","v":0},null,{"$f":"IF(ISERROR(DK355*$CL355/1000),0,DK355*$CL355/1000)","v":0},null,{"$f":"IF(ISERROR(DM355*$CL355/1000),0,DM355*$CL355/1000)","v":0},null,0,null,0,null,0,null,0,null,0,null,0]
[null,null,null,null,null,null,null,"",null,0,null,0,null,{"$f":"IF(ISERROR(M356*$D356/1000),0,M356*$D356/1000)","v":0},null,{"$f":"IF(ISERROR(O356*$D356/1000),0,O356*$D356/1000)","v":0},null,{"$f":"IF(ISERROR(Q356*$D356/1000),0,Q356*$D356/1000)","v":0},null,{"$f":"IF(ISERROR(S356*$D356/1000),0,S356*$D356/1000)","v":0},null,{"$f":"IF(ISERROR(U356*$D356/1000),0,U356*$D356/1000)","v":0},null,{"$f":"IF(ISERROR(W356*$D356/1000),0,W356*$D356/1000)","v":0},null,{"$f":"IF(ISERROR(Y356*$D356/1000),0,Y356*$D356/1000)","v":0},null,{"$f":"IF(ISERROR(AA356*$D356/1000),0,AA356*$D356/1000)","v":0},null,{"$f":"IF(ISERROR(AC356*$D356/1000),0,AC356*$D356/1000)","v":0},null,{"$f":"IF(ISERROR(AE356*$D356/1000),0,AE356*$D356/1000)","v":0},null,0,null,0,null,0,null,0,null,0,null,0,null,null,null,null,null,null,"",null,0,null,0,null,0,null,0,null,0,null,0,null,0,null,0,null,0,null,0,null,0,null,0,null,0,null,0,null,0,null,0,null,0,null,0,null,null,null,null,null,null,"",null,0,null,0,null,{"$f":"IF(ISERROR(CU356*$CL356/1000),0,CU356*$CL356/1000)","v":0},null,{"$f":"IF(ISERROR(CW356*$CL356/1000),0,CW356*$CL356/1000)","v":0},null,{"$f":"IF(ISERROR(CY356*$CL356/1000),0,CY356*$CL356/1000)","v":0},null,{"$f":"IF(ISERROR(DA356*$CL356/1000),0,DA356*$CL356/1000)","v":0},null,{"$f":"IF(ISERROR(DC356*$CL356/1000),0,DC356*$CL356/1000)","v":0},null,{"$f":"IF(ISERROR(DE356*$CL356/1000),0,DE356*$CL356/1000)","v":0},null,{"$f":"IF(ISERROR(DG356*$CL356/1000),0,DG356*$CL356/1000)","v":0},null,{"$f":"IF(ISERROR(DI356*$CL356/1000),0,DI356*$CL356/1000)","v":0},null,{"$f":"IF(ISERROR(DK356*$CL356/1000),0,DK356*$CL356/1000)","v":0},null,{"$f":"IF(ISERROR(DM356*$CL356/1000),0,DM356*$CL356/1000)","v":0},null,0,null,0,null,0,null,0,null,0,null,0]
[null,null,null,null,null,null,null,"",null,0,null,0,null,{"$f":"IF(ISERROR(M357*$D357/1000),0,M357*$D357/1000)","v":0},null,{"$f":"IF(ISERROR(O357*$D357/1000),0,O357*$D357/1000)","v":0},null,{"$f":"IF(ISERROR(Q357*$D357/1000),0,Q357*$D357/1000)","v":0},null,{"$f":"IF(ISERROR(S357*$D357/1000),0,S357*$D357/1000)","v":0},null,{"$f":"IF(ISERROR(U357*$D357/1000),0,U357*$D357/1000)","v":0},null,{"$f":"IF(ISERROR(W357*$D357/1000),0,W357*$D357/1000)","v":0},null,{"$f":"IF(ISERROR(Y357*$D357/1000),0,Y357*$D357/1000)","v":0},null,{"$f":"IF(ISERROR(AA357*$D357/1000),0,AA357*$D357/1000)","v":0},null,{"$f":"IF(ISERROR(AC357*$D357/1000),0,AC357*$D357/1000)","v":0},null,{"$f":"IF(ISERROR(AE357*$D357/1000),0,AE357*$D357/1000)","v":0},null,0,null,0,null,0,null,0,null,0,null,0,null,null,null,null,null,null,"",null,0,null,0,null,0,null,0,null,0,null,0,null,0,null,0,null,0,null,0,null,0,null,0,null,0,null,0,null,0,null,0,null,0,null,0,null,null,null,null,null,null,"",null,0,null,0,null,{"$f":"IF(ISERROR(CU357*$CL357/1000),0,CU357*$CL357/1000)","v":0},null,{"$f":"IF(ISERROR(CW357*$CL357/1000),0,CW357*$CL357/1000)","v":0},null,{"$f":"IF(ISERROR(CY357*$CL357/1000),0,CY357*$CL357/1000)","v":0},null,{"$f":"IF(ISERROR(DA357*$CL357/1000),0,DA357*$CL357/1000)","v":0},null,{"$f":"IF(ISERROR(DC357*$CL357/1000),0,DC357*$CL357/1000)","v":0},null,{"$f":"IF(ISERROR(DE357*$CL357/1000),0,DE357*$CL357/1000)","v":0},null,{"$f":"IF(ISERROR(DG357*$CL357/1000),0,DG357*$CL357/1000)","v":0},null,{"$f":"IF(ISERROR(DI357*$CL357/1000),0,DI357*$CL357/1000)","v":0},null,{"$f":"IF(ISERROR(DK357*$CL357/1000),0,DK357*$CL357/1000)","v":0},null,{"$f":"IF(ISERROR(DM357*$CL357/1000),0,DM357*$CL357/1000)","v":0},null,0,null,0,null,0,null,0,null,0,null,0]
[null,null,null,null,null,null,null,"",null,0,null,0,null,{"$f":"IF(ISERROR(M358*$D358/1000),0,M358*$D358/1000)","v":0},null,{"$f":"IF(ISERROR(O358*$D358/1000),0,O358*$D358/1000)","v":0},null,{"$f":"IF(ISERROR(Q358*$D358/1000),0,Q358*$D358/1000)","v":0},null,{"$f":"IF(ISERROR(S358*$D358/1000),0,S358*$D358/1000)","v":0},null,{"$f":"IF(ISERROR(U358*$D358/1000),0,U358*$D358/1000)","v":0},null,{"$f":"IF(ISERROR(W358*$D358/1000),0,W358*$D358/1000)","v":0},null,{"$f":"IF(ISERROR(Y358*$D358/1000),0,Y358*$D358/1000)","v":0},null,{"$f":"IF(ISERROR(AA358*$D358/1000),0,AA358*$D358/1000)","v":0},null,{"$f":"IF(ISERROR(AC358*$D358/1000),0,AC358*$D358/1000)","v":0},null,{"$f":"IF(ISERROR(AE358*$D358/1000),0,AE358*$D358/1000)","v":0},null,0,null,0,null,0,null,0,null,0,null,0,null,null,null,null,null,null,"",null,0,null,0,null,0,null,0,null,0,null,0,null,0,null,0,null,0,null,0,null,0,null,0,null,0,null,0,null,0,null,0,null,0,null,0,null,null,null,null,null,null,"",null,0,null,0,null,{"$f":"IF(ISERROR(CU358*$CL358/1000),0,CU358*$CL358/1000)","v":0},null,{"$f":"IF(ISERROR(CW358*$CL358/1000),0,CW358*$CL358/1000)","v":0},null,{"$f":"IF(ISERROR(CY358*$CL358/1000),0,CY358*$CL358/1000)","v":0},null,{"$f":"IF(ISERROR(DA358*$CL358/1000),0,DA358*$CL358/1000)","v":0},null,{"$f":"IF(ISERROR(DC358*$CL358/1000),0,DC358*$CL358/1000)","v":0},null,{"$f":"IF(ISERROR(DE358*$CL358/1000),0,DE358*$CL358/1000)","v":0},null,{"$f":"IF(ISERROR(DG358*$CL358/1000),0,DG358*$CL358/1000)","v":0},null,{"$f":"IF(ISERROR(DI358*$CL358/1000),0,DI358*$CL358/1000)","v":0},null,{"$f":"IF(ISERROR(DK358*$CL358/1000),0,DK358*$CL358/1000)","v":0},null,{"$f":"IF(ISERROR(DM358*$CL358/1000),0,DM358*$CL358/1000)","v":0},null,0,null,0,null,0,null,0,null,0,null,0]
[null,null,null,null,null,null,null,"",null,0,null,0,null,{"$f":"IF(ISERROR(M359*$D359/1000),0,M359*$D359/1000)","v":0},null,{"$f":"IF(ISERROR(O359*$D359/1000),0,O359*$D359/1000)","v":0},null,{"$f":"IF(ISERROR(Q359*$D359/1000),0,Q359*$D359/1000)","v":0},null,{"$f":"IF(ISERROR(S359*$D359/1000),0,S359*$D359/1000)","v":0},null,{"$f":"IF(ISERROR(U359*$D359/1000),0,U359*$D359/1000)","v":0},null,{"$f":"IF(ISERROR(W359*$D359/1000),0,W359*$D359/1000)","v":0},null,{"$f":"IF(ISERROR(Y359*$D359/1000),0,Y359*$D359/1000)","v":0},null,{"$f":"IF(ISERROR(AA359*$D359/1000),0,AA359*$D359/1000)","v":0},null,{"$f":"IF(ISERROR(AC359*$D359/1000),0,AC359*$D359/1000)","v":0},null,{"$f":"IF(ISERROR(AE359*$D359/1000),0,AE359*$D359/1000)","v":0},null,0,null,0,null,0,null,0,null,0,null,0,null,null,null,null,null,null,"",null,0,null,0,null,0,null,0,null,0,null,0,null,0,null,0,null,0,null,0,null,0,null,0,null,0,null,0,null,0,null,0,null,0,null,0,null,null,null,null,null,null,"",null,0,null,0,null,{"$f":"IF(ISERROR(CU359*$CL359/1000),0,CU359*$CL359/1000)","v":0},null,{"$f":"IF(ISERROR(CW359*$CL359/1000),0,CW359*$CL359/1000)","v":0},null,{"$f":"IF(ISERROR(CY359*$CL359/1000),0,CY359*$CL359/1000)","v":0},null,{"$f":"IF(ISERROR(DA359*$CL359/1000),0,DA359*$CL359/1000)","v":0},null,{"$f":"IF(ISERROR(DC359*$CL359/1000),0,DC359*$CL359/1000)","v":0},null,{"$f":"IF(ISERROR(DE359*$CL359/1000),0,DE359*$CL359/1000)","v":0},null,{"$f":"IF(ISERROR(DG359*$CL359/1000),0,DG359*$CL359/1000)","v":0},null,{"$f":"IF(ISERROR(DI359*$CL359/1000),0,DI359*$CL359/1000)","v":0},null,{"$f":"IF(ISERROR(DK359*$CL359/1000),0,DK359*$CL359/1000)","v":0},null,{"$f":"IF(ISERROR(DM359*$CL359/1000),0,DM359*$CL359/1000)","v":0},null,0,null,0,null,0,null,0,null,0,null,0]
[null,null,null,null,null,null,null,"",null,0,null,0,null,{"$f":"IF(ISERROR(M360*$D360/1000),0,M360*$D360/1000)","v":0},null,{"$f":"IF(ISERROR(O360*$D360/1000),0,O360*$D360/1000)","v":0},null,{"$f":"IF(ISERROR(Q360*$D360/1000),0,Q360*$D360/1000)","v":0},null,{"$f":"IF(ISERROR(S360*$D360/1000),0,S360*$D360/1000)","v":0},null,{"$f":"IF(ISERROR(U360*$D360/1000),0,U360*$D360/1000)","v":0},null,{"$f":"IF(ISERROR(W360*$D360/1000),0,W360*$D360/1000)","v":0},null,{"$f":"IF(ISERROR(Y360*$D360/1000),0,Y360*$D360/1000)","v":0},null,{"$f":"IF(ISERROR(AA360*$D360/1000),0,AA360*$D360/1000)","v":0},null,{"$f":"IF(ISERROR(AC360*$D360/1000),0,AC360*$D360/1000)","v":0},null,{"$f":"IF(ISERROR(AE360*$D360/1000),0,AE360*$D360/1000)","v":0},null,0,null,0,null,0,null,0,null,0,null,0,null,null,null,null,null,null,"",null,0,null,0,null,0,null,0,null,0,null,0,null,0,null,0,null,0,null,0,null,0,null,0,null,0,null,0,null,0,null,0,null,0,null,0,null,null,null,null,null,null,"",null,0,null,0,null,{"$f":"IF(ISERROR(CU360*$CL360/1000),0,CU360*$CL360/1000)","v":0},null,{"$f":"IF(ISERROR(CW360*$CL360/1000),0,CW360*$CL360/1000)","v":0},null,{"$f":"IF(ISERROR(CY360*$CL360/1000),0,CY360*$CL360/1000)","v":0},null,{"$f":"IF(ISERROR(DA360*$CL360/1000),0,DA360*$CL360/1000)","v":0},null,{"$f":"IF(ISERROR(DC360*$CL360/1000),0,DC360*$CL360/1000)","v":0},null,{"$f":"IF(ISERROR(DE360*$CL360/1000),0,DE360*$CL360/1000)","v":0},null,{"$f":"IF(ISERROR(DG360*$CL360/1000),0,DG360*$CL360/1000)","v":0},null,{"$f":"IF(ISERROR(DI360*$CL360/1000),0,DI360*$CL360/1000)","v":0},null,{"$f":"IF(ISERROR(DK360*$CL360/1000),0,DK360*$CL360/1000)","v":0},null,{"$f":"IF(ISERROR(DM360*$CL360/1000),0,DM360*$CL360/1000)","v":0},null,0,null,0,null,0,null,0,null,0,null,0]
[null,null,null,null,null,null,null,"",null,0,null,0,null,{"$f":"IF(ISERROR(M361*$D361/1000),0,M361*$D361/1000)","v":0},null,{"$f":"IF(ISERROR(O361*$D361/1000),0,O361*$D361/1000)","v":0},null,{"$f":"IF(ISERROR(Q361*$D361/1000),0,Q361*$D361/1000)","v":0},null,{"$f":"IF(ISERROR(S361*$D361/1000),0,S361*$D361/1000)","v":0},null,{"$f":"IF(ISERROR(U361*$D361/1000),0,U361*$D361/1000)","v":0},null,{"$f":"IF(ISERROR(W361*$D361/1000),0,W361*$D361/1000)","v":0},null,{"$f":"IF(ISERROR(Y361*$D361/1000),0,Y361*$D361/1000)","v":0},null,{"$f":"IF(ISERROR(AA361*$D361/1000),0,AA361*$D361/1000)","v":0},null,{"$f":"IF(ISERROR(AC361*$D361/1000),0,AC361*$D361/1000)","v":0},null,{"$f":"IF(ISERROR(AE361*$D361/1000),0,AE361*$D361/1000)","v":0},null,0,null,0,null,0,null,0,null,0,null,0,null,null,null,null,null,null,"",null,0,null,0,null,0,null,0,null,0,null,0,null,0,null,0,null,0,null,0,null,0,null,0,null,0,null,0,null,0,null,0,null,0,null,0,null,null,null,null,null,null,"",null,0,null,0,null,{"$f":"IF(ISERROR(CU361*$CL361/1000),0,CU361*$CL361/1000)","v":0},null,{"$f":"IF(ISERROR(CW361*$CL361/1000),0,CW361*$CL361/1000)","v":0},null,{"$f":"IF(ISERROR(CY361*$CL361/1000),0,CY361*$CL361/1000)","v":0},null,{"$f":"IF(ISERROR(DA361*$CL361/1000),0,DA361*$CL361/1000)","v":0},null,{"$f":"IF(ISERROR(DC361*$CL361/1000),0,DC361*$CL361/1000)","v":0},null,{"$f":"IF(ISERROR(DE361*$CL361/1000),0,DE361*$CL361/1000)","v":0},null,{"$f":"IF(ISERROR(DG361*$CL361/1000),0,DG361*$CL361/1000)","v":0},null,{"$f":"IF(ISERROR(DI361*$CL361/1000),0,DI361*$CL361/1000)","v":0},null,{"$f":"IF(ISERROR(DK361*$CL361/1000),0,DK361*$CL361/1000)","v":0},null,{"$f":"IF(ISERROR(DM361*$CL361/1000),0,DM361*$CL361/1000)","v":0},null,0,null,0,null,0,null,0,null,0,null,0]
[null,null,null,null,null,null,null,"",null,0,null,0,null,{"$f":"IF(ISERROR(M362*$D362/1000),0,M362*$D362/1000)","v":0},null,{"$f":"IF(ISERROR(O362*$D362/1000),0,O362*$D362/1000)","v":0},null,{"$f":"IF(ISERROR(Q362*$D362/1000),0,Q362*$D362/1000)","v":0},null,{"$f":"IF(ISERROR(S362*$D362/1000),0,S362*$D362/1000)","v":0},null,{"$f":"IF(ISERROR(U362*$D362/1000),0,U362*$D362/1000)","v":0},null,{"$f":"IF(ISERROR(W362*$D362/1000),0,W362*$D362/1000)","v":0},null,{"$f":"IF(ISERROR(Y362*$D362/1000),0,Y362*$D362/1000)","v":0},null,{"$f":"IF(ISERROR(AA362*$D362/1000),0,AA362*$D362/1000)","v":0},null,{"$f":"IF(ISERROR(AC362*$D362/1000),0,AC362*$D362/1000)","v":0},null,{"$f":"IF(ISERROR(AE362*$D362/1000),0,AE362*$D362/1000)","v":0},null,0,null,0,null,0,null,0,null,0,null,0,null,null,null,null,null,null,"",null,0,null,0,null,0,null,0,null,0,null,0,null,0,null,0,null,0,null,0,null,0,null,0,null,0,null,0,null,0,null,0,null,0,null,0,null,null,null,null,null,null,"",null,0,null,0,null,{"$f":"IF(ISERROR(CU362*$CL362/1000),0,CU362*$CL362/1000)","v":0},null,{"$f":"IF(ISERROR(CW362*$CL362/1000),0,CW362*$CL362/1000)","v":0},null,{"$f":"IF(ISERROR(CY362*$CL362/1000),0,CY362*$CL362/1000)","v":0},null,{"$f":"IF(ISERROR(DA362*$CL362/1000),0,DA362*$CL362/1000)","v":0},null,{"$f":"IF(ISERROR(DC362*$CL362/1000),0,DC362*$CL362/1000)","v":0},null,{"$f":"IF(ISERROR(DE362*$CL362/1000),0,DE362*$CL362/1000)","v":0},null,{"$f":"IF(ISERROR(DG362*$CL362/1000),0,DG362*$CL362/1000)","v":0},null,{"$f":"IF(ISERROR(DI362*$CL362/1000),0,DI362*$CL362/1000)","v":0},null,{"$f":"IF(ISERROR(DK362*$CL362/1000),0,DK362*$CL362/1000)","v":0},null,{"$f":"IF(ISERROR(DM362*$CL362/1000),0,DM362*$CL362/1000)","v":0},null,0,null,0,null,0,null,0,null,0,null,0]
[null,null,null,null,null,null,null,"",null,0,null,0,null,{"$f":"IF(ISERROR(M363*$D363/1000),0,M363*$D363/1000)","v":0},null,{"$f":"IF(ISERROR(O363*$D363/1000),0,O363*$D363/1000)","v":0},null,{"$f":"IF(ISERROR(Q363*$D363/1000),0,Q363*$D363/1000)","v":0},null,{"$f":"IF(ISERROR(S363*$D363/1000),0,S363*$D363/1000)","v":0},null,{"$f":"IF(ISERROR(U363*$D363/1000),0,U363*$D363/1000)","v":0},null,{"$f":"IF(ISERROR(W363*$D363/1000),0,W363*$D363/1000)","v":0},null,{"$f":"IF(ISERROR(Y363*$D363/1000),0,Y363*$D363/1000)","v":0},null,{"$f":"IF(ISERROR(AA363*$D363/1000),0,AA363*$D363/1000)","v":0},null,{"$f":"IF(ISERROR(AC363*$D363/1000),0,AC363*$D363/1000)","v":0},null,{"$f":"IF(ISERROR(AE363*$D363/1000),0,AE363*$D363/1000)","v":0},null,0,null,0,null,0,null,0,null,0,null,0,null,null,null,null,null,null,"",null,0,null,0,null,0,null,0,null,0,null,0,null,0,null,0,null,0,null,0,null,0,null,0,null,0,null,0,null,0,null,0,null,0,null,0,null,null,null,null,null,null,"",null,0,null,0,null,{"$f":"IF(ISERROR(CU363*$CL363/1000),0,CU363*$CL363/1000)","v":0},null,{"$f":"IF(ISERROR(CW363*$CL363/1000),0,CW363*$CL363/1000)","v":0},null,{"$f":"IF(ISERROR(CY363*$CL363/1000),0,CY363*$CL363/1000)","v":0},null,{"$f":"IF(ISERROR(DA363*$CL363/1000),0,DA363*$CL363/1000)","v":0},null,{"$f":"IF(ISERROR(DC363*$CL363/1000),0,DC363*$CL363/1000)","v":0},null,{"$f":"IF(ISERROR(DE363*$CL363/1000),0,DE363*$CL363/1000)","v":0},null,{"$f":"IF(ISERROR(DG363*$CL363/1000),0,DG363*$CL363/1000)","v":0},null,{"$f":"IF(ISERROR(DI363*$CL363/1000),0,DI363*$CL363/1000)","v":0},null,{"$f":"IF(ISERROR(DK363*$CL363/1000),0,DK363*$CL363/1000)","v":0},null,{"$f":"IF(ISERROR(DM363*$CL363/1000),0,DM363*$CL363/1000)","v":0},null,0,null,0,null,0,null,0,null,0,null,0]
[null,null,null,null,null,null,null,"",null,0,null,0,null,{"$f":"IF(ISERROR(M364*$D364/1000),0,M364*$D364/1000)","v":0},null,{"$f":"IF(ISERROR(O364*$D364/1000),0,O364*$D364/1000)","v":0},null,{"$f":"IF(ISERROR(Q364*$D364/1000),0,Q364*$D364/1000)","v":0},null,{"$f":"IF(ISERROR(S364*$D364/1000),0,S364*$D364/1000)","v":0},null,{"$f":"IF(ISERROR(U364*$D364/1000),0,U364*$D364/1000)","v":0},null,{"$f":"IF(ISERROR(W364*$D364/1000),0,W364*$D364/1000)","v":0},null,{"$f":"IF(ISERROR(Y364*$D364/1000),0,Y364*$D364/1000)","v":0},null,{"$f":"IF(ISERROR(AA364*$D364/1000),0,AA364*$D364/1000)","v":0},null,{"$f":"IF(ISERROR(AC364*$D364/1000),0,AC364*$D364/1000)","v":0},null,{"$f":"IF(ISERROR(AE364*$D364/1000),0,AE364*$D364/1000)","v":0},null,0,null,0,null,0,null,0,null,0,null,0,null,null,null,null,null,null,"",null,0,null,0,null,0,null,0,null,0,null,0,null,0,null,0,null,0,null,0,null,0,null,0,null,0,null,0,null,0,null,0,null,0,null,0,null,null,null,null,null,null,"",null,0,null,0,null,{"$f":"IF(ISERROR(CU364*$CL364/1000),0,CU364*$CL364/1000)","v":0},null,{"$f":"IF(ISERROR(CW364*$CL364/1000),0,CW364*$CL364/1000)","v":0},null,{"$f":"IF(ISERROR(CY364*$CL364/1000),0,CY364*$CL364/1000)","v":0},null,{"$f":"IF(ISERROR(DA364*$CL364/1000),0,DA364*$CL364/1000)","v":0},null,{"$f":"IF(ISERROR(DC364*$CL364/1000),0,DC364*$CL364/1000)","v":0},null,{"$f":"IF(ISERROR(DE364*$CL364/1000),0,DE364*$CL364/1000)","v":0},null,{"$f":"IF(ISERROR(DG364*$CL364/1000),0,DG364*$CL364/1000)","v":0},null,{"$f":"IF(ISERROR(DI364*$CL364/1000),0,DI364*$CL364/1000)","v":0},null,{"$f":"IF(ISERROR(DK364*$CL364/1000),0,DK364*$CL364/1000)","v":0},null,{"$f":"IF(ISERROR(DM364*$CL364/1000),0,DM364*$CL364/1000)","v":0},null,0,null,0,null,0,null,0,null,0,null,0]
[null,null,null,null,null,null,null,"",null,0,null,0,null,{"$f":"IF(ISERROR(M365*$D365/1000),0,M365*$D365/1000)","v":0},null,{"$f":"IF(ISERROR(O365*$D365/1000),0,O365*$D365/1000)","v":0},null,{"$f":"IF(ISERROR(Q365*$D365/1000),0,Q365*$D365/1000)","v":0},null,{"$f":"IF(ISERROR(S365*$D365/1000),0,S365*$D365/1000)","v":0},null,{"$f":"IF(ISERROR(U365*$D365/1000),0,U365*$D365/1000)","v":0},null,{"$f":"IF(ISERROR(W365*$D365/1000),0,W365*$D365/1000)","v":0},null,{"$f":"IF(ISERROR(Y365*$D365/1000),0,Y365*$D365/1000)","v":0},null,{"$f":"IF(ISERROR(AA365*$D365/1000),0,AA365*$D365/1000)","v":0},null,{"$f":"IF(ISERROR(AC365*$D365/1000),0,AC365*$D365/1000)","v":0},null,{"$f":"IF(ISERROR(AE365*$D365/1000),0,AE365*$D365/1000)","v":0},null,0,null,0,null,0,null,0,null,0,null,0,null,null,null,null,null,null,"",null,0,null,0,null,0,null,0,null,0,null,0,null,0,null,0,null,0,null,0,null,0,null,0,null,0,null,0,null,0,null,0,null,0,null,0,null,null,null,null,null,null,"",null,0,null,0,null,{"$f":"IF(ISERROR(CU365*$CL365/1000),0,CU365*$CL365/1000)","v":0},null,{"$f":"IF(ISERROR(CW365*$CL365/1000),0,CW365*$CL365/1000)","v":0},null,{"$f":"IF(ISERROR(CY365*$CL365/1000),0,CY365*$CL365/1000)","v":0},null,{"$f":"IF(ISERROR(DA365*$CL365/1000),0,DA365*$CL365/1000)","v":0},null,{"$f":"IF(ISERROR(DC365*$CL365/1000),0,DC365*$CL365/1000)","v":0},null,{"$f":"IF(ISERROR(DE365*$CL365/1000),0,DE365*$CL365/1000)","v":0},null,{"$f":"IF(ISERROR(DG365*$CL365/1000),0,DG365*$CL365/1000)","v":0},null,{"$f":"IF(ISERROR(DI365*$CL365/1000),0,DI365*$CL365/1000)","v":0},null,{"$f":"IF(ISERROR(DK365*$CL365/1000),0,DK365*$CL365/1000)","v":0},null,{"$f":"IF(ISERROR(DM365*$CL365/1000),0,DM365*$CL365/1000)","v":0},null,0,null,0,null,0,null,0,null,0,null,0]
[null,null,null,null,null,null,null,"",null,0,null,0,null,{"$f":"IF(ISERROR(M366*$D366/1000),0,M366*$D366/1000)","v":0},null,{"$f":"IF(ISERROR(O366*$D366/1000),0,O366*$D366/1000)","v":0},null,{"$f":"IF(ISERROR(Q366*$D366/1000),0,Q366*$D366/1000)","v":0},null,{"$f":"IF(ISERROR(S366*$D366/1000),0,S366*$D366/1000)","v":0},null,{"$f":"IF(ISERROR(U366*$D366/1000),0,U366*$D366/1000)","v":0},null,{"$f":"IF(ISERROR(W366*$D366/1000),0,W366*$D366/1000)","v":0},null,{"$f":"IF(ISERROR(Y366*$D366/1000),0,Y366*$D366/1000)","v":0},null,{"$f":"IF(ISERROR(AA366*$D366/1000),0,AA366*$D366/1000)","v":0},null,{"$f":"IF(ISERROR(AC366*$D366/1000),0,AC366*$D366/1000)","v":0},null,{"$f":"IF(ISERROR(AE366*$D366/1000),0,AE366*$D366/1000)","v":0},null,0,null,0,null,0,null,0,null,0,null,0,null,null,null,null,null,null,"",null,0,null,0,null,0,null,0,null,0,null,0,null,0,null,0,null,0,null,0,null,0,null,0,null,0,null,0,null,0,null,0,null,0,null,0,null,null,null,null,null,null,"",null,0,null,0,null,{"$f":"IF(ISERROR(CU366*$CL366/1000),0,CU366*$CL366/1000)","v":0},null,{"$f":"IF(ISERROR(CW366*$CL366/1000),0,CW366*$CL366/1000)","v":0},null,{"$f":"IF(ISERROR(CY366*$CL366/1000),0,CY366*$CL366/1000)","v":0},null,{"$f":"IF(ISERROR(DA366*$CL366/1000),0,DA366*$CL366/1000)","v":0},null,{"$f":"IF(ISERROR(DC366*$CL366/1000),0,DC366*$CL366/1000)","v":0},null,{"$f":"IF(ISERROR(DE366*$CL366/1000),0,DE366*$CL366/1000)","v":0},null,{"$f":"IF(ISERROR(DG366*$CL366/1000),0,DG366*$CL366/1000)","v":0},null,{"$f":"IF(ISERROR(DI366*$CL366/1000),0,DI366*$CL366/1000)","v":0},null,{"$f":"IF(ISERROR(DK366*$CL366/1000),0,DK366*$CL366/1000)","v":0},null,{"$f":"IF(ISERROR(DM366*$CL366/1000),0,DM366*$CL366/1000)","v":0},null,0,null,0,null,0,null,0,null,0,null,0]
[null,null,null,null,null,null,null,"",null,0,null,0,null,{"$f":"IF(ISERROR(M367*$D367/1000),0,M367*$D367/1000)","v":0},null,{"$f":"IF(ISERROR(O367*$D367/1000),0,O367*$D367/1000)","v":0},null,{"$f":"IF(ISERROR(Q367*$D367/1000),0,Q367*$D367/1000)","v":0},null,{"$f":"IF(ISERROR(S367*$D367/1000),0,S367*$D367/1000)","v":0},null,{"$f":"IF(ISERROR(U367*$D367/1000),0,U367*$D367/1000)","v":0},null,{"$f":"IF(ISERROR(W367*$D367/1000),0,W367*$D367/1000)","v":0},null,{"$f":"IF(ISERROR(Y367*$D367/1000),0,Y367*$D367/1000)","v":0},null,{"$f":"IF(ISERROR(AA367*$D367/1000),0,AA367*$D367/1000)","v":0},null,{"$f":"IF(ISERROR(AC367*$D367/1000),0,AC367*$D367/1000)","v":0},null,{"$f":"IF(ISERROR(AE367*$D367/1000),0,AE367*$D367/1000)","v":0},null,0,null,0,null,0,null,0,null,0,null,0,null,null,null,null,null,null,"",null,0,null,0,null,0,null,0,null,0,null,0,null,0,null,0,null,0,null,0,null,0,null,0,null,0,null,0,null,0,null,0,null,0,null,0,null,null,null,null,null,null,"",null,0,null,0,null,{"$f":"IF(ISERROR(CU367*$CL367/1000),0,CU367*$CL367/1000)","v":0},null,{"$f":"IF(ISERROR(CW367*$CL367/1000),0,CW367*$CL367/1000)","v":0},null,{"$f":"IF(ISERROR(CY367*$CL367/1000),0,CY367*$CL367/1000)","v":0},null,{"$f":"IF(ISERROR(DA367*$CL367/1000),0,DA367*$CL367/1000)","v":0},null,{"$f":"IF(ISERROR(DC367*$CL367/1000),0,DC367*$CL367/1000)","v":0},null,{"$f":"IF(ISERROR(DE367*$CL367/1000),0,DE367*$CL367/1000)","v":0},null,{"$f":"IF(ISERROR(DG367*$CL367/1000),0,DG367*$CL367/1000)","v":0},null,{"$f":"IF(ISERROR(DI367*$CL367/1000),0,DI367*$CL367/1000)","v":0},null,{"$f":"IF(ISERROR(DK367*$CL367/1000),0,DK367*$CL367/1000)","v":0},null,{"$f":"IF(ISERROR(DM367*$CL367/1000),0,DM367*$CL367/1000)","v":0},null,0,null,0,null,0,null,0,null,0,null,0]
[null,null,null,null,null,null,null,"",null,0,null,0,null,{"$f":"IF(ISERROR(M368*$D368/1000),0,M368*$D368/1000)","v":0},null,{"$f":"IF(ISERROR(O368*$D368/1000),0,O368*$D368/1000)","v":0},null,{"$f":"IF(ISERROR(Q368*$D368/1000),0,Q368*$D368/1000)","v":0},null,{"$f":"IF(ISERROR(S368*$D368/1000),0,S368*$D368/1000)","v":0},null,{"$f":"IF(ISERROR(U368*$D368/1000),0,U368*$D368/1000)","v":0},null,{"$f":"IF(ISERROR(W368*$D368/1000),0,W368*$D368/1000)","v":0},null,{"$f":"IF(ISERROR(Y368*$D368/1000),0,Y368*$D368/1000)","v":0},null,{"$f":"IF(ISERROR(AA368*$D368/1000),0,AA368*$D368/1000)","v":0},null,{"$f":"IF(ISERROR(AC368*$D368/1000),0,AC368*$D368/1000)","v":0},null,{"$f":"IF(ISERROR(AE368*$D368/1000),0,AE368*$D368/1000)","v":0},null,0,null,0,null,0,null,0,null,0,null,0,null,null,null,null,null,null,"",null,0,null,0,null,0,null,0,null,0,null,0,null,0,null,0,null,0,null,0,null,0,null,0,null,0,null,0,null,0,null,0,null,0,null,0,null,null,null,null,null,null,"",null,0,null,0,null,{"$f":"IF(ISERROR(CU368*$CL368/1000),0,CU368*$CL368/1000)","v":0},null,{"$f":"IF(ISERROR(CW368*$CL368/1000),0,CW368*$CL368/1000)","v":0},null,{"$f":"IF(ISERROR(CY368*$CL368/1000),0,CY368*$CL368/1000)","v":0},null,{"$f":"IF(ISERROR(DA368*$CL368/1000),0,DA368*$CL368/1000)","v":0},null,{"$f":"IF(ISERROR(DC368*$CL368/1000),0,DC368*$CL368/1000)","v":0},null,{"$f":"IF(ISERROR(DE368*$CL368/1000),0,DE368*$CL368/1000)","v":0},null,{"$f":"IF(ISERROR(DG368*$CL368/1000),0,DG368*$CL368/1000)","v":0},null,{"$f":"IF(ISERROR(DI368*$CL368/1000),0,DI368*$CL368/1000)","v":0},null,{"$f":"IF(ISERROR(DK368*$CL368/1000),0,DK368*$CL368/1000)","v":0},null,{"$f":"IF(ISERROR(DM368*$CL368/1000),0,DM368*$CL368/1000)","v":0},null,0,null,0,null,0,null,0,null,0,null,0]
[null,null,null,null,null,null,null,"",null,0,null,0,null,{"$f":"IF(ISERROR(M369*$D369/1000),0,M369*$D369/1000)","v":0},null,{"$f":"IF(ISERROR(O369*$D369/1000),0,O369*$D369/1000)","v":0},null,{"$f":"IF(ISERROR(Q369*$D369/1000),0,Q369*$D369/1000)","v":0},null,{"$f":"IF(ISERROR(S369*$D369/1000),0,S369*$D369/1000)","v":0},null,{"$f":"IF(ISERROR(U369*$D369/1000),0,U369*$D369/1000)","v":0},null,{"$f":"IF(ISERROR(W369*$D369/1000),0,W369*$D369/1000)","v":0},null,{"$f":"IF(ISERROR(Y369*$D369/1000),0,Y369*$D369/1000)","v":0},null,{"$f":"IF(ISERROR(AA369*$D369/1000),0,AA369*$D369/1000)","v":0},null,{"$f":"IF(ISERROR(AC369*$D369/1000),0,AC369*$D369/1000)","v":0},null,{"$f":"IF(ISERROR(AE369*$D369/1000),0,AE369*$D369/1000)","v":0},null,0,null,0,null,0,null,0,null,0,null,0,null,null,null,null,null,null,"",null,0,null,0,null,0,null,0,null,0,null,0,null,0,null,0,null,0,null,0,null,0,null,0,null,0,null,0,null,0,null,0,null,0,null,0,null,null,null,null,null,null,"",null,0,null,0,null,{"$f":"IF(ISERROR(CU369*$CL369/1000),0,CU369*$CL369/1000)","v":0},null,{"$f":"IF(ISERROR(CW369*$CL369/1000),0,CW369*$CL369/1000)","v":0},null,{"$f":"IF(ISERROR(CY369*$CL369/1000),0,CY369*$CL369/1000)","v":0},null,{"$f":"IF(ISERROR(DA369*$CL369/1000),0,DA369*$CL369/1000)","v":0},null,{"$f":"IF(ISERROR(DC369*$CL369/1000),0,DC369*$CL369/1000)","v":0},null,{"$f":"IF(ISERROR(DE369*$CL369/1000),0,DE369*$CL369/1000)","v":0},null,{"$f":"IF(ISERROR(DG369*$CL369/1000),0,DG369*$CL369/1000)","v":0},null,{"$f":"IF(ISERROR(DI369*$CL369/1000),0,DI369*$CL369/1000)","v":0},null,{"$f":"IF(ISERROR(DK369*$CL369/1000),0,DK369*$CL369/1000)","v":0},null,{"$f":"IF(ISERROR(DM369*$CL369/1000),0,DM369*$CL369/1000)","v":0},null,0,null,0,null,0,null,0,null,0,null,0]
[null,null,null,null,null,null,null,"",null,0,null,0,null,{"$f":"IF(ISERROR(M370*$D370/1000),0,M370*$D370/1000)","v":0},null,{"$f":"IF(ISERROR(O370*$D370/1000),0,O370*$D370/1000)","v":0},null,{"$f":"IF(ISERROR(Q370*$D370/1000),0,Q370*$D370/1000)","v":0},null,{"$f":"IF(ISERROR(S370*$D370/1000),0,S370*$D370/1000)","v":0},null,{"$f":"IF(ISERROR(U370*$D370/1000),0,U370*$D370/1000)","v":0},null,{"$f":"IF(ISERROR(W370*$D370/1000),0,W370*$D370/1000)","v":0},null,{"$f":"IF(ISERROR(Y370*$D370/1000),0,Y370*$D370/1000)","v":0},null,{"$f":"IF(ISERROR(AA370*$D370/1000),0,AA370*$D370/1000)","v":0},null,{"$f":"IF(ISERROR(AC370*$D370/1000),0,AC370*$D370/1000)","v":0},null,{"$f":"IF(ISERROR(AE370*$D370/1000),0,AE370*$D370/1000)","v":0},null,0,null,0,null,0,null,0,null,0,null,0,null,null,null,null,null,null,"",null,0,null,0,null,0,null,0,null,0,null,0,null,0,null,0,null,0,null,0,null,0,null,0,null,0,null,0,null,0,null,0,null,0,null,0,null,null,null,null,null,null,"",null,0,null,0,null,{"$f":"IF(ISERROR(CU370*$CL370/1000),0,CU370*$CL370/1000)","v":0},null,{"$f":"IF(ISERROR(CW370*$CL370/1000),0,CW370*$CL370/1000)","v":0},null,{"$f":"IF(ISERROR(CY370*$CL370/1000),0,CY370*$CL370/1000)","v":0},null,{"$f":"IF(ISERROR(DA370*$CL370/1000),0,DA370*$CL370/1000)","v":0},null,{"$f":"IF(ISERROR(DC370*$CL370/1000),0,DC370*$CL370/1000)","v":0},null,{"$f":"IF(ISERROR(DE370*$CL370/1000),0,DE370*$CL370/1000)","v":0},null,{"$f":"IF(ISERROR(DG370*$CL370/1000),0,DG370*$CL370/1000)","v":0},null,{"$f":"IF(ISERROR(DI370*$CL370/1000),0,DI370*$CL370/1000)","v":0},null,{"$f":"IF(ISERROR(DK370*$CL370/1000),0,DK370*$CL370/1000)","v":0},null,{"$f":"IF(ISERROR(DM370*$CL370/1000),0,DM370*$CL370/1000)","v":0},null,0,null,0,null,0,null,0,null,0,null,0]
[null,null,null,null,null,null,null,"",null,0,null,0,null,{"$f":"IF(ISERROR(M371*$D371/1000),0,M371*$D371/1000)","v":0},null,{"$f":"IF(ISERROR(O371*$D371/1000),0,O371*$D371/1000)","v":0},null,{"$f":"IF(ISERROR(Q371*$D371/1000),0,Q371*$D371/1000)","v":0},null,{"$f":"IF(ISERROR(S371*$D371/1000),0,S371*$D371/1000)","v":0},null,{"$f":"IF(ISERROR(U371*$D371/1000),0,U371*$D371/1000)","v":0},null,{"$f":"IF(ISERROR(W371*$D371/1000),0,W371*$D371/1000)","v":0},null,{"$f":"IF(ISERROR(Y371*$D371/1000),0,Y371*$D371/1000)","v":0},null,{"$f":"IF(ISERROR(AA371*$D371/1000),0,AA371*$D371/1000)","v":0},null,{"$f":"IF(ISERROR(AC371*$D371/1000),0,AC371*$D371/1000)","v":0},null,{"$f":"IF(ISERROR(AE371*$D371/1000),0,AE371*$D371/1000)","v":0},null,0,null,0,null,0,null,0,null,0,null,0,null,null,null,null,null,null,"",null,0,null,0,null,0,null,0,null,0,null,0,null,0,null,0,null,0,null,0,null,0,null,0,null,0,null,0,null,0,null,0,null,0,null,0,null,null,null,null,null,null,"",null,0,null,0,null,{"$f":"IF(ISERROR(CU371*$CL371/1000),0,CU371*$CL371/1000)","v":0},null,{"$f":"IF(ISERROR(CW371*$CL371/1000),0,CW371*$CL371/1000)","v":0},null,{"$f":"IF(ISERROR(CY371*$CL371/1000),0,CY371*$CL371/1000)","v":0},null,{"$f":"IF(ISERROR(DA371*$CL371/1000),0,DA371*$CL371/1000)","v":0},null,{"$f":"IF(ISERROR(DC371*$CL371/1000),0,DC371*$CL371/1000)","v":0},null,{"$f":"IF(ISERROR(DE371*$CL371/1000),0,DE371*$CL371/1000)","v":0},null,{"$f":"IF(ISERROR(DG371*$CL371/1000),0,DG371*$CL371/1000)","v":0},null,{"$f":"IF(ISERROR(DI371*$CL371/1000),0,DI371*$CL371/1000)","v":0},null,{"$f":"IF(ISERROR(DK371*$CL371/1000),0,DK371*$CL371/1000)","v":0},null,{"$f":"IF(ISERROR(DM371*$CL371/1000),0,DM371*$CL371/1000)","v":0},null,0,null,0,null,0,null,0,null,0,null,0]
[null,null,null,null,null,null,null,"",null,0,null,0,null,{"$f":"IF(ISERROR(M372*$D372/1000),0,M372*$D372/1000)","v":0},null,{"$f":"IF(ISERROR(O372*$D372/1000),0,O372*$D372/1000)","v":0},null,{"$f":"IF(ISERROR(Q372*$D372/1000),0,Q372*$D372/1000)","v":0},null,{"$f":"IF(ISERROR(S372*$D372/1000),0,S372*$D372/1000)","v":0},null,{"$f":"IF(ISERROR(U372*$D372/1000),0,U372*$D372/1000)","v":0},null,{"$f":"IF(ISERROR(W372*$D372/1000),0,W372*$D372/1000)","v":0},null,{"$f":"IF(ISERROR(Y372*$D372/1000),0,Y372*$D372/1000)","v":0},null,{"$f":"IF(ISERROR(AA372*$D372/1000),0,AA372*$D372/1000)","v":0},null,{"$f":"IF(ISERROR(AC372*$D372/1000),0,AC372*$D372/1000)","v":0},null,{"$f":"IF(ISERROR(AE372*$D372/1000),0,AE372*$D372/1000)","v":0},null,0,null,0,null,0,null,0,null,0,null,0,null,null,null,null,null,null,"",null,0,null,0,null,0,null,0,null,0,null,0,null,0,null,0,null,0,null,0,null,0,null,0,null,0,null,0,null,0,null,0,null,0,null,0,null,null,null,null,null,null,"",null,0,null,0,null,{"$f":"IF(ISERROR(CU372*$CL372/1000),0,CU372*$CL372/1000)","v":0},null,{"$f":"IF(ISERROR(CW372*$CL372/1000),0,CW372*$CL372/1000)","v":0},null,{"$f":"IF(ISERROR(CY372*$CL372/1000),0,CY372*$CL372/1000)","v":0},null,{"$f":"IF(ISERROR(DA372*$CL372/1000),0,DA372*$CL372/1000)","v":0},null,{"$f":"IF(ISERROR(DC372*$CL372/1000),0,DC372*$CL372/1000)","v":0},null,{"$f":"IF(ISERROR(DE372*$CL372/1000),0,DE372*$CL372/1000)","v":0},null,{"$f":"IF(ISERROR(DG372*$CL372/1000),0,DG372*$CL372/1000)","v":0},null,{"$f":"IF(ISERROR(DI372*$CL372/1000),0,DI372*$CL372/1000)","v":0},null,{"$f":"IF(ISERROR(DK372*$CL372/1000),0,DK372*$CL372/1000)","v":0},null,{"$f":"IF(ISERROR(DM372*$CL372/1000),0,DM372*$CL372/1000)","v":0},null,0,null,0,null,0,null,0,null,0,null,0]
[null,null,null,null,null,null,null,"",null,0,null,0,null,{"$f":"IF(ISERROR(M373*$D373/1000),0,M373*$D373/1000)","v":0},null,{"$f":"IF(ISERROR(O373*$D373/1000),0,O373*$D373/1000)","v":0},null,{"$f":"IF(ISERROR(Q373*$D373/1000),0,Q373*$D373/1000)","v":0},null,{"$f":"IF(ISERROR(S373*$D373/1000),0,S373*$D373/1000)","v":0},null,{"$f":"IF(ISERROR(U373*$D373/1000),0,U373*$D373/1000)","v":0},null,{"$f":"IF(ISERROR(W373*$D373/1000),0,W373*$D373/1000)","v":0},null,{"$f":"IF(ISERROR(Y373*$D373/1000),0,Y373*$D373/1000)","v":0},null,{"$f":"IF(ISERROR(AA373*$D373/1000),0,AA373*$D373/1000)","v":0},null,{"$f":"IF(ISERROR(AC373*$D373/1000),0,AC373*$D373/1000)","v":0},null,{"$f":"IF(ISERROR(AE373*$D373/1000),0,AE373*$D373/1000)","v":0},null,0,null,0,null,0,null,0,null,0,null,0,null,null,null,null,null,null,"",null,0,null,0,null,0,null,0,null,0,null,0,null,0,null,0,null,0,null,0,null,0,null,0,null,0,null,0,null,0,null,0,null,0,null,0,null,null,null,null,null,null,"",null,0,null,0,null,{"$f":"IF(ISERROR(CU373*$CL373/1000),0,CU373*$CL373/1000)","v":0},null,{"$f":"IF(ISERROR(CW373*$CL373/1000),0,CW373*$CL373/1000)","v":0},null,{"$f":"IF(ISERROR(CY373*$CL373/1000),0,CY373*$CL373/1000)","v":0},null,{"$f":"IF(ISERROR(DA373*$CL373/1000),0,DA373*$CL373/1000)","v":0},null,{"$f":"IF(ISERROR(DC373*$CL373/1000),0,DC373*$CL373/1000)","v":0},null,{"$f":"IF(ISERROR(DE373*$CL373/1000),0,DE373*$CL373/1000)","v":0},null,{"$f":"IF(ISERROR(DG373*$CL373/1000),0,DG373*$CL373/1000)","v":0},null,{"$f":"IF(ISERROR(DI373*$CL373/1000),0,DI373*$CL373/1000)","v":0},null,{"$f":"IF(ISERROR(DK373*$CL373/1000),0,DK373*$CL373/1000)","v":0},null,{"$f":"IF(ISERROR(DM373*$CL373/1000),0,DM373*$CL373/1000)","v":0},null,0,null,0,null,0,null,0,null,0,null,0]
[null,null,null,null,null,null,null,"",null,0,null,0,null,{"$f":"IF(ISERROR(M374*$D374/1000),0,M374*$D374/1000)","v":0},null,{"$f":"IF(ISERROR(O374*$D374/1000),0,O374*$D374/1000)","v":0},null,{"$f":"IF(ISERROR(Q374*$D374/1000),0,Q374*$D374/1000)","v":0},null,{"$f":"IF(ISERROR(S374*$D374/1000),0,S374*$D374/1000)","v":0},null,{"$f":"IF(ISERROR(U374*$D374/1000),0,U374*$D374/1000)","v":0},null,{"$f":"IF(ISERROR(W374*$D374/1000),0,W374*$D374/1000)","v":0},null,{"$f":"IF(ISERROR(Y374*$D374/1000),0,Y374*$D374/1000)","v":0},null,{"$f":"IF(ISERROR(AA374*$D374/1000),0,AA374*$D374/1000)","v":0},null,{"$f":"IF(ISERROR(AC374*$D374/1000),0,AC374*$D374/1000)","v":0},null,{"$f":"IF(ISERROR(AE374*$D374/1000),0,AE374*$D374/1000)","v":0},null,0,null,0,null,0,null,0,null,0,null,0,null,null,null,null,null,null,"",null,0,null,0,null,0,null,0,null,0,null,0,null,0,null,0,null,0,null,0,null,0,null,0,null,0,null,0,null,0,null,0,null,0,null,0,null,null,null,null,null,null,"",null,0,null,0,null,{"$f":"IF(ISERROR(CU374*$CL374/1000),0,CU374*$CL374/1000)","v":0},null,{"$f":"IF(ISERROR(CW374*$CL374/1000),0,CW374*$CL374/1000)","v":0},null,{"$f":"IF(ISERROR(CY374*$CL374/1000),0,CY374*$CL374/1000)","v":0},null,{"$f":"IF(ISERROR(DA374*$CL374/1000),0,DA374*$CL374/1000)","v":0},null,{"$f":"IF(ISERROR(DC374*$CL374/1000),0,DC374*$CL374/1000)","v":0},null,{"$f":"IF(ISERROR(DE374*$CL374/1000),0,DE374*$CL374/1000)","v":0},null,{"$f":"IF(ISERROR(DG374*$CL374/1000),0,DG374*$CL374/1000)","v":0},null,{"$f":"IF(ISERROR(DI374*$CL374/1000),0,DI374*$CL374/1000)","v":0},null,{"$f":"IF(ISERROR(DK374*$CL374/1000),0,DK374*$CL374/1000)","v":0},null,{"$f":"IF(ISERROR(DM374*$CL374/1000),0,DM374*$CL374/1000)","v":0},null,0,null,0,null,0,null,0,null,0,null,0]
[null,null,null,null,null,null,null,"",null,0,null,0,null,{"$f":"IF(ISERROR(M375*$D375/1000),0,M375*$D375/1000)","v":0},null,{"$f":"IF(ISERROR(O375*$D375/1000),0,O375*$D375/1000)","v":0},null,{"$f":"IF(ISERROR(Q375*$D375/1000),0,Q375*$D375/1000)","v":0},null,{"$f":"IF(ISERROR(S375*$D375/1000),0,S375*$D375/1000)","v":0},null,{"$f":"IF(ISERROR(U375*$D375/1000),0,U375*$D375/1000)","v":0},null,{"$f":"IF(ISERROR(W375*$D375/1000),0,W375*$D375/1000)","v":0},null,{"$f":"IF(ISERROR(Y375*$D375/1000),0,Y375*$D375/1000)","v":0},null,{"$f":"IF(ISERROR(AA375*$D375/1000),0,AA375*$D375/1000)","v":0},null,{"$f":"IF(ISERROR(AC375*$D375/1000),0,AC375*$D375/1000)","v":0},null,{"$f":"IF(ISERROR(AE375*$D375/1000),0,AE375*$D375/1000)","v":0},null,0,null,0,null,0,null,0,null,0,null,0,null,null,null,null,null,null,"",null,0,null,0,null,0,null,0,null,0,null,0,null,0,null,0,null,0,null,0,null,0,null,0,null,0,null,0,null,0,null,0,null,0,null,0,null,null,null,null,null,null,"",null,0,null,0,null,{"$f":"IF(ISERROR(CU375*$CL375/1000),0,CU375*$CL375/1000)","v":0},null,{"$f":"IF(ISERROR(CW375*$CL375/1000),0,CW375*$CL375/1000)","v":0},null,{"$f":"IF(ISERROR(CY375*$CL375/1000),0,CY375*$CL375/1000)","v":0},null,{"$f":"IF(ISERROR(DA375*$CL375/1000),0,DA375*$CL375/1000)","v":0},null,{"$f":"IF(ISERROR(DC375*$CL375/1000),0,DC375*$CL375/1000)","v":0},null,{"$f":"IF(ISERROR(DE375*$CL375/1000),0,DE375*$CL375/1000)","v":0},null,{"$f":"IF(ISERROR(DG375*$CL375/1000),0,DG375*$CL375/1000)","v":0},null,{"$f":"IF(ISERROR(DI375*$CL375/1000),0,DI375*$CL375/1000)","v":0},null,{"$f":"IF(ISERROR(DK375*$CL375/1000),0,DK375*$CL375/1000)","v":0},null,{"$f":"IF(ISERROR(DM375*$CL375/1000),0,DM375*$CL375/1000)","v":0},null,0,null,0,null,0,null,0,null,0,null,0]
[null,null,null,null,null,null,null,"",null,0,null,0,null,{"$f":"IF(ISERROR(M376*$D376/1000),0,M376*$D376/1000)","v":0},null,{"$f":"IF(ISERROR(O376*$D376/1000),0,O376*$D376/1000)","v":0},null,{"$f":"IF(ISERROR(Q376*$D376/1000),0,Q376*$D376/1000)","v":0},null,{"$f":"IF(ISERROR(S376*$D376/1000),0,S376*$D376/1000)","v":0},null,{"$f":"IF(ISERROR(U376*$D376/1000),0,U376*$D376/1000)","v":0},null,{"$f":"IF(ISERROR(W376*$D376/1000),0,W376*$D376/1000)","v":0},null,{"$f":"IF(ISERROR(Y376*$D376/1000),0,Y376*$D376/1000)","v":0},null,{"$f":"IF(ISERROR(AA376*$D376/1000),0,AA376*$D376/1000)","v":0},null,{"$f":"IF(ISERROR(AC376*$D376/1000),0,AC376*$D376/1000)","v":0},null,{"$f":"IF(ISERROR(AE376*$D376/1000),0,AE376*$D376/1000)","v":0},null,0,null,0,null,0,null,0,null,0,null,0,null,null,null,null,null,null,"",null,0,null,0,null,0,null,0,null,0,null,0,null,0,null,0,null,0,null,0,null,0,null,0,null,0,null,0,null,0,null,0,null,0,null,0,null,null,null,null,null,null,"",null,0,null,0,null,{"$f":"IF(ISERROR(CU376*$CL376/1000),0,CU376*$CL376/1000)","v":0},null,{"$f":"IF(ISERROR(CW376*$CL376/1000),0,CW376*$CL376/1000)","v":0},null,{"$f":"IF(ISERROR(CY376*$CL376/1000),0,CY376*$CL376/1000)","v":0},null,{"$f":"IF(ISERROR(DA376*$CL376/1000),0,DA376*$CL376/1000)","v":0},null,{"$f":"IF(ISERROR(DC376*$CL376/1000),0,DC376*$CL376/1000)","v":0},null,{"$f":"IF(ISERROR(DE376*$CL376/1000),0,DE376*$CL376/1000)","v":0},null,{"$f":"IF(ISERROR(DG376*$CL376/1000),0,DG376*$CL376/1000)","v":0},null,{"$f":"IF(ISERROR(DI376*$CL376/1000),0,DI376*$CL376/1000)","v":0},null,{"$f":"IF(ISERROR(DK376*$CL376/1000),0,DK376*$CL376/1000)","v":0},null,{"$f":"IF(ISERROR(DM376*$CL376/1000),0,DM376*$CL376/1000)","v":0},null,0,null,0,null,0,null,0,null,0,null,0]
[null,null,null,null,null,null,null,"",null,0,null,0,null,{"$f":"IF(ISERROR(M377*$D377/1000),0,M377*$D377/1000)","v":0},null,{"$f":"IF(ISERROR(O377*$D377/1000),0,O377*$D377/1000)","v":0},null,{"$f":"IF(ISERROR(Q377*$D377/1000),0,Q377*$D377/1000)","v":0},null,{"$f":"IF(ISERROR(S377*$D377/1000),0,S377*$D377/1000)","v":0},null,{"$f":"IF(ISERROR(U377*$D377/1000),0,U377*$D377/1000)","v":0},null,{"$f":"IF(ISERROR(W377*$D377/1000),0,W377*$D377/1000)","v":0},null,{"$f":"IF(ISERROR(Y377*$D377/1000),0,Y377*$D377/1000)","v":0},null,{"$f":"IF(ISERROR(AA377*$D377/1000),0,AA377*$D377/1000)","v":0},null,{"$f":"IF(ISERROR(AC377*$D377/1000),0,AC377*$D377/1000)","v":0},null,{"$f":"IF(ISERROR(AE377*$D377/1000),0,AE377*$D377/1000)","v":0},null,0,null,0,null,0,null,0,null,0,null,0,null,null,null,null,null,null,"",null,0,null,0,null,0,null,0,null,0,null,0,null,0,null,0,null,0,null,0,null,0,null,0,null,0,null,0,null,0,null,0,null,0,null,0,null,null,null,null,null,null,"",null,0,null,0,null,{"$f":"IF(ISERROR(CU377*$CL377/1000),0,CU377*$CL377/1000)","v":0},null,{"$f":"IF(ISERROR(CW377*$CL377/1000),0,CW377*$CL377/1000)","v":0},null,{"$f":"IF(ISERROR(CY377*$CL377/1000),0,CY377*$CL377/1000)","v":0},null,{"$f":"IF(ISERROR(DA377*$CL377/1000),0,DA377*$CL377/1000)","v":0},null,{"$f":"IF(ISERROR(DC377*$CL377/1000),0,DC377*$CL377/1000)","v":0},null,{"$f":"IF(ISERROR(DE377*$CL377/1000),0,DE377*$CL377/1000)","v":0},null,{"$f":"IF(ISERROR(DG377*$CL377/1000),0,DG377*$CL377/1000)","v":0},null,{"$f":"IF(ISERROR(DI377*$CL377/1000),0,DI377*$CL377/1000)","v":0},null,{"$f":"IF(ISERROR(DK377*$CL377/1000),0,DK377*$CL377/1000)","v":0},null,{"$f":"IF(ISERROR(DM377*$CL377/1000),0,DM377*$CL377/1000)","v":0},null,0,null,0,null,0,null,0,null,0,null,0]
[null,null,null,null,null,null,null,"",null,0,null,0,null,{"$f":"IF(ISERROR(M378*$D378/1000),0,M378*$D378/1000)","v":0},null,{"$f":"IF(ISERROR(O378*$D378/1000),0,O378*$D378/1000)","v":0},null,{"$f":"IF(ISERROR(Q378*$D378/1000),0,Q378*$D378/1000)","v":0},null,{"$f":"IF(ISERROR(S378*$D378/1000),0,S378*$D378/1000)","v":0},null,{"$f":"IF(ISERROR(U378*$D378/1000),0,U378*$D378/1000)","v":0},null,{"$f":"IF(ISERROR(W378*$D378/1000),0,W378*$D378/1000)","v":0},null,{"$f":"IF(ISERROR(Y378*$D378/1000),0,Y378*$D378/1000)","v":0},null,{"$f":"IF(ISERROR(AA378*$D378/1000),0,AA378*$D378/1000)","v":0},null,{"$f":"IF(ISERROR(AC378*$D378/1000),0,AC378*$D378/1000)","v":0},null,{"$f":"IF(ISERROR(AE378*$D378/1000),0,AE378*$D378/1000)","v":0},null,0,null,0,null,0,null,0,null,0,null,0,null,null,null,null,null,null,"",null,0,null,0,null,0,null,0,null,0,null,0,null,0,null,0,null,0,null,0,null,0,null,0,null,0,null,0,null,0,null,0,null,0,null,0,null,null,null,null,null,null,"",null,0,null,0,null,{"$f":"IF(ISERROR(CU378*$CL378/1000),0,CU378*$CL378/1000)","v":0},null,{"$f":"IF(ISERROR(CW378*$CL378/1000),0,CW378*$CL378/1000)","v":0},null,{"$f":"IF(ISERROR(CY378*$CL378/1000),0,CY378*$CL378/1000)","v":0},null,{"$f":"IF(ISERROR(DA378*$CL378/1000),0,DA378*$CL378/1000)","v":0},null,{"$f":"IF(ISERROR(DC378*$CL378/1000),0,DC378*$CL378/1000)","v":0},null,{"$f":"IF(ISERROR(DE378*$CL378/1000),0,DE378*$CL378/1000)","v":0},null,{"$f":"IF(ISERROR(DG378*$CL378/1000),0,DG378*$CL378/1000)","v":0},null,{"$f":"IF(ISERROR(DI378*$CL378/1000),0,DI378*$CL378/1000)","v":0},null,{"$f":"IF(ISERROR(DK378*$CL378/1000),0,DK378*$CL378/1000)","v":0},null,{"$f":"IF(ISERROR(DM378*$CL378/1000),0,DM378*$CL378/1000)","v":0},null,0,null,0,null,0,null,0,null,0,null,0]
[null,null,null,null,null,null,null,"",null,0,null,0,null,{"$f":"IF(ISERROR(M379*$D379/1000),0,M379*$D379/1000)","v":0},null,{"$f":"IF(ISERROR(O379*$D379/1000),0,O379*$D379/1000)","v":0},null,{"$f":"IF(ISERROR(Q379*$D379/1000),0,Q379*$D379/1000)","v":0},null,{"$f":"IF(ISERROR(S379*$D379/1000),0,S379*$D379/1000)","v":0},null,{"$f":"IF(ISERROR(U379*$D379/1000),0,U379*$D379/1000)","v":0},null,{"$f":"IF(ISERROR(W379*$D379/1000),0,W379*$D379/1000)","v":0},null,{"$f":"IF(ISERROR(Y379*$D379/1000),0,Y379*$D379/1000)","v":0},null,{"$f":"IF(ISERROR(AA379*$D379/1000),0,AA379*$D379/1000)","v":0},null,{"$f":"IF(ISERROR(AC379*$D379/1000),0,AC379*$D379/1000)","v":0},null,{"$f":"IF(ISERROR(AE379*$D379/1000),0,AE379*$D379/1000)","v":0},null,0,null,0,null,0,null,0,null,0,null,0,null,null,null,null,null,null,"",null,0,null,0,null,0,null,0,null,0,null,0,null,0,null,0,null,0,null,0,null,0,null,0,null,0,null,0,null,0,null,0,null,0,null,0,null,null,null,null,null,null,"",null,0,null,0,null,{"$f":"IF(ISERROR(CU379*$CL379/1000),0,CU379*$CL379/1000)","v":0},null,{"$f":"IF(ISERROR(CW379*$CL379/1000),0,CW379*$CL379/1000)","v":0},null,{"$f":"IF(ISERROR(CY379*$CL379/1000),0,CY379*$CL379/1000)","v":0},null,{"$f":"IF(ISERROR(DA379*$CL379/1000),0,DA379*$CL379/1000)","v":0},null,{"$f":"IF(ISERROR(DC379*$CL379/1000),0,DC379*$CL379/1000)","v":0},null,{"$f":"IF(ISERROR(DE379*$CL379/1000),0,DE379*$CL379/1000)","v":0},null,{"$f":"IF(ISERROR(DG379*$CL379/1000),0,DG379*$CL379/1000)","v":0},null,{"$f":"IF(ISERROR(DI379*$CL379/1000),0,DI379*$CL379/1000)","v":0},null,{"$f":"IF(ISERROR(DK379*$CL379/1000),0,DK379*$CL379/1000)","v":0},null,{"$f":"IF(ISERROR(DM379*$CL379/1000),0,DM379*$CL379/1000)","v":0},null,0,null,0,null,0,null,0,null,0,null,0]
[null,null,null,null,null,null,null,"",null,0,null,0,null,{"$f":"IF(ISERROR(M380*$D380/1000),0,M380*$D380/1000)","v":0},null,{"$f":"IF(ISERROR(O380*$D380/1000),0,O380*$D380/1000)","v":0},null,{"$f":"IF(ISERROR(Q380*$D380/1000),0,Q380*$D380/1000)","v":0},null,{"$f":"IF(ISERROR(S380*$D380/1000),0,S380*$D380/1000)","v":0},null,{"$f":"IF(ISERROR(U380*$D380/1000),0,U380*$D380/1000)","v":0},null,{"$f":"IF(ISERROR(W380*$D380/1000),0,W380*$D380/1000)","v":0},null,{"$f":"IF(ISERROR(Y380*$D380/1000),0,Y380*$D380/1000)","v":0},null,{"$f":"IF(ISERROR(AA380*$D380/1000),0,AA380*$D380/1000)","v":0},null,{"$f":"IF(ISERROR(AC380*$D380/1000),0,AC380*$D380/1000)","v":0},null,{"$f":"IF(ISERROR(AE380*$D380/1000),0,AE380*$D380/1000)","v":0},null,0,null,0,null,0,null,0,null,0,null,0,null,null,null,null,null,null,"",null,0,null,0,null,0,null,0,null,0,null,0,null,0,null,0,null,0,null,0,null,0,null,0,null,0,null,0,null,0,null,0,null,0,null,0,null,null,null,null,null,null,"",null,0,null,0,null,{"$f":"IF(ISERROR(CU380*$CL380/1000),0,CU380*$CL380/1000)","v":0},null,{"$f":"IF(ISERROR(CW380*$CL380/1000),0,CW380*$CL380/1000)","v":0},null,{"$f":"IF(ISERROR(CY380*$CL380/1000),0,CY380*$CL380/1000)","v":0},null,{"$f":"IF(ISERROR(DA380*$CL380/1000),0,DA380*$CL380/1000)","v":0},null,{"$f":"IF(ISERROR(DC380*$CL380/1000),0,DC380*$CL380/1000)","v":0},null,{"$f":"IF(ISERROR(DE380*$CL380/1000),0,DE380*$CL380/1000)","v":0},null,{"$f":"IF(ISERROR(DG380*$CL380/1000),0,DG380*$CL380/1000)","v":0},null,{"$f":"IF(ISERROR(DI380*$CL380/1000),0,DI380*$CL380/1000)","v":0},null,{"$f":"IF(ISERROR(DK380*$CL380/1000),0,DK380*$CL380/1000)","v":0},null,{"$f":"IF(ISERROR(DM380*$CL380/1000),0,DM380*$CL380/1000)","v":0},null,0,null,0,null,0,null,0,null,0,null,0]
[null,null,null,null,null,null,null,"",null,0,null,0,null,{"$f":"IF(ISERROR(M381*$D381/1000),0,M381*$D381/1000)","v":0},null,{"$f":"IF(ISERROR(O381*$D381/1000),0,O381*$D381/1000)","v":0},null,{"$f":"IF(ISERROR(Q381*$D381/1000),0,Q381*$D381/1000)","v":0},null,{"$f":"IF(ISERROR(S381*$D381/1000),0,S381*$D381/1000)","v":0},null,{"$f":"IF(ISERROR(U381*$D381/1000),0,U381*$D381/1000)","v":0},null,{"$f":"IF(ISERROR(W381*$D381/1000),0,W381*$D381/1000)","v":0},null,{"$f":"IF(ISERROR(Y381*$D381/1000),0,Y381*$D381/1000)","v":0},null,{"$f":"IF(ISERROR(AA381*$D381/1000),0,AA381*$D381/1000)","v":0},null,{"$f":"IF(ISERROR(AC381*$D381/1000),0,AC381*$D381/1000)","v":0},null,{"$f":"IF(ISERROR(AE381*$D381/1000),0,AE381*$D381/1000)","v":0},null,0,null,0,null,0,null,0,null,0,null,0,null,null,null,null,null,null,"",null,0,null,0,null,0,null,0,null,0,null,0,null,0,null,0,null,0,null,0,null,0,null,0,null,0,null,0,null,0,null,0,null,0,null,0,null,null,null,null,null,null,"",null,0,null,0,null,{"$f":"IF(ISERROR(CU381*$CL381/1000),0,CU381*$CL381/1000)","v":0},null,{"$f":"IF(ISERROR(CW381*$CL381/1000),0,CW381*$CL381/1000)","v":0},null,{"$f":"IF(ISERROR(CY381*$CL381/1000),0,CY381*$CL381/1000)","v":0},null,{"$f":"IF(ISERROR(DA381*$CL381/1000),0,DA381*$CL381/1000)","v":0},null,{"$f":"IF(ISERROR(DC381*$CL381/1000),0,DC381*$CL381/1000)","v":0},null,{"$f":"IF(ISERROR(DE381*$CL381/1000),0,DE381*$CL381/1000)","v":0},null,{"$f":"IF(ISERROR(DG381*$CL381/1000),0,DG381*$CL381/1000)","v":0},null,{"$f":"IF(ISERROR(DI381*$CL381/1000),0,DI381*$CL381/1000)","v":0},null,{"$f":"IF(ISERROR(DK381*$CL381/1000),0,DK381*$CL381/1000)","v":0},null,{"$f":"IF(ISERROR(DM381*$CL381/1000),0,DM381*$CL381/1000)","v":0},null,0,null,0,null,0,null,0,null,0,null,0]
[null,null,null,null,null,null,null,"",null,0,null,0,null,{"$f":"IF(ISERROR(M382*$D382/1000),0,M382*$D382/1000)","v":0},null,{"$f":"IF(ISERROR(O382*$D382/1000),0,O382*$D382/1000)","v":0},null,{"$f":"IF(ISERROR(Q382*$D382/1000),0,Q382*$D382/1000)","v":0},null,{"$f":"IF(ISERROR(S382*$D382/1000),0,S382*$D382/1000)","v":0},null,{"$f":"IF(ISERROR(U382*$D382/1000),0,U382*$D382/1000)","v":0},null,{"$f":"IF(ISERROR(W382*$D382/1000),0,W382*$D382/1000)","v":0},null,{"$f":"IF(ISERROR(Y382*$D382/1000),0,Y382*$D382/1000)","v":0},null,{"$f":"IF(ISERROR(AA382*$D382/1000),0,AA382*$D382/1000)","v":0},null,{"$f":"IF(ISERROR(AC382*$D382/1000),0,AC382*$D382/1000)","v":0},null,{"$f":"IF(ISERROR(AE382*$D382/1000),0,AE382*$D382/1000)","v":0},null,0,null,0,null,0,null,0,null,0,null,0,null,null,null,null,null,null,"",null,0,null,0,null,0,null,0,null,0,null,0,null,0,null,0,null,0,null,0,null,0,null,0,null,0,null,0,null,0,null,0,null,0,null,0,null,null,null,null,null,null,"",null,0,null,0,null,{"$f":"IF(ISERROR(CU382*$CL382/1000),0,CU382*$CL382/1000)","v":0},null,{"$f":"IF(ISERROR(CW382*$CL382/1000),0,CW382*$CL382/1000)","v":0},null,{"$f":"IF(ISERROR(CY382*$CL382/1000),0,CY382*$CL382/1000)","v":0},null,{"$f":"IF(ISERROR(DA382*$CL382/1000),0,DA382*$CL382/1000)","v":0},null,{"$f":"IF(ISERROR(DC382*$CL382/1000),0,DC382*$CL382/1000)","v":0},null,{"$f":"IF(ISERROR(DE382*$CL382/1000),0,DE382*$CL382/1000)","v":0},null,{"$f":"IF(ISERROR(DG382*$CL382/1000),0,DG382*$CL382/1000)","v":0},null,{"$f":"IF(ISERROR(DI382*$CL382/1000),0,DI382*$CL382/1000)","v":0},null,{"$f":"IF(ISERROR(DK382*$CL382/1000),0,DK382*$CL382/1000)","v":0},null,{"$f":"IF(ISERROR(DM382*$CL382/1000),0,DM382*$CL382/1000)","v":0},null,0,null,0,null,0,null,0,null,0,null,0]
[null,null,null,null,null,null,null,"",null,0,null,0,null,{"$f":"IF(ISERROR(M383*$D383/1000),0,M383*$D383/1000)","v":0},null,{"$f":"IF(ISERROR(O383*$D383/1000),0,O383*$D383/1000)","v":0},null,{"$f":"IF(ISERROR(Q383*$D383/1000),0,Q383*$D383/1000)","v":0},null,{"$f":"IF(ISERROR(S383*$D383/1000),0,S383*$D383/1000)","v":0},null,{"$f":"IF(ISERROR(U383*$D383/1000),0,U383*$D383/1000)","v":0},null,{"$f":"IF(ISERROR(W383*$D383/1000),0,W383*$D383/1000)","v":0},null,{"$f":"IF(ISERROR(Y383*$D383/1000),0,Y383*$D383/1000)","v":0},null,{"$f":"IF(ISERROR(AA383*$D383/1000),0,AA383*$D383/1000)","v":0},null,{"$f":"IF(ISERROR(AC383*$D383/1000),0,AC383*$D383/1000)","v":0},null,{"$f":"IF(ISERROR(AE383*$D383/1000),0,AE383*$D383/1000)","v":0},null,0,null,0,null,0,null,0,null,0,null,0,null,null,null,null,null,null,"",null,0,null,0,null,0,null,0,null,0,null,0,null,0,null,0,null,0,null,0,null,0,null,0,null,0,null,0,null,0,null,0,null,0,null,0,null,null,null,null,null,null,"",null,0,null,0,null,{"$f":"IF(ISERROR(CU383*$CL383/1000),0,CU383*$CL383/1000)","v":0},null,{"$f":"IF(ISERROR(CW383*$CL383/1000),0,CW383*$CL383/1000)","v":0},null,{"$f":"IF(ISERROR(CY383*$CL383/1000),0,CY383*$CL383/1000)","v":0},null,{"$f":"IF(ISERROR(DA383*$CL383/1000),0,DA383*$CL383/1000)","v":0},null,{"$f":"IF(ISERROR(DC383*$CL383/1000),0,DC383*$CL383/1000)","v":0},null,{"$f":"IF(ISERROR(DE383*$CL383/1000),0,DE383*$CL383/1000)","v":0},null,{"$f":"IF(ISERROR(DG383*$CL383/1000),0,DG383*$CL383/1000)","v":0},null,{"$f":"IF(ISERROR(DI383*$CL383/1000),0,DI383*$CL383/1000)","v":0},null,{"$f":"IF(ISERROR(DK383*$CL383/1000),0,DK383*$CL383/1000)","v":0},null,{"$f":"IF(ISERROR(DM383*$CL383/1000),0,DM383*$CL383/1000)","v":0},null,0,null,0,null,0,null,0,null,0,null,0]
[null,null,null,null,null,null,null,"",null,0,null,0,null,{"$f":"IF(ISERROR(M384*$D384/1000),0,M384*$D384/1000)","v":0},null,{"$f":"IF(ISERROR(O384*$D384/1000),0,O384*$D384/1000)","v":0},null,{"$f":"IF(ISERROR(Q384*$D384/1000),0,Q384*$D384/1000)","v":0},null,{"$f":"IF(ISERROR(S384*$D384/1000),0,S384*$D384/1000)","v":0},null,{"$f":"IF(ISERROR(U384*$D384/1000),0,U384*$D384/1000)","v":0},null,{"$f":"IF(ISERROR(W384*$D384/1000),0,W384*$D384/1000)","v":0},null,{"$f":"IF(ISERROR(Y384*$D384/1000),0,Y384*$D384/1000)","v":0},null,{"$f":"IF(ISERROR(AA384*$D384/1000),0,AA384*$D384/1000)","v":0},null,{"$f":"IF(ISERROR(AC384*$D384/1000),0,AC384*$D384/1000)","v":0},null,{"$f":"IF(ISERROR(AE384*$D384/1000),0,AE384*$D384/1000)","v":0},null,0,null,0,null,0,null,0,null,0,null,0,null,null,null,null,null,null,"",null,0,null,0,null,0,null,0,null,0,null,0,null,0,null,0,null,0,null,0,null,0,null,0,null,0,null,0,null,0,null,0,null,0,null,0,null,null,null,null,null,null,{"$f":"IF(ISTEXT(CO384),1,IF(ISBLANK(CO384),\"\",IF(ISNONTEXT(CO384),CO384)))","v":""},null,0,null,0,null,{"$f":"IF(ISERROR(CU384*$CL384/1000),0,CU384*$CL384/1000)","v":0},null,{"$f":"IF(ISERROR(CW384*$CL384/1000),0,CW384*$CL384/1000)","v":0},null,{"$f":"IF(ISERROR(CY384*$CL384/1000),0,CY384*$CL384/1000)","v":0},null,{"$f":"IF(ISERROR(DA384*$CL384/1000),0,DA384*$CL384/1000)","v":0},null,{"$f":"IF(ISERROR(DC384*$CL384/1000),0,DC384*$CL384/1000)","v":0},null,{"$f":"IF(ISERROR(DE384*$CL384/1000),0,DE384*$CL384/1000)","v":0},null,{"$f":"IF(ISERROR(DG384*$CL384/1000),0,DG384*$CL384/1000)","v":0},null,{"$f":"IF(ISERROR(DI384*$CL384/1000),0,DI384*$CL384/1000)","v":0},null,{"$f":"IF(ISERROR(DK384*$CL384/1000),0,DK384*$CL384/1000)","v":0},null,{"$f":"IF(ISERROR(DM384*$CL384/1000),0,DM384*$CL384/1000)","v":0},null,0,null,0,null,0,null,0,null,0,null,0]
[null,"Fréquence de suivi ►",null,{"$f":"IF(ISBLANK(Profil!G25),\"---\",Profil!G25)","v":"---"},{"$f":"IF(ISBLANK(Profil!G27),\"---\",Profil!G27)","v":"---"},{"$f":"IF(ISBLANK(Profil!G29),\"---\",Profil!G29)","v":"---"},{"$f":"IF(ISBLANK(Profil!G31),\"---\",Profil!G31)","v":"---"},null,{"$f":"IF(ISBLANK(Profil!G33),\"---\",Profil!G33)","v":"---"},null,{"$f":"IF(ISBLANK(Profil!G35),\"---\",Profil!G35)","v":"---"},null,{"$f":"IF(ISBLANK(Profil!G37),\"---\",Profil!G37)","v":"---"},null,{"$f":"IF(ISBLANK(Profil!G39),\"---\",Profil!G39)","v":"---"},null,{"$f":"IF(ISBLANK(Profil!G41),\"---\",Profil!G41)","v":"---"},null,{"$f":"IF(ISBLANK(Profil!G43),\"---\",Profil!G43)","v":"---"},null,{"$f":"IF(ISBLANK(Profil!G45),\"---\",Profil!G45)","v":"---"},null,{"$f":"IF(ISBLANK(Profil!G47),\"---\",Profil!G47)","v":"---"},null,{"$f":"IF(ISBLANK(Profil!G49),\"---\",Profil!G49)","v":"---"},null,{"$f":"IF(ISBLANK(Profil!G51),\"---\",Profil!G51)","v":"---"},null,{"$f":"IF(ISBLANK(Profil!G53),\"---\",Profil!G53)","v":"---"},null,{"$f":"IF(ISBLANK(Profil!G55),\"---\",Profil!G55)","v":"---"},null,{"$f":"IF(ISBLANK(Profil!G57),\"---\",Profil!G57)","v":"---"},null,{"$f":"IF(ISBLANK(Profil!G59),\"---\",Profil!G59)","v":"---"},null,{"$f":"IF(ISBLANK(Profil!G61),\"---\",Profil!G61)","v":"---"},null,{"$f":"IF(ISBLANK(Profil!G63),\"---\",Profil!G63)","v":"---"},null,{"$f":"IF(ISBLANK(Profil!G65),\"---\",Profil!G65)","v":"---"},null,{"$f":"IF(ISBLANK(Profil!G67),\"---\",Profil!G67)","v":"---"},null,null,null,{"$f":"IF(ISBLANK(Profil!N25),\"---\",Profil!N25)","v":"---"},{"$f":"IF(ISBLANK(Profil!N27),\"---\",Profil!N27)","v":"---"},{"$f":"IF(ISBLANK(Profil!N29),\"---\",Profil!N29)","v":"---"},{"$f":"IF(ISBLANK(Profil!N31),\"---\",Profil!N31)","v":"---"},null,{"$f":"IF(ISBLANK(Profil!N33),\"---\",Profil!N33)","v":"---"},null,{"$f":"IF(ISBLANK(Profil!N35),\"---\",Profil!N35)","v":"---"},null,{"$f":"IF(ISBLANK(Profil!N37),\"---\",Profil!N37)","v":"---"},null,{"$f":"IF(ISBLANK(Profil!N39),\"---\",Profil!N39)","v":"---"},null,{"$f":"IF(ISBLANK(Profil!N41),\"---\",Profil!N41)","v":"---"},null,{"$f":"IF(ISBLANK(Profil!N43),\"---\",Profil!N43)","v":"---"},null,{"$f":"IF(ISBLANK(Profil!N45),\"---\",Profil!N45)","v":"---"},null,{"$f":"IF(ISBLANK(Profil!N47),\"---\",Profil!N47)","v":"---"},null,{"$f":"IF(ISBLANK(Profil!N49),\"---\",Profil!N49)","v":"---"},null,{"$f":"IF(ISBLANK(Profil!N51),\"---\",Profil!N51)","v":"---"},null,{"$f":"IF(ISBLANK(Profil!N53),\"---\",Profil!N53)","v":"---"},null,{"$f":"IF(ISBLANK(Profil!N55),\"---\",Profil!N55)","v":"---"},null,{"$f":"IF(ISBLANK(Profil!N57),\"---\",Profil!N57)","v":"---"},null,{"$f":"IF(ISBLANK(Profil!N59),\"---\",Profil!N59)","v":"---"},null,{"$f":"IF(ISBLANK(Profil!N61),\"---\",Profil!N61)","v":"---"},null,{"$f":"IF(ISBLANK(Profil!N63),\"---\",Profil!N63)","v":"---"},null,{"$f":"IF(ISBLANK(Profil!N65),\"---\",Profil!N65)","v":"---"},null,{"$f":"IF(ISBLANK(Profil!N67),\"---\",Profil!N67)","v":"---"},null,null,null,{"$f":"IF(ISBLANK(Profil!U25),\"---\",Profil!U25)","v":"---"},{"$f":"IF(ISBLANK(Profil!U27),\"---\",Profil!U27)","v":"---"},{"$f":"IF(ISBLANK(Profil!U29),\"---\",Profil!U29)","v":"---"},{"$f":"IF(ISBLANK(Profil!U31),\"---\",Profil!U31)","v":"---"},null,{"$f":"IF(ISBLANK(Profil!U33),\"---\",Profil!U33)","v":"---"},null,{"$f":"IF(ISBLANK(Profil!U35),\"---\",Profil!U35)","v":"---"},null,{"$f":"IF(ISBLANK(Profil!U37),\"---\",Profil!U37)","v":"---"},null,{"$f":"IF(ISBLANK(Profil!U39),\"---\",Profil!U39)","v":"---"},null,{"$f":"IF(ISBLANK(Profil!U41),\"---\",Profil!U41)","v":"---"},null,{"$f":"IF(ISBLANK(Profil!U43),\"---\",Profil!U43)","v":"---"},null,{"$f":"IF(ISBLANK(Profil!U45),\"---\",Profil!U45)","v":"---"},null,{"$f":"IF(ISBLANK(Profil!U47),\"---\",Profil!U47)","v":"---"},null,{"$f":"IF(ISBLANK(Profil!U49),\"---\",Profil!U49)","v":"---"},null,{"$f":"IF(ISBLANK(Profil!U51),\"---\",Profil!U51)","v":"---"},null,{"$f":"IF(ISBLANK(Profil!U53),\"---\",Profil!U53)","v":"---"},null,{"$f":"IF(ISBLANK(Profil!U55),\"---\",Profil!U55)","v":"---"},null,{"$f":"IF(ISBLANK(Profil!U57),\"---\",Profil!U57)","v":"---"},null,{"$f":"IF(ISBLANK(Profil!U59),\"---\",Profil!U59)","v":"---"},null,{"$f":"IF(ISBLANK(Profil!U61),\"---\",Profil!U61)","v":"---"},null,{"$f":"IF(ISBLANK(Profil!U63),\"---\",Profil!U63)","v":"---"},null,{"$f":"IF(ISBLANK(Profil!U65),\"---\",Profil!U65)","v":"---"},null,{"$f":"IF(ISBLANK(Profil!U67),\"---\",Profil!U67)","v":"---"}]
[null,"Nbre de données exigées par année \n ►",null,{"$f":"IF(ISBLANK(Profil!H25),\"---\",Profil!H25)","v":"---"},{"$f":"IF(ISBLANK(Profil!H27),\"---\",Profil!H27)","v":"---"},{"$f":"IF(ISBLANK(Profil!H29),\"---\",Profil!H29)","v":"---"},{"$f":"IF(ISBLANK(Profil!H31),\"---\",Profil!H31)","v":"---"},null,{"$f":"IF(ISBLANK(Profil!H33),\"---\",Profil!H33)","v":"---"},null,{"$f":"IF(ISBLANK(Profil!H35),\"---\",Profil!H35)","v":"---"},null,{"$f":"IF(ISBLANK(Profil!H37),\"---\",Profil!H37)","v":"---"},null,{"$f":"IF(ISBLANK(Profil!H39),\"---\",Profil!H39)","v":"---"},null,{"$f":"IF(ISBLANK(Profil!H41),\"---\",Profil!H41)","v":"---"},null,{"$f":"IF(ISBLANK(Profil!H43),\"---\",Profil!H43)","v":"---"},null,{"$f":"IF(ISBLANK(Profil!H45),\"---\",Profil!H45)","v":"---"},null,{"$f":"IF(ISBLANK(Profil!H47),\"---\",Profil!H47)","v":"---"},null,{"$f":"IF(ISBLANK(Profil!H49),\"---\",Profil!H49)","v":"---"},null,{"$f":"IF(ISBLANK(Profil!H51),\"---\",Profil!H51)","v":"---"},null,{"$f":"IF(ISBLANK(Profil!H53),\"---\",Profil!H53)","v":"---"},null,{"$f":"IF(ISBLANK(Profil!H55),\"---\",Profil!H55)","v":"---"},null,{"$f":"IF(ISBLANK(Profil!H57),\"---\",Profil!H57)","v":"---"},null,{"$f":"IF(ISBLANK(Profil!H59),\"---\",Profil!H59)","v":"---"},null,{"$f":"IF(ISBLANK(Profil!H61),\"---\",Profil!H61)","v":"---"},null,{"$f":"IF(ISBLANK(Profil!H63),\"---\",Profil!H63)","v":"---"},null,{"$f":"IF(ISBLANK(Profil!H65),\"---\",Profil!H65)","v":"---"},null,{"$f":"IF(ISBLANK(Profil!H67),\"---\",Profil!H67)","v":"---"},null,null,null,{"$f":"IF(ISBLANK(Profil!O25),\"---\",Profil!O25)","v":"---"},{"$f":"IF(ISBLANK(Profil!O27),\"---\",Profil!O27)","v":"---"},{"$f":"IF(ISBLANK(Profil!O29),\"---\",Profil!O29)","v":"---"},{"$f":"IF(ISBLANK(Profil!O31),\"---\",Profil!O31)","v":"---"},null,{"$f":"IF(ISBLANK(Profil!O33),\"---\",Profil!O33)","v":"---"},null,{"$f":"IF(ISBLANK(Profil!O35),\"---\",Profil!O35)","v":"---"},null,{"$f":"IF(ISBLANK(Profil!O37),\"---\",Profil!O37)","v":"---"},null,{"$f":"IF(ISBLANK(Profil!O39),\"---\",Profil!O39)","v":"---"},null,{"$f":"IF(ISBLANK(Profil!O41),\"---\",Profil!O41)","v":"---"},null,{"$f":"IF(ISBLANK(Profil!O43),\"---\",Profil!O43)","v":"---"},null,{"$f":"IF(ISBLANK(Profil!O45),\"---\",Profil!O45)","v":"---"},null,{"$f":"IF(ISBLANK(Profil!O47),\"---\",Profil!O47)","v":"---"},null,{"$f":"IF(ISBLANK(Profil!O49),\"---\",Profil!O49)","v":"---"},null,{"$f":"IF(ISBLANK(Profil!O51),\"---\",Profil!O51)","v":"---"},null,{"$f":"IF(ISBLANK(Profil!O53),\"---\",Profil!O53)","v":"---"},null,{"$f":"IF(ISBLANK(Profil!O55),\"---\",Profil!O55)","v":"---"},null,{"$f":"IF(ISBLANK(Profil!O57),\"---\",Profil!O57)","v":"---"},null,{"$f":"IF(ISBLANK(Profil!O59),\"---\",Profil!O59)","v":"---"},null,{"$f":"IF(ISBLANK(Profil!O61),\"---\",Profil!O61)","v":"---"},null,{"$f":"IF(ISBLANK(Profil!O63),\"---\",Profil!O63)","v":"---"},null,{"$f":"IF(ISBLANK(Profil!O65),\"---\",Profil!O65)","v":"---"},null,{"$f":"IF(ISBLANK(Profil!O67),\"---\",Profil!O67)","v":"---"},null,null,null,{"$f":"IF(ISBLANK(Profil!V25),\"---\",Profil!V25)","v":"---"},{"$f":"IF(ISBLANK(Profil!V27),\"---\",Profil!V27)","v":"---"},{"$f":"IF(ISBLANK(Profil!V29),\"---\",Profil!V29)","v":"---"},{"$f":"IF(ISBLANK(Profil!V31),\"---\",Profil!V31)","v":"---"},null,{"$f":"IF(ISBLANK(Profil!V33),\"---\",Profil!V33)","v":"---"},null,{"$f":"IF(ISBLANK(Profil!V35),\"---\",Profil!V35)","v":"---"},null,{"$f":"IF(ISBLANK(Profil!V37),\"---\",Profil!V37)","v":"---"},null,{"$f":"IF(ISBLANK(Profil!V39),\"---\",Profil!V39)","v":"---"},null,{"$f":"IF(ISBLANK(Profil!V41),\"---\",Profil!V41)","v":"---"},null,{"$f":"IF(ISBLANK(Profil!V43),\"---\",Profil!V43)","v":"---"},null,{"$f":"IF(ISBLANK(Profil!V45),\"---\",Profil!V45)","v":"---"},null,{"$f":"IF(ISBLANK(Profil!V47),\"---\",Profil!V47)","v":"---"},null,{"$f":"IF(ISBLANK(Profil!V49),\"---\",Profil!V49)","v":"---"},null,{"$f":"IF(ISBLANK(Profil!V51),\"---\",Profil!V51)","v":"---"},null,{"$f":"IF(ISBLANK(Profil!V53),\"---\",Profil!V53)","v":"---"},null,{"$f":"IF(ISBLANK(Profil!V55),\"---\",Profil!V55)","v":"---"},null,{"$f":"IF(ISBLANK(Profil!V57),\"---\",Profil!V57)","v":"---"},null,{"$f":"IF(ISBLANK(Profil!V59),\"---\",Profil!V59)","v":"---"},null,{"$f":"IF(ISBLANK(Profil!V61),\"---\",Profil!V61)","v":"---"},null,{"$f":"IF(ISBLANK(Profil!V63),\"---\",Profil!V63)","v":"---"},null,{"$f":"IF(ISBLANK(Profil!V65),\"---\",Profil!V65)","v":"---"},null,{"$f":"IF(ISBLANK(Profil!V67),\"---\",Profil!V67)","v":"---"}]
[null,"Nbre de données transmises ►",null,{"$f":"COUNTA(D15:D384)","v":0},{"$f":"COUNTA(E15:E384)","v":0},{"$f":"COUNTA(F15:F384)","v":0},{"$f":"COUNTA(G15:G384)","v":0},null,{"$f":"COUNTA(I15:I384)","v":0},null,{"$f":"COUNTA(K15:K384)","v":0},null,{"$f":"COUNTA(M15:M384)","v":0},null,{"$f":"COUNTA(O15:O384)","v":0},null,{"$f":"COUNTA(Q15:Q384)","v":0},null,{"$f":"COUNTA(S15:S384)","v":0},null,{"$f":"COUNTA(U15:U384)","v":0},null,{"$f":"COUNTA(W15:W384)","v":0},null,{"$f":"COUNTA(Y15:Y384)","v":0},null,{"$f":"COUNTA(AA15:AA384)","v":0},null,{"$f":"COUNTA(AC15:AC384)","v":0},null,{"$f":"COUNTA(AE15:AE384)","v":0},null,{"$f":"COUNTA(AG15:AG384)","v":0},null,{"$f":"COUNTA(AI15:AI384)","v":0},null,{"$f":"COUNTA(AK15:AK384)","v":0},null,{"$f":"COUNTA(AM15:AM384)","v":0},null,{"$f":"COUNTA(AO15:AO384)","v":0},null,{"$f":"COUNTA(AQ15:AQ384)","v":0},null,null,null,{"$f":"COUNTA(AU15:AU384)","v":0},{"$f":"COUNTA(AV15:AV384)","v":0},{"$f":"COUNTA(AW15:AW384)","v":0},"---",null,{"$f":"COUNTA(AZ15:AZ384)","v":0},null,{"$f":"COUNTA(BB15:BB384)","v":0},null,{"$f":"COUNTA(BD15:BD384)","v":0},null,{"$f":"COUNTA(BF15:BF384)","v":0},null,{"$f":"COUNTA(BH15:BH384)","v":0},null,{"$f":"COUNTA(BJ15:BJ384)","v":0},null,{"$f":"COUNTA(BL15:BL384)","v":0},null,{"$f":"COUNTA(BN15:BN384)","v":0},null,{"$f":"COUNTA(BP15:BP384)","v":0},null,{"$f":"COUNTA(BR15:BR384)","v":0},null,{"$f":"COUNTA(BT15:BT384)","v":0},null,{"$f":"COUNTA(BV15:BV384)","v":0},null,{"$f":"COUNTA(BX15:BX384)","v":0},null,{"$f":"COUNTA(BZ15:BZ384)","v":0},null,{"$f":"COUNTA(CB15:CB384)","v":0},null,{"$f":"COUNTA(CD15:CD384)","v":0},null,{"$f":"COUNTA(CF15:CF384)","v":0},null,{"$f":"COUNTA(CH15:CH384)","v":0},null,null,null,{"$f":"COUNTA(CL15:CL384)","v":0},{"$f":"COUNTA(CM15:CM384)","v":0},{"$f":"COUNTA(CN15:CN384)","v":0},{"$f":"COUNTA(CO15:CO384)","v":0},null,{"$f":"COUNTA(CQ15:CQ384)","v":0},null,{"$f":"COUNTA(CS15:CS384)","v":0},null,{"$f":"COUNTA(CU15:CU384)","v":0},null,{"$f":"COUNTA(CW15:CW384)","v":0},null,{"$f":"COUNTA(CY15:CY384)","v":0},null,{"$f":"COUNTA(DA15:DA384)","v":0},null,{"$f":"COUNTA(DC15:DC384)","v":0},null,{"$f":"COUNTA(DE15:DE384)","v":0},null,{"$f":"COUNTA(DG15:DG384)","v":0},null,{"$f":"COUNTA(DI15:DI384)","v":0},null,{"$f":"COUNTA(DK15:DK384)","v":0},null,{"$f":"COUNTA(DM15:DM384)","v":0},null,{"$f":"COUNTA(DO15:DO384)","v":0},null,{"$f":"COUNTA(DQ15:DQ384)","v":0},null,{"$f":"COUNTA(DS15:DS384)","v":0},null,{"$f":"COUNTA(DU15:DU384)","v":0},null,{"$f":"COUNTA(DW15:DW384)","v":0},null,{"$f":"COUNTA(DY15:DY384)","v":0}]
[null,"Commentaires généraux :"]
[]
[]
[]
[]
[]
[null,null,null,"Notes:"]
[null,null,null,3.3,"Valeur qui ne respecte pas la norme ou l'exigence"]
[null,null,null,"Le nombre de données transmises apparaît en rouge, gras et souligné tant qu’il n’atteint pas le nombre exigé pour l’année civile en cours."]
[]
[]
[null,null,null,"Si le résultat d'analyse est inférieur à la limite de détection, inscrire la valeur de la limite de détection précédée du symbole <."]

{"sheet":"Feuil3","index":4,"n_rows":0,"n_cols":0,"rows_kept":0,"cut":false,"hidden":false,"merged":[]}

{"sheet":"Feuil1","index":5,"n_rows":0,"n_cols":0,"rows_kept":0,"cut":false,"hidden":false,"merged":[]}

{"sheet":"Conformité_Moyenne","index":6,"n_rows":82,"n_cols":30,"rows_kept":82,"cut":false,"hidden":false,"merged":[[7,19,7,20],[7,17,7,18],[35,1,36,1],[29,1,29,29],[80,2,80,4],[22,2,23,28],[56,1,56,29],[33,1,33,9],[34,1,34,29],[22,1,23,1],[50,1,51,1],[50,2,51,28],[50,29,51,29],[35,11,35,12],[35,13,35,14],[35,15,35,16],[1,1,1,29],[7,29,9,29],[22,29,23,29],[5,1,5,9],[7,1,8,1],[7,9,7,10],[7,7,7,8],[7,5,7,6],[6,1,6,29],[7,27,7,28],[7,25,7,26],[7,23,7,24],[7,21,7,22],[7,15,7,16],[7,13,7,14],[7,11,7,12],[35,29,37,29],[60,1,60,9],[61,1,61,29],[62,23,62,24],[62,25,62,26],[62,27,62,28],[62,29,64,29],[35,21,35,22],[35,23,35,24],[35,25,35,26],[35,27,35,28],[35,5,35,6],[35,7,35,8],[35,9,35,10],[35,17,35,18],[35,19,35,20],[77,1,78,1],[77,2,78,28],[77,29,78,29],[62,13,62,14],[62,15,62,16],[62,17,62,18],[62,19,62,20],[62,21,62,22],[62,1,63,1],[62,5,62,6],[62,7,62,8],[62,9,62,10],[62,11,62,12]]}
[]
[null,"Suivi des eaux usées"]
[null,"Nom :",{"$f":"IF(ISBLANK(Profil!$B$6),\"---\",Profil!$B$6)","v":"---"},null,"Point de suivi no 1",null,null,null,null,{"$f":"IF(ISBLANK(Profil!E19),\"---\",Profil!E19)","v":"---"}]
[null,null,null,null,{"$f":"IF(ISBLANK(Profil!C20),\"---\",Profil!C20)","v":"---"}]
[]
[null,"Conformité moyenne mensuelle"]
[]
[null,"Mois",{"$f":"IF(ISBLANK(Profil!$A$25),\"---\",Profil!$A$25)","v":"Débit"},{"$f":"IF(ISBLANK(Profil!$A$27),\"---\",Profil!$A$27)","v":"Volume"},{"$f":"IF(ISBLANK(Profil!$A$31),\"---\",Profil!$A$31)","v":"Coliformes fécaux"},{"$f":"IF(ISBLANK(Profil!$A$33),\"---\",Profil!$A$33)","v":"---"},null,{"$f":"IF(ISBLANK(Profil!$A$35),\"---\",Profil!$A$35)","v":"---"},{"$f":"IF(ISBLANK(Profil!#REF!),\"---\",Profil!#REF!)","v":{"$error":"#REF!"}},{"$f":"IF(ISBLANK(Profil!$A$37),\"---\",Profil!$A$37)","v":"---"},null,{"$f":"IF(ISBLANK(Profil!$A$39),\"---\",Profil!$A$39)","v":"---"},null,{"$f":"IF(ISBLANK(Profil!$A$41),\"---\",Profil!$A$41)","v":"---"},null,{"$f":"IF(ISBLANK(Profil!$A$43),\"---\",Profil!$A$43)","v":"---"},null,{"$f":"IF(ISBLANK(Profil!$A$45),\"---\",Profil!$A$45)","v":"---"},null,{"$f":"IF(ISBLANK(Profil!$A$47),\"---\",Profil!$A$47)","v":"---"},null,{"$f":"IF(ISBLANK(Profil!$A$49),\"---\",Profil!$A$49)","v":"---"},null,{"$f":"IF(ISBLANK(Profil!$A$51),\"---\",Profil!$A$51)","v":"---"},null,{"$f":"IF(ISBLANK(Profil!$A$53),\"---\",Profil!$A$53)","v":"---"},null,{"$f":"IF(ISBLANK(Profil!$A$55),\"---\",Profil!$A$55)","v":"---"},null,"Commentaires"]
[null,null,{"$f":"IF(ISBLANK(Profil!$E$25),\"---\",Profil!$E$25)","v":"---"},{"$f":"IF(ISBLANK(Profil!$E$27),\"---\",Profil!$E$27)","v":"---"},{"$f":"IF(ISBLANK(Profil!$E$31),\"---\",Profil!$E$31)","v":"---"},{"$f":"IF(ISBLANK(Profil!$E$33),\"---\",Profil!$E$33)","v":"---"},"kg/j",{"$f":"IF(ISBLANK(Profil!$E$35),\"---\",Profil!$E$35)","v":"---"},"kg/j",{"$f":"IF(ISBLANK(Profil!$E$37),\"---\",Profil!$E$37)","v":"---"},"kg/j",{"$f":"IF(ISBLANK(Profil!$E$39),\"---\",Profil!$E$39)","v":"---"},"kg/j",{"$f":"IF(ISBLANK(Profil!$E$41),\"---\",Profil!$E$41)","v":"---"},"kg/j",{"$f":"IF(ISBLANK(Profil!$E$43),\"---\",Profil!$E$43)","v":"---"},"kg/j",{"$f":"IF(ISBLANK(Profil!$E$45),\"---\",Profil!$E$45)","v":"---"},"kg/j",{"$f":"IF(ISBLANK(Profil!$E$47),\"---\",Profil!$E$47)","v":"---"},"kg/j",{"$f":"IF(ISBLANK(Profil!$E$49),\"---\",Profil!$E$49)","v":"---"},"kg/j",{"$f":"IF(ISBLANK(Profil!$E$51),\"---\",Profil!$E$51)","v":"---"},"kg/j",{"$f":"IF(ISBLANK(Profil!$E$53),\"---\",Profil!$E$53)","v":"---"},"kg/j",{"$f":"IF(ISBLANK(Profil!$E$55),\"---\",Profil!$E$55)","v":"---"},"kg/j"]
[null,"Normes ►",{"$f":"IF(ISBLANK(Profil!$D$26),\"---\",Profil!$D$26)","v":"---"},{"$f":"IF(ISBLANK(Profil!$D$27),\"---\",Profil!$D$27)","v":"---"},{"$f":"IF(ISBLANK(Profil!$D$32),\"---\",Profil!$D$32)","v":"---"},{"$f":"IF(ISBLANK(Profil!$D$34),\"---\",Profil!$D$34)","v":"---"},{"$f":"IF(ISBLANK(Profil!$F$34),\"---\",Profil!$F$34)","v":"---"},{"$f":"IF(ISBLANK(Profil!$D$36),\"---\",Profil!$D$36)","v":"---"},{"$f":"IF(ISBLANK(Profil!$F$36),\"---\",Profil!$F$36)","v":"---"},{"$f":"IF(ISBLANK(Profil!$D$38),\"---\",Profil!$D$38)","v":"---"},{"$f":"IF(ISBLANK(Profil!$F$38),\"---\",Profil!$F$38)","v":"---"},{"$f":"IF(ISBLANK(Profil!$D$40),\"---\",Profil!$D$40)","v":"---"},{"$f":"IF(ISBLANK(Profil!$F$40),\"---\",Profil!$F$40)","v":"---"},{"$f":"IF(ISBLANK(Profil!$D$42),\"---\",Profil!$D$42)","v":"---"},{"$f":"IF(ISBLANK(Profil!$F$42),\"---\",Profil!$F$42)","v":"---"},{"$f":"IF(ISBLANK(Profil!$D$44),\"---\",Profil!$D$44)","v":"---"},{"$f":"IF(ISBLANK(Profil!$F$44),\"---\",Profil!$F$44)","v":"---"},{"$f":"IF(ISBLANK(Profil!$D$46),\"---\",Profil!$D$46)","v":"---"},{"$f":"IF(ISBLANK(Profil!$F$46),\"---\",Profil!$F$46)","v":"---"},{"$f":"IF(ISBLANK(Profil!$D$48),\"---\",Profil!$D$48)","v":"---"},{"$f":"IF(ISBLANK(Profil!$F$48),\"---\",Profil!$F$48)","v":"---"},{"$f":"IF(ISBLANK(Profil!$D$50),\"---\",Profil!$D$50)","v":"---"},{"$f":"IF(ISBLANK(Profil!$F$50),\"---\",Profil!$F$50)","v":"---"},{"$f":"IF(ISBLANK(Profil!$D$52),\"---\",Profil!$D$52)","v":"---"},{"$f":"IF(ISBLANK(Profil!$F$52),\"---\",Profil!$F$52)","v":"---"},{"$f":"IF(ISBLANK(Profil!$D$54),\"---\",Profil!$D$54)","v":"---"},{"$f":"IF(ISBLANK(Profil!$F$54),\"---\",Profil!$F$54)","v":"---"},{"$f":"IF(ISBLANK(Profil!$D$56),\"---\",Profil!$D$56)","v":"---"},{"$f":"IF(ISBLANK(Profil!$F$56),\"---\",Profil!$F$56)","v":"---"}]
[null,"Janvier",{"$f":"IF(ISERROR(AVERAGEA('Transmission et conformité'!D15:D45)),\"\",AVERAGEA('Transmission et conformité'!D15:D45))","v":""},{"$f":"IF(ISERROR(AVERAGEA('Transmission et conformité'!E15:E45)),\"\",AVERAGEA('Transmission et conformité'!E15:E45))","v":""},{"$f":"IF(ISERROR(GEOMEAN('Transmission et conformité'!H15:H45)),\"\",GEOMEAN('Transmission et conformité'!H15:H45))","v":""},{"$f":"IF(ISERROR(AVERAGEA('Transmission et conformité'!I15:I45)),\"\",AVERAGEA('Transmission et conformité'!I15:I45))","v":""},{"$f":"AVERAGEA('Transmission et conformité'!J15:J45)","v":0},{"$f":"IF(ISERROR(AVERAGEA('Transmission et conformité'!K15:K45)),\"\",AVERAGEA('Transmission et conformité'!K15:K45))","v":""},{"$f":"AVERAGEA('Transmission et conformité'!L15:L45)","v":0},{"$f":"IF(ISERROR(AVERAGEA('Transmission et conformité'!M15:M45)),\"\",AVERAGEA('Transmission et conformité'!M15:M45))","v":""},{"$f":"AVERAGEA('Transmission et conformité'!N15:N45)","v":0},{"$f":"IF(ISERROR(AVERAGEA('Transmission et conformité'!O15:O45)),\"\",AVERAGEA('Transmission et conformité'!O15:O45))","v":""},{"$f":"AVERAGEA('Transmission et conformité'!P15:P45)","v":0},{"$f":"IF(ISERROR(AVERAGEA('Transmission et conformité'!Q15:Q45)),\"\",AVERAGEA('Transmission et conformité'!Q15:Q45))","v":""},{"$f":"AVERAGEA('Transmission et conformité'!R15:R45)","v":0},{"$f":"IF(ISERROR(AVERAGEA('Transmission et conformité'!S15:S45)),\"\",AVERAGEA('Transmission et conformité'!S15:S45))","v":""},{"$f":"AVERAGEA('Transmission et conformité'!T15:T45)","v":0},{"$f":"IF(ISERROR(AVERAGEA('Transmission et conformité'!U15:U45)),\"\",AVERAGEA('Transmission et conformité'!U15:U45))","v":""},{"$f":"AVERAGEA('Transmission et conformité'!V15:V45)","v":0},{"$f":"IF(ISERROR(AVERAGEA('Transmission et conformité'!W15:W45)),\"\",AVERAGEA('Transmission et conformité'!W15:W45))","v":""},{"$f":"AVERAGEA('Transmission et conformité'!X15:X45)","v":0},{"$f":"IF(ISERROR(AVERAGEA('Transmission et conformité'!Y15:Y45)),\"\",AVERAGEA('Transmission et conformité'!Y15:Y45))","v":""},{"$f":"AVERAGEA('Transmission et conformité'!Z15:Z45)","v":0},{"$f":"IF(ISERROR(AVERAGEA('Transmission et conformité'!AA15:AA45)),\"\",AVERAGEA('Transmission et conformité'!AA15:AA45))","v":""},{"$f":"AVERAGEA('Transmission et conformité'!AB15:AB45)","v":0},{"$f":"IF(ISERROR(AVERAGEA('Transmission et conformité'!AC15:AC45)),\"\",AVERAGEA('Transmission et conformité'!AC15:AC45))","v":""},{"$f":"AVERAGEA('Transmission et conformité'!AD15:AD45)","v":0},{"$f":"IF(ISERROR(AVERAGEA('Transmission et conformité'!AE15:AE45)),\"\",AVERAGEA('Transmission et conformité'!AE15:AE45))","v":""},{"$f":"AVERAGEA('Transmission et conformité'!AF15:AF45)","v":0}]
[null,"Février",{"$f":"IF(ISERROR(AVERAGEA('Transmission et conformité'!D46:D74)),\"\",AVERAGEA('Transmission et conformité'!D46:D74))","v":""},{"$f":"IF(ISERROR(AVERAGEA('Transmission et conformité'!E46:E74)),\"\",AVERAGEA('Transmission et conformité'!E46:E74))","v":""},{"$f":"IF(ISERROR(GEOMEAN('Transmission et conformité'!H46:H74)),\"\",GEOMEAN('Transmission et conformité'!H46:H74))","v":""},{"$f":"IF(ISERROR(AVERAGEA('Transmission et conformité'!I46:I74)),\"\",AVERAGEA('Transmission et conformité'!I46:I74))","v":""},{"$f":"AVERAGEA('Transmission et conformité'!J46:J74)","v":0},{"$f":"IF(ISERROR(AVERAGEA('Transmission et conformité'!K46:K74)),\"\",AVERAGEA('Transmission et conformité'!K46:K74))","v":""},{"$f":"AVERAGEA('Transmission et conformité'!L46:L74)","v":0},{"$f":"IF(ISERROR(AVERAGEA('Transmission et conformité'!M46:M74)),\"\",AVERAGEA('Transmission et conformité'!M46:M74))","v":""},{"$f":"AVERAGEA('Transmission et conformité'!N46:N74)","v":0},{"$f":"IF(ISERROR(AVERAGEA('Transmission et conformité'!O46:O74)),\"\",AVERAGEA('Transmission et conformité'!O46:O74))","v":""},{"$f":"AVERAGEA('Transmission et conformité'!P46:P74)","v":0},{"$f":"IF(ISERROR(AVERAGEA('Transmission et conformité'!Q46:Q74)),\"\",AVERAGEA('Transmission et conformité'!Q46:Q74))","v":""},{"$f":"AVERAGEA('Transmission et conformité'!R46:R74)","v":0},{"$f":"IF(ISERROR(AVERAGEA('Transmission et conformité'!S46:S74)),\"\",AVERAGEA('Transmission et conformité'!S46:S74))","v":""},{"$f":"AVERAGEA('Transmission et conformité'!T46:T74)","v":0},{"$f":"IF(ISERROR(AVERAGEA('Transmission et conformité'!U46:U74)),\"\",AVERAGEA('Transmission et conformité'!U46:U74))","v":""},{"$f":"AVERAGEA('Transmission et conformité'!V46:V74)","v":0},{"$f":"IF(ISERROR(AVERAGEA('Transmission et conformité'!W46:W74)),\"\",AVERAGEA('Transmission et conformité'!W46:W74))","v":""},{"$f":"AVERAGEA('Transmission et conformité'!X46:X74)","v":0},{"$f":"IF(ISERROR(AVERAGEA('Transmission et conformité'!Y46:Y74)),\"\",AVERAGEA('Transmission et conformité'!Y46:Y74))","v":""},{"$f":"AVERAGEA('Transmission et conformité'!Z46:Z74)","v":0},{"$f":"IF(ISERROR(AVERAGEA('Transmission et conformité'!AA46:AA74)),\"\",AVERAGEA('Transmission et conformité'!AA46:AA74))","v":""},{"$f":"AVERAGEA('Transmission et conformité'!AB46:AB74)","v":0},{"$f":"IF(ISERROR(AVERAGEA('Transmission et conformité'!AC46:AC74)),\"\",AVERAGEA('Transmission et conformité'!AC46:AC74))","v":""},{"$f":"AVERAGEA('Transmission et conformité'!AD46:AD74)","v":0},{"$f":"IF(ISERROR(AVERAGEA('Transmission et conformité'!AE46:AE74)),\"\",AVERAGEA('Transmission et conformité'!AE46:AE74))","v":""},{"$f":"AVERAGEA('Transmission et conformité'!AF46:AF74)","v":0}]
[null,"Mars",{"$f":"IF(ISERROR(AVERAGEA('Transmission et conformité'!D75:D105)),\"\",AVERAGEA('Transmission et conformité'!D75:D105))","v":""},{"$f":"IF(ISERROR(AVERAGEA('Transmission et conformité'!E75:E105)),\"\",AVERAGEA('Transmission et conformité'!E75:E105))","v":""},{"$f":"IF(ISERROR(GEOMEAN('Transmission et conformité'!H75:H105)),\"\",GEOMEAN('Transmission et conformité'!H75:H105))","v":""},{"$f":"IF(ISERROR(AVERAGEA('Transmission et conformité'!I75:I105)),\"\",AVERAGEA('Transmission et conformité'!I75:I105))","v":""},{"$f":"AVERAGEA('Transmission et conformité'!J75:J105)","v":0},{"$f":"IF(ISERROR(AVERAGEA('Transmission et conformité'!K75:K105)),\"\",AVERAGEA('Transmission et conformité'!K75:K105))","v":""},{"$f":"AVERAGEA('Transmission et conformité'!L75:L105)","v":0},{"$f":"IF(ISERROR(AVERAGEA('Transmission et conformité'!M75:M105)),\"\",AVERAGEA('Transmission et conformité'!M75:M105))","v":""},{"$f":"AVERAGEA('Transmission et conformité'!N75:N105)","v":0},{"$f":"IF(ISERROR(AVERAGEA('Transmission et conformité'!O75:O105)),\"\",AVERAGEA('Transmission et conformité'!O75:O105))","v":""},{"$f":"AVERAGEA('Transmission et conformité'!P75:P105)","v":0},{"$f":"IF(ISERROR(AVERAGEA('Transmission et conformité'!Q75:Q105)),\"\",AVERAGEA('Transmission et conformité'!Q75:Q105))","v":""},{"$f":"AVERAGEA('Transmission et conformité'!R75:R105)","v":0},{"$f":"IF(ISERROR(AVERAGEA('Transmission et conformité'!S75:S105)),\"\",AVERAGEA('Transmission et conformité'!S75:S105))","v":""},{"$f":"AVERAGEA('Transmission et conformité'!T75:T105)","v":0},{"$f":"IF(ISERROR(AVERAGEA('Transmission et conformité'!U75:U105)),\"\",AVERAGEA('Transmission et conformité'!U75:U105))","v":""},{"$f":"AVERAGEA('Transmission et conformité'!V75:V105)","v":0},{"$f":"IF(ISERROR(AVERAGEA('Transmission et conformité'!W75:W105)),\"\",AVERAGEA('Transmission et conformité'!W75:W105))","v":""},{"$f":"AVERAGEA('Transmission et conformité'!X75:X105)","v":0},{"$f":"IF(ISERROR(AVERAGEA('Transmission et conformité'!Y75:Y105)),\"\",AVERAGEA('Transmission et conformité'!Y75:Y105))","v":""},{"$f":"AVERAGEA('Transmission et conformité'!Z75:Z105)","v":0},{"$f":"IF(ISERROR(AVERAGEA('Transmission et conformité'!AA75:AA105)),\"\",AVERAGEA('Transmission et conformité'!AA75:AA105))","v":""},{"$f":"AVERAGEA('Transmission et conformité'!AB75:AB105)","v":0},{"$f":"IF(ISERROR(AVERAGEA('Transmission et conformité'!AC75:AC105)),\"\",AVERAGEA('Transmission et conformité'!AC75:AC105))","v":""},{"$f":"AVERAGEA('Transmission et conformité'!AD75:AD105)","v":0},{"$f":"IF(ISERROR(AVERAGEA('Transmission et conformité'!AE75:AE105)),\"\",AVERAGEA('Transmission et conformité'!AE75:AE105))","v":""},{"$f":"AVERAGEA('Transmission et conformité'!AF75:AF105)","v":0}]
[null,"Avril",{"$f":"IF(ISERROR(AVERAGEA('Transmission et conformité'!D106:D136)),\"\",AVERAGEA('Transmission et conformité'!D106:D136))","v":""},{"$f":"IF(ISERROR(AVERAGEA('Transmission et conformité'!E106:E136)),\"\",AVERAGEA('Transmission et conformité'!E106:E136))","v":""},{"$f":"IF(ISERROR(GEOMEAN('Transmission et conformité'!H106:H136)),\"\",GEOMEAN('Transmission et conformité'!H106:H136))","v":""},{"$f":"IF(ISERROR(AVERAGEA('Transmission et conformité'!I106:I136)),\"\",AVERAGEA('Transmission et conformité'!I106:I136))","v":""},{"$f":"AVERAGEA('Transmission et conformité'!J106:J136)","v":0},{"$f":"IF(ISERROR(AVERAGEA('Transmission et conformité'!K106:K136)),\"\",AVERAGEA('Transmission et conformité'!K106:K136))","v":""},{"$f":"AVERAGEA('Transmission et conformité'!L106:L136)","v":0},{"$f":"IF(ISERROR(AVERAGEA('Transmission et conformité'!M106:M136)),\"\",AVERAGEA('Transmission et conformité'!M106:M136))","v":""},{"$f":"AVERAGEA('Transmission et conformité'!N106:N136)","v":0},{"$f":"IF(ISERROR(AVERAGEA('Transmission et conformité'!O106:O136)),\"\",AVERAGEA('Transmission et conformité'!O106:O136))","v":""},{"$f":"AVERAGEA('Transmission et conformité'!P106:P136)","v":0},{"$f":"IF(ISERROR(AVERAGEA('Transmission et conformité'!Q106:Q136)),\"\",AVERAGEA('Transmission et conformité'!Q106:Q136))","v":""},{"$f":"AVERAGEA('Transmission et conformité'!R106:R136)","v":0},{"$f":"IF(ISERROR(AVERAGEA('Transmission et conformité'!S106:S136)),\"\",AVERAGEA('Transmission et conformité'!S106:S136))","v":""},{"$f":"AVERAGEA('Transmission et conformité'!T106:T136)","v":0},{"$f":"IF(ISERROR(AVERAGEA('Transmission et conformité'!U106:U136)),\"\",AVERAGEA('Transmission et conformité'!U106:U136))","v":""},{"$f":"AVERAGEA('Transmission et conformité'!V106:V136)","v":0},{"$f":"IF(ISERROR(AVERAGEA('Transmission et conformité'!W106:W136)),\"\",AVERAGEA('Transmission et conformité'!W106:W136))","v":""},{"$f":"AVERAGEA('Transmission et conformité'!X106:X136)","v":0},{"$f":"IF(ISERROR(AVERAGEA('Transmission et conformité'!Y106:Y136)),\"\",AVERAGEA('Transmission et conformité'!Y106:Y136))","v":""},{"$f":"AVERAGEA('Transmission et conformité'!Z106:Z136)","v":0},{"$f":"IF(ISERROR(AVERAGEA('Transmission et conformité'!AA106:AA136)),\"\",AVERAGEA('Transmission et conformité'!AA106:AA136))","v":""},{"$f":"AVERAGEA('Transmission et conformité'!AB106:AB136)","v":0},{"$f":"IF(ISERROR(AVERAGEA('Transmission et conformité'!AC106:AC136)),\"\",AVERAGEA('Transmission et conformité'!AC106:AC136))","v":""},{"$f":"AVERAGEA('Transmission et conformité'!AD106:AD136)","v":0},{"$f":"IF(ISERROR(AVERAGEA('Transmission et conformité'!AE106:AE136)),\"\",AVERAGEA('Transmission et conformité'!AE106:AE136))","v":""},{"$f":"AVERAGEA('Transmission et conformité'!AF106:AF136)","v":0}]
[null,"Mai",{"$f":"IF(ISERROR(AVERAGEA('Transmission et conformité'!D137:D167)),\"\",AVERAGEA('Transmission et conformité'!D137:D167))","v":""},{"$f":"IF(ISERROR(AVERAGEA('Transmission et conformité'!E137:E167)),\"\",AVERAGEA('Transmission et conformité'!E137:E167))","v":""},{"$f":"IF(ISERROR(GEOMEAN('Transmission et conformité'!H137:H167)),\"\",GEOMEAN('Transmission et conformité'!H137:H167))","v":""},{"$f":"IF(ISERROR(AVERAGEA('Transmission et conformité'!I137:I167)),\"\",AVERAGEA('Transmission et conformité'!I137:I167))","v":""},{"$f":"AVERAGEA('Transmission et conformité'!J137:J167)","v":0},{"$f":"IF(ISERROR(AVERAGEA('Transmission et conformité'!K137:K167)),\"\",AVERAGEA('Transmission et conformité'!K137:K167))","v":""},{"$f":"AVERAGEA('Transmission et conformité'!L137:L167)","v":0},{"$f":"IF(ISERROR(AVERAGEA('Transmission et conformité'!M137:M167)),\"\",AVERAGEA('Transmission et conformité'!M137:M167))","v":""},{"$f":"AVERAGEA('Transmission et conformité'!N137:N167)","v":0},{"$f":"IF(ISERROR(AVERAGEA('Transmission et conformité'!O137:O167)),\"\",AVERAGEA('Transmission et conformité'!O137:O167))","v":""},{"$f":"AVERAGEA('Transmission et conformité'!P137:P167)","v":0},{"$f":"IF(ISERROR(AVERAGEA('Transmission et conformité'!Q137:Q167)),\"\",AVERAGEA('Transmission et conformité'!Q137:Q167))","v":""},{"$f":"AVERAGEA('Transmission et conformité'!R137:R167)","v":0},{"$f":"IF(ISERROR(AVERAGEA('Transmission et conformité'!S137:S167)),\"\",AVERAGEA('Transmission et conformité'!S137:S167))","v":""},{"$f":"AVERAGEA('Transmission et conformité'!T137:T167)","v":0},{"$f":"IF(ISERROR(AVERAGEA('Transmission et conformité'!U137:U167)),\"\",AVERAGEA('Transmission et conformité'!U137:U167))","v":""},{"$f":"AVERAGEA('Transmission et conformité'!V137:V167)","v":0},{"$f":"IF(ISERROR(AVERAGEA('Transmission et conformité'!W137:W167)),\"\",AVERAGEA('Transmission et conformité'!W137:W167))","v":""},{"$f":"AVERAGEA('Transmission et conformité'!X137:X167)","v":0},{"$f":"IF(ISERROR(AVERAGEA('Transmission et conformité'!Y137:Y167)),\"\",AVERAGEA('Transmission et conformité'!Y137:Y167))","v":""},{"$f":"AVERAGEA('Transmission et conformité'!Z137:Z167)","v":0},{"$f":"IF(ISERROR(AVERAGEA('Transmission et conformité'!AA137:AA167)),\"\",AVERAGEA('Transmission et conformité'!AA137:AA167))","v":""},{"$f":"AVERAGEA('Transmission et conformité'!AB137:AB167)","v":0},{"$f":"IF(ISERROR(AVERAGEA('Transmission et conformité'!AC137:AC167)),\"\",AVERAGEA('Transmission et conformité'!AC137:AC167))","v":""},{"$f":"AVERAGEA('Transmission et conformité'!AD137:AD167)","v":0},{"$f":"IF(ISERROR(AVERAGEA('Transmission et conformité'!AE137:AE167)),\"\",AVERAGEA('Transmission et conformité'!AE137:AE167))","v":""},{"$f":"AVERAGEA('Transmission et conformité'!AF137:AF167)","v":0}]
[null,"Juin",{"$f":"IF(ISERROR(AVERAGEA('Transmission et conformité'!D168:D198)),\"\",AVERAGEA('Transmission et conformité'!D168:D198))","v":""},{"$f":"IF(ISERROR(AVERAGEA('Transmission et conformité'!E168:E198)),\"\",AVERAGEA('Transmission et conformité'!E168:E198))","v":""},{"$f":"IF(ISERROR(GEOMEAN('Transmission et conformité'!H168:H198)),\"\",GEOMEAN('Transmission et conformité'!H168:H198))","v":""},{"$f":"IF(ISERROR(AVERAGEA('Transmission et conformité'!I168:I198)),\"\",AVERAGEA('Transmission et conformité'!I168:I198))","v":""},{"$f":"AVERAGEA('Transmission et conformité'!J168:J198)","v":0},{"$f":"IF(ISERROR(AVERAGEA('Transmission et conformité'!K168:K198)),\"\",AVERAGEA('Transmission et conformité'!K168:K198))","v":""},{"$f":"AVERAGEA('Transmission et conformité'!L168:L198)","v":0},{"$f":"IF(ISERROR(AVERAGEA('Transmission et conformité'!M168:M198)),\"\",AVERAGEA('Transmission et conformité'!M168:M198))","v":""},{"$f":"AVERAGEA('Transmission et conformité'!N168:N198)","v":0},{"$f":"IF(ISERROR(AVERAGEA('Transmission et conformité'!O168:O198)),\"\",AVERAGEA('Transmission et conformité'!O168:O198))","v":""},{"$f":"AVERAGEA('Transmission et conformité'!P168:P198)","v":0},{"$f":"IF(ISERROR(AVERAGEA('Transmission et conformité'!Q168:Q198)),\"\",AVERAGEA('Transmission et conformité'!Q168:Q198))","v":""},{"$f":"AVERAGEA('Transmission et conformité'!R168:R198)","v":0},{"$f":"IF(ISERROR(AVERAGEA('Transmission et conformité'!S168:S198)),\"\",AVERAGEA('Transmission et conformité'!S168:S198))","v":""},{"$f":"AVERAGEA('Transmission et conformité'!T168:T198)","v":0},{"$f":"IF(ISERROR(AVERAGEA('Transmission et conformité'!U168:U198)),\"\",AVERAGEA('Transmission et conformité'!U168:U198))","v":""},{"$f":"AVERAGEA('Transmission et conformité'!V168:V198)","v":0},{"$f":"IF(ISERROR(AVERAGEA('Transmission et conformité'!W168:W198)),\"\",AVERAGEA('Transmission et conformité'!W168:W198))","v":""},{"$f":"AVERAGEA('Transmission et conformité'!X168:X198)","v":0},{"$f":"IF(ISERROR(AVERAGEA('Transmission et conformité'!Y168:Y198)),\"\",AVERAGEA('Transmission et conformité'!Y168:Y198))","v":""},{"$f":"AVERAGEA('Transmission et conformité'!Z168:Z198)","v":0},{"$f":"IF(ISERROR(AVERAGEA('Transmission et conformité'!AA168:AA198)),\"\",AVERAGEA('Transmission et conformité'!AA168:AA198))","v":""},{"$f":"AVERAGEA('Transmission et conformité'!AB168:AB198)","v":0},{"$f":"IF(ISERROR(AVERAGEA('Transmission et conformité'!AC168:AC198)),\"\",AVERAGEA('Transmission et conformité'!AC168:AC198))","v":""},{"$f":"AVERAGEA('Transmission et conformité'!AD168:AD198)","v":0},{"$f":"IF(ISERROR(AVERAGEA('Transmission et conformité'!AE168:AE198)),\"\",AVERAGEA('Transmission et conformité'!AE168:AE198))","v":""},{"$f":"AVERAGEA('Transmission et conformité'!AF168:AF198)","v":0}]
[null,"Juillet",{"$f":"IF(ISERROR(AVERAGEA('Transmission et conformité'!D199:D229)),\"\",AVERAGEA('Transmission et conformité'!D199:D229))","v":""},{"$f":"IF(ISERROR(AVERAGEA('Transmission et conformité'!E199:E229)),\"\",AVERAGEA('Transmission et conformité'!E199:E229))","v":""},{"$f":"IF(ISERROR(GEOMEAN('Transmission et conformité'!H199:H229)),\"\",GEOMEAN('Transmission et conformité'!H199:H229))","v":""},{"$f":"IF(ISERROR(AVERAGEA('Transmission et conformité'!I199:I229)),\"\",AVERAGEA('Transmission et conformité'!I199:I229))","v":""},{"$f":"AVERAGEA('Transmission et conformité'!J199:J229)","v":0},{"$f":"IF(ISERROR(AVERAGEA('Transmission et conformité'!K199:K229)),\"\",AVERAGEA('Transmission et conformité'!K199:K229))","v":""},{"$f":"AVERAGEA('Transmission et conformité'!L199:L229)","v":0},{"$f":"IF(ISERROR(AVERAGEA('Transmission et conformité'!M199:M229)),\"\",AVERAGEA('Transmission et conformité'!M199:M229))","v":""},{"$f":"AVERAGEA('Transmission et conformité'!N199:N229)","v":0},{"$f":"IF(ISERROR(AVERAGEA('Transmission et conformité'!O199:O229)),\"\",AVERAGEA('Transmission et conformité'!O199:O229))","v":""},{"$f":"AVERAGEA('Transmission et conformité'!P199:P229)","v":0},{"$f":"IF(ISERROR(AVERAGEA('Transmission et conformité'!Q199:Q229)),\"\",AVERAGEA('Transmission et conformité'!Q199:Q229))","v":""},{"$f":"AVERAGEA('Transmission et conformité'!R199:R229)","v":0},{"$f":"IF(ISERROR(AVERAGEA('Transmission et conformité'!S199:S229)),\"\",AVERAGEA('Transmission et conformité'!S199:S229))","v":""},{"$f":"AVERAGEA('Transmission et conformité'!T199:T229)","v":0},{"$f":"IF(ISERROR(AVERAGEA('Transmission et conformité'!U199:U229)),\"\",AVERAGEA('Transmission et conformité'!U199:U229))","v":""},{"$f":"AVERAGEA('Transmission et conformité'!V199:V229)","v":0},{"$f":"IF(ISERROR(AVERAGEA('Transmission et conformité'!W199:W229)),\"\",AVERAGEA('Transmission et conformité'!W199:W229))","v":""},{"$f":"AVERAGEA('Transmission et conformité'!X199:X229)","v":0},{"$f":"IF(ISERROR(AVERAGEA('Transmission et conformité'!Y199:Y229)),\"\",AVERAGEA('Transmission et conformité'!Y199:Y229))","v":""},{"$f":"AVERAGEA('Transmission et conformité'!Z199:Z229)","v":0},{"$f":"IF(ISERROR(AVERAGEA('Transmission et conformité'!AA199:AA229)),\"\",AVERAGEA('Transmission et conformité'!AA199:AA229))","v":""},{"$f":"AVERAGEA('Transmission et conformité'!AB199:AB229)","v":0},{"$f":"IF(ISERROR(AVERAGEA('Transmission et conformité'!AC199:AC229)),\"\",AVERAGEA('Transmission et conformité'!AC199:AC229))","v":""},{"$f":"AVERAGEA('Transmission et conformité'!AD199:AD229)","v":0},{"$f":"IF(ISERROR(AVERAGEA('Transmission et conformité'!AE199:AE229)),\"\",AVERAGEA('Transmission et conformité'!AE199:AE229))","v":""},{"$f":"AVERAGEA('Transmission et conformité'!AF199:AF229)","v":0}]
[null,"Août",{"$f":"IF(ISERROR(AVERAGEA('Transmission et conformité'!D230:D260)),\"\",AVERAGEA('Transmission et conformité'!D230:D260))","v":""},{"$f":"IF(ISERROR(AVERAGEA('Transmission et conformité'!E230:E260)),\"\",AVERAGEA('Transmission et conformité'!E230:E260))","v":""},{"$f":"IF(ISERROR(GEOMEAN('Transmission et conformité'!H230:H260)),\"\",GEOMEAN('Transmission et conformité'!H230:H260))","v":""},{"$f":"IF(ISERROR(AVERAGEA('Transmission et conformité'!I230:I260)),\"\",AVERAGEA('Transmission et conformité'!I230:I260))","v":""},{"$f":"AVERAGEA('Transmission et conformité'!J230:J260)","v":0},{"$f":"IF(ISERROR(AVERAGEA('Transmission et conformité'!K230:K260)),\"\",AVERAGEA('Transmission et conformité'!K230:K260))","v":""},{"$f":"AVERAGEA('Transmission et conformité'!L230:L260)","v":0},{"$f":"IF(ISERROR(AVERAGEA('Transmission et conformité'!M230:M260)),\"\",AVERAGEA('Transmission et conformité'!M230:M260))","v":""},{"$f":"AVERAGEA('Transmission et conformité'!N230:N260)","v":0},{"$f":"IF(ISERROR(AVERAGEA('Transmission et conformité'!O230:O260)),\"\",AVERAGEA('Transmission et conformité'!O230:O260))","v":""},{"$f":"AVERAGEA('Transmission et conformité'!P230:P260)","v":0},{"$f":"IF(ISERROR(AVERAGEA('Transmission et conformité'!Q230:Q260)),\"\",AVERAGEA('Transmission et conformité'!Q230:Q260))","v":""},{"$f":"AVERAGEA('Transmission et conformité'!R230:R260)","v":0},{"$f":"IF(ISERROR(AVERAGEA('Transmission et conformité'!S230:S260)),\"\",AVERAGEA('Transmission et conformité'!S230:S260))","v":""},{"$f":"AVERAGEA('Transmission et conformité'!T230:T260)","v":0},{"$f":"IF(ISERROR(AVERAGEA('Transmission et conformité'!U230:U260)),\"\",AVERAGEA('Transmission et conformité'!U230:U260))","v":""},{"$f":"AVERAGEA('Transmission et conformité'!V230:V260)","v":0},{"$f":"IF(ISERROR(AVERAGEA('Transmission et conformité'!W230:W260)),\"\",AVERAGEA('Transmission et conformité'!W230:W260))","v":""},{"$f":"AVERAGEA('Transmission et conformité'!X230:X260)","v":0},{"$f":"IF(ISERROR(AVERAGEA('Transmission et conformité'!Y230:Y260)),\"\",AVERAGEA('Transmission et conformité'!Y230:Y260))","v":""},{"$f":"AVERAGEA('Transmission et conformité'!Z230:Z260)","v":0},{"$f":"IF(ISERROR(AVERAGEA('Transmission et conformité'!AA230:AA260)),\"\",AVERAGEA('Transmission et conformité'!AA230:AA260))","v":""},{"$f":"AVERAGEA('Transmission et conformité'!AB230:AB260)","v":0},{"$f":"IF(ISERROR(AVERAGEA('Transmission et conformité'!AC230:AC260)),\"\",AVERAGEA('Transmission et conformité'!AC230:AC260))","v":""},{"$f":"AVERAGEA('Transmission et conformité'!AD230:AD260)","v":0},{"$f":"IF(ISERROR(AVERAGEA('Transmission et conformité'!AE230:AE260)),\"\",AVERAGEA('Transmission et conformité'!AE230:AE260))","v":""},{"$f":"AVERAGEA('Transmission et conformité'!AF230:AF260)","v":0}]
[null,"Septembre",{"$f":"IF(ISERROR(AVERAGEA('Transmission et conformité'!D261:D291)),\"\",AVERAGEA('Transmission et conformité'!D261:D291))","v":""},{"$f":"IF(ISERROR(AVERAGEA('Transmission et conformité'!E261:E291)),\"\",AVERAGEA('Transmission et conformité'!E261:E291))","v":""},{"$f":"IF(ISERROR(GEOMEAN('Transmission et conformité'!H261:H291)),\"\",GEOMEAN('Transmission et conformité'!H261:H291))","v":""},{"$f":"IF(ISERROR(AVERAGEA('Transmission et conformité'!I261:I291)),\"\",AVERAGEA('Transmission et conformité'!I261:I291))","v":""},{"$f":"AVERAGEA('Transmission et conformité'!J261:J291)","v":0},{"$f":"IF(ISERROR(AVERAGEA('Transmission et conformité'!K261:K291)),\"\",AVERAGEA('Transmission et conformité'!K261:K291))","v":""},{"$f":"AVERAGEA('Transmission et conformité'!L261:L291)","v":0},{"$f":"IF(ISERROR(AVERAGEA('Transmission et conformité'!M261:M291)),\"\",AVERAGEA('Transmission et conformité'!M261:M291))","v":""},{"$f":"AVERAGEA('Transmission et conformité'!N261:N291)","v":0},{"$f":"IF(ISERROR(AVERAGEA('Transmission et conformité'!O261:O291)),\"\",AVERAGEA('Transmission et conformité'!O261:O291))","v":""},{"$f":"AVERAGEA('Transmission et conformité'!P261:P291)","v":0},{"$f":"IF(ISERROR(AVERAGEA('Transmission et conformité'!Q261:Q291)),\"\",AVERAGEA('Transmission et conformité'!Q261:Q291))","v":""},{"$f":"AVERAGEA('Transmission et conformité'!R261:R291)","v":0},{"$f":"IF(ISERROR(AVERAGEA('Transmission et conformité'!S261:S291)),\"\",AVERAGEA('Transmission et conformité'!S261:S291))","v":""},{"$f":"AVERAGEA('Transmission et conformité'!T261:T291)","v":0},{"$f":"IF(ISERROR(AVERAGEA('Transmission et conformité'!U261:U291)),\"\",AVERAGEA('Transmission et conformité'!U261:U291))","v":""},{"$f":"AVERAGEA('Transmission et conformité'!V261:V291)","v":0},{"$f":"IF(ISERROR(AVERAGEA('Transmission et conformité'!W261:W291)),\"\",AVERAGEA('Transmission et conformité'!W261:W291))","v":""},{"$f":"AVERAGEA('Transmission et conformité'!X261:X291)","v":0},{"$f":"IF(ISERROR(AVERAGEA('Transmission et conformité'!Y261:Y291)),\"\",AVERAGEA('Transmission et conformité'!Y261:Y291))","v":""},{"$f":"AVERAGEA('Transmission et conformité'!Z261:Z291)","v":0},{"$f":"IF(ISERROR(AVERAGEA('Transmission et conformité'!AA261:AA291)),\"\",AVERAGEA('Transmission et conformité'!AA261:AA291))","v":""},{"$f":"AVERAGEA('Transmission et conformité'!AB261:AB291)","v":0},{"$f":"IF(ISERROR(AVERAGEA('Transmission et conformité'!AC261:AC291)),\"\",AVERAGEA('Transmission et conformité'!AC261:AC291))","v":""},{"$f":"AVERAGEA('Transmission et conformité'!AD261:AD291)","v":0},{"$f":"IF(ISERROR(AVERAGEA('Transmission et conformité'!AE261:AE291)),\"\",AVERAGEA('Transmission et conformité'!AE261:AE291))","v":""},{"$f":"AVERAGEA('Transmission et conformité'!AF261:AF291)","v":0}]
[null,"Octobre",{"$f":"IF(ISERROR(AVERAGEA('Transmission et conformité'!D292:D322)),\"\",AVERAGEA('Transmission et conformité'!D292:D322))","v":""},{"$f":"IF(ISERROR(AVERAGEA('Transmission et conformité'!E292:E322)),\"\",AVERAGEA('Transmission et conformité'!E292:E322))","v":""},{"$f":"IF(ISERROR(GEOMEAN('Transmission et conformité'!H292:H322)),\"\",GEOMEAN('Transmission et conformité'!H292:H322))","v":""},{"$f":"IF(ISERROR(AVERAGEA('Transmission et conformité'!I292:I322)),\"\",AVERAGEA('Transmission et conformité'!I292:I322))","v":""},{"$f":"AVERAGEA('Transmission et conformité'!J292:J322)","v":0},{"$f":"IF(ISERROR(AVERAGEA('Transmission et conformité'!K292:K322)),\"\",AVERAGEA('Transmission et conformité'!K292:K322))","v":""},{"$f":"AVERAGEA('Transmission et conformité'!L292:L322)","v":0},{"$f":"IF(ISERROR(AVERAGEA('Transmission et conformité'!M292:M322)),\"\",AVERAGEA('Transmission et conformité'!M292:M322))","v":""},{"$f":"AVERAGEA('Transmission et conformité'!N292:N322)","v":0},{"$f":"IF(ISERROR(AVERAGEA('Transmission et conformité'!O292:O322)),\"\",AVERAGEA('Transmission et conformité'!O292:O322))","v":""},{"$f":"AVERAGEA('Transmission et conformité'!P292:P322)","v":0},{"$f":"IF(ISERROR(AVERAGEA('Transmission et conformité'!Q292:Q322)),\"\",AVERAGEA('Transmission et conformité'!Q292:Q322))","v":""},{"$f":"AVERAGEA('Transmission et conformité'!R292:R322)","v":0},{"$f":"IF(ISERROR(AVERAGEA('Transmission et conformité'!S292:S322)),\"\",AVERAGEA('Transmission et conformité'!S292:S322))","v":""},{"$f":"AVERAGEA('Transmission et conformité'!T292:T322)","v":0},{"$f":"IF(ISERROR(AVERAGEA('Transmission et conformité'!U292:U322)),\"\",AVERAGEA('Transmission et conformité'!U292:U322))","v":""},{"$f":"AVERAGEA('Transmission et conformité'!V292:V322)","v":0},{"$f":"IF(ISERROR(AVERAGEA('Transmission et conformité'!W292:W322)),\"\",AVERAGEA('Transmission et conformité'!W292:W322))","v":""},{"$f":"AVERAGEA('Transmission et conformité'!X292:X322)","v":0},{"$f":"IF(ISERROR(AVERAGEA('Transmission et conformité'!Y292:Y322)),\"\",AVERAGEA('Transmission et conformité'!Y292:Y322))","v":""},{"$f":"AVERAGEA('Transmission et conformité'!Z292:Z322)","v":0},{"$f":"IF(ISERROR(AVERAGEA('Transmission et conformité'!AA292:AA322)),\"\",AVERAGEA('Transmission et conformité'!AA292:AA322))","v":""},{"$f":"AVERAGEA('Transmission et conformité'!AB292:AB322)","v":0},{"$f":"IF(ISERROR(AVERAGEA('Transmission et conformité'!AC292:AC322)),\"\",AVERAGEA('Transmission et conformité'!AC292:AC322))","v":""},{"$f":"AVERAGEA('Transmission et conformité'!AD292:AD322)","v":0},{"$f":"IF(ISERROR(AVERAGEA('Transmission et conformité'!AE292:AE322)),\"\",AVERAGEA('Transmission et conformité'!AE292:AE322))","v":""},{"$f":"AVERAGEA('Transmission et conformité'!AF292:AF322)","v":0}]
[null,"Novembre",{"$f":"IF(ISERROR(AVERAGEA('Transmission et conformité'!D323:D353)),\"\",AVERAGEA('Transmission et conformité'!D323:D353))","v":""},{"$f":"IF(ISERROR(AVERAGEA('Transmission et conformité'!E323:E353)),\"\",AVERAGEA('Transmission et conformité'!E323:E353))","v":""},{"$f":"IF(ISERROR(GEOMEAN('Transmission et conformité'!H323:H353)),\"\",GEOMEAN('Transmission et conformité'!H323:H353))","v":""},{"$f":"IF(ISERROR(AVERAGEA('Transmission et conformité'!I323:I353)),\"\",AVERAGEA('Transmission et conformité'!I323:I353))","v":""},{"$f":"AVERAGEA('Transmission et conformité'!J323:J353)","v":0},{"$f":"IF(ISERROR(AVERAGEA('Transmission et conformité'!K323:K353)),\"\",AVERAGEA('Transmission et conformité'!K323:K353))","v":""},{"$f":"AVERAGEA('Transmission et conformité'!L323:L353)","v":0},{"$f":"IF(ISERROR(AVERAGEA('Transmission et conformité'!M323:M353)),\"\",AVERAGEA('Transmission et conformité'!M323:M353))","v":""},{"$f":"AVERAGEA('Transmission et conformité'!N323:N353)","v":0},{"$f":"IF(ISERROR(AVERAGEA('Transmission et conformité'!O323:O353)),\"\",AVERAGEA('Transmission et conformité'!O323:O353))","v":""},{"$f":"AVERAGEA('Transmission et conformité'!P323:P353)","v":0},{"$f":"IF(ISERROR(AVERAGEA('Transmission et conformité'!Q323:Q353)),\"\",AVERAGEA('Transmission et conformité'!Q323:Q353))","v":""},{"$f":"AVERAGEA('Transmission et conformité'!R323:R353)","v":0},{"$f":"IF(ISERROR(AVERAGEA('Transmission et conformité'!S323:S353)),\"\",AVERAGEA('Transmission et conformité'!S323:S353))","v":""},{"$f":"AVERAGEA('Transmission et conformité'!T323:T353)","v":0},{"$f":"IF(ISERROR(AVERAGEA('Transmission et conformité'!U323:U353)),\"\",AVERAGEA('Transmission et conformité'!U323:U353))","v":""},{"$f":"AVERAGEA('Transmission et conformité'!V323:V353)","v":0},{"$f":"IF(ISERROR(AVERAGEA('Transmission et conformité'!W323:W353)),\"\",AVERAGEA('Transmission et conformité'!W323:W353))","v":""},{"$f":"AVERAGEA('Transmission et conformité'!X323:X353)","v":0},{"$f":"IF(ISERROR(AVERAGEA('Transmission et conformité'!Y323:Y353)),\"\",AVERAGEA('Transmission et conformité'!Y323:Y353))","v":""},{"$f":"AVERAGEA('Transmission et conformité'!Z323:Z353)","v":0},{"$f":"IF(ISERROR(AVERAGEA('Transmission et conformité'!AA323:AA353)),\"\",AVERAGEA('Transmission et conformité'!AA323:AA353))","v":""},{"$f":"AVERAGEA('Transmission et conformité'!AB323:AB353)","v":0},{"$f":"IF(ISERROR(AVERAGEA('Transmission et conformité'!AC323:AC353)),\"\",AVERAGEA('Transmission et conformité'!AC323:AC353))","v":""},{"$f":"AVERAGEA('Transmission et conformité'!AD323:AD353)","v":0},{"$f":"IF(ISERROR(AVERAGEA('Transmission et conformité'!AE323:AE353)),\"\",AVERAGEA('Transmission et conformité'!AE323:AE353))","v":""},{"$f":"AVERAGEA('Transmission et conformité'!AF323:AF353)","v":0}]
[null,"Décembre",{"$f":"IF(ISERROR(AVERAGEA('Transmission et conformité'!D354:D384)),\"\",AVERAGEA('Transmission et conformité'!D354:D384))","v":""},{"$f":"IF(ISERROR(AVERAGEA('Transmission et conformité'!E354:E384)),\"\",AVERAGEA('Transmission et conformité'!E354:E384))","v":""},{"$f":"IF(ISERROR(GEOMEAN('Transmission et conformité'!H354:H384)),\"\",GEOMEAN('Transmission et conformité'!H354:H384))","v":""},{"$f":"IF(ISERROR(AVERAGEA('Transmission et conformité'!I354:I384)),\"\",AVERAGEA('Transmission et conformité'!I354:I384))","v":""},{"$f":"AVERAGEA('Transmission et conformité'!J354:J384)","v":0},{"$f":"IF(ISERROR(AVERAGEA('Transmission et conformité'!K354:K384)),\"\",AVERAGEA('Transmission et conformité'!K354:K384))","v":""},{"$f":"AVERAGEA('Transmission et conformité'!L354:L384)","v":0},{"$f":"IF(ISERROR(AVERAGEA('Transmission et conformité'!M354:M384)),\"\",AVERAGEA('Transmission et conformité'!M354:M384))","v":""},{"$f":"AVERAGEA('Transmission et conformité'!N354:N384)","v":0},{"$f":"IF(ISERROR(AVERAGEA('Transmission et conformité'!O354:O384)),\"\",AVERAGEA('Transmission et conformité'!O354:O384))","v":""},{"$f":"AVERAGEA('Transmission et conformité'!P354:P384)","v":0},{"$f":"IF(ISERROR(AVERAGEA('Transmission et conformité'!Q354:Q384)),\"\",AVERAGEA('Transmission et conformité'!Q354:Q384))","v":""},{"$f":"AVERAGEA('Transmission et conformité'!R354:R384)","v":0},{"$f":"IF(ISERROR(AVERAGEA('Transmission et conformité'!S354:S384)),\"\",AVERAGEA('Transmission et conformité'!S354:S384))","v":""},{"$f":"AVERAGEA('Transmission et conformité'!T354:T384)","v":0},{"$f":"IF(ISERROR(AVERAGEA('Transmission et conformité'!U354:U384)),\"\",AVERAGEA('Transmission et conformité'!U354:U384))","v":""},{"$f":"AVERAGEA('Transmission et conformité'!V354:V384)","v":0},{"$f":"IF(ISERROR(AVERAGEA('Transmission et conformité'!W354:W384)),\"\",AVERAGEA('Transmission et conformité'!W354:W384))","v":""},{"$f":"AVERAGEA('Transmission et conformité'!X354:X384)","v":0},{"$f":"IF(ISERROR(AVERAGEA('Transmission et conformité'!Y354:Y384)),\"\",AVERAGEA('Transmission et conformité'!Y354:Y384))","v":""},{"$f":"AVERAGEA('Transmission et conformité'!Z354:Z384)","v":0},{"$f":"IF(ISERROR(AVERAGEA('Transmission et conformité'!AA354:AA384)),\"\",AVERAGEA('Transmission et conformité'!AA354:AA384))","v":""},{"$f":"AVERAGEA('Transmission et conformité'!AB354:AB384)","v":0},{"$f":"IF(ISERROR(AVERAGEA('Transmission et conformité'!AC354:AC384)),\"\",AVERAGEA('Transmission et conformité'!AC354:AC384))","v":""},{"$f":"AVERAGEA('Transmission et conformité'!AD354:AD384)","v":0},{"$f":"IF(ISERROR(AVERAGEA('Transmission et conformité'!AE354:AE384)),\"\",AVERAGEA('Transmission et conformité'!AE354:AE384))","v":""},{"$f":"AVERAGEA('Transmission et conformité'!AF354:AF384)","v":0}]
[null,"Commentaires :"]
[]
[]
[]
[]
[]
[]
[null,"Suivi des eaux usées"]
[null,"Nom :",{"$f":"IF(ISBLANK(Profil!$B$6),\"---\",Profil!$B$6)","v":"---"},null,"Point de suivi no 2",null,null,null,null,{"$f":"IF(ISBLANK(Profil!L19),\"---\",Profil!L19)","v":"---"}]
[null,null,null,null,{"$f":"IF(ISBLANK(Profil!J20),\"---\",Profil!J20)","v":"---"}]
[]
[null,"Conformité moyenne mensuelle"]
[]
[null,"Mois",{"$f":"IF(ISBLANK(Profil!$A$25),\"---\",Profil!$A$25)","v":"Débit"},{"$f":"IF(ISBLANK(Profil!$A$27),\"---\",Profil!$A$27)","v":"Volume"},{"$f":"IF(ISBLANK(Profil!$A$31),\"---\",Profil!$A$31)","v":"Coliformes fécaux"},{"$f":"IF(ISBLANK(Profil!$A$33),\"---\",Profil!$A$33)","v":"---"},null,{"$f":"IF(ISBLANK(Profil!$A$35),\"---\",Profil!$A$35)","v":"---"},{"$f":"IF(ISBLANK(Profil!#REF!),\"---\",Profil!#REF!)","v":{"$error":"#REF!"}},{"$f":"IF(ISBLANK(Profil!$A$37),\"---\",Profil!$A$37)","v":"---"},null,{"$f":"IF(ISBLANK(Profil!$A$39),\"---\",Profil!$A$39)","v":"---"},null,{"$f":"IF(ISBLANK(Profil!$A$41),\"---\",Profil!$A$41)","v":"---"},null,{"$f":"IF(ISBLANK(Profil!$A$43),\"---\",Profil!$A$43)","v":"---"},null,{"$f":"IF(ISBLANK(Profil!$A$45),\"---\",Profil!$A$45)","v":"---"},null,{"$f":"IF(ISBLANK(Profil!$A$47),\"---\",Profil!$A$47)","v":"---"},null,{"$f":"IF(ISBLANK(Profil!$A$49),\"---\",Profil!$A$49)","v":"---"},null,{"$f":"IF(ISBLANK(Profil!$A$51),\"---\",Profil!$A$51)","v":"---"},null,{"$f":"IF(ISBLANK(Profil!$A$53),\"---\",Profil!$A$53)","v":"---"},null,{"$f":"IF(ISBLANK(Profil!$A$55),\"---\",Profil!$A$55)","v":"---"},null,"Commentaires"]
[null,null,{"$f":"IF(ISBLANK(Profil!$L$25),\"---\",Profil!$L$25)","v":"---"},{"$f":"IF(ISBLANK(Profil!$L$27),\"---\",Profil!$L$27)","v":"---"},{"$f":"IF(ISBLANK(Profil!$L$31),\"---\",Profil!$L$31)","v":"---"},{"$f":"IF(ISBLANK(Profil!$L$33),\"---\",Profil!$L$33)","v":"---"},"kg/j",{"$f":"IF(ISBLANK(Profil!$L$35),\"---\",Profil!$L$35)","v":"---"},"kg/j",{"$f":"IF(ISBLANK(Profil!$L$37),\"---\",Profil!$L$37)","v":"---"},"kg/j",{"$f":"IF(ISBLANK(Profil!$L$39),\"---\",Profil!$L$39)","v":"---"},"kg/j",{"$f":"IF(ISBLANK(Profil!$L$41),\"---\",Profil!$L$41)","v":"---"},"kg/j",{"$f":"IF(ISBLANK(Profil!$L$43),\"---\",Profil!$L$43)","v":"---"},"kg/j",{"$f":"IF(ISBLANK(Profil!$L$45),\"---\",Profil!$L$45)","v":"---"},"kg/j",{"$f":"IF(ISBLANK(Profil!$L$47),\"---\",Profil!$L$47)","v":"---"},"kg/j",{"$f":"IF(ISBLANK(Profil!$L$49),\"---\",Profil!$L$49)","v":"---"},"kg/j",{"$f":"IF(ISBLANK(Profil!$L$51),\"---\",Profil!$L$51)","v":"---"},"kg/j",{"$f":"IF(ISBLANK(Profil!$L$53),\"---\",Profil!$L$53)","v":"---"},"kg/j",{"$f":"IF(ISBLANK(Profil!$L$55),\"---\",Profil!$L$55)","v":"---"},"kg/j"]
[null,"Normes ►",{"$f":"IF(ISBLANK(Profil!$K$26),\"---\",Profil!$K$26)","v":"---"},{"$f":"IF(ISBLANK(Profil!$K$27),\"---\",Profil!$K$27)","v":"---"},{"$f":"IF(ISBLANK(Profil!$K$32),\"---\",Profil!$K$32)","v":"---"},{"$f":"IF(ISBLANK(Profil!$K$34),\"---\",Profil!$K$34)","v":"---"},{"$f":"IF(ISBLANK(Profil!$M$34),\"---\",Profil!$M$34)","v":"---"},{"$f":"IF(ISBLANK(Profil!$K$36),\"---\",Profil!$K$36)","v":"---"},{"$f":"IF(ISBLANK(Profil!$M$36),\"---\",Profil!$M$36)","v":"---"},{"$f":"IF(ISBLANK(Profil!$K$38),\"---\",Profil!$K$38)","v":"---"},{"$f":"IF(ISBLANK(Profil!$M$38),\"---\",Profil!$M$38)","v":"---"},{"$f":"IF(ISBLANK(Profil!$K$40),\"---\",Profil!$K$40)","v":"---"},{"$f":"IF(ISBLANK(Profil!$M$40),\"---\",Profil!$M$40)","v":"---"},{"$f":"IF(ISBLANK(Profil!$K$42),\"---\",Profil!$K$42)","v":"---"},{"$f":"IF(ISBLANK(Profil!$M$42),\"---\",Profil!$M$42)","v":"---"},{"$f":"IF(ISBLANK(Profil!$K$44),\"---\",Profil!$K$44)","v":"---"},{"$f":"IF(ISBLANK(Profil!$M$44),\"---\",Profil!$M$44)","v":"---"},{"$f":"IF(ISBLANK(Profil!$K$46),\"---\",Profil!$K$46)","v":"---"},{"$f":"IF(ISBLANK(Profil!$M$46),\"---\",Profil!$M$46)","v":"---"},{"$f":"IF(ISBLANK(Profil!$K$48),\"---\",Profil!$K$48)","v":"---"},{"$f":"IF(ISBLANK(Profil!$M$48),\"---\",Profil!$M$48)","v":"---"},{"$f":"IF(ISBLANK(Profil!$K$50),\"---\",Profil!$K$50)","v":"---"},{"$f":"IF(ISBLANK(Profil!$M$50),\"---\",Profil!$M$50)","v":"---"},{"$f":"IF(ISBLANK(Profil!$K$52),\"---\",Profil!$K$52)","v":"---"},{"$f":"IF(ISBLANK(Profil!$M$52),\"---\",Profil!$M$52)","v":"---"},{"$f":"IF(ISBLANK(Profil!$K$54),\"---\",Profil!$K$54)","v":"---"},{"$f":"IF(ISBLANK(Profil!$M$54),\"---\",Profil!$M$54)","v":"---"},{"$f":"IF(ISBLANK(Profil!$K$56),\"---\",Profil!$K$56)","v":"---"},{"$f":"IF(ISBLANK(Profil!$M$56),\"---\",Profil!$M$56)","v":"---"}]
[null,"Janvier",{"$f":"IF(ISERROR(AVERAGEA('Transmission et conformité'!AU15:AU45)),\"\",AVERAGEA('Transmission et conformité'!AU15:AU45))","v":""},{"$f":"IF(ISERROR(AVERAGEA('Transmission et conformité'!AV15:AV45)),\"\",AVERAGEA('Transmission et conformité'!AV15:AV45))","v":""},{"$f":"IF(ISERROR(GEOMEAN('Transmission et conformité'!AY15:AY45)),\"\",GEOMEAN('Transmission et conformité'!AY15:AY45))","v":""},{"$f":"IF(ISERROR(AVERAGEA('Transmission et conformité'!AZ15:AZ45)),\"\",AVERAGEA('Transmission et conformité'!AZ15:AZ45))","v":""},{"$f":"AVERAGEA('Transmission et conformité'!BA15:BA45)","v":0},{"$f":"IF(ISERROR(AVERAGEA('Transmission et conformité'!BB15:BB45)),\"\",AVERAGEA('Transmission et conformité'!BB15:BB45))","v":""},{"$f":"AVERAGEA('Transmission et conformité'!BC15:BC45)","v":0},{"$f":"IF(ISERROR(AVERAGEA('Transmission et conformité'!BD15:BD45)),\"\",AVERAGEA('Transmission et conformité'!BD15:BD45))","v":""},{"$f":"AVERAGEA('Transmission et conformité'!BE15:BE45)","v":0},{"$f":"IF(ISERROR(AVERAGEA('Transmission et conformité'!BF15:BF45)),\"\",AVERAGEA('Transmission et conformité'!BF15:BF45))","v":""},{"$f":"AVERAGEA('Transmission et conformité'!BG15:BG45)","v":0},{"$f":"IF(ISERROR(AVERAGEA('Transmission et conformité'!BH15:BH45)),\"\",AVERAGEA('Transmission et conformité'!BH15:BH45))","v":""},{"$f":"AVERAGEA('Transmission et conformité'!BI15:BI45)","v":0},{"$f":"IF(ISERROR(AVERAGEA('Transmission et conformité'!BJ15:BJ45)),\"\",AVERAGEA('Transmission et conformité'!BJ15:BJ45))","v":""},{"$f":"AVERAGEA('Transmission et conformité'!BK15:BK45)","v":0},{"$f":"IF(ISERROR(AVERAGEA('Transmission et conformité'!BL15:BL45)),\"\",AVERAGEA('Transmission et conformité'!BL15:BL45))","v":""},{"$f":"AVERAGEA('Transmission et conformité'!BM15:BM45)","v":0},{"$f":"IF(ISERROR(AVERAGEA('Transmission et conformité'!BN15:BN45)),\"\",AVERAGEA('Transmission et conformité'!BN15:BN45))","v":""},{"$f":"AVERAGEA('Transmission et conformité'!BO15:BO45)","v":0},{"$f":"IF(ISERROR(AVERAGEA('Transmission et conformité'!BP15:BP45)),\"\",AVERAGEA('Transmission et conformité'!BP15:BP45))","v":""},{"$f":"AVERAGEA('Transmission et conformité'!BQ15:BQ45)","v":0},{"$f":"IF(ISERROR(AVERAGEA('Transmission et conformité'!BR15:BR45)),\"\",AVERAGEA('Transmission et conformité'!BR15:BR45))","v":""},{"$f":"AVERAGEA('Transmission et conformité'!BS15:BS45)","v":0},{"$f":"IF(ISERROR(AVERAGEA('Transmission et conformité'!BT15:BT45)),\"\",AVERAGEA('Transmission et conformité'!BT15:BT45))","v":""},{"$f":"AVERAGEA('Transmission et conformité'!BU15:BU45)","v":0},{"$f":"IF(ISERROR(AVERAGEA('Transmission et conformité'!BV15:BV45)),\"\",AVERAGEA('Transmission et conformité'!BV15:BV45))","v":""},{"$f":"AVERAGEA('Transmission et conformité'!BW15:BW45)","v":0}]
[null,"Février",{"$f":"IF(ISERROR(AVERAGEA('Transmission et conformité'!AU46:AU74)),\"\",AVERAGEA('Transmission et conformité'!AU46:AU74))","v":""},{"$f":"IF(ISERROR(AVERAGEA('Transmission et conformité'!AV46:AV74)),\"\",AVERAGEA('Transmission et conformité'!AV46:AV74))","v":""},{"$f":"IF(ISERROR(GEOMEAN('Transmission et conformité'!AY46:AY74)),\"\",GEOMEAN('Transmission et conformité'!AY46:AY74))","v":""},{"$f":"IF(ISERROR(AVERAGEA('Transmission et conformité'!AZ46:AZ74)),\"\",AVERAGEA('Transmission et conformité'!AZ46:AZ74))","v":""},{"$f":"AVERAGEA('Transmission et conformité'!BA46:BA74)","v":0},{"$f":"IF(ISERROR(AVERAGEA('Transmission et conformité'!BB46:BB74)),\"\",AVERAGEA('Transmission et conformité'!BB46:BB74))","v":""},{"$f":"AVERAGEA('Transmission et conformité'!BC46:BC74)","v":0},{"$f":"IF(ISERROR(AVERAGEA('Transmission et conformité'!BD46:BD74)),\"\",AVERAGEA('Transmission et conformité'!BD46:BD74))","v":""},{"$f":"AVERAGEA('Transmission et conformité'!BE46:BE74)","v":0},{"$f":"IF(ISERROR(AVERAGEA('Transmission et conformité'!BF46:BF74)),\"\",AVERAGEA('Transmission et conformité'!BF46:BF74))","v":""},{"$f":"AVERAGEA('Transmission et conformité'!BG46:BG74)","v":0},{"$f":"IF(ISERROR(AVERAGEA('Transmission et conformité'!BH46:BH74)),\"\",AVERAGEA('Transmission et conformité'!BH46:BH74))","v":""},{"$f":"AVERAGEA('Transmission et conformité'!BI46:BI74)","v":0},{"$f":"IF(ISERROR(AVERAGEA('Transmission et conformité'!BJ46:BJ74)),\"\",AVERAGEA('Transmission et conformité'!BJ46:BJ74))","v":""},{"$f":"AVERAGEA('Transmission et conformité'!BK46:BK74)","v":0},{"$f":"IF(ISERROR(AVERAGEA('Transmission et conformité'!BL46:BL74)),\"\",AVERAGEA('Transmission et conformité'!BL46:BL74))","v":""},{"$f":"AVERAGEA('Transmission et conformité'!BM46:BM74)","v":0},{"$f":"IF(ISERROR(AVERAGEA('Transmission et conformité'!BN46:BN74)),\"\",AVERAGEA('Transmission et conformité'!BN46:BN74))","v":""},{"$f":"AVERAGEA('Transmission et conformité'!BO46:BO74)","v":0},{"$f":"IF(ISERROR(AVERAGEA('Transmission et conformité'!BP46:BP74)),\"\",AVERAGEA('Transmission et conformité'!BP46:BP74))","v":""},{"$f":"AVERAGEA('Transmission et conformité'!BQ46:BQ74)","v":0},{"$f":"IF(ISERROR(AVERAGEA('Transmission et conformité'!BR46:BR74)),\"\",AVERAGEA('Transmission et conformité'!BR46:BR74))","v":""},{"$f":"AVERAGEA('Transmission et conformité'!BS46:BS74)","v":0},{"$f":"IF(ISERROR(AVERAGEA('Transmission et conformité'!BT46:BT74)),\"\",AVERAGEA('Transmission et conformité'!BT46:BT74))","v":""},{"$f":"AVERAGEA('Transmission et conformité'!BU46:BU74)","v":0},{"$f":"IF(ISERROR(AVERAGEA('Transmission et conformité'!BV46:BV74)),\"\",AVERAGEA('Transmission et conformité'!BV46:BV74))","v":""},{"$f":"AVERAGEA('Transmission et conformité'!BW46:BW74)","v":0}]
[null,"Mars",{"$f":"IF(ISERROR(AVERAGEA('Transmission et conformité'!AU75:AU105)),\"\",AVERAGEA('Transmission et conformité'!AU75:AU105))","v":""},{"$f":"IF(ISERROR(AVERAGEA('Transmission et conformité'!AV75:AV105)),\"\",AVERAGEA('Transmission et conformité'!AV75:AV105))","v":""},{"$f":"IF(ISERROR(GEOMEAN('Transmission et conformité'!AY75:AY105)),\"\",GEOMEAN('Transmission et conformité'!AY75:AY105))","v":""},{"$f":"IF(ISERROR(AVERAGEA('Transmission et conformité'!AZ75:AZ105)),\"\",AVERAGEA('Transmission et conformité'!AZ75:AZ105))","v":""},{"$f":"AVERAGEA('Transmission et conformité'!BA75:BA105)","v":0},{"$f":"IF(ISERROR(AVERAGEA('Transmission et conformité'!BB75:BB105)),\"\",AVERAGEA('Transmission et conformité'!BB75:BB105))","v":""},{"$f":"AVERAGEA('Transmission et conformité'!BC75:BC105)","v":0},{"$f":"IF(ISERROR(AVERAGEA('Transmission et conformité'!BD75:BD105)),\"\",AVERAGEA('Transmission et conformité'!BD75:BD105))","v":""},{"$f":"AVERAGEA('Transmission et conformité'!BE75:BE105)","v":0},{"$f":"IF(ISERROR(AVERAGEA('Transmission et conformité'!BF75:BF105)),\"\",AVERAGEA('Transmission et conformité'!BF75:BF105))","v":""},{"$f":"AVERAGEA('Transmission et conformité'!BG75:BG105)","v":0},{"$f":"IF(ISERROR(AVERAGEA('Transmission et conformité'!BH75:BH105)),\"\",AVERAGEA('Transmission et conformité'!BH75:BH105))","v":""},{"$f":"AVERAGEA('Transmission et conformité'!BI75:BI105)","v":0},{"$f":"IF(ISERROR(AVERAGEA('Transmission et conformité'!BJ75:BJ105)),\"\",AVERAGEA('Transmission et conformité'!BJ75:BJ105))","v":""},{"$f":"AVERAGEA('Transmission et conformité'!BK75:BK105)","v":0},{"$f":"IF(ISERROR(AVERAGEA('Transmission et conformité'!BL75:BL105)),\"\",AVERAGEA('Transmission et conformité'!BL75:BL105))","v":""},{"$f":"AVERAGEA('Transmission et conformité'!BM75:BM105)","v":0},{"$f":"IF(ISERROR(AVERAGEA('Transmission et conformité'!BN75:BN105)),\"\",AVERAGEA('Transmission et conformité'!BN75:BN105))","v":""},{"$f":"AVERAGEA('Transmission et conformité'!BO75:BO105)","v":0},{"$f":"IF(ISERROR(AVERAGEA('Transmission et conformité'!BP75:BP105)),\"\",AVERAGEA('Transmission et conformité'!BP75:BP105))","v":""},{"$f":"AVERAGEA('Transmission et conformité'!BQ75:BQ105)","v":0},{"$f":"IF(ISERROR(AVERAGEA('Transmission et conformité'!BR75:BR105)),\"\",AVERAGEA('Transmission et conformité'!BR75:BR105))","v":""},{"$f":"AVERAGEA('Transmission et conformité'!BS75:BS105)","v":0},{"$f":"IF(ISERROR(AVERAGEA('Transmission et conformité'!BT75:BT105)),\"\",AVERAGEA('Transmission et conformité'!BT75:BT105))","v":""},{"$f":"AVERAGEA('Transmission et conformité'!BU75:BU105)","v":0},{"$f":"IF(ISERROR(AVERAGEA('Transmission et conformité'!BV75:BV105)),\"\",AVERAGEA('Transmission et conformité'!BV75:BV105))","v":""},{"$f":"AVERAGEA('Transmission et conformité'!BW75:BW105)","v":0}]
[null,"Avril",{"$f":"IF(ISERROR(AVERAGEA('Transmission et conformité'!AU106:AU136)),\"\",AVERAGEA('Transmission et conformité'!AU106:AU136))","v":""},{"$f":"IF(ISERROR(AVERAGEA('Transmission et conformité'!AV106:AV136)),\"\",AVERAGEA('Transmission et conformité'!AV106:AV136))","v":""},{"$f":"IF(ISERROR(GEOMEAN('Transmission et conformité'!AY106:AY136)),\"\",GEOMEAN('Transmission et conformité'!AY106:AY136))","v":""},{"$f":"IF(ISERROR(AVERAGEA('Transmission et conformité'!AZ106:AZ136)),\"\",AVERAGEA('Transmission et conformité'!AZ106:AZ136))","v":""},{"$f":"AVERAGEA('Transmission et conformité'!BA106:BA136)","v":0},{"$f":"IF(ISERROR(AVERAGEA('Transmission et conformité'!BB106:BB136)),\"\",AVERAGEA('Transmission et conformité'!BB106:BB136))","v":""},{"$f":"AVERAGEA('Transmission et conformité'!BC106:BC136)","v":0},{"$f":"IF(ISERROR(AVERAGEA('Transmission et conformité'!BD106:BD136)),\"\",AVERAGEA('Transmission et conformité'!BD106:BD136))","v":""},{"$f":"AVERAGEA('Transmission et conformité'!BE106:BE136)","v":0},{"$f":"IF(ISERROR(AVERAGEA('Transmission et conformité'!BF106:BF136)),\"\",AVERAGEA('Transmission et conformité'!BF106:BF136))","v":""},{"$f":"AVERAGEA('Transmission et conformité'!BG106:BG136)","v":0},{"$f":"IF(ISERROR(AVERAGEA('Transmission et conformité'!BH106:BH136)),\"\",AVERAGEA('Transmission et conformité'!BH106:BH136))","v":""},{"$f":"AVERAGEA('Transmission et conformité'!BI106:BI136)","v":0},{"$f":"IF(ISERROR(AVERAGEA('Transmission et conformité'!BJ106:BJ136)),\"\",AVERAGEA('Transmission et conformité'!BJ106:BJ136))","v":""},{"$f":"AVERAGEA('Transmission et conformité'!BK106:BK136)","v":0},{"$f":"IF(ISERROR(AVERAGEA('Transmission et conformité'!BL106:BL136)),\"\",AVERAGEA('Transmission et conformité'!BL106:BL136))","v":""},{"$f":"AVERAGEA('Transmission et conformité'!BM106:BM136)","v":0},{"$f":"IF(ISERROR(AVERAGEA('Transmission et conformité'!BN106:BN136)),\"\",AVERAGEA('Transmission et conformité'!BN106:BN136))","v":""},{"$f":"AVERAGEA('Transmission et conformité'!BO106:BO136)","v":0},{"$f":"IF(ISERROR(AVERAGEA('Transmission et conformité'!BP106:BP136)),\"\",AVERAGEA('Transmission et conformité'!BP106:BP136))","v":""},{"$f":"AVERAGEA('Transmission et conformité'!BQ106:BQ136)","v":0},{"$f":"IF(ISERROR(AVERAGEA('Transmission et conformité'!BR106:BR136)),\"\",AVERAGEA('Transmission et conformité'!BR106:BR136))","v":""},{"$f":"AVERAGEA('Transmission et conformité'!BS106:BS136)","v":0},{"$f":"IF(ISERROR(AVERAGEA('Transmission et conformité'!BT106:BT136)),\"\",AVERAGEA('Transmission et conformité'!BT106:BT136))","v":""},{"$f":"AVERAGEA('Transmission et conformité'!BU106:BU136)","v":0},{"$f":"IF(ISERROR(AVERAGEA('Transmission et conformité'!BV106:BV136)),\"\",AVERAGEA('Transmission et conformité'!BV106:BV136))","v":""},{"$f":"AVERAGEA('Transmission et conformité'!BW106:BW136)","v":0}]
[null,"Mai",{"$f":"IF(ISERROR(AVERAGEA('Transmission et conformité'!AU137:AU167)),\"\",AVERAGEA('Transmission et conformité'!AU137:AU167))","v":""},{"$f":"IF(ISERROR(AVERAGEA('Transmission et conformité'!AV137:AV167)),\"\",AVERAGEA('Transmission et conformité'!AV137:AV167))","v":""},{"$f":"IF(ISERROR(GEOMEAN('Transmission et conformité'!AY137:AY167)),\"\",GEOMEAN('Transmission et conformité'!AY137:AY167))","v":""},{"$f":"IF(ISERROR(AVERAGEA('Transmission et conformité'!AZ137:AZ167)),\"\",AVERAGEA('Transmission et conformité'!AZ137:AZ167))","v":""},{"$f":"AVERAGEA('Transmission et conformité'!BA137:BA167)","v":0},{"$f":"IF(ISERROR(AVERAGEA('Transmission et conformité'!BB137:BB167)),\"\",AVERAGEA('Transmission et conformité'!BB137:BB167))","v":""},{"$f":"AVERAGEA('Transmission et conformité'!BC137:BC167)","v":0},{"$f":"IF(ISERROR(AVERAGEA('Transmission et conformité'!BD137:BD167)),\"\",AVERAGEA('Transmission et conformité'!BD137:BD167))","v":""},{"$f":"AVERAGEA('Transmission et conformité'!BE137:BE167)","v":0},{"$f":"IF(ISERROR(AVERAGEA('Transmission et conformité'!BF137:BF167)),\"\",AVERAGEA('Transmission et conformité'!BF137:BF167))","v":""},{"$f":"AVERAGEA('Transmission et conformité'!BG137:BG167)","v":0},{"$f":"IF(ISERROR(AVERAGEA('Transmission et conformité'!BH137:BH167)),\"\",AVERAGEA('Transmission et conformité'!BH137:BH167))","v":""},{"$f":"AVERAGEA('Transmission et conformité'!BI137:BI167)","v":0},{"$f":"IF(ISERROR(AVERAGEA('Transmission et conformité'!BJ137:BJ167)),\"\",AVERAGEA('Transmission et conformité'!BJ137:BJ167))","v":""},{"$f":"AVERAGEA('Transmission et conformité'!BK137:BK167)","v":0},{"$f":"IF(ISERROR(AVERAGEA('Transmission et conformité'!BL137:BL167)),\"\",AVERAGEA('Transmission et conformité'!BL137:BL167))","v":""},{"$f":"AVERAGEA('Transmission et conformité'!BM137:BM167)","v":0},{"$f":"IF(ISERROR(AVERAGEA('Transmission et conformité'!BN137:BN167)),\"\",AVERAGEA('Transmission et conformité'!BN137:BN167))","v":""},{"$f":"AVERAGEA('Transmission et conformité'!BO137:BO167)","v":0},{"$f":"IF(ISERROR(AVERAGEA('Transmission et conformité'!BP137:BP167)),\"\",AVERAGEA('Transmission et conformité'!BP137:BP167))","v":""},{"$f":"AVERAGEA('Transmission et conformité'!BQ137:BQ167)","v":0},{"$f":"IF(ISERROR(AVERAGEA('Transmission et conformité'!BR137:BR167)),\"\",AVERAGEA('Transmission et conformité'!BR137:BR167))","v":""},{"$f":"AVERAGEA('Transmission et conformité'!BS137:BS167)","v":0},{"$f":"IF(ISERROR(AVERAGEA('Transmission et conformité'!BT137:BT167)),\"\",AVERAGEA('Transmission et conformité'!BT137:BT167))","v":""},{"$f":"AVERAGEA('Transmission et conformité'!BU137:BU167)","v":0},{"$f":"IF(ISERROR(AVERAGEA('Transmission et conformité'!BV137:BV167)),\"\",AVERAGEA('Transmission et conformité'!BV137:BV167))","v":""},{"$f":"AVERAGEA('Transmission et conformité'!BW137:BW167)","v":0}]
[null,"Juin",{"$f":"IF(ISERROR(AVERAGEA('Transmission et conformité'!AU168:AU198)),\"\",AVERAGEA('Transmission et conformité'!AU168:AU198))","v":""},{"$f":"IF(ISERROR(AVERAGEA('Transmission et conformité'!AV168:AV198)),\"\",AVERAGEA('Transmission et conformité'!AV168:AV198))","v":""},{"$f":"IF(ISERROR(GEOMEAN('Transmission et conformité'!AY168:AY198)),\"\",GEOMEAN('Transmission et conformité'!AY168:AY198))","v":""},{"$f":"IF(ISERROR(AVERAGEA('Transmission et conformité'!AZ168:AZ198)),\"\",AVERAGEA('Transmission et conformité'!AZ168:AZ198))","v":""},{"$f":"AVERAGEA('Transmission et conformité'!BA168:BA198)","v":0},{"$f":"IF(ISERROR(AVERAGEA('Transmission et conformité'!BB168:BB198)),\"\",AVERAGEA('Transmission et conformité'!BB168:BB198))","v":""},{"$f":"AVERAGEA('Transmission et conformité'!BC168:BC198)","v":0},{"$f":"IF(ISERROR(AVERAGEA('Transmission et conformité'!BD168:BD198)),\"\",AVERAGEA('Transmission et conformité'!BD168:BD198))","v":""},{"$f":"AVERAGEA('Transmission et conformité'!BE168:BE198)","v":0},{"$f":"IF(ISERROR(AVERAGEA('Transmission et conformité'!BF168:BF198)),\"\",AVERAGEA('Transmission et conformité'!BF168:BF198))","v":""},{"$f":"AVERAGEA('Transmission et conformité'!BG168:BG198)","v":0},{"$f":"IF(ISERROR(AVERAGEA('Transmission et conformité'!BH168:BH198)),\"\",AVERAGEA('Transmission et conformité'!BH168:BH198))","v":""},{"$f":"AVERAGEA('Transmission et conformité'!BI168:BI198)","v":0},{"$f":"IF(ISERROR(AVERAGEA('Transmission et conformité'!BJ168:BJ198)),\"\",AVERAGEA('Transmission et conformité'!BJ168:BJ198))","v":""},{"$f":"AVERAGEA('Transmission et conformité'!BK168:BK198)","v":0},{"$f":"IF(ISERROR(AVERAGEA('Transmission et conformité'!BL168:BL198)),\"\",AVERAGEA('Transmission et conformité'!BL168:BL198))","v":""},{"$f":"AVERAGEA('Transmission et conformité'!BM168:BM198)","v":0},{"$f":"IF(ISERROR(AVERAGEA('Transmission et conformité'!BN168:BN198)),\"\",AVERAGEA('Transmission et conformité'!BN168:BN198))","v":""},{"$f":"AVERAGEA('Transmission et conformité'!BO168:BO198)","v":0},{"$f":"IF(ISERROR(AVERAGEA('Transmission et conformité'!BP168:BP198)),\"\",AVERAGEA('Transmission et conformité'!BP168:BP198))","v":""},{"$f":"AVERAGEA('Transmission et conformité'!BQ168:BQ198)","v":0},{"$f":"IF(ISERROR(AVERAGEA('Transmission et conformité'!BR168:BR198)),\"\",AVERAGEA('Transmission et conformité'!BR168:BR198))","v":""},{"$f":"AVERAGEA('Transmission et conformité'!BS168:BS198)","v":0},{"$f":"IF(ISERROR(AVERAGEA('Transmission et conformité'!BT168:BT198)),\"\",AVERAGEA('Transmission et conformité'!BT168:BT198))","v":""},{"$f":"AVERAGEA('Transmission et conformité'!BU168:BU198)","v":0},{"$f":"IF(ISERROR(AVERAGEA('Transmission et conformité'!BV168:BV198)),\"\",AVERAGEA('Transmission et conformité'!BV168:BV198))","v":""},{"$f":"AVERAGEA('Transmission et conformité'!BW168:BW198)","v":0}]
[null,"Juillet",{"$f":"IF(ISERROR(AVERAGEA('Transmission et conformité'!AU199:AU229)),\"\",AVERAGEA('Transmission et conformité'!AU199:AU229))","v":""},{"$f":"IF(ISERROR(AVERAGEA('Transmission et conformité'!AV199:AV229)),\"\",AVERAGEA('Transmission et conformité'!AV199:AV229))","v":""},{"$f":"IF(ISERROR(GEOMEAN('Transmission et conformité'!AY199:AY229)),\"\",GEOMEAN('Transmission et conformité'!AY199:AY229))","v":""},{"$f":"IF(ISERROR(AVERAGEA('Transmission et conformité'!AZ199:AZ229)),\"\",AVERAGEA('Transmission et conformité'!AZ199:AZ229))","v":""},{"$f":"AVERAGEA('Transmission et conformité'!BA199:BA229)","v":0},{"$f":"IF(ISERROR(AVERAGEA('Transmission et conformité'!BB199:BB229)),\"\",AVERAGEA('Transmission et conformité'!BB199:BB229))","v":""},{"$f":"AVERAGEA('Transmission et conformité'!BC199:BC229)","v":0},{"$f":"IF(ISERROR(AVERAGEA('Transmission et conformité'!BD199:BD229)),\"\",AVERAGEA('Transmission et conformité'!BD199:BD229))","v":""},{"$f":"AVERAGEA('Transmission et conformité'!BE199:BE229)","v":0},{"$f":"IF(ISERROR(AVERAGEA('Transmission et conformité'!BF199:BF229)),\"\",AVERAGEA('Transmission et conformité'!BF199:BF229))","v":""},{"$f":"AVERAGEA('Transmission et conformité'!BG199:BG229)","v":0},{"$f":"IF(ISERROR(AVERAGEA('Transmission et conformité'!BH199:BH229)),\"\",AVERAGEA('Transmission et conformité'!BH199:BH229))","v":""},{"$f":"AVERAGEA('Transmission et conformité'!BI199:BI229)","v":0},{"$f":"IF(ISERROR(AVERAGEA('Transmission et conformité'!BJ199:BJ229)),\"\",AVERAGEA('Transmission et conformité'!BJ199:BJ229))","v":""},{"$f":"AVERAGEA('Transmission et conformité'!BK199:BK229)","v":0},{"$f":"IF(ISERROR(AVERAGEA('Transmission et conformité'!BL199:BL229)),\"\",AVERAGEA('Transmission et conformité'!BL199:BL229))","v":""},{"$f":"AVERAGEA('Transmission et conformité'!BM199:BM229)","v":0},{"$f":"IF(ISERROR(AVERAGEA('Transmission et conformité'!BN199:BN229)),\"\",AVERAGEA('Transmission et conformité'!BN199:BN229))","v":""},{"$f":"AVERAGEA('Transmission et conformité'!BO199:BO229)","v":0},{"$f":"IF(ISERROR(AVERAGEA('Transmission et conformité'!BP199:BP229)),\"\",AVERAGEA('Transmission et conformité'!BP199:BP229))","v":""},{"$f":"AVERAGEA('Transmission et conformité'!BQ199:BQ229)","v":0},{"$f":"IF(ISERROR(AVERAGEA('Transmission et conformité'!BR199:BR229)),\"\",AVERAGEA('Transmission et conformité'!BR199:BR229))","v":""},{"$f":"AVERAGEA('Transmission et conformité'!BS199:BS229)","v":0},{"$f":"IF(ISERROR(AVERAGEA('Transmission et conformité'!BT199:BT229)),\"\",AVERAGEA('Transmission et conformité'!BT199:BT229))","v":""},{"$f":"AVERAGEA('Transmission et conformité'!BU199:BU229)","v":0},{"$f":"IF(ISERROR(AVERAGEA('Transmission et conformité'!BV199:BV229)),\"\",AVERAGEA('Transmission et conformité'!BV199:BV229))","v":""},{"$f":"AVERAGEA('Transmission et conformité'!BW199:BW229)","v":0}]
[null,"Août",{"$f":"IF(ISERROR(AVERAGEA('Transmission et conformité'!AU230:AU260)),\"\",AVERAGEA('Transmission et conformité'!AU230:AU260))","v":""},{"$f":"IF(ISERROR(AVERAGEA('Transmission et conformité'!AV230:AV260)),\"\",AVERAGEA('Transmission et conformité'!AV230:AV260))","v":""},{"$f":"IF(ISERROR(GEOMEAN('Transmission et conformité'!AY230:AY260)),\"\",GEOMEAN('Transmission et conformité'!AY230:AY260))","v":""},{"$f":"IF(ISERROR(AVERAGEA('Transmission et conformité'!AZ230:AZ260)),\"\",AVERAGEA('Transmission et conformité'!AZ230:AZ260))","v":""},{"$f":"AVERAGEA('Transmission et conformité'!BA230:BA260)","v":0},{"$f":"IF(ISERROR(AVERAGEA('Transmission et conformité'!BB230:BB260)),\"\",AVERAGEA('Transmission et conformité'!BB230:BB260))","v":""},{"$f":"AVERAGEA('Transmission et conformité'!BC230:BC260)","v":0},{"$f":"IF(ISERROR(AVERAGEA('Transmission et conformité'!BD230:BD260)),\"\",AVERAGEA('Transmission et conformité'!BD230:BD260))","v":""},{"$f":"AVERAGEA('Transmission et conformité'!BE230:BE260)","v":0},{"$f":"IF(ISERROR(AVERAGEA('Transmission et conformité'!BF230:BF260)),\"\",AVERAGEA('Transmission et conformité'!BF230:BF260))","v":""},{"$f":"AVERAGEA('Transmission et conformité'!BG230:BG260)","v":0},{"$f":"IF(ISERROR(AVERAGEA('Transmission et conformité'!BH230:BH260)),\"\",AVERAGEA('Transmission et conformité'!BH230:BH260))","v":""},{"$f":"AVERAGEA('Transmission et conformité'!BI230:BI260)","v":0},{"$f":"IF(ISERROR(AVERAGEA('Transmission et conformité'!BJ230:BJ260)),\"\",AVERAGEA('Transmission et conformité'!BJ230:BJ260))","v":""},{"$f":"AVERAGEA('Transmission et conformité'!BK230:BK260)","v":0},{"$f":"IF(ISERROR(AVERAGEA('Transmission et conformité'!BL230:BL260)),\"\",AVERAGEA('Transmission et conformité'!BL230:BL260))","v":""},{"$f":"AVERAGEA('Transmission et conformité'!BM230:BM260)","v":0},{"$f":"IF(ISERROR(AVERAGEA('Transmission et conformité'!BN230:BN260)),\"\",AVERAGEA('Transmission et conformité'!BN230:BN260))","v":""},{"$f":"AVERAGEA('Transmission et conformité'!BO230:BO260)","v":0},{"$f":"IF(ISERROR(AVERAGEA('Transmission et conformité'!BP230:BP260)),\"\",AVERAGEA('Transmission et conformité'!BP230:BP260))","v":""},{"$f":"AVERAGEA('Transmission et conformité'!BQ230:BQ260)","v":0},{"$f":"IF(ISERROR(AVERAGEA('Transmission et conformité'!BR230:BR260)),\"\",AVERAGEA('Transmission et conformité'!BR230:BR260))","v":""},{"$f":"AVERAGEA('Transmission et conformité'!BS230:BS260)","v":0},{"$f":"IF(ISERROR(AVERAGEA('Transmission et conformité'!BT230:BT260)),\"\",AVERAGEA('Transmission et conformité'!BT230:BT260))","v":""},{"$f":"AVERAGEA('Transmission et conformité'!BU230:BU260)","v":0},{"$f":"IF(ISERROR(AVERAGEA('Transmission et conformité'!BV230:BV260)),\"\",AVERAGEA('Transmission et conformité'!BV230:BV260))","v":""},{"$f":"AVERAGEA('Transmission et conformité'!BW230:BW260)","v":0}]
[null,"Septembre",{"$f":"IF(ISERROR(AVERAGEA('Transmission et conformité'!AU261:AU291)),\"\",AVERAGEA('Transmission et conformité'!AU261:AU291))","v":""},{"$f":"IF(ISERROR(AVERAGEA('Transmission et conformité'!AV261:AV291)),\"\",AVERAGEA('Transmission et conformité'!AV261:AV291))","v":""},{"$f":"IF(ISERROR(GEOMEAN('Transmission et conformité'!AY261:AY291)),\"\",GEOMEAN('Transmission et conformité'!AY261:AY291))","v":""},{"$f":"IF(ISERROR(AVERAGEA('Transmission et conformité'!AZ261:AZ291)),\"\",AVERAGEA('Transmission et conformité'!AZ261:AZ291))","v":""},{"$f":"AVERAGEA('Transmission et conformité'!BA261:BA291)","v":0},{"$f":"IF(ISERROR(AVERAGEA('Transmission et conformité'!BB261:BB291)),\"\",AVERAGEA('Transmission et conformité'!BB261:BB291))","v":""},{"$f":"AVERAGEA('Transmission et conformité'!BC261:BC291)","v":0},{"$f":"IF(ISERROR(AVERAGEA('Transmission et conformité'!BD261:BD291)),\"\",AVERAGEA('Transmission et conformité'!BD261:BD291))","v":""},{"$f":"AVERAGEA('Transmission et conformité'!BE261:BE291)","v":0},{"$f":"IF(ISERROR(AVERAGEA('Transmission et conformité'!BF261:BF291)),\"\",AVERAGEA('Transmission et conformité'!BF261:BF291))","v":""},{"$f":"AVERAGEA('Transmission et conformité'!BG261:BG291)","v":0},{"$f":"IF(ISERROR(AVERAGEA('Transmission et conformité'!BH261:BH291)),\"\",AVERAGEA('Transmission et conformité'!BH261:BH291))","v":""},{"$f":"AVERAGEA('Transmission et conformité'!BI261:BI291)","v":0},{"$f":"IF(ISERROR(AVERAGEA('Transmission et conformité'!BJ261:BJ291)),\"\",AVERAGEA('Transmission et conformité'!BJ261:BJ291))","v":""},{"$f":"AVERAGEA('Transmission et conformité'!BK261:BK291)","v":0},{"$f":"IF(ISERROR(AVERAGEA('Transmission et conformité'!BL261:BL291)),\"\",AVERAGEA('Transmission et conformité'!BL261:BL291))","v":""},{"$f":"AVERAGEA('Transmission et conformité'!BM261:BM291)","v":0},{"$f":"IF(ISERROR(AVERAGEA('Transmission et conformité'!BN261:BN291)),\"\",AVERAGEA('Transmission et conformité'!BN261:BN291))","v":""},{"$f":"AVERAGEA('Transmission et conformité'!BO261:BO291)","v":0},{"$f":"IF(ISERROR(AVERAGEA('Transmission et conformité'!BP261:BP291)),\"\",AVERAGEA('Transmission et conformité'!BP261:BP291))","v":""},{"$f":"AVERAGEA('Transmission et conformité'!BQ261:BQ291)","v":0},{"$f":"IF(ISERROR(AVERAGEA('Transmission et conformité'!BR261:BR291)),\"\",AVERAGEA('Transmission et conformité'!BR261:BR291))","v":""},{"$f":"AVERAGEA('Transmission et conformité'!BS261:BS291)","v":0},{"$f":"IF(ISERROR(AVERAGEA('Transmission et conformité'!BT261:BT291)),\"\",AVERAGEA('Transmission et conformité'!BT261:BT291))","v":""},{"$f":"AVERAGEA('Transmission et conformité'!BU261:BU291)","v":0},{"$f":"IF(ISERROR(AVERAGEA('Transmission et conformité'!BV261:BV291)),\"\",AVERAGEA('Transmission et conformité'!BV261:BV291))","v":""},{"$f":"AVERAGEA('Transmission et conformité'!BW261:BW291)","v":0}]
[null,"Octobre",{"$f":"IF(ISERROR(AVERAGEA('Transmission et conformité'!AU292:AU322)),\"\",AVERAGEA('Transmission et conformité'!AU292:AU322))","v":""},{"$f":"IF(ISERROR(AVERAGEA('Transmission et conformité'!AV292:AV322)),\"\",AVERAGEA('Transmission et conformité'!AV292:AV322))","v":""},{"$f":"IF(ISERROR(GEOMEAN('Transmission et conformité'!AY292:AY322)),\"\",GEOMEAN('Transmission et conformité'!AY292:AY322))","v":""},{"$f":"IF(ISERROR(AVERAGEA('Transmission et conformité'!AZ292:AZ322)),\"\",AVERAGEA('Transmission et conformité'!AZ292:AZ322))","v":""},{"$f":"AVERAGEA('Transmission et conformité'!BA292:BA322)","v":0},{"$f":"IF(ISERROR(AVERAGEA('Transmission et conformité'!BB292:BB322)),\"\",AVERAGEA('Transmission et conformité'!BB292:BB322))","v":""},{"$f":"AVERAGEA('Transmission et conformité'!BC292:BC322)","v":0},{"$f":"IF(ISERROR(AVERAGEA('Transmission et conformité'!BD292:BD322)),\"\",AVERAGEA('Transmission et conformité'!BD292:BD322))","v":""},{"$f":"AVERAGEA('Transmission et conformité'!BE292:BE322)","v":0},{"$f":"IF(ISERROR(AVERAGEA('Transmission et conformité'!BF292:BF322)),\"\",AVERAGEA('Transmission et conformité'!BF292:BF322))","v":""},{"$f":"AVERAGEA('Transmission et conformité'!BG292:BG322)","v":0},{"$f":"IF(ISERROR(AVERAGEA('Transmission et conformité'!BH292:BH322)),\"\",AVERAGEA('Transmission et conformité'!BH292:BH322))","v":""},{"$f":"AVERAGEA('Transmission et conformité'!BI292:BI322)","v":0},{"$f":"IF(ISERROR(AVERAGEA('Transmission et conformité'!BJ292:BJ322)),\"\",AVERAGEA('Transmission et conformité'!BJ292:BJ322))","v":""},{"$f":"AVERAGEA('Transmission et conformité'!BK292:BK322)","v":0},{"$f":"IF(ISERROR(AVERAGEA('Transmission et conformité'!BL292:BL322)),\"\",AVERAGEA('Transmission et conformité'!BL292:BL322))","v":""},{"$f":"AVERAGEA('Transmission et conformité'!BM292:BM322)","v":0},{"$f":"IF(ISERROR(AVERAGEA('Transmission et conformité'!BN292:BN322)),\"\",AVERAGEA('Transmission et conformité'!BN292:BN322))","v":""},{"$f":"AVERAGEA('Transmission et conformité'!BO292:BO322)","v":0},{"$f":"IF(ISERROR(AVERAGEA('Transmission et conformité'!BP292:BP322)),\"\",AVERAGEA('Transmission et conformité'!BP292:BP322))","v":""},{"$f":"AVERAGEA('Transmission et conformité'!BQ292:BQ322)","v":0},{"$f":"IF(ISERROR(AVERAGEA('Transmission et conformité'!BR292:BR322)),\"\",AVERAGEA('Transmission et conformité'!BR292:BR322))","v":""},{"$f":"AVERAGEA('Transmission et conformité'!BS292:BS322)","v":0},{"$f":"IF(ISERROR(AVERAGEA('Transmission et conformité'!BT292:BT322)),\"\",AVERAGEA('Transmission et conformité'!BT292:BT322))","v":""},{"$f":"AVERAGEA('Transmission et conformité'!BU292:BU322)","v":0},{"$f":"IF(ISERROR(AVERAGEA('Transmission et conformité'!BV292:BV322)),\"\",AVERAGEA('Transmission et conformité'!BV292:BV322))","v":""},{"$f":"AVERAGEA('Transmission et conformité'!BW292:BW322)","v":0}]
[null,"Novembre",{"$f":"IF(ISERROR(AVERAGEA('Transmission et conformité'!AU323:AU353)),\"\",AVERAGEA('Transmission et conformité'!AU323:AU353))","v":""},{"$f":"IF(ISERROR(AVERAGEA('Transmission et conformité'!AV323:AV353)),\"\",AVERAGEA('Transmission et conformité'!AV323:AV353))","v":""},{"$f":"IF(ISERROR(GEOMEAN('Transmission et conformité'!AY323:AY353)),\"\",GEOMEAN('Transmission et conformité'!AY323:AY353))","v":""},{"$f":"IF(ISERROR(AVERAGEA('Transmission et conformité'!AZ323:AZ353)),\"\",AVERAGEA('Transmission et conformité'!AZ323:AZ353))","v":""},{"$f":"AVERAGEA('Transmission et conformité'!BA323:BA353)","v":0},{"$f":"IF(ISERROR(AVERAGEA('Transmission et conformité'!BB323:BB353)),\"\",AVERAGEA('Transmission et conformité'!BB323:BB353))","v":""},{"$f":"AVERAGEA('Transmission et conformité'!BC323:BC353)","v":0},{"$f":"IF(ISERROR(AVERAGEA('Transmission et conformité'!BD323:BD353)),\"\",AVERAGEA('Transmission et conformité'!BD323:BD353))","v":""},{"$f":"AVERAGEA('Transmission et conformité'!BE323:BE353)","v":0},{"$f":"IF(ISERROR(AVERAGEA('Transmission et conformité'!BF323:BF353)),\"\",AVERAGEA('Transmission et conformité'!BF323:BF353))","v":""},{"$f":"AVERAGEA('Transmission et conformité'!BG323:BG353)","v":0},{"$f":"IF(ISERROR(AVERAGEA('Transmission et conformité'!BH323:BH353)),\"\",AVERAGEA('Transmission et conformité'!BH323:BH353))","v":""},{"$f":"AVERAGEA('Transmission et conformité'!BI323:BI353)","v":0},{"$f":"IF(ISERROR(AVERAGEA('Transmission et conformité'!BJ323:BJ353)),\"\",AVERAGEA('Transmission et conformité'!BJ323:BJ353))","v":""},{"$f":"AVERAGEA('Transmission et conformité'!BK323:BK353)","v":0},{"$f":"IF(ISERROR(AVERAGEA('Transmission et conformité'!BL323:BL353)),\"\",AVERAGEA('Transmission et conformité'!BL323:BL353))","v":""},{"$f":"AVERAGEA('Transmission et conformité'!BM323:BM353)","v":0},{"$f":"IF(ISERROR(AVERAGEA('Transmission et conformité'!BN323:BN353)),\"\",AVERAGEA('Transmission et conformité'!BN323:BN353))","v":""},{"$f":"AVERAGEA('Transmission et conformité'!BO323:BO353)","v":0},{"$f":"IF(ISERROR(AVERAGEA('Transmission et conformité'!BP323:BP353)),\"\",AVERAGEA('Transmission et conformité'!BP323:BP353))","v":""},{"$f":"AVERAGEA('Transmission et conformité'!BQ323:BQ353)","v":0},{"$f":"IF(ISERROR(AVERAGEA('Transmission et conformité'!BR323:BR353)),\"\",AVERAGEA('Transmission et conformité'!BR323:BR353))","v":""},{"$f":"AVERAGEA('Transmission et conformité'!BS323:BS353)","v":0},{"$f":"IF(ISERROR(AVERAGEA('Transmission et conformité'!BT323:BT353)),\"\",AVERAGEA('Transmission et conformité'!BT323:BT353))","v":""},{"$f":"AVERAGEA('Transmission et conformité'!BU323:BU353)","v":0},{"$f":"IF(ISERROR(AVERAGEA('Transmission et conformité'!BV323:BV353)),\"\",AVERAGEA('Transmission et conformité'!BV323:BV353))","v":""},{"$f":"AVERAGEA('Transmission et conformité'!BW323:BW353)","v":0}]
[null,"Décembre",{"$f":"IF(ISERROR(AVERAGEA('Transmission et conformité'!AU354:AU384)),\"\",AVERAGEA('Transmission et conformité'!AU354:AU384))","v":""},{"$f":"IF(ISERROR(AVERAGEA('Transmission et conformité'!AV354:AV384)),\"\",AVERAGEA('Transmission et conformité'!AV354:AV384))","v":""},{"$f":"IF(ISERROR(GEOMEAN('Transmission et conformité'!AY354:AY384)),\"\",GEOMEAN('Transmission et conformité'!AY354:AY384))","v":""},{"$f":"IF(ISERROR(AVERAGEA('Transmission et conformité'!AZ354:AZ384)),\"\",AVERAGEA('Transmission et conformité'!AZ354:AZ384))","v":""},{"$f":"AVERAGEA('Transmission et conformité'!BA354:BA384)","v":0},{"$f":"IF(ISERROR(AVERAGEA('Transmission et conformité'!BB354:BB384)),\"\",AVERAGEA('Transmission et conformité'!BB354:BB384))","v":""},{"$f":"AVERAGEA('Transmission et conformité'!BC354:BC384)","v":0},{"$f":"IF(ISERROR(AVERAGEA('Transmission et conformité'!BD354:BD384)),\"\",AVERAGEA('Transmission et conformité'!BD354:BD384))","v":""},{"$f":"AVERAGEA('Transmission et conformité'!BE354:BE384)","v":0},{"$f":"IF(ISERROR(AVERAGEA('Transmission et conformité'!BF354:BF384)),\"\",AVERAGEA('Transmission et conformité'!BF354:BF384))","v":""},{"$f":"AVERAGEA('Transmission et conformité'!BG354:BG384)","v":0},{"$f":"IF(ISERROR(AVERAGEA('Transmission et conformité'!BH354:BH384)),\"\",AVERAGEA('Transmission et conformité'!BH354:BH384))","v":""},{"$f":"AVERAGEA('Transmission et conformité'!BI354:BI384)","v":0},{"$f":"IF(ISERROR(AVERAGEA('Transmission et conformité'!BJ354:BJ384)),\"\",AVERAGEA('Transmission et conformité'!BJ354:BJ384))","v":""},{"$f":"AVERAGEA('Transmission et conformité'!BK354:BK384)","v":0},{"$f":"IF(ISERROR(AVERAGEA('Transmission et conformité'!BL354:BL384)),\"\",AVERAGEA('Transmission et conformité'!BL354:BL384))","v":""},{"$f":"AVERAGEA('Transmission et conformité'!BM354:BM384)","v":0},{"$f":"IF(ISERROR(AVERAGEA('Transmission et conformité'!BN354:BN384)),\"\",AVERAGEA('Transmission et conformité'!BN354:BN384))","v":""},{"$f":"AVERAGEA('Transmission et conformité'!BO354:BO384)","v":0},{"$f":"IF(ISERROR(AVERAGEA('Transmission et conformité'!BP354:BP384)),\"\",AVERAGEA('Transmission et conformité'!BP354:BP384))","v":""},{"$f":"AVERAGEA('Transmission et conformité'!BQ354:BQ384)","v":0},{"$f":"IF(ISERROR(AVERAGEA('Transmission et conformité'!BR354:BR384)),\"\",AVERAGEA('Transmission et conformité'!BR354:BR384))","v":""},{"$f":"AVERAGEA('Transmission et conformité'!BS354:BS384)","v":0},{"$f":"IF(ISERROR(AVERAGEA('Transmission et conformité'!BT354:BT384)),\"\",AVERAGEA('Transmission et conformité'!BT354:BT384))","v":""},{"$f":"AVERAGEA('Transmission et conformité'!BU354:BU384)","v":0},{"$f":"IF(ISERROR(AVERAGEA('Transmission et conformité'!BV354:BV384)),\"\",AVERAGEA('Transmission et conformité'!BV354:BV384))","v":""},{"$f":"AVERAGEA('Transmission et conformité'!BW354:BW384)","v":0}]
[null,"Commentaires :"]
[]
[]
[]
[]
[]
[null,"Suivi des eaux usées"]
[null,"Nom :",{"$f":"IF(ISBLANK(Profil!$B$6),\"---\",Profil!$B$6)","v":"---"},null,"Point de suivi no 3",null,null,null,null,{"$f":"IF(ISBLANK(Profil!S19),\"---\",Profil!S19)","v":"---"}]
[null,null,null,null,{"$f":"IF(ISBLANK(Profil!S20),\"---\",Profil!S20)","v":"---"}]
[]
[null,"Conformité moyenne mensuelle"]
[]
[null,"Mois",{"$f":"IF(ISBLANK(Profil!$A$25),\"---\",Profil!$A$25)","v":"Débit"},{"$f":"IF(ISBLANK(Profil!$A$27),\"---\",Profil!$A$27)","v":"Volume"},{"$f":"IF(ISBLANK(Profil!$A$31),\"---\",Profil!$A$31)","v":"Coliformes fécaux"},{"$f":"IF(ISBLANK(Profil!$A$33),\"---\",Profil!$A$33)","v":"---"},null,{"$f":"IF(ISBLANK(Profil!$A$35),\"---\",Profil!$A$35)","v":"---"},{"$f":"IF(ISBLANK(Profil!#REF!),\"---\",Profil!#REF!)","v":{"$error":"#REF!"}},{"$f":"IF(ISBLANK(Profil!$A$37),\"---\",Profil!$A$37)","v":"---"},null,{"$f":"IF(ISBLANK(Profil!$A$39),\"---\",Profil!$A$39)","v":"---"},null,{"$f":"IF(ISBLANK(Profil!$A$41),\"---\",Profil!$A$41)","v":"---"},null,{"$f":"IF(ISBLANK(Profil!$A$43),\"---\",Profil!$A$43)","v":"---"},null,{"$f":"IF(ISBLANK(Profil!$A$45),\"---\",Profil!$A$45)","v":"---"},null,{"$f":"IF(ISBLANK(Profil!$A$47),\"---\",Profil!$A$47)","v":"---"},null,{"$f":"IF(ISBLANK(Profil!$A$49),\"---\",Profil!$A$49)","v":"---"},null,{"$f":"IF(ISBLANK(Profil!$A$51),\"---\",Profil!$A$51)","v":"---"},null,{"$f":"IF(ISBLANK(Profil!$A$53),\"---\",Profil!$A$53)","v":"---"},null,{"$f":"IF(ISBLANK(Profil!$A$55),\"---\",Profil!$A$55)","v":"---"},null,"Commentaires"]
[null,null,{"$f":"IF(ISBLANK(Profil!$S$25),\"---\",Profil!$S$25)","v":"---"},{"$f":"IF(ISBLANK(Profil!$S$27),\"---\",Profil!$S$27)","v":"---"},{"$f":"IF(ISBLANK(Profil!$S$31),\"---\",Profil!$S$31)","v":"---"},{"$f":"IF(ISBLANK(Profil!$S$33),\"---\",Profil!$S$33)","v":"---"},"kg/j",{"$f":"IF(ISBLANK(Profil!$S$35),\"---\",Profil!$S$35)","v":"---"},"kg/j",{"$f":"IF(ISBLANK(Profil!$S$37),\"---\",Profil!$S$37)","v":"---"},"kg/j",{"$f":"IF(ISBLANK(Profil!$S$39),\"---\",Profil!$S$39)","v":"---"},"kg/j",{"$f":"IF(ISBLANK(Profil!$S$41),\"---\",Profil!$S$41)","v":"---"},"kg/j",{"$f":"IF(ISBLANK(Profil!$S$43),\"---\",Profil!$S$43)","v":"---"},"kg/j",{"$f":"IF(ISBLANK(Profil!$S$45),\"---\",Profil!$S$45)","v":"---"},"kg/j",{"$f":"IF(ISBLANK(Profil!$S$47),\"---\",Profil!$S$47)","v":"---"},"kg/j",{"$f":"IF(ISBLANK(Profil!$S$49),\"---\",Profil!$S$49)","v":"---"},"kg/j",{"$f":"IF(ISBLANK(Profil!$S$51),\"---\",Profil!$S$51)","v":"---"},"kg/j",{"$f":"IF(ISBLANK(Profil!$S$53),\"---\",Profil!$S$53)","v":"---"},"kg/j",{"$f":"IF(ISBLANK(Profil!$S$55),\"---\",Profil!$S$55)","v":"---"},"kg/j"]
[null,"Normes ►",{"$f":"IF(ISBLANK(Profil!$R$26),\"---\",Profil!$R$26)","v":"---"},{"$f":"IF(ISBLANK(Profil!$R$27),\"---\",Profil!$R$27)","v":"---"},{"$f":"IF(ISBLANK(Profil!$R$32),\"---\",Profil!$R$32)","v":"---"},{"$f":"IF(ISBLANK(Profil!$R$34),\"---\",Profil!$R$34)","v":"---"},{"$f":"IF(ISBLANK(Profil!$T$34),\"---\",Profil!$T$34)","v":"---"},{"$f":"IF(ISBLANK(Profil!$R$36),\"---\",Profil!$R$36)","v":"---"},{"$f":"IF(ISBLANK(Profil!$T$36),\"---\",Profil!$T$36)","v":"---"},{"$f":"IF(ISBLANK(Profil!$R$38),\"---\",Profil!$R$38)","v":"---"},{"$f":"IF(ISBLANK(Profil!$T$38),\"---\",Profil!$T$38)","v":"---"},{"$f":"IF(ISBLANK(Profil!$R$40),\"---\",Profil!$R$40)","v":"---"},{"$f":"IF(ISBLANK(Profil!$T$40),\"---\",Profil!$T$40)","v":"---"},{"$f":"IF(ISBLANK(Profil!$R$42),\"---\",Profil!$R$42)","v":"---"},{"$f":"IF(ISBLANK(Profil!$T$42),\"---\",Profil!$T$42)","v":"---"},{"$f":"IF(ISBLANK(Profil!$R$44),\"---\",Profil!$R$44)","v":"---"},{"$f":"IF(ISBLANK(Profil!$T$44),\"---\",Profil!$T$44)","v":"---"},{"$f":"IF(ISBLANK(Profil!$R$46),\"---\",Profil!$R$46)","v":"---"},{"$f":"IF(ISBLANK(Profil!$T$46),\"---\",Profil!$T$46)","v":"---"},{"$f":"IF(ISBLANK(Profil!$R$48),\"---\",Profil!$R$48)","v":"---"},{"$f":"IF(ISBLANK(Profil!$T$48),\"---\",Profil!$T$48)","v":"---"},{"$f":"IF(ISBLANK(Profil!$R$50),\"---\",Profil!$R$50)","v":"---"},{"$f":"IF(ISBLANK(Profil!$T$50),\"---\",Profil!$T$50)","v":"---"},{"$f":"IF(ISBLANK(Profil!$R$52),\"---\",Profil!$R$52)","v":"---"},{"$f":"IF(ISBLANK(Profil!$T$52),\"---\",Profil!$T$52)","v":"---"},{"$f":"IF(ISBLANK(Profil!$R$54),\"---\",Profil!$R$54)","v":"---"},{"$f":"IF(ISBLANK(Profil!$T$54),\"---\",Profil!$T$54)","v":"---"},{"$f":"IF(ISBLANK(Profil!$R$56),\"---\",Profil!$R$56)","v":"---"},{"$f":"IF(ISBLANK(Profil!$T$56),\"---\",Profil!$T$56)","v":"---"}]
[null,"Janvier",{"$f":"IF(ISERROR(AVERAGEA('Transmission et conformité'!CL15:CL45)),\"\",AVERAGEA('Transmission et conformité'!CL15:CL45))","v":""},{"$f":"IF(ISERROR(AVERAGEA('Transmission et conformité'!CM15:CM45)),\"\",AVERAGEA('Transmission et conformité'!CM15:CM45))","v":""},{"$f":"IF(ISERROR(GEOMEAN('Transmission et conformité'!CO15:CO45)),\"\",GEOMEAN('Transmission et conformité'!CO15:CO45))","v":""},{"$f":"IF(ISERROR(AVERAGEA('Transmission et conformité'!CQ15:CQ45)),\"\",AVERAGEA('Transmission et conformité'!CQ15:CQ45))","v":""},{"$f":"AVERAGEA('Transmission et conformité'!CR15:CR45)","v":0},{"$f":"IF(ISERROR(AVERAGEA('Transmission et conformité'!CS15:CS45)),\"\",AVERAGEA('Transmission et conformité'!CS15:CS45))","v":""},{"$f":"AVERAGEA('Transmission et conformité'!CT15:CT45)","v":0},{"$f":"IF(ISERROR(AVERAGEA('Transmission et conformité'!CU15:CU45)),\"\",AVERAGEA('Transmission et conformité'!CU15:CU45))","v":""},{"$f":"AVERAGEA('Transmission et conformité'!CV15:CV45)","v":0},{"$f":"IF(ISERROR(AVERAGEA('Transmission et conformité'!CW15:CW45)),\"\",AVERAGEA('Transmission et conformité'!CW15:CW45))","v":""},{"$f":"AVERAGEA('Transmission et conformité'!CX15:CX45)","v":0},{"$f":"IF(ISERROR(AVERAGEA('Transmission et conformité'!CY15:CY45)),\"\",AVERAGEA('Transmission et conformité'!CY15:CY45))","v":""},{"$f":"AVERAGEA('Transmission et conformité'!CZ15:CZ45)","v":0},{"$f":"IF(ISERROR(AVERAGEA('Transmission et conformité'!DA15:DA45)),\"\",AVERAGEA('Transmission et conformité'!DA15:DA45))","v":""},{"$f":"AVERAGEA('Transmission et conformité'!DB15:DB45)","v":0},{"$f":"IF(ISERROR(AVERAGEA('Transmission et conformité'!DC15:DC45)),\"\",AVERAGEA('Transmission et conformité'!DC15:DC45))","v":""},{"$f":"AVERAGEA('Transmission et conformité'!DD15:DD45)","v":0},{"$f":"IF(ISERROR(AVERAGEA('Transmission et conformité'!DE15:DE45)),\"\",AVERAGEA('Transmission et conformité'!DE15:DE45))","v":""},{"$f":"AVERAGEA('Transmission et conformité'!DF15:DF45)","v":0},{"$f":"IF(ISERROR(AVERAGEA('Transmission et conformité'!DG15:DG45)),\"\",AVERAGEA('Transmission et conformité'!DG15:DG45))","v":""},{"$f":"AVERAGEA('Transmission et conformité'!DH15:DH45)","v":0},{"$f":"IF(ISERROR(AVERAGEA('Transmission et conformité'!DI15:DI45)),\"\",AVERAGEA('Transmission et conformité'!DI15:DI45))","v":""},{"$f":"AVERAGEA('Transmission et conformité'!DJ15:DJ45)","v":0},{"$f":"IF(ISERROR(AVERAGEA('Transmission et conformité'!DK15:DK45)),\"\",AVERAGEA('Transmission et conformité'!DK15:DK45))","v":""},{"$f":"AVERAGEA('Transmission et conformité'!DL15:DL45)","v":0},{"$f":"IF(ISERROR(AVERAGEA('Transmission et conformité'!DM15:DM45)),\"\",AVERAGEA('Transmission et conformité'!DM15:DM45))","v":""},{"$f":"AVERAGEA('Transmission et conformité'!DN15:DN45)","v":0}]
[null,"Février",{"$f":"IF(ISERROR(AVERAGEA('Transmission et conformité'!CL46:CL74)),\"\",AVERAGEA('Transmission et conformité'!CL46:CL74))","v":""},{"$f":"IF(ISERROR(AVERAGEA('Transmission et conformité'!CM46:CM74)),\"\",AVERAGEA('Transmission et conformité'!CM46:CM74))","v":""},{"$f":"IF(ISERROR(GEOMEAN('Transmission et conformité'!CO46:CO74)),\"\",GEOMEAN('Transmission et conformité'!CO46:CO74))","v":""},{"$f":"IF(ISERROR(AVERAGEA('Transmission et conformité'!CQ46:CQ74)),\"\",AVERAGEA('Transmission et conformité'!CQ46:CQ74))","v":""},{"$f":"AVERAGEA('Transmission et conformité'!CR46:CR74)","v":0},{"$f":"IF(ISERROR(AVERAGEA('Transmission et conformité'!CS46:CS74)),\"\",AVERAGEA('Transmission et conformité'!CS46:CS74))","v":""},{"$f":"AVERAGEA('Transmission et conformité'!CT46:CT74)","v":0},{"$f":"IF(ISERROR(AVERAGEA('Transmission et conformité'!CU46:CU74)),\"\",AVERAGEA('Transmission et conformité'!CU46:CU74))","v":""},{"$f":"AVERAGEA('Transmission et conformité'!CV46:CV74)","v":0},{"$f":"IF(ISERROR(AVERAGEA('Transmission et conformité'!CW46:CW74)),\"\",AVERAGEA('Transmission et conformité'!CW46:CW74))","v":""},{"$f":"AVERAGEA('Transmission et conformité'!CX46:CX74)","v":0},{"$f":"IF(ISERROR(AVERAGEA('Transmission et conformité'!CY46:CY74)),\"\",AVERAGEA('Transmission et conformité'!CY46:CY74))","v":""},{"$f":"AVERAGEA('Transmission et conformité'!CZ46:CZ74)","v":0},{"$f":"IF(ISERROR(AVERAGEA('Transmission et conformité'!DA46:DA74)),\"\",AVERAGEA('Transmission et conformité'!DA46:DA74))","v":""},{"$f":"AVERAGEA('Transmission et conformité'!DB46:DB74)","v":0},{"$f":"IF(ISERROR(AVERAGEA('Transmission et conformité'!DC46:DC74)),\"\",AVERAGEA('Transmission et conformité'!DC46:DC74))","v":""},{"$f":"AVERAGEA('Transmission et conformité'!DD46:DD74)","v":0},{"$f":"IF(ISERROR(AVERAGEA('Transmission et conformité'!DE46:DE74)),\"\",AVERAGEA('Transmission et conformité'!DE46:DE74))","v":""},{"$f":"AVERAGEA('Transmission et conformité'!DF46:DF74)","v":0},{"$f":"IF(ISERROR(AVERAGEA('Transmission et conformité'!DG46:DG74)),\"\",AVERAGEA('Transmission et conformité'!DG46:DG74))","v":""},{"$f":"AVERAGEA('Transmission et conformité'!DH46:DH74)","v":0},{"$f":"IF(ISERROR(AVERAGEA('Transmission et conformité'!DI46:DI74)),\"\",AVERAGEA('Transmission et conformité'!DI46:DI74))","v":""},{"$f":"AVERAGEA('Transmission et conformité'!DJ46:DJ74)","v":0},{"$f":"IF(ISERROR(AVERAGEA('Transmission et conformité'!DK46:DK74)),\"\",AVERAGEA('Transmission et conformité'!DK46:DK74))","v":""},{"$f":"AVERAGEA('Transmission et conformité'!DL46:DL74)","v":0},{"$f":"IF(ISERROR(AVERAGEA('Transmission et conformité'!DM46:DM74)),\"\",AVERAGEA('Transmission et conformité'!DM46:DM74))","v":""},{"$f":"AVERAGEA('Transmission et conformité'!DN46:DN74)","v":0}]
[null,"Mars",{"$f":"IF(ISERROR(AVERAGEA('Transmission et conformité'!CL75:CL105)),\"\",AVERAGEA('Transmission et conformité'!CL75:CL105))","v":""},{"$f":"IF(ISERROR(AVERAGEA('Transmission et conformité'!CM75:CM105)),\"\",AVERAGEA('Transmission et conformité'!CM75:CM105))","v":""},{"$f":"IF(ISERROR(GEOMEAN('Transmission et conformité'!CO75:CO105)),\"\",GEOMEAN('Transmission et conformité'!CO75:CO105))","v":""},{"$f":"IF(ISERROR(AVERAGEA('Transmission et conformité'!CQ75:CQ105)),\"\",AVERAGEA('Transmission et conformité'!CQ75:CQ105))","v":""},{"$f":"AVERAGEA('Transmission et conformité'!CR75:CR105)","v":0},{"$f":"IF(ISERROR(AVERAGEA('Transmission et conformité'!CS75:CS105)),\"\",AVERAGEA('Transmission et conformité'!CS75:CS105))","v":""},{"$f":"AVERAGEA('Transmission et conformité'!CT75:CT105)","v":0},{"$f":"IF(ISERROR(AVERAGEA('Transmission et conformité'!CU75:CU105)),\"\",AVERAGEA('Transmission et conformité'!CU75:CU105))","v":""},{"$f":"AVERAGEA('Transmission et conformité'!CV75:CV105)","v":0},{"$f":"IF(ISERROR(AVERAGEA('Transmission et conformité'!CW75:CW105)),\"\",AVERAGEA('Transmission et conformité'!CW75:CW105))","v":""},{"$f":"AVERAGEA('Transmission et conformité'!CX75:CX105)","v":0},{"$f":"IF(ISERROR(AVERAGEA('Transmission et conformité'!CY75:CY105)),\"\",AVERAGEA('Transmission et conformité'!CY75:CY105))","v":""},{"$f":"AVERAGEA('Transmission et conformité'!CZ75:CZ105)","v":0},{"$f":"IF(ISERROR(AVERAGEA('Transmission et conformité'!DA75:DA105)),\"\",AVERAGEA('Transmission et conformité'!DA75:DA105))","v":""},{"$f":"AVERAGEA('Transmission et conformité'!DB75:DB105)","v":0},{"$f":"IF(ISERROR(AVERAGEA('Transmission et conformité'!DC75:DC105)),\"\",AVERAGEA('Transmission et conformité'!DC75:DC105))","v":""},{"$f":"AVERAGEA('Transmission et conformité'!DD75:DD105)","v":0},{"$f":"IF(ISERROR(AVERAGEA('Transmission et conformité'!DE75:DE105)),\"\",AVERAGEA('Transmission et conformité'!DE75:DE105))","v":""},{"$f":"AVERAGEA('Transmission et conformité'!DF75:DF105)","v":0},{"$f":"IF(ISERROR(AVERAGEA('Transmission et conformité'!DG75:DG105)),\"\",AVERAGEA('Transmission et conformité'!DG75:DG105))","v":""},{"$f":"AVERAGEA('Transmission et conformité'!DH75:DH105)","v":0},{"$f":"IF(ISERROR(AVERAGEA('Transmission et conformité'!DI75:DI105)),\"\",AVERAGEA('Transmission et conformité'!DI75:DI105))","v":""},{"$f":"AVERAGEA('Transmission et conformité'!DJ75:DJ105)","v":0},{"$f":"IF(ISERROR(AVERAGEA('Transmission et conformité'!DK75:DK105)),\"\",AVERAGEA('Transmission et conformité'!DK75:DK105))","v":""},{"$f":"AVERAGEA('Transmission et conformité'!DL75:DL105)","v":0},{"$f":"IF(ISERROR(AVERAGEA('Transmission et conformité'!DM75:DM105)),\"\",AVERAGEA('Transmission et conformité'!DM75:DM105))","v":""},{"$f":"AVERAGEA('Transmission et conformité'!DN75:DN105)","v":0}]
[null,"Avril",{"$f":"IF(ISERROR(AVERAGEA('Transmission et conformité'!CL106:CL136)),\"\",AVERAGEA('Transmission et conformité'!CL106:CL136))","v":""},{"$f":"IF(ISERROR(AVERAGEA('Transmission et conformité'!CM106:CM136)),\"\",AVERAGEA('Transmission et conformité'!CM106:CM136))","v":""},{"$f":"IF(ISERROR(GEOMEAN('Transmission et conformité'!CO106:CO136)),\"\",GEOMEAN('Transmission et conformité'!CO106:CO136))","v":""},{"$f":"IF(ISERROR(AVERAGEA('Transmission et conformité'!CQ106:CQ136)),\"\",AVERAGEA('Transmission et conformité'!CQ106:CQ136))","v":""},{"$f":"AVERAGEA('Transmission et conformité'!CR106:CR136)","v":0},{"$f":"IF(ISERROR(AVERAGEA('Transmission et conformité'!CS106:CS136)),\"\",AVERAGEA('Transmission et conformité'!CS106:CS136))","v":""},{"$f":"AVERAGEA('Transmission et conformité'!CT106:CT136)","v":0},{"$f":"IF(ISERROR(AVERAGEA('Transmission et conformité'!CU106:CU136)),\"\",AVERAGEA('Transmission et conformité'!CU106:CU136))","v":""},{"$f":"AVERAGEA('Transmission et conformité'!CV106:CV136)","v":0},{"$f":"IF(ISERROR(AVERAGEA('Transmission et conformité'!CW106:CW136)),\"\",AVERAGEA('Transmission et conformité'!CW106:CW136))","v":""},{"$f":"AVERAGEA('Transmission et conformité'!CX106:CX136)","v":0},{"$f":"IF(ISERROR(AVERAGEA('Transmission et conformité'!CY106:CY136)),\"\",AVERAGEA('Transmission et conformité'!CY106:CY136))","v":""},{"$f":"AVERAGEA('Transmission et conformité'!CZ106:CZ136)","v":0},{"$f":"IF(ISERROR(AVERAGEA('Transmission et conformité'!DA106:DA136)),\"\",AVERAGEA('Transmission et conformité'!DA106:DA136))","v":""},{"$f":"AVERAGEA('Transmission et conformité'!DB106:DB136)","v":0},{"$f":"IF(ISERROR(AVERAGEA('Transmission et conformité'!DC106:DC136)),\"\",AVERAGEA('Transmission et conformité'!DC106:DC136))","v":""},{"$f":"AVERAGEA('Transmission et conformité'!DD106:DD136)","v":0},{"$f":"IF(ISERROR(AVERAGEA('Transmission et conformité'!DE106:DE136)),\"\",AVERAGEA('Transmission et conformité'!DE106:DE136))","v":""},{"$f":"AVERAGEA('Transmission et conformité'!DF106:DF136)","v":0},{"$f":"IF(ISERROR(AVERAGEA('Transmission et conformité'!DG106:DG136)),\"\",AVERAGEA('Transmission et conformité'!DG106:DG136))","v":""},{"$f":"AVERAGEA('Transmission et conformité'!DH106:DH136)","v":0},{"$f":"IF(ISERROR(AVERAGEA('Transmission et conformité'!DI106:DI136)),\"\",AVERAGEA('Transmission et conformité'!DI106:DI136))","v":""},{"$f":"AVERAGEA('Transmission et conformité'!DJ106:DJ136)","v":0},{"$f":"IF(ISERROR(AVERAGEA('Transmission et conformité'!DK106:DK136)),\"\",AVERAGEA('Transmission et conformité'!DK106:DK136))","v":""},{"$f":"AVERAGEA('Transmission et conformité'!DL106:DL136)","v":0},{"$f":"IF(ISERROR(AVERAGEA('Transmission et conformité'!DM106:DM136)),\"\",AVERAGEA('Transmission et conformité'!DM106:DM136))","v":""},{"$f":"AVERAGEA('Transmission et conformité'!DN106:DN136)","v":0}]
[null,"Mai",{"$f":"IF(ISERROR(AVERAGEA('Transmission et conformité'!CL137:CL167)),\"\",AVERAGEA('Transmission et conformité'!CL137:CL167))","v":""},{"$f":"IF(ISERROR(AVERAGEA('Transmission et conformité'!CM137:CM167)),\"\",AVERAGEA('Transmission et conformité'!CM137:CM167))","v":""},{"$f":"IF(ISERROR(GEOMEAN('Transmission et conformité'!CO137:CO167)),\"\",GEOMEAN('Transmission et conformité'!CO137:CO167))","v":""},{"$f":"IF(ISERROR(AVERAGEA('Transmission et conformité'!CQ137:CQ167)),\"\",AVERAGEA('Transmission et conformité'!CQ137:CQ167))","v":""},{"$f":"AVERAGEA('Transmission et conformité'!CR137:CR167)","v":0},{"$f":"IF(ISERROR(AVERAGEA('Transmission et conformité'!CS137:CS167)),\"\",AVERAGEA('Transmission et conformité'!CS137:CS167))","v":""},{"$f":"AVERAGEA('Transmission et conformité'!CT137:CT167)","v":0},{"$f":"IF(ISERROR(AVERAGEA('Transmission et conformité'!CU137:CU167)),\"\",AVERAGEA('Transmission et conformité'!CU137:CU167))","v":""},{"$f":"AVERAGEA('Transmission et conformité'!CV137:CV167)","v":0},{"$f":"IF(ISERROR(AVERAGEA('Transmission et conformité'!CW137:CW167)),\"\",AVERAGEA('Transmission et conformité'!CW137:CW167))","v":""},{"$f":"AVERAGEA('Transmission et conformité'!CX137:CX167)","v":0},{"$f":"IF(ISERROR(AVERAGEA('Transmission et conformité'!CY137:CY167)),\"\",AVERAGEA('Transmission et conformité'!CY137:CY167))","v":""},{"$f":"AVERAGEA('Transmission et conformité'!CZ137:CZ167)","v":0},{"$f":"IF(ISERROR(AVERAGEA('Transmission et conformité'!DA137:DA167)),\"\",AVERAGEA('Transmission et conformité'!DA137:DA167))","v":""},{"$f":"AVERAGEA('Transmission et conformité'!DB137:DB167)","v":0},{"$f":"IF(ISERROR(AVERAGEA('Transmission et conformité'!DC137:DC167)),\"\",AVERAGEA('Transmission et conformité'!DC137:DC167))","v":""},{"$f":"AVERAGEA('Transmission et conformité'!DD137:DD167)","v":0},{"$f":"IF(ISERROR(AVERAGEA('Transmission et conformité'!DE137:DE167)),\"\",AVERAGEA('Transmission et conformité'!DE137:DE167))","v":""},{"$f":"AVERAGEA('Transmission et conformité'!DF137:DF167)","v":0},{"$f":"IF(ISERROR(AVERAGEA('Transmission et conformité'!DG137:DG167)),\"\",AVERAGEA('Transmission et conformité'!DG137:DG167))","v":""},{"$f":"AVERAGEA('Transmission et conformité'!DH137:DH167)","v":0},{"$f":"IF(ISERROR(AVERAGEA('Transmission et conformité'!DI137:DI167)),\"\",AVERAGEA('Transmission et conformité'!DI137:DI167))","v":""},{"$f":"AVERAGEA('Transmission et conformité'!DJ137:DJ167)","v":0},{"$f":"IF(ISERROR(AVERAGEA('Transmission et conformité'!DK137:DK167)),\"\",AVERAGEA('Transmission et conformité'!DK137:DK167))","v":""},{"$f":"AVERAGEA('Transmission et conformité'!DL137:DL167)","v":0},{"$f":"IF(ISERROR(AVERAGEA('Transmission et conformité'!DM137:DM167)),\"\",AVERAGEA('Transmission et conformité'!DM137:DM167))","v":""},{"$f":"AVERAGEA('Transmission et conformité'!DN137:DN167)","v":0}]
[null,"Juin",{"$f":"IF(ISERROR(AVERAGEA('Transmission et conformité'!CL168:CL198)),\"\",AVERAGEA('Transmission et conformité'!CL168:CL198))","v":""},{"$f":"IF(ISERROR(AVERAGEA('Transmission et conformité'!CM168:CM198)),\"\",AVERAGEA('Transmission et conformité'!CM168:CM198))","v":""},{"$f":"IF(ISERROR(GEOMEAN('Transmission et conformité'!CO168:CO198)),\"\",GEOMEAN('Transmission et conformité'!CO168:CO198))","v":""},{"$f":"IF(ISERROR(AVERAGEA('Transmission et conformité'!CQ168:CQ198)),\"\",AVERAGEA('Transmission et conformité'!CQ168:CQ198))","v":""},{"$f":"AVERAGEA('Transmission et conformité'!CR168:CR198)","v":0},{"$f":"IF(ISERROR(AVERAGEA('Transmission et conformité'!CS168:CS198)),\"\",AVERAGEA('Transmission et conformité'!CS168:CS198))","v":""},{"$f":"AVERAGEA('Transmission et conformité'!CT168:CT198)","v":0},{"$f":"IF(ISERROR(AVERAGEA('Transmission et conformité'!CU168:CU198)),\"\",AVERAGEA('Transmission et conformité'!CU168:CU198))","v":""},{"$f":"AVERAGEA('Transmission et conformité'!CV168:CV198)","v":0},{"$f":"IF(ISERROR(AVERAGEA('Transmission et conformité'!CW168:CW198)),\"\",AVERAGEA('Transmission et conformité'!CW168:CW198))","v":""},{"$f":"AVERAGEA('Transmission et conformité'!CX168:CX198)","v":0},{"$f":"IF(ISERROR(AVERAGEA('Transmission et conformité'!CY168:CY198)),\"\",AVERAGEA('Transmission et conformité'!CY168:CY198))","v":""},{"$f":"AVERAGEA('Transmission et conformité'!CZ168:CZ198)","v":0},{"$f":"IF(ISERROR(AVERAGEA('Transmission et conformité'!DA168:DA198)),\"\",AVERAGEA('Transmission et conformité'!DA168:DA198))","v":""},{"$f":"AVERAGEA('Transmission et conformité'!DB168:DB198)","v":0},{"$f":"IF(ISERROR(AVERAGEA('Transmission et conformité'!DC168:DC198)),\"\",AVERAGEA('Transmission et conformité'!DC168:DC198))","v":""},{"$f":"AVERAGEA('Transmission et conformité'!DD168:DD198)","v":0},{"$f":"IF(ISERROR(AVERAGEA('Transmission et conformité'!DE168:DE198)),\"\",AVERAGEA('Transmission et conformité'!DE168:DE198))","v":""},{"$f":"AVERAGEA('Transmission et conformité'!DF168:DF198)","v":0},{"$f":"IF(ISERROR(AVERAGEA('Transmission et conformité'!DG168:DG198)),\"\",AVERAGEA('Transmission et conformité'!DG168:DG198))","v":""},{"$f":"AVERAGEA('Transmission et conformité'!DH168:DH198)","v":0},{"$f":"IF(ISERROR(AVERAGEA('Transmission et conformité'!DI168:DI198)),\"\",AVERAGEA('Transmission et conformité'!DI168:DI198))","v":""},{"$f":"AVERAGEA('Transmission et conformité'!DJ168:DJ198)","v":0},{"$f":"IF(ISERROR(AVERAGEA('Transmission et conformité'!DK168:DK198)),\"\",AVERAGEA('Transmission et conformité'!DK168:DK198))","v":""},{"$f":"AVERAGEA('Transmission et conformité'!DL168:DL198)","v":0},{"$f":"IF(ISERROR(AVERAGEA('Transmission et conformité'!DM168:DM198)),\"\",AVERAGEA('Transmission et conformité'!DM168:DM198))","v":""},{"$f":"AVERAGEA('Transmission et conformité'!DN168:DN198)","v":0}]
[null,"Juillet",{"$f":"IF(ISERROR(AVERAGEA('Transmission et conformité'!CL199:CL229)),\"\",AVERAGEA('Transmission et conformité'!CL199:CL229))","v":""},{"$f":"IF(ISERROR(AVERAGEA('Transmission et conformité'!CM199:CM229)),\"\",AVERAGEA('Transmission et conformité'!CM199:CM229))","v":""},{"$f":"IF(ISERROR(GEOMEAN('Transmission et conformité'!CO199:CO229)),\"\",GEOMEAN('Transmission et conformité'!CO199:CO229))","v":""},{"$f":"IF(ISERROR(AVERAGEA('Transmission et conformité'!CQ199:CQ229)),\"\",AVERAGEA('Transmission et conformité'!CQ199:CQ229))","v":""},{"$f":"AVERAGEA('Transmission et conformité'!CR199:CR229)","v":0},{"$f":"IF(ISERROR(AVERAGEA('Transmission et conformité'!CS199:CS229)),\"\",AVERAGEA('Transmission et conformité'!CS199:CS229))","v":""},{"$f":"AVERAGEA('Transmission et conformité'!CT199:CT229)","v":0},{"$f":"IF(ISERROR(AVERAGEA('Transmission et conformité'!CU199:CU229)),\"\",AVERAGEA('Transmission et conformité'!CU199:CU229))","v":""},{"$f":"AVERAGEA('Transmission et conformité'!CV199:CV229)","v":0},{"$f":"IF(ISERROR(AVERAGEA('Transmission et conformité'!CW199:CW229)),\"\",AVERAGEA('Transmission et conformité'!CW199:CW229))","v":""},{"$f":"AVERAGEA('Transmission et conformité'!CX199:CX229)","v":0},{"$f":"IF(ISERROR(AVERAGEA('Transmission et conformité'!CY199:CY229)),\"\",AVERAGEA('Transmission et conformité'!CY199:CY229))","v":""},{"$f":"AVERAGEA('Transmission et conformité'!CZ199:CZ229)","v":0},{"$f":"IF(ISERROR(AVERAGEA('Transmission et conformité'!DA199:DA229)),\"\",AVERAGEA('Transmission et conformité'!DA199:DA229))","v":""},{"$f":"AVERAGEA('Transmission et conformité'!DB199:DB229)","v":0},{"$f":"IF(ISERROR(AVERAGEA('Transmission et conformité'!DC199:DC229)),\"\",AVERAGEA('Transmission et conformité'!DC199:DC229))","v":""},{"$f":"AVERAGEA('Transmission et conformité'!DD199:DD229)","v":0},{"$f":"IF(ISERROR(AVERAGEA('Transmission et conformité'!DE199:DE229)),\"\",AVERAGEA('Transmission et conformité'!DE199:DE229))","v":""},{"$f":"AVERAGEA('Transmission et conformité'!DF199:DF229)","v":0},{"$f":"IF(ISERROR(AVERAGEA('Transmission et conformité'!DG199:DG229)),\"\",AVERAGEA('Transmission et conformité'!DG199:DG229))","v":""},{"$f":"AVERAGEA('Transmission et conformité'!DH199:DH229)","v":0},{"$f":"IF(ISERROR(AVERAGEA('Transmission et conformité'!DI199:DI229)),\"\",AVERAGEA('Transmission et conformité'!DI199:DI229))","v":""},{"$f":"AVERAGEA('Transmission et conformité'!DJ199:DJ229)","v":0},{"$f":"IF(ISERROR(AVERAGEA('Transmission et conformité'!DK199:DK229)),\"\",AVERAGEA('Transmission et conformité'!DK199:DK229))","v":""},{"$f":"AVERAGEA('Transmission et conformité'!DL199:DL229)","v":0},{"$f":"IF(ISERROR(AVERAGEA('Transmission et conformité'!DM199:DM229)),\"\",AVERAGEA('Transmission et conformité'!DM199:DM229))","v":""},{"$f":"AVERAGEA('Transmission et conformité'!DN199:DN229)","v":0}]
[null,"Août",{"$f":"IF(ISERROR(AVERAGEA('Transmission et conformité'!CL230:CL260)),\"\",AVERAGEA('Transmission et conformité'!CL230:CL260))","v":""},{"$f":"IF(ISERROR(AVERAGEA('Transmission et conformité'!CM230:CM260)),\"\",AVERAGEA('Transmission et conformité'!CM230:CM260))","v":""},{"$f":"IF(ISERROR(GEOMEAN('Transmission et conformité'!CO230:CO260)),\"\",GEOMEAN('Transmission et conformité'!CO230:CO260))","v":""},{"$f":"IF(ISERROR(AVERAGEA('Transmission et conformité'!CQ230:CQ260)),\"\",AVERAGEA('Transmission et conformité'!CQ230:CQ260))","v":""},{"$f":"AVERAGEA('Transmission et conformité'!CR230:CR260)","v":0},{"$f":"IF(ISERROR(AVERAGEA('Transmission et conformité'!CS230:CS260)),\"\",AVERAGEA('Transmission et conformité'!CS230:CS260))","v":""},{"$f":"AVERAGEA('Transmission et conformité'!CT230:CT260)","v":0},{"$f":"IF(ISERROR(AVERAGEA('Transmission et conformité'!CU230:CU260)),\"\",AVERAGEA('Transmission et conformité'!CU230:CU260))","v":""},{"$f":"AVERAGEA('Transmission et conformité'!CV230:CV260)","v":0},{"$f":"IF(ISERROR(AVERAGEA('Transmission et conformité'!CW230:CW260)),\"\",AVERAGEA('Transmission et conformité'!CW230:CW260))","v":""},{"$f":"AVERAGEA('Transmission et conformité'!CX230:CX260)","v":0},{"$f":"IF(ISERROR(AVERAGEA('Transmission et conformité'!CY230:CY260)),\"\",AVERAGEA('Transmission et conformité'!CY230:CY260))","v":""},{"$f":"AVERAGEA('Transmission et conformité'!CZ230:CZ260)","v":0},{"$f":"IF(ISERROR(AVERAGEA('Transmission et conformité'!DA230:DA260)),\"\",AVERAGEA('Transmission et conformité'!DA230:DA260))","v":""},{"$f":"AVERAGEA('Transmission et conformité'!DB230:DB260)","v":0},{"$f":"IF(ISERROR(AVERAGEA('Transmission et conformité'!DC230:DC260)),\"\",AVERAGEA('Transmission et conformité'!DC230:DC260))","v":""},{"$f":"AVERAGEA('Transmission et conformité'!DD230:DD260)","v":0},{"$f":"IF(ISERROR(AVERAGEA('Transmission et conformité'!DE230:DE260)),\"\",AVERAGEA('Transmission et conformité'!DE230:DE260))","v":""},{"$f":"AVERAGEA('Transmission et conformité'!DF230:DF260)","v":0},{"$f":"IF(ISERROR(AVERAGEA('Transmission et conformité'!DG230:DG260)),\"\",AVERAGEA('Transmission et conformité'!DG230:DG260))","v":""},{"$f":"AVERAGEA('Transmission et conformité'!DH230:DH260)","v":0},{"$f":"IF(ISERROR(AVERAGEA('Transmission et conformité'!DI230:DI260)),\"\",AVERAGEA('Transmission et conformité'!DI230:DI260))","v":""},{"$f":"AVERAGEA('Transmission et conformité'!DJ230:DJ260)","v":0},{"$f":"IF(ISERROR(AVERAGEA('Transmission et conformité'!DK230:DK260)),\"\",AVERAGEA('Transmission et conformité'!DK230:DK260))","v":""},{"$f":"AVERAGEA('Transmission et conformité'!DL230:DL260)","v":0},{"$f":"IF(ISERROR(AVERAGEA('Transmission et conformité'!DM230:DM260)),\"\",AVERAGEA('Transmission et conformité'!DM230:DM260))","v":""},{"$f":"AVERAGEA('Transmission et conformité'!DN230:DN260)","v":0}]
[null,"Septembre",{"$f":"IF(ISERROR(AVERAGEA('Transmission et conformité'!CL261:CL291)),\"\",AVERAGEA('Transmission et conformité'!CL261:CL291))","v":""},{"$f":"IF(ISERROR(AVERAGEA('Transmission et conformité'!CM261:CM291)),\"\",AVERAGEA('Transmission et conformité'!CM261:CM291))","v":""},{"$f":"IF(ISERROR(GEOMEAN('Transmission et conformité'!CO261:CO291)),\"\",GEOMEAN('Transmission et conformité'!CO261:CO291))","v":""},{"$f":"IF(ISERROR(AVERAGEA('Transmission et conformité'!CQ261:CQ291)),\"\",AVERAGEA('Transmission et conformité'!CQ261:CQ291))","v":""},{"$f":"AVERAGEA('Transmission et conformité'!CR261:CR291)","v":0},{"$f":"IF(ISERROR(AVERAGEA('Transmission et conformité'!CS261:CS291)),\"\",AVERAGEA('Transmission et conformité'!CS261:CS291))","v":""},{"$f":"AVERAGEA('Transmission et conformité'!CT261:CT291)","v":0},{"$f":"IF(ISERROR(AVERAGEA('Transmission et conformité'!CU261:CU291)),\"\",AVERAGEA('Transmission et conformité'!CU261:CU291))","v":""},{"$f":"AVERAGEA('Transmission et conformité'!CV261:CV291)","v":0},{"$f":"IF(ISERROR(AVERAGEA('Transmission et conformité'!CW261:CW291)),\"\",AVERAGEA('Transmission et conformité'!CW261:CW291))","v":""},{"$f":"AVERAGEA('Transmission et conformité'!CX261:CX291)","v":0},{"$f":"IF(ISERROR(AVERAGEA('Transmission et conformité'!CY261:CY291)),\"\",AVERAGEA('Transmission et conformité'!CY261:CY291))","v":""},{"$f":"AVERAGEA('Transmission et conformité'!CZ261:CZ291)","v":0},{"$f":"IF(ISERROR(AVERAGEA('Transmission et conformité'!DA261:DA291)),\"\",AVERAGEA('Transmission et conformité'!DA261:DA291))","v":""},{"$f":"AVERAGEA('Transmission et conformité'!DB261:DB291)","v":0},{"$f":"IF(ISERROR(AVERAGEA('Transmission et conformité'!DC261:DC291)),\"\",AVERAGEA('Transmission et conformité'!DC261:DC291))","v":""},{"$f":"AVERAGEA('Transmission et conformité'!DD261:DD291)","v":0},{"$f":"IF(ISERROR(AVERAGEA('Transmission et conformité'!DE261:DE291)),\"\",AVERAGEA('Transmission et conformité'!DE261:DE291))","v":""},{"$f":"AVERAGEA('Transmission et conformité'!DF261:DF291)","v":0},{"$f":"IF(ISERROR(AVERAGEA('Transmission et conformité'!DG261:DG291)),\"\",AVERAGEA('Transmission et conformité'!DG261:DG291))","v":""},{"$f":"AVERAGEA('Transmission et conformité'!DH261:DH291)","v":0},{"$f":"IF(ISERROR(AVERAGEA('Transmission et conformité'!DI261:DI291)),\"\",AVERAGEA('Transmission et conformité'!DI261:DI291))","v":""},{"$f":"AVERAGEA('Transmission et conformité'!DJ261:DJ291)","v":0},{"$f":"IF(ISERROR(AVERAGEA('Transmission et conformité'!DK261:DK291)),\"\",AVERAGEA('Transmission et conformité'!DK261:DK291))","v":""},{"$f":"AVERAGEA('Transmission et conformité'!DL261:DL291)","v":0},{"$f":"IF(ISERROR(AVERAGEA('Transmission et conformité'!DM261:DM291)),\"\",AVERAGEA('Transmission et conformité'!DM261:DM291))","v":""},{"$f":"AVERAGEA('Transmission et conformité'!DN261:DN291)","v":0}]
[null,"Octobre",{"$f":"IF(ISERROR(AVERAGEA('Transmission et conformité'!CL292:CL322)),\"\",AVERAGEA('Transmission et conformité'!CL292:CL322))","v":""},{"$f":"IF(ISERROR(AVERAGEA('Transmission et conformité'!CM292:CM322)),\"\",AVERAGEA('Transmission et conformité'!CM292:CM322))","v":""},{"$f":"IF(ISERROR(GEOMEAN('Transmission et conformité'!CO292:CO322)),\"\",GEOMEAN('Transmission et conformité'!CO292:CO322))","v":""},{"$f":"IF(ISERROR(AVERAGEA('Transmission et conformité'!CQ292:CQ322)),\"\",AVERAGEA('Transmission et conformité'!CQ292:CQ322))","v":""},{"$f":"AVERAGEA('Transmission et conformité'!CR292:CR322)","v":0},{"$f":"IF(ISERROR(AVERAGEA('Transmission et conformité'!CS292:CS322)),\"\",AVERAGEA('Transmission et conformité'!CS292:CS322))","v":""},{"$f":"AVERAGEA('Transmission et conformité'!CT292:CT322)","v":0},{"$f":"IF(ISERROR(AVERAGEA('Transmission et conformité'!CU292:CU322)),\"\",AVERAGEA('Transmission et conformité'!CU292:CU322))","v":""},{"$f":"AVERAGEA('Transmission et conformité'!CV292:CV322)","v":0},{"$f":"IF(ISERROR(AVERAGEA('Transmission et conformité'!CW292:CW322)),\"\",AVERAGEA('Transmission et conformité'!CW292:CW322))","v":""},{"$f":"AVERAGEA('Transmission et conformité'!CX292:CX322)","v":0},{"$f":"IF(ISERROR(AVERAGEA('Transmission et conformité'!CY292:CY322)),\"\",AVERAGEA('Transmission et conformité'!CY292:CY322))","v":""},{"$f":"AVERAGEA('Transmission et conformité'!CZ292:CZ322)","v":0},{"$f":"IF(ISERROR(AVERAGEA('Transmission et conformité'!DA292:DA322)),\"\",AVERAGEA('Transmission et conformité'!DA292:DA322))","v":""},{"$f":"AVERAGEA('Transmission et conformité'!DB292:DB322)","v":0},{"$f":"IF(ISERROR(AVERAGEA('Transmission et conformité'!DC292:DC322)),\"\",AVERAGEA('Transmission et conformité'!DC292:DC322))","v":""},{"$f":"AVERAGEA('Transmission et conformité'!DD292:DD322)","v":0},{"$f":"IF(ISERROR(AVERAGEA('Transmission et conformité'!DE292:DE322)),\"\",AVERAGEA('Transmission et conformité'!DE292:DE322))","v":""},{"$f":"AVERAGEA('Transmission et conformité'!DF292:DF322)","v":0},{"$f":"IF(ISERROR(AVERAGEA('Transmission et conformité'!DG292:DG322)),\"\",AVERAGEA('Transmission et conformité'!DG292:DG322))","v":""},{"$f":"AVERAGEA('Transmission et conformité'!DH292:DH322)","v":0},{"$f":"IF(ISERROR(AVERAGEA('Transmission et conformité'!DI292:DI322)),\"\",AVERAGEA('Transmission et conformité'!DI292:DI322))","v":""},{"$f":"AVERAGEA('Transmission et conformité'!DJ292:DJ322)","v":0},{"$f":"IF(ISERROR(AVERAGEA('Transmission et conformité'!DK292:DK322)),\"\",AVERAGEA('Transmission et conformité'!DK292:DK322))","v":""},{"$f":"AVERAGEA('Transmission et conformité'!DL292:DL322)","v":0},{"$f":"IF(ISERROR(AVERAGEA('Transmission et conformité'!DM292:DM322)),\"\",AVERAGEA('Transmission et conformité'!DM292:DM322))","v":""},{"$f":"AVERAGEA('Transmission et conformité'!DN292:DN322)","v":0}]
[null,"Novembre",{"$f":"IF(ISERROR(AVERAGEA('Transmission et conformité'!CL323:CL353)),\"\",AVERAGEA('Transmission et conformité'!CL323:CL353))","v":""},{"$f":"IF(ISERROR(AVERAGEA('Transmission et conformité'!CM323:CM353)),\"\",AVERAGEA('Transmission et conformité'!CM323:CM353))","v":""},{"$f":"IF(ISERROR(GEOMEAN('Transmission et conformité'!CO323:CO353)),\"\",GEOMEAN('Transmission et conformité'!CO323:CO353))","v":""},{"$f":"IF(ISERROR(AVERAGEA('Transmission et conformité'!CQ323:CQ353)),\"\",AVERAGEA('Transmission et conformité'!CQ323:CQ353))","v":""},{"$f":"AVERAGEA('Transmission et conformité'!CR323:CR353)","v":0},{"$f":"IF(ISERROR(AVERAGEA('Transmission et conformité'!CS323:CS353)),\"\",AVERAGEA('Transmission et conformité'!CS323:CS353))","v":""},{"$f":"AVERAGEA('Transmission et conformité'!CT323:CT353)","v":0},{"$f":"IF(ISERROR(AVERAGEA('Transmission et conformité'!CU323:CU353)),\"\",AVERAGEA('Transmission et conformité'!CU323:CU353))","v":""},{"$f":"AVERAGEA('Transmission et conformité'!CV323:CV353)","v":0},{"$f":"IF(ISERROR(AVERAGEA('Transmission et conformité'!CW323:CW353)),\"\",AVERAGEA('Transmission et conformité'!CW323:CW353))","v":""},{"$f":"AVERAGEA('Transmission et conformité'!CX323:CX353)","v":0},{"$f":"IF(ISERROR(AVERAGEA('Transmission et conformité'!CY323:CY353)),\"\",AVERAGEA('Transmission et conformité'!CY323:CY353))","v":""},{"$f":"AVERAGEA('Transmission et conformité'!CZ323:CZ353)","v":0},{"$f":"IF(ISERROR(AVERAGEA('Transmission et conformité'!DA323:DA353)),\"\",AVERAGEA('Transmission et conformité'!DA323:DA353))","v":""},{"$f":"AVERAGEA('Transmission et conformité'!DB323:DB353)","v":0},{"$f":"IF(ISERROR(AVERAGEA('Transmission et conformité'!DC323:DC353)),\"\",AVERAGEA('Transmission et conformité'!DC323:DC353))","v":""},{"$f":"AVERAGEA('Transmission et conformité'!DD323:DD353)","v":0},{"$f":"IF(ISERROR(AVERAGEA('Transmission et conformité'!DE323:DE353)),\"\",AVERAGEA('Transmission et conformité'!DE323:DE353))","v":""},{"$f":"AVERAGEA('Transmission et conformité'!DF323:DF353)","v":0},{"$f":"IF(ISERROR(AVERAGEA('Transmission et conformité'!DG323:DG353)),\"\",AVERAGEA('Transmission et conformité'!DG323:DG353))","v":""},{"$f":"AVERAGEA('Transmission et conformité'!DH323:DH353)","v":0},{"$f":"IF(ISERROR(AVERAGEA('Transmission et conformité'!DI323:DI353)),\"\",AVERAGEA('Transmission et conformité'!DI323:DI353))","v":""},{"$f":"AVERAGEA('Transmission et conformité'!DJ323:DJ353)","v":0},{"$f":"IF(ISERROR(AVERAGEA('Transmission et conformité'!DK323:DK353)),\"\",AVERAGEA('Transmission et conformité'!DK323:DK353))","v":""},{"$f":"AVERAGEA('Transmission et conformité'!DL323:DL353)","v":0},{"$f":"IF(ISERROR(AVERAGEA('Transmission et conformité'!DM323:DM353)),\"\",AVERAGEA('Transmission et conformité'!DM323:DM353))","v":""},{"$f":"AVERAGEA('Transmission et conformité'!DN323:DN353)","v":0}]
[null,"Décembre",{"$f":"IF(ISERROR(AVERAGEA('Transmission et conformité'!CL354:CL384)),\"\",AVERAGEA('Transmission et conformité'!CL354:CL384))","v":""},{"$f":"IF(ISERROR(AVERAGEA('Transmission et conformité'!CM354:CM384)),\"\",AVERAGEA('Transmission et conformité'!CM354:CM384))","v":""},{"$f":"IF(ISERROR(GEOMEAN('Transmission et conformité'!CO354:CO384)),\"\",GEOMEAN('Transmission et conformité'!CO354:CO384))","v":""},{"$f":"IF(ISERROR(AVERAGEA('Transmission et conformité'!CQ354:CQ384)),\"\",AVERAGEA('Transmission et conformité'!CQ354:CQ384))","v":""},{"$f":"AVERAGEA('Transmission et conformité'!CR354:CR384)","v":0},{"$f":"IF(ISERROR(AVERAGEA('Transmission et conformité'!CS354:CS384)),\"\",AVERAGEA('Transmission et conformité'!CS354:CS384))","v":""},{"$f":"AVERAGEA('Transmission et conformité'!CT354:CT384)","v":0},{"$f":"IF(ISERROR(AVERAGEA('Transmission et conformité'!CU354:CU384)),\"\",AVERAGEA('Transmission et conformité'!CU354:CU384))","v":""},{"$f":"AVERAGEA('Transmission et conformité'!CV354:CV384)","v":0},{"$f":"IF(ISERROR(AVERAGEA('Transmission et conformité'!CW354:CW384)),\"\",AVERAGEA('Transmission et conformité'!CW354:CW384))","v":""},{"$f":"AVERAGEA('Transmission et conformité'!CX354:CX384)","v":0},{"$f":"IF(ISERROR(AVERAGEA('Transmission et conformité'!CY354:CY384)),\"\",AVERAGEA('Transmission et conformité'!CY354:CY384))","v":""},{"$f":"AVERAGEA('Transmission et conformité'!CZ354:CZ384)","v":0},{"$f":"IF(ISERROR(AVERAGEA('Transmission et conformité'!DA354:DA384)),\"\",AVERAGEA('Transmission et conformité'!DA354:DA384))","v":""},{"$f":"AVERAGEA('Transmission et conformité'!DB354:DB384)","v":0},{"$f":"IF(ISERROR(AVERAGEA('Transmission et conformité'!DC354:DC384)),\"\",AVERAGEA('Transmission et conformité'!DC354:DC384))","v":""},{"$f":"AVERAGEA('Transmission et conformité'!DD354:DD384)","v":0},{"$f":"IF(ISERROR(AVERAGEA('Transmission et conformité'!DE354:DE384)),\"\",AVERAGEA('Transmission et conformité'!DE354:DE384))","v":""},{"$f":"AVERAGEA('Transmission et conformité'!DF354:DF384)","v":0},{"$f":"IF(ISERROR(AVERAGEA('Transmission et conformité'!DG354:DG384)),\"\",AVERAGEA('Transmission et conformité'!DG354:DG384))","v":""},{"$f":"AVERAGEA('Transmission et conformité'!DH354:DH384)","v":0},{"$f":"IF(ISERROR(AVERAGEA('Transmission et conformité'!DI354:DI384)),\"\",AVERAGEA('Transmission et conformité'!DI354:DI384))","v":""},{"$f":"AVERAGEA('Transmission et conformité'!DJ354:DJ384)","v":0},{"$f":"IF(ISERROR(AVERAGEA('Transmission et conformité'!DK354:DK384)),\"\",AVERAGEA('Transmission et conformité'!DK354:DK384))","v":""},{"$f":"AVERAGEA('Transmission et conformité'!DL354:DL384)","v":0},{"$f":"IF(ISERROR(AVERAGEA('Transmission et conformité'!DM354:DM384)),\"\",AVERAGEA('Transmission et conformité'!DM354:DM384))","v":""},{"$f":"AVERAGEA('Transmission et conformité'!DN354:DN384)","v":0}]
[null,"Commentaires :"]
[]
[]
[null,null,"Notes :"]
[null,null,3.3,"Valeur qui ne respecte pas la norme ou l'exigence"]

{"sheet":"Schéma des eaux","index":7,"n_rows":0,"n_cols":0,"rows_kept":0,"cut":false,"hidden":false,"merged":[]}

{"sheet":"Feuil2","index":8,"n_rows":0,"n_cols":0,"rows_kept":0,"cut":false,"hidden":false,"merged":[]}